{"text_format":"2","workbook":"xlsx","n_sheets":4,"sheets":["Erfassung","geb.Rechnung","geb.Angebot","Offene RG."],"not_rendered":{"charts":0,"images":2,"macros":1,"external_links":0,"defined_names":16,"comments":2,"pivot_tables":0},"unopened":[],"bounds":{"document_bytes":16777216,"sheet_cells":100000,"run_cost":"one","rows_first":2000,"rows_last":500,"rows_between":2000,"halvings":0,"cell_chars":16384,"cell_head_chars":4096},"cells_cut":0,"cells_raw":0,"read":"whole","date_system":"1900"}

{"sheet":"Erfassung","index":0,"n_rows":67,"n_cols":6,"rows_kept":67,"cut":false,"hidden":false,"merged":[[56,2,56,3],[0,0,0,5],[2,0,2,5],[50,2,50,3],[51,2,51,3],[52,2,52,3],[53,2,53,3],[48,2,48,3],[49,2,49,3],[54,2,54,3],[37,2,37,3],[38,2,38,3],[43,2,43,3],[55,2,55,3],[44,2,44,3],[45,2,45,3],[46,2,46,3],[47,2,47,3],[33,2,33,3],[65,0,65,5],[66,0,66,5],[1,0,1,5],[19,3,19,4],[11,0,11,2],[12,0,12,2],[13,0,13,2],[15,1,15,2],[34,2,34,3],[39,2,39,3],[40,2,40,3],[41,2,41,3],[42,2,42,3],[35,2,35,3],[36,2,36,3]]}
["Buchhaus GmbH"]
["Buchenweg 24 - 12345 Buchberg"]
["Tel. 0123 / 456789 - Mobil 0999 / 87654321"]
[]
[]
[]
[]
[]
[]
["Buchhaus GmbH, Buchenweg 24, 12345 Buchberg"]
[]
["Anrede"]
["Name / Firma"]
["Straße, Hs-Nr"]
[]
["Plz","Ort"]
[]
[]
[]
[null,null,null,"Buchberg, den",null,"2019-07-12"]
[]
[]
[]
[]
["Rechnung"]
[]
[]
["Nr.","11/2019"]
[]
[]
["Vielen Dank für Ihren Auftrag."]
["Meine erbrachte Leistung berechne ich wie folgt:"]
[]
["Pos.","Auftragsdatum    ","Leistung",null,null,"Summe €uro"]
[1]
[2]
[3]
[4]
[5]
[6]
[7]
[8]
[9]
[10]
[11]
[12]
[13]
[14]
[15]
[16]
[17]
[18]
[19]
[20]
[21]
[22]
[]
[null,null,null,"Nettorechnungsbetrag",null,{"$f":"SUM(F35:F57)","v":0}]
[null,null,null,{"$f":"\"zzgl. MwSt \" &E59& \" %\"","v":"zzgl. MwSt 16 %"},16,{"$f":"F58*E59%","v":0}]
[]
[null,null,null,"Rechnungsendbetrag",null,{"$f":"SUM(F58:F59)","v":0}]
["Vielen Dank für Ihren Auftrag."]
[]
[]
[]
["Bitte überweisen Sie innerhalb 3 Wochen nach Rechnungseingang."]
["Musterbank Buchberg, IBAN: DE 11 1234 5678 9123 4567 89"]

{"sheet":"geb.Rechnung","index":1,"n_rows":999,"n_cols":7,"rows_kept":999,"cut":false,"hidden":false,"merged":[]}
["Gebuchte Rechnungen"]
[]
["Datum","Rechnungsnummer","Name","€ - Netto","€ - Brutto","RE offen?","Hilfsspalte"]
["2019-01-27","01/2019","Otto Huber",1264.83,1467.2,"JA",{"$f":"IF(F4<>\"\",IF(F4=\"JA\",COUNTIF($F$4:$F4,\"JA\")),\"\")","v":1}]
["2019-02-25","02/2019","Jürgen Stegmann",1222.4000000000001,1417.98,"JA",{"$f":"IF(F5<>\"\",IF(F5=\"JA\",COUNTIF($F$4:$F5,\"JA\")),\"\")","v":2}]
["2019-02-26","03/2019","Wigbert Nesvadba",5,5.8,"NEIN",{"$f":"IF(F6<>\"\",IF(F6=\"JA\",COUNTIF($F$4:$F6,\"JA\")),\"\")","v":false}]
["2019-02-27","04/2019","Horst Hollederer",50,58,"JA",{"$f":"IF(F7<>\"\",IF(F7=\"JA\",COUNTIF($F$4:$F7,\"JA\")),\"\")","v":3}]
["2019-02-26","05/2019","Werner Müller",5,5.8,"NEIN",{"$f":"IF(F8<>\"\",IF(F8=\"JA\",COUNTIF($F$4:$F8,\"JA\")),\"\")","v":false}]
["2019-03-25","06/2019","Gabi Bauer",1800,2088,"JA",{"$f":"IF(F9<>\"\",IF(F9=\"JA\",COUNTIF($F$4:$F9,\"JA\")),\"\")","v":4}]
["2019-11-02","07/2019","Christine Eckl",550,638,"JA",{"$f":"IF(F10<>\"\",IF(F10=\"JA\",COUNTIF($F$4:$F10,\"JA\")),\"\")","v":5}]
["2019-11-03","08/2019","Werner Bockelmann",50,58,"NEIN",{"$f":"IF(F11<>\"\",IF(F11=\"JA\",COUNTIF($F$4:$F11,\"JA\")),\"\")","v":false}]
["2019-11-06","09/2019","Bernd Schümmel",5,5.8,"JA",{"$f":"IF(F12<>\"\",IF(F12=\"JA\",COUNTIF($F$4:$F12,\"JA\")),\"\")","v":6}]
["2019-11-06","10/2019","Heiner Bergmann",77,89.32,"NEIN",{"$f":"IF(F13<>\"\",IF(F13=\"JA\",COUNTIF($F$4:$F13,\"JA\")),\"\")","v":false}]
[{"$nulls":6},{"$f":"IF(F14<>\"\",IF(F14=\"JA\",COUNTIF($F$4:$F14,\"JA\")),\"\")","v":""}]
[{"$nulls":6},{"$f":"IF(F15<>\"\",IF(F15=\"JA\",COUNTIF($F$4:$F15,\"JA\")),\"\")","v":""}]
[{"$nulls":6},{"$f":"IF(F16<>\"\",IF(F16=\"JA\",COUNTIF($F$4:$F16,\"JA\")),\"\")","v":""}]
[{"$nulls":6},{"$f":"IF(F17<>\"\",IF(F17=\"JA\",COUNTIF($F$4:$F17,\"JA\")),\"\")","v":""}]
[{"$nulls":6},{"$f":"IF(F18<>\"\",IF(F18=\"JA\",COUNTIF($F$4:$F18,\"JA\")),\"\")","v":""}]
[{"$nulls":6},{"$f":"IF(F19<>\"\",IF(F19=\"JA\",COUNTIF($F$4:$F19,\"JA\")),\"\")","v":""}]
[{"$nulls":6},{"$f":"IF(F20<>\"\",IF(F20=\"JA\",COUNTIF($F$4:$F20,\"JA\")),\"\")","v":""}]
[{"$nulls":6},{"$f":"IF(F21<>\"\",IF(F21=\"JA\",COUNTIF($F$4:$F21,\"JA\")),\"\")","v":""}]
[{"$nulls":6},{"$f":"IF(F22<>\"\",IF(F22=\"JA\",COUNTIF($F$4:$F22,\"JA\")),\"\")","v":""}]
[{"$nulls":6},{"$f":"IF(F23<>\"\",IF(F23=\"JA\",COUNTIF($F$4:$F23,\"JA\")),\"\")","v":""}]
[{"$nulls":6},{"$f":"IF(F24<>\"\",IF(F24=\"JA\",COUNTIF($F$4:$F24,\"JA\")),\"\")","v":""}]
[{"$nulls":6},{"$f":"IF(F25<>\"\",IF(F25=\"JA\",COUNTIF($F$4:$F25,\"JA\")),\"\")","v":""}]
[{"$nulls":6},{"$f":"IF(F26<>\"\",IF(F26=\"JA\",COUNTIF($F$4:$F26,\"JA\")),\"\")","v":""}]
[{"$nulls":6},{"$f":"IF(F27<>\"\",IF(F27=\"JA\",COUNTIF($F$4:$F27,\"JA\")),\"\")","v":""}]
[{"$nulls":6},{"$f":"IF(F28<>\"\",IF(F28=\"JA\",COUNTIF($F$4:$F28,\"JA\")),\"\")","v":""}]
[{"$nulls":6},{"$f":"IF(F29<>\"\",IF(F29=\"JA\",COUNTIF($F$4:$F29,\"JA\")),\"\")","v":""}]
[{"$nulls":6},{"$f":"IF(F30<>\"\",IF(F30=\"JA\",COUNTIF($F$4:$F30,\"JA\")),\"\")","v":""}]
[{"$nulls":6},{"$f":"IF(F31<>\"\",IF(F31=\"JA\",COUNTIF($F$4:$F31,\"JA\")),\"\")","v":""}]
[{"$nulls":6},{"$f":"IF(F32<>\"\",IF(F32=\"JA\",COUNTIF($F$4:$F32,\"JA\")),\"\")","v":""}]
[{"$nulls":6},{"$f":"IF(F33<>\"\",IF(F33=\"JA\",COUNTIF($F$4:$F33,\"JA\")),\"\")","v":""}]
[{"$nulls":6},{"$f":"IF(F34<>\"\",IF(F34=\"JA\",COUNTIF($F$4:$F34,\"JA\")),\"\")","v":""}]
[{"$nulls":6},{"$f":"IF(F35<>\"\",IF(F35=\"JA\",COUNTIF($F$4:$F35,\"JA\")),\"\")","v":""}]
[{"$nulls":6},{"$f":"IF(F36<>\"\",IF(F36=\"JA\",COUNTIF($F$4:$F36,\"JA\")),\"\")","v":""}]
[{"$nulls":6},{"$f":"IF(F37<>\"\",IF(F37=\"JA\",COUNTIF($F$4:$F37,\"JA\")),\"\")","v":""}]
[{"$nulls":6},{"$f":"IF(F38<>\"\",IF(F38=\"JA\",COUNTIF($F$4:$F38,\"JA\")),\"\")","v":""}]
[{"$nulls":6},{"$f":"IF(F39<>\"\",IF(F39=\"JA\",COUNTIF($F$4:$F39,\"JA\")),\"\")","v":""}]
[{"$nulls":6},{"$f":"IF(F40<>\"\",IF(F40=\"JA\",COUNTIF($F$4:$F40,\"JA\")),\"\")","v":""}]
[{"$nulls":6},{"$f":"IF(F41<>\"\",IF(F41=\"JA\",COUNTIF($F$4:$F41,\"JA\")),\"\")","v":""}]
[{"$nulls":6},{"$f":"IF(F42<>\"\",IF(F42=\"JA\",COUNTIF($F$4:$F42,\"JA\")),\"\")","v":""}]
[{"$nulls":6},{"$f":"IF(F43<>\"\",IF(F43=\"JA\",COUNTIF($F$4:$F43,\"JA\")),\"\")","v":""}]
[{"$nulls":6},{"$f":"IF(F44<>\"\",IF(F44=\"JA\",COUNTIF($F$4:$F44,\"JA\")),\"\")","v":""}]
[{"$nulls":6},{"$f":"IF(F45<>\"\",IF(F45=\"JA\",COUNTIF($F$4:$F45,\"JA\")),\"\")","v":""}]
[{"$nulls":6},{"$f":"IF(F46<>\"\",IF(F46=\"JA\",COUNTIF($F$4:$F46,\"JA\")),\"\")","v":""}]
[{"$nulls":6},{"$f":"IF(F47<>\"\",IF(F47=\"JA\",COUNTIF($F$4:$F47,\"JA\")),\"\")","v":""}]
[{"$nulls":6},{"$f":"IF(F48<>\"\",IF(F48=\"JA\",COUNTIF($F$4:$F48,\"JA\")),\"\")","v":""}]
[{"$nulls":6},{"$f":"IF(F49<>\"\",IF(F49=\"JA\",COUNTIF($F$4:$F49,\"JA\")),\"\")","v":""}]
[{"$nulls":6},{"$f":"IF(F50<>\"\",IF(F50=\"JA\",COUNTIF($F$4:$F50,\"JA\")),\"\")","v":""}]
[{"$nulls":6},{"$f":"IF(F51<>\"\",IF(F51=\"JA\",COUNTIF($F$4:$F51,\"JA\")),\"\")","v":""}]
[{"$nulls":6},{"$f":"IF(F52<>\"\",IF(F52=\"JA\",COUNTIF($F$4:$F52,\"JA\")),\"\")","v":""}]
[{"$nulls":6},{"$f":"IF(F53<>\"\",IF(F53=\"JA\",COUNTIF($F$4:$F53,\"JA\")),\"\")","v":""}]
[{"$nulls":6},{"$f":"IF(F54<>\"\",IF(F54=\"JA\",COUNTIF($F$4:$F54,\"JA\")),\"\")","v":""}]
[{"$nulls":6},{"$f":"IF(F55<>\"\",IF(F55=\"JA\",COUNTIF($F$4:$F55,\"JA\")),\"\")","v":""}]
[{"$nulls":6},{"$f":"IF(F56<>\"\",IF(F56=\"JA\",COUNTIF($F$4:$F56,\"JA\")),\"\")","v":""}]
[{"$nulls":6},{"$f":"IF(F57<>\"\",IF(F57=\"JA\",COUNTIF($F$4:$F57,\"JA\")),\"\")","v":""}]
[{"$nulls":6},{"$f":"IF(F58<>\"\",IF(F58=\"JA\",COUNTIF($F$4:$F58,\"JA\")),\"\")","v":""}]
[{"$nulls":6},{"$f":"IF(F59<>\"\",IF(F59=\"JA\",COUNTIF($F$4:$F59,\"JA\")),\"\")","v":""}]
[{"$nulls":6},{"$f":"IF(F60<>\"\",IF(F60=\"JA\",COUNTIF($F$4:$F60,\"JA\")),\"\")","v":""}]
[{"$nulls":6},{"$f":"IF(F61<>\"\",IF(F61=\"JA\",COUNTIF($F$4:$F61,\"JA\")),\"\")","v":""}]
[{"$nulls":6},{"$f":"IF(F62<>\"\",IF(F62=\"JA\",COUNTIF($F$4:$F62,\"JA\")),\"\")","v":""}]
[{"$nulls":6},{"$f":"IF(F63<>\"\",IF(F63=\"JA\",COUNTIF($F$4:$F63,\"JA\")),\"\")","v":""}]
[{"$nulls":6},{"$f":"IF(F64<>\"\",IF(F64=\"JA\",COUNTIF($F$4:$F64,\"JA\")),\"\")","v":""}]
[{"$nulls":6},{"$f":"IF(F65<>\"\",IF(F65=\"JA\",COUNTIF($F$4:$F65,\"JA\")),\"\")","v":""}]
[{"$nulls":6},{"$f":"IF(F66<>\"\",IF(F66=\"JA\",COUNTIF($F$4:$F66,\"JA\")),\"\")","v":""}]
[{"$nulls":6},{"$f":"IF(F67<>\"\",IF(F67=\"JA\",COUNTIF($F$4:$F67,\"JA\")),\"\")","v":""}]
[{"$nulls":6},{"$f":"IF(F68<>\"\",IF(F68=\"JA\",COUNTIF($F$4:$F68,\"JA\")),\"\")","v":""}]
[{"$nulls":6},{"$f":"IF(F69<>\"\",IF(F69=\"JA\",COUNTIF($F$4:$F69,\"JA\")),\"\")","v":""}]
[{"$nulls":6},{"$f":"IF(F70<>\"\",IF(F70=\"JA\",COUNTIF($F$4:$F70,\"JA\")),\"\")","v":""}]
[{"$nulls":6},{"$f":"IF(F71<>\"\",IF(F71=\"JA\",COUNTIF($F$4:$F71,\"JA\")),\"\")","v":""}]
[{"$nulls":6},{"$f":"IF(F72<>\"\",IF(F72=\"JA\",COUNTIF($F$4:$F72,\"JA\")),\"\")","v":""}]
[{"$nulls":6},{"$f":"IF(F73<>\"\",IF(F73=\"JA\",COUNTIF($F$4:$F73,\"JA\")),\"\")","v":""}]
[{"$nulls":6},{"$f":"IF(F74<>\"\",IF(F74=\"JA\",COUNTIF($F$4:$F74,\"JA\")),\"\")","v":""}]
[{"$nulls":6},{"$f":"IF(F75<>\"\",IF(F75=\"JA\",COUNTIF($F$4:$F75,\"JA\")),\"\")","v":""}]
[{"$nulls":6},{"$f":"IF(F76<>\"\",IF(F76=\"JA\",COUNTIF($F$4:$F76,\"JA\")),\"\")","v":""}]
[{"$nulls":6},{"$f":"IF(F77<>\"\",IF(F77=\"JA\",COUNTIF($F$4:$F77,\"JA\")),\"\")","v":""}]
[{"$nulls":6},{"$f":"IF(F78<>\"\",IF(F78=\"JA\",COUNTIF($F$4:$F78,\"JA\")),\"\")","v":""}]
[{"$nulls":6},{"$f":"IF(F79<>\"\",IF(F79=\"JA\",COUNTIF($F$4:$F79,\"JA\")),\"\")","v":""}]
[{"$nulls":6},{"$f":"IF(F80<>\"\",IF(F80=\"JA\",COUNTIF($F$4:$F80,\"JA\")),\"\")","v":""}]
[{"$nulls":6},{"$f":"IF(F81<>\"\",IF(F81=\"JA\",COUNTIF($F$4:$F81,\"JA\")),\"\")","v":""}]
[{"$nulls":6},{"$f":"IF(F82<>\"\",IF(F82=\"JA\",COUNTIF($F$4:$F82,\"JA\")),\"\")","v":""}]
[{"$nulls":6},{"$f":"IF(F83<>\"\",IF(F83=\"JA\",COUNTIF($F$4:$F83,\"JA\")),\"\")","v":""}]
[{"$nulls":6},{"$f":"IF(F84<>\"\",IF(F84=\"JA\",COUNTIF($F$4:$F84,\"JA\")),\"\")","v":""}]
[{"$nulls":6},{"$f":"IF(F85<>\"\",IF(F85=\"JA\",COUNTIF($F$4:$F85,\"JA\")),\"\")","v":""}]
[{"$nulls":6},{"$f":"IF(F86<>\"\",IF(F86=\"JA\",COUNTIF($F$4:$F86,\"JA\")),\"\")","v":""}]
[{"$nulls":6},{"$f":"IF(F87<>\"\",IF(F87=\"JA\",COUNTIF($F$4:$F87,\"JA\")),\"\")","v":""}]
[{"$nulls":6},{"$f":"IF(F88<>\"\",IF(F88=\"JA\",COUNTIF($F$4:$F88,\"JA\")),\"\")","v":""}]
[{"$nulls":6},{"$f":"IF(F89<>\"\",IF(F89=\"JA\",COUNTIF($F$4:$F89,\"JA\")),\"\")","v":""}]
[{"$nulls":6},{"$f":"IF(F90<>\"\",IF(F90=\"JA\",COUNTIF($F$4:$F90,\"JA\")),\"\")","v":""}]
[{"$nulls":6},{"$f":"IF(F91<>\"\",IF(F91=\"JA\",COUNTIF($F$4:$F91,\"JA\")),\"\")","v":""}]
[{"$nulls":6},{"$f":"IF(F92<>\"\",IF(F92=\"JA\",COUNTIF($F$4:$F92,\"JA\")),\"\")","v":""}]
[{"$nulls":6},{"$f":"IF(F93<>\"\",IF(F93=\"JA\",COUNTIF($F$4:$F93,\"JA\")),\"\")","v":""}]
[{"$nulls":6},{"$f":"IF(F94<>\"\",IF(F94=\"JA\",COUNTIF($F$4:$F94,\"JA\")),\"\")","v":""}]
[{"$nulls":6},{"$f":"IF(F95<>\"\",IF(F95=\"JA\",COUNTIF($F$4:$F95,\"JA\")),\"\")","v":""}]
[{"$nulls":6},{"$f":"IF(F96<>\"\",IF(F96=\"JA\",COUNTIF($F$4:$F96,\"JA\")),\"\")","v":""}]
[{"$nulls":6},{"$f":"IF(F97<>\"\",IF(F97=\"JA\",COUNTIF($F$4:$F97,\"JA\")),\"\")","v":""}]
[{"$nulls":6},{"$f":"IF(F98<>\"\",IF(F98=\"JA\",COUNTIF($F$4:$F98,\"JA\")),\"\")","v":""}]
[{"$nulls":6},{"$f":"IF(F99<>\"\",IF(F99=\"JA\",COUNTIF($F$4:$F99,\"JA\")),\"\")","v":""}]
[{"$nulls":6},{"$f":"IF(F100<>\"\",IF(F100=\"JA\",COUNTIF($F$4:$F100,\"JA\")),\"\")","v":""}]
[{"$nulls":6},{"$f":"IF(F101<>\"\",IF(F101=\"JA\",COUNTIF($F$4:$F101,\"JA\")),\"\")","v":""}]
[{"$nulls":6},{"$f":"IF(F102<>\"\",IF(F102=\"JA\",COUNTIF($F$4:$F102,\"JA\")),\"\")","v":""}]
[{"$nulls":6},{"$f":"IF(F103<>\"\",IF(F103=\"JA\",COUNTIF($F$4:$F103,\"JA\")),\"\")","v":""}]
[{"$nulls":6},{"$f":"IF(F104<>\"\",IF(F104=\"JA\",COUNTIF($F$4:$F104,\"JA\")),\"\")","v":""}]
[{"$nulls":6},{"$f":"IF(F105<>\"\",IF(F105=\"JA\",COUNTIF($F$4:$F105,\"JA\")),\"\")","v":""}]
[{"$nulls":6},{"$f":"IF(F106<>\"\",IF(F106=\"JA\",COUNTIF($F$4:$F106,\"JA\")),\"\")","v":""}]
[{"$nulls":6},{"$f":"IF(F107<>\"\",IF(F107=\"JA\",COUNTIF($F$4:$F107,\"JA\")),\"\")","v":""}]
[{"$nulls":6},{"$f":"IF(F108<>\"\",IF(F108=\"JA\",COUNTIF($F$4:$F108,\"JA\")),\"\")","v":""}]
[{"$nulls":6},{"$f":"IF(F109<>\"\",IF(F109=\"JA\",COUNTIF($F$4:$F109,\"JA\")),\"\")","v":""}]
[{"$nulls":6},{"$f":"IF(F110<>\"\",IF(F110=\"JA\",COUNTIF($F$4:$F110,\"JA\")),\"\")","v":""}]
[{"$nulls":6},{"$f":"IF(F111<>\"\",IF(F111=\"JA\",COUNTIF($F$4:$F111,\"JA\")),\"\")","v":""}]
[{"$nulls":6},{"$f":"IF(F112<>\"\",IF(F112=\"JA\",COUNTIF($F$4:$F112,\"JA\")),\"\")","v":""}]
[{"$nulls":6},{"$f":"IF(F113<>\"\",IF(F113=\"JA\",COUNTIF($F$4:$F113,\"JA\")),\"\")","v":""}]
[{"$nulls":6},{"$f":"IF(F114<>\"\",IF(F114=\"JA\",COUNTIF($F$4:$F114,\"JA\")),\"\")","v":""}]
[{"$nulls":6},{"$f":"IF(F115<>\"\",IF(F115=\"JA\",COUNTIF($F$4:$F115,\"JA\")),\"\")","v":""}]
[{"$nulls":6},{"$f":"IF(F116<>\"\",IF(F116=\"JA\",COUNTIF($F$4:$F116,\"JA\")),\"\")","v":""}]
[{"$nulls":6},{"$f":"IF(F117<>\"\",IF(F117=\"JA\",COUNTIF($F$4:$F117,\"JA\")),\"\")","v":""}]
[{"$nulls":6},{"$f":"IF(F118<>\"\",IF(F118=\"JA\",COUNTIF($F$4:$F118,\"JA\")),\"\")","v":""}]
[{"$nulls":6},{"$f":"IF(F119<>\"\",IF(F119=\"JA\",COUNTIF($F$4:$F119,\"JA\")),\"\")","v":""}]
[{"$nulls":6},{"$f":"IF(F120<>\"\",IF(F120=\"JA\",COUNTIF($F$4:$F120,\"JA\")),\"\")","v":""}]
[{"$nulls":6},{"$f":"IF(F121<>\"\",IF(F121=\"JA\",COUNTIF($F$4:$F121,\"JA\")),\"\")","v":""}]
[{"$nulls":6},{"$f":"IF(F122<>\"\",IF(F122=\"JA\",COUNTIF($F$4:$F122,\"JA\")),\"\")","v":""}]
[{"$nulls":6},{"$f":"IF(F123<>\"\",IF(F123=\"JA\",COUNTIF($F$4:$F123,\"JA\")),\"\")","v":""}]
[{"$nulls":6},{"$f":"IF(F124<>\"\",IF(F124=\"JA\",COUNTIF($F$4:$F124,\"JA\")),\"\")","v":""}]
[{"$nulls":6},{"$f":"IF(F125<>\"\",IF(F125=\"JA\",COUNTIF($F$4:$F125,\"JA\")),\"\")","v":""}]
[{"$nulls":6},{"$f":"IF(F126<>\"\",IF(F126=\"JA\",COUNTIF($F$4:$F126,\"JA\")),\"\")","v":""}]
[{"$nulls":6},{"$f":"IF(F127<>\"\",IF(F127=\"JA\",COUNTIF($F$4:$F127,\"JA\")),\"\")","v":""}]
[{"$nulls":6},{"$f":"IF(F128<>\"\",IF(F128=\"JA\",COUNTIF($F$4:$F128,\"JA\")),\"\")","v":""}]
[{"$nulls":6},{"$f":"IF(F129<>\"\",IF(F129=\"JA\",COUNTIF($F$4:$F129,\"JA\")),\"\")","v":""}]
[{"$nulls":6},{"$f":"IF(F130<>\"\",IF(F130=\"JA\",COUNTIF($F$4:$F130,\"JA\")),\"\")","v":""}]
[{"$nulls":6},{"$f":"IF(F131<>\"\",IF(F131=\"JA\",COUNTIF($F$4:$F131,\"JA\")),\"\")","v":""}]
[{"$nulls":6},{"$f":"IF(F132<>\"\",IF(F132=\"JA\",COUNTIF($F$4:$F132,\"JA\")),\"\")","v":""}]
[{"$nulls":6},{"$f":"IF(F133<>\"\",IF(F133=\"JA\",COUNTIF($F$4:$F133,\"JA\")),\"\")","v":""}]
[{"$nulls":6},{"$f":"IF(F134<>\"\",IF(F134=\"JA\",COUNTIF($F$4:$F134,\"JA\")),\"\")","v":""}]
[{"$nulls":6},{"$f":"IF(F135<>\"\",IF(F135=\"JA\",COUNTIF($F$4:$F135,\"JA\")),\"\")","v":""}]
[{"$nulls":6},{"$f":"IF(F136<>\"\",IF(F136=\"JA\",COUNTIF($F$4:$F136,\"JA\")),\"\")","v":""}]
[{"$nulls":6},{"$f":"IF(F137<>\"\",IF(F137=\"JA\",COUNTIF($F$4:$F137,\"JA\")),\"\")","v":""}]
[{"$nulls":6},{"$f":"IF(F138<>\"\",IF(F138=\"JA\",COUNTIF($F$4:$F138,\"JA\")),\"\")","v":""}]
[{"$nulls":6},{"$f":"IF(F139<>\"\",IF(F139=\"JA\",COUNTIF($F$4:$F139,\"JA\")),\"\")","v":""}]
[{"$nulls":6},{"$f":"IF(F140<>\"\",IF(F140=\"JA\",COUNTIF($F$4:$F140,\"JA\")),\"\")","v":""}]
[{"$nulls":6},{"$f":"IF(F141<>\"\",IF(F141=\"JA\",COUNTIF($F$4:$F141,\"JA\")),\"\")","v":""}]
[{"$nulls":6},{"$f":"IF(F142<>\"\",IF(F142=\"JA\",COUNTIF($F$4:$F142,\"JA\")),\"\")","v":""}]
[{"$nulls":6},{"$f":"IF(F143<>\"\",IF(F143=\"JA\",COUNTIF($F$4:$F143,\"JA\")),\"\")","v":""}]
[{"$nulls":6},{"$f":"IF(F144<>\"\",IF(F144=\"JA\",COUNTIF($F$4:$F144,\"JA\")),\"\")","v":""}]
[{"$nulls":6},{"$f":"IF(F145<>\"\",IF(F145=\"JA\",COUNTIF($F$4:$F145,\"JA\")),\"\")","v":""}]
[{"$nulls":6},{"$f":"IF(F146<>\"\",IF(F146=\"JA\",COUNTIF($F$4:$F146,\"JA\")),\"\")","v":""}]
[{"$nulls":6},{"$f":"IF(F147<>\"\",IF(F147=\"JA\",COUNTIF($F$4:$F147,\"JA\")),\"\")","v":""}]
[{"$nulls":6},{"$f":"IF(F148<>\"\",IF(F148=\"JA\",COUNTIF($F$4:$F148,\"JA\")),\"\")","v":""}]
[{"$nulls":6},{"$f":"IF(F149<>\"\",IF(F149=\"JA\",COUNTIF($F$4:$F149,\"JA\")),\"\")","v":""}]
[{"$nulls":6},{"$f":"IF(F150<>\"\",IF(F150=\"JA\",COUNTIF($F$4:$F150,\"JA\")),\"\")","v":""}]
[{"$nulls":6},{"$f":"IF(F151<>\"\",IF(F151=\"JA\",COUNTIF($F$4:$F151,\"JA\")),\"\")","v":""}]
[{"$nulls":6},{"$f":"IF(F152<>\"\",IF(F152=\"JA\",COUNTIF($F$4:$F152,\"JA\")),\"\")","v":""}]
[{"$nulls":6},{"$f":"IF(F153<>\"\",IF(F153=\"JA\",COUNTIF($F$4:$F153,\"JA\")),\"\")","v":""}]
[{"$nulls":6},{"$f":"IF(F154<>\"\",IF(F154=\"JA\",COUNTIF($F$4:$F154,\"JA\")),\"\")","v":""}]
[{"$nulls":6},{"$f":"IF(F155<>\"\",IF(F155=\"JA\",COUNTIF($F$4:$F155,\"JA\")),\"\")","v":""}]
[{"$nulls":6},{"$f":"IF(F156<>\"\",IF(F156=\"JA\",COUNTIF($F$4:$F156,\"JA\")),\"\")","v":""}]
[{"$nulls":6},{"$f":"IF(F157<>\"\",IF(F157=\"JA\",COUNTIF($F$4:$F157,\"JA\")),\"\")","v":""}]
[{"$nulls":6},{"$f":"IF(F158<>\"\",IF(F158=\"JA\",COUNTIF($F$4:$F158,\"JA\")),\"\")","v":""}]
[{"$nulls":6},{"$f":"IF(F159<>\"\",IF(F159=\"JA\",COUNTIF($F$4:$F159,\"JA\")),\"\")","v":""}]
[{"$nulls":6},{"$f":"IF(F160<>\"\",IF(F160=\"JA\",COUNTIF($F$4:$F160,\"JA\")),\"\")","v":""}]
[{"$nulls":6},{"$f":"IF(F161<>\"\",IF(F161=\"JA\",COUNTIF($F$4:$F161,\"JA\")),\"\")","v":""}]
[{"$nulls":6},{"$f":"IF(F162<>\"\",IF(F162=\"JA\",COUNTIF($F$4:$F162,\"JA\")),\"\")","v":""}]
[{"$nulls":6},{"$f":"IF(F163<>\"\",IF(F163=\"JA\",COUNTIF($F$4:$F163,\"JA\")),\"\")","v":""}]
[{"$nulls":6},{"$f":"IF(F164<>\"\",IF(F164=\"JA\",COUNTIF($F$4:$F164,\"JA\")),\"\")","v":""}]
[{"$nulls":6},{"$f":"IF(F165<>\"\",IF(F165=\"JA\",COUNTIF($F$4:$F165,\"JA\")),\"\")","v":""}]
[{"$nulls":6},{"$f":"IF(F166<>\"\",IF(F166=\"JA\",COUNTIF($F$4:$F166,\"JA\")),\"\")","v":""}]
[{"$nulls":6},{"$f":"IF(F167<>\"\",IF(F167=\"JA\",COUNTIF($F$4:$F167,\"JA\")),\"\")","v":""}]
[{"$nulls":6},{"$f":"IF(F168<>\"\",IF(F168=\"JA\",COUNTIF($F$4:$F168,\"JA\")),\"\")","v":""}]
[{"$nulls":6},{"$f":"IF(F169<>\"\",IF(F169=\"JA\",COUNTIF($F$4:$F169,\"JA\")),\"\")","v":""}]
[{"$nulls":6},{"$f":"IF(F170<>\"\",IF(F170=\"JA\",COUNTIF($F$4:$F170,\"JA\")),\"\")","v":""}]
[{"$nulls":6},{"$f":"IF(F171<>\"\",IF(F171=\"JA\",COUNTIF($F$4:$F171,\"JA\")),\"\")","v":""}]
[{"$nulls":6},{"$f":"IF(F172<>\"\",IF(F172=\"JA\",COUNTIF($F$4:$F172,\"JA\")),\"\")","v":""}]
[{"$nulls":6},{"$f":"IF(F173<>\"\",IF(F173=\"JA\",COUNTIF($F$4:$F173,\"JA\")),\"\")","v":""}]
[{"$nulls":6},{"$f":"IF(F174<>\"\",IF(F174=\"JA\",COUNTIF($F$4:$F174,\"JA\")),\"\")","v":""}]
[{"$nulls":6},{"$f":"IF(F175<>\"\",IF(F175=\"JA\",COUNTIF($F$4:$F175,\"JA\")),\"\")","v":""}]
[{"$nulls":6},{"$f":"IF(F176<>\"\",IF(F176=\"JA\",COUNTIF($F$4:$F176,\"JA\")),\"\")","v":""}]
[{"$nulls":6},{"$f":"IF(F177<>\"\",IF(F177=\"JA\",COUNTIF($F$4:$F177,\"JA\")),\"\")","v":""}]
[{"$nulls":6},{"$f":"IF(F178<>\"\",IF(F178=\"JA\",COUNTIF($F$4:$F178,\"JA\")),\"\")","v":""}]
[{"$nulls":6},{"$f":"IF(F179<>\"\",IF(F179=\"JA\",COUNTIF($F$4:$F179,\"JA\")),\"\")","v":""}]
[{"$nulls":6},{"$f":"IF(F180<>\"\",IF(F180=\"JA\",COUNTIF($F$4:$F180,\"JA\")),\"\")","v":""}]
[{"$nulls":6},{"$f":"IF(F181<>\"\",IF(F181=\"JA\",COUNTIF($F$4:$F181,\"JA\")),\"\")","v":""}]
[{"$nulls":6},{"$f":"IF(F182<>\"\",IF(F182=\"JA\",COUNTIF($F$4:$F182,\"JA\")),\"\")","v":""}]
[{"$nulls":6},{"$f":"IF(F183<>\"\",IF(F183=\"JA\",COUNTIF($F$4:$F183,\"JA\")),\"\")","v":""}]
[{"$nulls":6},{"$f":"IF(F184<>\"\",IF(F184=\"JA\",COUNTIF($F$4:$F184,\"JA\")),\"\")","v":""}]
[{"$nulls":6},{"$f":"IF(F185<>\"\",IF(F185=\"JA\",COUNTIF($F$4:$F185,\"JA\")),\"\")","v":""}]
[{"$nulls":6},{"$f":"IF(F186<>\"\",IF(F186=\"JA\",COUNTIF($F$4:$F186,\"JA\")),\"\")","v":""}]
[{"$nulls":6},{"$f":"IF(F187<>\"\",IF(F187=\"JA\",COUNTIF($F$4:$F187,\"JA\")),\"\")","v":""}]
[{"$nulls":6},{"$f":"IF(F188<>\"\",IF(F188=\"JA\",COUNTIF($F$4:$F188,\"JA\")),\"\")","v":""}]
[{"$nulls":6},{"$f":"IF(F189<>\"\",IF(F189=\"JA\",COUNTIF($F$4:$F189,\"JA\")),\"\")","v":""}]
[{"$nulls":6},{"$f":"IF(F190<>\"\",IF(F190=\"JA\",COUNTIF($F$4:$F190,\"JA\")),\"\")","v":""}]
[{"$nulls":6},{"$f":"IF(F191<>\"\",IF(F191=\"JA\",COUNTIF($F$4:$F191,\"JA\")),\"\")","v":""}]
[{"$nulls":6},{"$f":"IF(F192<>\"\",IF(F192=\"JA\",COUNTIF($F$4:$F192,\"JA\")),\"\")","v":""}]
[{"$nulls":6},{"$f":"IF(F193<>\"\",IF(F193=\"JA\",COUNTIF($F$4:$F193,\"JA\")),\"\")","v":""}]
[{"$nulls":6},{"$f":"IF(F194<>\"\",IF(F194=\"JA\",COUNTIF($F$4:$F194,\"JA\")),\"\")","v":""}]
[{"$nulls":6},{"$f":"IF(F195<>\"\",IF(F195=\"JA\",COUNTIF($F$4:$F195,\"JA\")),\"\")","v":""}]
[{"$nulls":6},{"$f":"IF(F196<>\"\",IF(F196=\"JA\",COUNTIF($F$4:$F196,\"JA\")),\"\")","v":""}]
[{"$nulls":6},{"$f":"IF(F197<>\"\",IF(F197=\"JA\",COUNTIF($F$4:$F197,\"JA\")),\"\")","v":""}]
[{"$nulls":6},{"$f":"IF(F198<>\"\",IF(F198=\"JA\",COUNTIF($F$4:$F198,\"JA\")),\"\")","v":""}]
[{"$nulls":6},{"$f":"IF(F199<>\"\",IF(F199=\"JA\",COUNTIF($F$4:$F199,\"JA\")),\"\")","v":""}]
[{"$nulls":6},{"$f":"IF(F200<>\"\",IF(F200=\"JA\",COUNTIF($F$4:$F200,\"JA\")),\"\")","v":""}]
[{"$nulls":6},{"$f":"IF(F201<>\"\",IF(F201=\"JA\",COUNTIF($F$4:$F201,\"JA\")),\"\")","v":""}]
[{"$nulls":6},{"$f":"IF(F202<>\"\",IF(F202=\"JA\",COUNTIF($F$4:$F202,\"JA\")),\"\")","v":""}]
[{"$nulls":6},{"$f":"IF(F203<>\"\",IF(F203=\"JA\",COUNTIF($F$4:$F203,\"JA\")),\"\")","v":""}]
[{"$nulls":6},{"$f":"IF(F204<>\"\",IF(F204=\"JA\",COUNTIF($F$4:$F204,\"JA\")),\"\")","v":""}]
[{"$nulls":6},{"$f":"IF(F205<>\"\",IF(F205=\"JA\",COUNTIF($F$4:$F205,\"JA\")),\"\")","v":""}]
[{"$nulls":6},{"$f":"IF(F206<>\"\",IF(F206=\"JA\",COUNTIF($F$4:$F206,\"JA\")),\"\")","v":""}]
[{"$nulls":6},{"$f":"IF(F207<>\"\",IF(F207=\"JA\",COUNTIF($F$4:$F207,\"JA\")),\"\")","v":""}]
[{"$nulls":6},{"$f":"IF(F208<>\"\",IF(F208=\"JA\",COUNTIF($F$4:$F208,\"JA\")),\"\")","v":""}]
[{"$nulls":6},{"$f":"IF(F209<>\"\",IF(F209=\"JA\",COUNTIF($F$4:$F209,\"JA\")),\"\")","v":""}]
[{"$nulls":6},{"$f":"IF(F210<>\"\",IF(F210=\"JA\",COUNTIF($F$4:$F210,\"JA\")),\"\")","v":""}]
[{"$nulls":6},{"$f":"IF(F211<>\"\",IF(F211=\"JA\",COUNTIF($F$4:$F211,\"JA\")),\"\")","v":""}]
[{"$nulls":6},{"$f":"IF(F212<>\"\",IF(F212=\"JA\",COUNTIF($F$4:$F212,\"JA\")),\"\")","v":""}]
[{"$nulls":6},{"$f":"IF(F213<>\"\",IF(F213=\"JA\",COUNTIF($F$4:$F213,\"JA\")),\"\")","v":""}]
[{"$nulls":6},{"$f":"IF(F214<>\"\",IF(F214=\"JA\",COUNTIF($F$4:$F214,\"JA\")),\"\")","v":""}]
[{"$nulls":6},{"$f":"IF(F215<>\"\",IF(F215=\"JA\",COUNTIF($F$4:$F215,\"JA\")),\"\")","v":""}]
[{"$nulls":6},{"$f":"IF(F216<>\"\",IF(F216=\"JA\",COUNTIF($F$4:$F216,\"JA\")),\"\")","v":""}]
[{"$nulls":6},{"$f":"IF(F217<>\"\",IF(F217=\"JA\",COUNTIF($F$4:$F217,\"JA\")),\"\")","v":""}]
[{"$nulls":6},{"$f":"IF(F218<>\"\",IF(F218=\"JA\",COUNTIF($F$4:$F218,\"JA\")),\"\")","v":""}]
[{"$nulls":6},{"$f":"IF(F219<>\"\",IF(F219=\"JA\",COUNTIF($F$4:$F219,\"JA\")),\"\")","v":""}]
[{"$nulls":6},{"$f":"IF(F220<>\"\",IF(F220=\"JA\",COUNTIF($F$4:$F220,\"JA\")),\"\")","v":""}]
[{"$nulls":6},{"$f":"IF(F221<>\"\",IF(F221=\"JA\",COUNTIF($F$4:$F221,\"JA\")),\"\")","v":""}]
[{"$nulls":6},{"$f":"IF(F222<>\"\",IF(F222=\"JA\",COUNTIF($F$4:$F222,\"JA\")),\"\")","v":""}]
[{"$nulls":6},{"$f":"IF(F223<>\"\",IF(F223=\"JA\",COUNTIF($F$4:$F223,\"JA\")),\"\")","v":""}]
[{"$nulls":6},{"$f":"IF(F224<>\"\",IF(F224=\"JA\",COUNTIF($F$4:$F224,\"JA\")),\"\")","v":""}]
[{"$nulls":6},{"$f":"IF(F225<>\"\",IF(F225=\"JA\",COUNTIF($F$4:$F225,\"JA\")),\"\")","v":""}]
[{"$nulls":6},{"$f":"IF(F226<>\"\",IF(F226=\"JA\",COUNTIF($F$4:$F226,\"JA\")),\"\")","v":""}]
[{"$nulls":6},{"$f":"IF(F227<>\"\",IF(F227=\"JA\",COUNTIF($F$4:$F227,\"JA\")),\"\")","v":""}]
[{"$nulls":6},{"$f":"IF(F228<>\"\",IF(F228=\"JA\",COUNTIF($F$4:$F228,\"JA\")),\"\")","v":""}]
[{"$nulls":6},{"$f":"IF(F229<>\"\",IF(F229=\"JA\",COUNTIF($F$4:$F229,\"JA\")),\"\")","v":""}]
[{"$nulls":6},{"$f":"IF(F230<>\"\",IF(F230=\"JA\",COUNTIF($F$4:$F230,\"JA\")),\"\")","v":""}]
[{"$nulls":6},{"$f":"IF(F231<>\"\",IF(F231=\"JA\",COUNTIF($F$4:$F231,\"JA\")),\"\")","v":""}]
[{"$nulls":6},{"$f":"IF(F232<>\"\",IF(F232=\"JA\",COUNTIF($F$4:$F232,\"JA\")),\"\")","v":""}]
[{"$nulls":6},{"$f":"IF(F233<>\"\",IF(F233=\"JA\",COUNTIF($F$4:$F233,\"JA\")),\"\")","v":""}]
[{"$nulls":6},{"$f":"IF(F234<>\"\",IF(F234=\"JA\",COUNTIF($F$4:$F234,\"JA\")),\"\")","v":""}]
[{"$nulls":6},{"$f":"IF(F235<>\"\",IF(F235=\"JA\",COUNTIF($F$4:$F235,\"JA\")),\"\")","v":""}]
[{"$nulls":6},{"$f":"IF(F236<>\"\",IF(F236=\"JA\",COUNTIF($F$4:$F236,\"JA\")),\"\")","v":""}]
[{"$nulls":6},{"$f":"IF(F237<>\"\",IF(F237=\"JA\",COUNTIF($F$4:$F237,\"JA\")),\"\")","v":""}]
[{"$nulls":6},{"$f":"IF(F238<>\"\",IF(F238=\"JA\",COUNTIF($F$4:$F238,\"JA\")),\"\")","v":""}]
[{"$nulls":6},{"$f":"IF(F239<>\"\",IF(F239=\"JA\",COUNTIF($F$4:$F239,\"JA\")),\"\")","v":""}]
[{"$nulls":6},{"$f":"IF(F240<>\"\",IF(F240=\"JA\",COUNTIF($F$4:$F240,\"JA\")),\"\")","v":""}]
[{"$nulls":6},{"$f":"IF(F241<>\"\",IF(F241=\"JA\",COUNTIF($F$4:$F241,\"JA\")),\"\")","v":""}]
[{"$nulls":6},{"$f":"IF(F242<>\"\",IF(F242=\"JA\",COUNTIF($F$4:$F242,\"JA\")),\"\")","v":""}]
[{"$nulls":6},{"$f":"IF(F243<>\"\",IF(F243=\"JA\",COUNTIF($F$4:$F243,\"JA\")),\"\")","v":""}]
[{"$nulls":6},{"$f":"IF(F244<>\"\",IF(F244=\"JA\",COUNTIF($F$4:$F244,\"JA\")),\"\")","v":""}]
[{"$nulls":6},{"$f":"IF(F245<>\"\",IF(F245=\"JA\",COUNTIF($F$4:$F245,\"JA\")),\"\")","v":""}]
[{"$nulls":6},{"$f":"IF(F246<>\"\",IF(F246=\"JA\",COUNTIF($F$4:$F246,\"JA\")),\"\")","v":""}]
[{"$nulls":6},{"$f":"IF(F247<>\"\",IF(F247=\"JA\",COUNTIF($F$4:$F247,\"JA\")),\"\")","v":""}]
[{"$nulls":6},{"$f":"IF(F248<>\"\",IF(F248=\"JA\",COUNTIF($F$4:$F248,\"JA\")),\"\")","v":""}]
[{"$nulls":6},{"$f":"IF(F249<>\"\",IF(F249=\"JA\",COUNTIF($F$4:$F249,\"JA\")),\"\")","v":""}]
[{"$nulls":6},{"$f":"IF(F250<>\"\",IF(F250=\"JA\",COUNTIF($F$4:$F250,\"JA\")),\"\")","v":""}]
[{"$nulls":6},{"$f":"IF(F251<>\"\",IF(F251=\"JA\",COUNTIF($F$4:$F251,\"JA\")),\"\")","v":""}]
[{"$nulls":6},{"$f":"IF(F252<>\"\",IF(F252=\"JA\",COUNTIF($F$4:$F252,\"JA\")),\"\")","v":""}]
[{"$nulls":6},{"$f":"IF(F253<>\"\",IF(F253=\"JA\",COUNTIF($F$4:$F253,\"JA\")),\"\")","v":""}]
[{"$nulls":6},{"$f":"IF(F254<>\"\",IF(F254=\"JA\",COUNTIF($F$4:$F254,\"JA\")),\"\")","v":""}]
[{"$nulls":6},{"$f":"IF(F255<>\"\",IF(F255=\"JA\",COUNTIF($F$4:$F255,\"JA\")),\"\")","v":""}]
[{"$nulls":6},{"$f":"IF(F256<>\"\",IF(F256=\"JA\",COUNTIF($F$4:$F256,\"JA\")),\"\")","v":""}]
[{"$nulls":6},{"$f":"IF(F257<>\"\",IF(F257=\"JA\",COUNTIF($F$4:$F257,\"JA\")),\"\")","v":""}]
[{"$nulls":6},{"$f":"IF(F258<>\"\",IF(F258=\"JA\",COUNTIF($F$4:$F258,\"JA\")),\"\")","v":""}]
[{"$nulls":6},{"$f":"IF(F259<>\"\",IF(F259=\"JA\",COUNTIF($F$4:$F259,\"JA\")),\"\")","v":""}]
[{"$nulls":6},{"$f":"IF(F260<>\"\",IF(F260=\"JA\",COUNTIF($F$4:$F260,\"JA\")),\"\")","v":""}]
[{"$nulls":6},{"$f":"IF(F261<>\"\",IF(F261=\"JA\",COUNTIF($F$4:$F261,\"JA\")),\"\")","v":""}]
[{"$nulls":6},{"$f":"IF(F262<>\"\",IF(F262=\"JA\",COUNTIF($F$4:$F262,\"JA\")),\"\")","v":""}]
[{"$nulls":6},{"$f":"IF(F263<>\"\",IF(F263=\"JA\",COUNTIF($F$4:$F263,\"JA\")),\"\")","v":""}]
[{"$nulls":6},{"$f":"IF(F264<>\"\",IF(F264=\"JA\",COUNTIF($F$4:$F264,\"JA\")),\"\")","v":""}]
[{"$nulls":6},{"$f":"IF(F265<>\"\",IF(F265=\"JA\",COUNTIF($F$4:$F265,\"JA\")),\"\")","v":""}]
[{"$nulls":6},{"$f":"IF(F266<>\"\",IF(F266=\"JA\",COUNTIF($F$4:$F266,\"JA\")),\"\")","v":""}]
[{"$nulls":6},{"$f":"IF(F267<>\"\",IF(F267=\"JA\",COUNTIF($F$4:$F267,\"JA\")),\"\")","v":""}]
[{"$nulls":6},{"$f":"IF(F268<>\"\",IF(F268=\"JA\",COUNTIF($F$4:$F268,\"JA\")),\"\")","v":""}]
[{"$nulls":6},{"$f":"IF(F269<>\"\",IF(F269=\"JA\",COUNTIF($F$4:$F269,\"JA\")),\"\")","v":""}]
[{"$nulls":6},{"$f":"IF(F270<>\"\",IF(F270=\"JA\",COUNTIF($F$4:$F270,\"JA\")),\"\")","v":""}]
[{"$nulls":6},{"$f":"IF(F271<>\"\",IF(F271=\"JA\",COUNTIF($F$4:$F271,\"JA\")),\"\")","v":""}]
[{"$nulls":6},{"$f":"IF(F272<>\"\",IF(F272=\"JA\",COUNTIF($F$4:$F272,\"JA\")),\"\")","v":""}]
[{"$nulls":6},{"$f":"IF(F273<>\"\",IF(F273=\"JA\",COUNTIF($F$4:$F273,\"JA\")),\"\")","v":""}]
[{"$nulls":6},{"$f":"IF(F274<>\"\",IF(F274=\"JA\",COUNTIF($F$4:$F274,\"JA\")),\"\")","v":""}]
[{"$nulls":6},{"$f":"IF(F275<>\"\",IF(F275=\"JA\",COUNTIF($F$4:$F275,\"JA\")),\"\")","v":""}]
[{"$nulls":6},{"$f":"IF(F276<>\"\",IF(F276=\"JA\",COUNTIF($F$4:$F276,\"JA\")),\"\")","v":""}]
[{"$nulls":6},{"$f":"IF(F277<>\"\",IF(F277=\"JA\",COUNTIF($F$4:$F277,\"JA\")),\"\")","v":""}]
[{"$nulls":6},{"$f":"IF(F278<>\"\",IF(F278=\"JA\",COUNTIF($F$4:$F278,\"JA\")),\"\")","v":""}]
[{"$nulls":6},{"$f":"IF(F279<>\"\",IF(F279=\"JA\",COUNTIF($F$4:$F279,\"JA\")),\"\")","v":""}]
[{"$nulls":6},{"$f":"IF(F280<>\"\",IF(F280=\"JA\",COUNTIF($F$4:$F280,\"JA\")),\"\")","v":""}]
[{"$nulls":6},{"$f":"IF(F281<>\"\",IF(F281=\"JA\",COUNTIF($F$4:$F281,\"JA\")),\"\")","v":""}]
[{"$nulls":6},{"$f":"IF(F282<>\"\",IF(F282=\"JA\",COUNTIF($F$4:$F282,\"JA\")),\"\")","v":""}]
[{"$nulls":6},{"$f":"IF(F283<>\"\",IF(F283=\"JA\",COUNTIF($F$4:$F283,\"JA\")),\"\")","v":""}]
[{"$nulls":6},{"$f":"IF(F284<>\"\",IF(F284=\"JA\",COUNTIF($F$4:$F284,\"JA\")),\"\")","v":""}]
[{"$nulls":6},{"$f":"IF(F285<>\"\",IF(F285=\"JA\",COUNTIF($F$4:$F285,\"JA\")),\"\")","v":""}]
[{"$nulls":6},{"$f":"IF(F286<>\"\",IF(F286=\"JA\",COUNTIF($F$4:$F286,\"JA\")),\"\")","v":""}]
[{"$nulls":6},{"$f":"IF(F287<>\"\",IF(F287=\"JA\",COUNTIF($F$4:$F287,\"JA\")),\"\")","v":""}]
[{"$nulls":6},{"$f":"IF(F288<>\"\",IF(F288=\"JA\",COUNTIF($F$4:$F288,\"JA\")),\"\")","v":""}]
[{"$nulls":6},{"$f":"IF(F289<>\"\",IF(F289=\"JA\",COUNTIF($F$4:$F289,\"JA\")),\"\")","v":""}]
[{"$nulls":6},{"$f":"IF(F290<>\"\",IF(F290=\"JA\",COUNTIF($F$4:$F290,\"JA\")),\"\")","v":""}]
[{"$nulls":6},{"$f":"IF(F291<>\"\",IF(F291=\"JA\",COUNTIF($F$4:$F291,\"JA\")),\"\")","v":""}]
[{"$nulls":6},{"$f":"IF(F292<>\"\",IF(F292=\"JA\",COUNTIF($F$4:$F292,\"JA\")),\"\")","v":""}]
[{"$nulls":6},{"$f":"IF(F293<>\"\",IF(F293=\"JA\",COUNTIF($F$4:$F293,\"JA\")),\"\")","v":""}]
[{"$nulls":6},{"$f":"IF(F294<>\"\",IF(F294=\"JA\",COUNTIF($F$4:$F294,\"JA\")),\"\")","v":""}]
[{"$nulls":6},{"$f":"IF(F295<>\"\",IF(F295=\"JA\",COUNTIF($F$4:$F295,\"JA\")),\"\")","v":""}]
[{"$nulls":6},{"$f":"IF(F296<>\"\",IF(F296=\"JA\",COUNTIF($F$4:$F296,\"JA\")),\"\")","v":""}]
[{"$nulls":6},{"$f":"IF(F297<>\"\",IF(F297=\"JA\",COUNTIF($F$4:$F297,\"JA\")),\"\")","v":""}]
[{"$nulls":6},{"$f":"IF(F298<>\"\",IF(F298=\"JA\",COUNTIF($F$4:$F298,\"JA\")),\"\")","v":""}]
[{"$nulls":6},{"$f":"IF(F299<>\"\",IF(F299=\"JA\",COUNTIF($F$4:$F299,\"JA\")),\"\")","v":""}]
[{"$nulls":6},{"$f":"IF(F300<>\"\",IF(F300=\"JA\",COUNTIF($F$4:$F300,\"JA\")),\"\")","v":""}]
[{"$nulls":6},{"$f":"IF(F301<>\"\",IF(F301=\"JA\",COUNTIF($F$4:$F301,\"JA\")),\"\")","v":""}]
[{"$nulls":6},{"$f":"IF(F302<>\"\",IF(F302=\"JA\",COUNTIF($F$4:$F302,\"JA\")),\"\")","v":""}]
[{"$nulls":6},{"$f":"IF(F303<>\"\",IF(F303=\"JA\",COUNTIF($F$4:$F303,\"JA\")),\"\")","v":""}]
[{"$nulls":6},{"$f":"IF(F304<>\"\",IF(F304=\"JA\",COUNTIF($F$4:$F304,\"JA\")),\"\")","v":""}]
[{"$nulls":6},{"$f":"IF(F305<>\"\",IF(F305=\"JA\",COUNTIF($F$4:$F305,\"JA\")),\"\")","v":""}]
[{"$nulls":6},{"$f":"IF(F306<>\"\",IF(F306=\"JA\",COUNTIF($F$4:$F306,\"JA\")),\"\")","v":""}]
[{"$nulls":6},{"$f":"IF(F307<>\"\",IF(F307=\"JA\",COUNTIF($F$4:$F307,\"JA\")),\"\")","v":""}]
[{"$nulls":6},{"$f":"IF(F308<>\"\",IF(F308=\"JA\",COUNTIF($F$4:$F308,\"JA\")),\"\")","v":""}]
[{"$nulls":6},{"$f":"IF(F309<>\"\",IF(F309=\"JA\",COUNTIF($F$4:$F309,\"JA\")),\"\")","v":""}]
[{"$nulls":6},{"$f":"IF(F310<>\"\",IF(F310=\"JA\",COUNTIF($F$4:$F310,\"JA\")),\"\")","v":""}]
[{"$nulls":6},{"$f":"IF(F311<>\"\",IF(F311=\"JA\",COUNTIF($F$4:$F311,\"JA\")),\"\")","v":""}]
[{"$nulls":6},{"$f":"IF(F312<>\"\",IF(F312=\"JA\",COUNTIF($F$4:$F312,\"JA\")),\"\")","v":""}]
[{"$nulls":6},{"$f":"IF(F313<>\"\",IF(F313=\"JA\",COUNTIF($F$4:$F313,\"JA\")),\"\")","v":""}]
[{"$nulls":6},{"$f":"IF(F314<>\"\",IF(F314=\"JA\",COUNTIF($F$4:$F314,\"JA\")),\"\")","v":""}]
[{"$nulls":6},{"$f":"IF(F315<>\"\",IF(F315=\"JA\",COUNTIF($F$4:$F315,\"JA\")),\"\")","v":""}]
[{"$nulls":6},{"$f":"IF(F316<>\"\",IF(F316=\"JA\",COUNTIF($F$4:$F316,\"JA\")),\"\")","v":""}]
[{"$nulls":6},{"$f":"IF(F317<>\"\",IF(F317=\"JA\",COUNTIF($F$4:$F317,\"JA\")),\"\")","v":""}]
[{"$nulls":6},{"$f":"IF(F318<>\"\",IF(F318=\"JA\",COUNTIF($F$4:$F318,\"JA\")),\"\")","v":""}]
[{"$nulls":6},{"$f":"IF(F319<>\"\",IF(F319=\"JA\",COUNTIF($F$4:$F319,\"JA\")),\"\")","v":""}]
[{"$nulls":6},{"$f":"IF(F320<>\"\",IF(F320=\"JA\",COUNTIF($F$4:$F320,\"JA\")),\"\")","v":""}]
[{"$nulls":6},{"$f":"IF(F321<>\"\",IF(F321=\"JA\",COUNTIF($F$4:$F321,\"JA\")),\"\")","v":""}]
[{"$nulls":6},{"$f":"IF(F322<>\"\",IF(F322=\"JA\",COUNTIF($F$4:$F322,\"JA\")),\"\")","v":""}]
[{"$nulls":6},{"$f":"IF(F323<>\"\",IF(F323=\"JA\",COUNTIF($F$4:$F323,\"JA\")),\"\")","v":""}]
[{"$nulls":6},{"$f":"IF(F324<>\"\",IF(F324=\"JA\",COUNTIF($F$4:$F324,\"JA\")),\"\")","v":""}]
[{"$nulls":6},{"$f":"IF(F325<>\"\",IF(F325=\"JA\",COUNTIF($F$4:$F325,\"JA\")),\"\")","v":""}]
[{"$nulls":6},{"$f":"IF(F326<>\"\",IF(F326=\"JA\",COUNTIF($F$4:$F326,\"JA\")),\"\")","v":""}]
[{"$nulls":6},{"$f":"IF(F327<>\"\",IF(F327=\"JA\",COUNTIF($F$4:$F327,\"JA\")),\"\")","v":""}]
[{"$nulls":6},{"$f":"IF(F328<>\"\",IF(F328=\"JA\",COUNTIF($F$4:$F328,\"JA\")),\"\")","v":""}]
[{"$nulls":6},{"$f":"IF(F329<>\"\",IF(F329=\"JA\",COUNTIF($F$4:$F329,\"JA\")),\"\")","v":""}]
[{"$nulls":6},{"$f":"IF(F330<>\"\",IF(F330=\"JA\",COUNTIF($F$4:$F330,\"JA\")),\"\")","v":""}]
[{"$nulls":6},{"$f":"IF(F331<>\"\",IF(F331=\"JA\",COUNTIF($F$4:$F331,\"JA\")),\"\")","v":""}]
[{"$nulls":6},{"$f":"IF(F332<>\"\",IF(F332=\"JA\",COUNTIF($F$4:$F332,\"JA\")),\"\")","v":""}]
[{"$nulls":6},{"$f":"IF(F333<>\"\",IF(F333=\"JA\",COUNTIF($F$4:$F333,\"JA\")),\"\")","v":""}]
[{"$nulls":6},{"$f":"IF(F334<>\"\",IF(F334=\"JA\",COUNTIF($F$4:$F334,\"JA\")),\"\")","v":""}]
[{"$nulls":6},{"$f":"IF(F335<>\"\",IF(F335=\"JA\",COUNTIF($F$4:$F335,\"JA\")),\"\")","v":""}]
[{"$nulls":6},{"$f":"IF(F336<>\"\",IF(F336=\"JA\",COUNTIF($F$4:$F336,\"JA\")),\"\")","v":""}]
[{"$nulls":6},{"$f":"IF(F337<>\"\",IF(F337=\"JA\",COUNTIF($F$4:$F337,\"JA\")),\"\")","v":""}]
[{"$nulls":6},{"$f":"IF(F338<>\"\",IF(F338=\"JA\",COUNTIF($F$4:$F338,\"JA\")),\"\")","v":""}]
[{"$nulls":6},{"$f":"IF(F339<>\"\",IF(F339=\"JA\",COUNTIF($F$4:$F339,\"JA\")),\"\")","v":""}]
[{"$nulls":6},{"$f":"IF(F340<>\"\",IF(F340=\"JA\",COUNTIF($F$4:$F340,\"JA\")),\"\")","v":""}]
[{"$nulls":6},{"$f":"IF(F341<>\"\",IF(F341=\"JA\",COUNTIF($F$4:$F341,\"JA\")),\"\")","v":""}]
[{"$nulls":6},{"$f":"IF(F342<>\"\",IF(F342=\"JA\",COUNTIF($F$4:$F342,\"JA\")),\"\")","v":""}]
[{"$nulls":6},{"$f":"IF(F343<>\"\",IF(F343=\"JA\",COUNTIF($F$4:$F343,\"JA\")),\"\")","v":""}]
[{"$nulls":6},{"$f":"IF(F344<>\"\",IF(F344=\"JA\",COUNTIF($F$4:$F344,\"JA\")),\"\")","v":""}]
[{"$nulls":6},{"$f":"IF(F345<>\"\",IF(F345=\"JA\",COUNTIF($F$4:$F345,\"JA\")),\"\")","v":""}]
[{"$nulls":6},{"$f":"IF(F346<>\"\",IF(F346=\"JA\",COUNTIF($F$4:$F346,\"JA\")),\"\")","v":""}]
[{"$nulls":6},{"$f":"IF(F347<>\"\",IF(F347=\"JA\",COUNTIF($F$4:$F347,\"JA\")),\"\")","v":""}]
[{"$nulls":6},{"$f":"IF(F348<>\"\",IF(F348=\"JA\",COUNTIF($F$4:$F348,\"JA\")),\"\")","v":""}]
[{"$nulls":6},{"$f":"IF(F349<>\"\",IF(F349=\"JA\",COUNTIF($F$4:$F349,\"JA\")),\"\")","v":""}]
[{"$nulls":6},{"$f":"IF(F350<>\"\",IF(F350=\"JA\",COUNTIF($F$4:$F350,\"JA\")),\"\")","v":""}]
[{"$nulls":6},{"$f":"IF(F351<>\"\",IF(F351=\"JA\",COUNTIF($F$4:$F351,\"JA\")),\"\")","v":""}]
[{"$nulls":6},{"$f":"IF(F352<>\"\",IF(F352=\"JA\",COUNTIF($F$4:$F352,\"JA\")),\"\")","v":""}]
[{"$nulls":6},{"$f":"IF(F353<>\"\",IF(F353=\"JA\",COUNTIF($F$4:$F353,\"JA\")),\"\")","v":""}]
[{"$nulls":6},{"$f":"IF(F354<>\"\",IF(F354=\"JA\",COUNTIF($F$4:$F354,\"JA\")),\"\")","v":""}]
[{"$nulls":6},{"$f":"IF(F355<>\"\",IF(F355=\"JA\",COUNTIF($F$4:$F355,\"JA\")),\"\")","v":""}]
[{"$nulls":6},{"$f":"IF(F356<>\"\",IF(F356=\"JA\",COUNTIF($F$4:$F356,\"JA\")),\"\")","v":""}]
[{"$nulls":6},{"$f":"IF(F357<>\"\",IF(F357=\"JA\",COUNTIF($F$4:$F357,\"JA\")),\"\")","v":""}]
[{"$nulls":6},{"$f":"IF(F358<>\"\",IF(F358=\"JA\",COUNTIF($F$4:$F358,\"JA\")),\"\")","v":""}]
[{"$nulls":6},{"$f":"IF(F359<>\"\",IF(F359=\"JA\",COUNTIF($F$4:$F359,\"JA\")),\"\")","v":""}]
[{"$nulls":6},{"$f":"IF(F360<>\"\",IF(F360=\"JA\",COUNTIF($F$4:$F360,\"JA\")),\"\")","v":""}]
[{"$nulls":6},{"$f":"IF(F361<>\"\",IF(F361=\"JA\",COUNTIF($F$4:$F361,\"JA\")),\"\")","v":""}]
[{"$nulls":6},{"$f":"IF(F362<>\"\",IF(F362=\"JA\",COUNTIF($F$4:$F362,\"JA\")),\"\")","v":""}]
[{"$nulls":6},{"$f":"IF(F363<>\"\",IF(F363=\"JA\",COUNTIF($F$4:$F363,\"JA\")),\"\")","v":""}]
[{"$nulls":6},{"$f":"IF(F364<>\"\",IF(F364=\"JA\",COUNTIF($F$4:$F364,\"JA\")),\"\")","v":""}]
[{"$nulls":6},{"$f":"IF(F365<>\"\",IF(F365=\"JA\",COUNTIF($F$4:$F365,\"JA\")),\"\")","v":""}]
[{"$nulls":6},{"$f":"IF(F366<>\"\",IF(F366=\"JA\",COUNTIF($F$4:$F366,\"JA\")),\"\")","v":""}]
[{"$nulls":6},{"$f":"IF(F367<>\"\",IF(F367=\"JA\",COUNTIF($F$4:$F367,\"JA\")),\"\")","v":""}]
[{"$nulls":6},{"$f":"IF(F368<>\"\",IF(F368=\"JA\",COUNTIF($F$4:$F368,\"JA\")),\"\")","v":""}]
[{"$nulls":6},{"$f":"IF(F369<>\"\",IF(F369=\"JA\",COUNTIF($F$4:$F369,\"JA\")),\"\")","v":""}]
[{"$nulls":6},{"$f":"IF(F370<>\"\",IF(F370=\"JA\",COUNTIF($F$4:$F370,\"JA\")),\"\")","v":""}]
[{"$nulls":6},{"$f":"IF(F371<>\"\",IF(F371=\"JA\",COUNTIF($F$4:$F371,\"JA\")),\"\")","v":""}]
[{"$nulls":6},{"$f":"IF(F372<>\"\",IF(F372=\"JA\",COUNTIF($F$4:$F372,\"JA\")),\"\")","v":""}]
[{"$nulls":6},{"$f":"IF(F373<>\"\",IF(F373=\"JA\",COUNTIF($F$4:$F373,\"JA\")),\"\")","v":""}]
[{"$nulls":6},{"$f":"IF(F374<>\"\",IF(F374=\"JA\",COUNTIF($F$4:$F374,\"JA\")),\"\")","v":""}]
[{"$nulls":6},{"$f":"IF(F375<>\"\",IF(F375=\"JA\",COUNTIF($F$4:$F375,\"JA\")),\"\")","v":""}]
[{"$nulls":6},{"$f":"IF(F376<>\"\",IF(F376=\"JA\",COUNTIF($F$4:$F376,\"JA\")),\"\")","v":""}]
[{"$nulls":6},{"$f":"IF(F377<>\"\",IF(F377=\"JA\",COUNTIF($F$4:$F377,\"JA\")),\"\")","v":""}]
[{"$nulls":6},{"$f":"IF(F378<>\"\",IF(F378=\"JA\",COUNTIF($F$4:$F378,\"JA\")),\"\")","v":""}]
[{"$nulls":6},{"$f":"IF(F379<>\"\",IF(F379=\"JA\",COUNTIF($F$4:$F379,\"JA\")),\"\")","v":""}]
[{"$nulls":6},{"$f":"IF(F380<>\"\",IF(F380=\"JA\",COUNTIF($F$4:$F380,\"JA\")),\"\")","v":""}]
[{"$nulls":6},{"$f":"IF(F381<>\"\",IF(F381=\"JA\",COUNTIF($F$4:$F381,\"JA\")),\"\")","v":""}]
[{"$nulls":6},{"$f":"IF(F382<>\"\",IF(F382=\"JA\",COUNTIF($F$4:$F382,\"JA\")),\"\")","v":""}]
[{"$nulls":6},{"$f":"IF(F383<>\"\",IF(F383=\"JA\",COUNTIF($F$4:$F383,\"JA\")),\"\")","v":""}]
[{"$nulls":6},{"$f":"IF(F384<>\"\",IF(F384=\"JA\",COUNTIF($F$4:$F384,\"JA\")),\"\")","v":""}]
[{"$nulls":6},{"$f":"IF(F385<>\"\",IF(F385=\"JA\",COUNTIF($F$4:$F385,\"JA\")),\"\")","v":""}]
[{"$nulls":6},{"$f":"IF(F386<>\"\",IF(F386=\"JA\",COUNTIF($F$4:$F386,\"JA\")),\"\")","v":""}]
[{"$nulls":6},{"$f":"IF(F387<>\"\",IF(F387=\"JA\",COUNTIF($F$4:$F387,\"JA\")),\"\")","v":""}]
[{"$nulls":6},{"$f":"IF(F388<>\"\",IF(F388=\"JA\",COUNTIF($F$4:$F388,\"JA\")),\"\")","v":""}]
[{"$nulls":6},{"$f":"IF(F389<>\"\",IF(F389=\"JA\",COUNTIF($F$4:$F389,\"JA\")),\"\")","v":""}]
[{"$nulls":6},{"$f":"IF(F390<>\"\",IF(F390=\"JA\",COUNTIF($F$4:$F390,\"JA\")),\"\")","v":""}]
[{"$nulls":6},{"$f":"IF(F391<>\"\",IF(F391=\"JA\",COUNTIF($F$4:$F391,\"JA\")),\"\")","v":""}]
[{"$nulls":6},{"$f":"IF(F392<>\"\",IF(F392=\"JA\",COUNTIF($F$4:$F392,\"JA\")),\"\")","v":""}]
[{"$nulls":6},{"$f":"IF(F393<>\"\",IF(F393=\"JA\",COUNTIF($F$4:$F393,\"JA\")),\"\")","v":""}]
[{"$nulls":6},{"$f":"IF(F394<>\"\",IF(F394=\"JA\",COUNTIF($F$4:$F394,\"JA\")),\"\")","v":""}]
[{"$nulls":6},{"$f":"IF(F395<>\"\",IF(F395=\"JA\",COUNTIF($F$4:$F395,\"JA\")),\"\")","v":""}]
[{"$nulls":6},{"$f":"IF(F396<>\"\",IF(F396=\"JA\",COUNTIF($F$4:$F396,\"JA\")),\"\")","v":""}]
[{"$nulls":6},{"$f":"IF(F397<>\"\",IF(F397=\"JA\",COUNTIF($F$4:$F397,\"JA\")),\"\")","v":""}]
[{"$nulls":6},{"$f":"IF(F398<>\"\",IF(F398=\"JA\",COUNTIF($F$4:$F398,\"JA\")),\"\")","v":""}]
[{"$nulls":6},{"$f":"IF(F399<>\"\",IF(F399=\"JA\",COUNTIF($F$4:$F399,\"JA\")),\"\")","v":""}]
[{"$nulls":6},{"$f":"IF(F400<>\"\",IF(F400=\"JA\",COUNTIF($F$4:$F400,\"JA\")),\"\")","v":""}]
[{"$nulls":6},{"$f":"IF(F401<>\"\",IF(F401=\"JA\",COUNTIF($F$4:$F401,\"JA\")),\"\")","v":""}]
[{"$nulls":6},{"$f":"IF(F402<>\"\",IF(F402=\"JA\",COUNTIF($F$4:$F402,\"JA\")),\"\")","v":""}]
[{"$nulls":6},{"$f":"IF(F403<>\"\",IF(F403=\"JA\",COUNTIF($F$4:$F403,\"JA\")),\"\")","v":""}]
[{"$nulls":6},{"$f":"IF(F404<>\"\",IF(F404=\"JA\",COUNTIF($F$4:$F404,\"JA\")),\"\")","v":""}]
[{"$nulls":6},{"$f":"IF(F405<>\"\",IF(F405=\"JA\",COUNTIF($F$4:$F405,\"JA\")),\"\")","v":""}]
[{"$nulls":6},{"$f":"IF(F406<>\"\",IF(F406=\"JA\",COUNTIF($F$4:$F406,\"JA\")),\"\")","v":""}]
[{"$nulls":6},{"$f":"IF(F407<>\"\",IF(F407=\"JA\",COUNTIF($F$4:$F407,\"JA\")),\"\")","v":""}]
[{"$nulls":6},{"$f":"IF(F408<>\"\",IF(F408=\"JA\",COUNTIF($F$4:$F408,\"JA\")),\"\")","v":""}]
[{"$nulls":6},{"$f":"IF(F409<>\"\",IF(F409=\"JA\",COUNTIF($F$4:$F409,\"JA\")),\"\")","v":""}]
[{"$nulls":6},{"$f":"IF(F410<>\"\",IF(F410=\"JA\",COUNTIF($F$4:$F410,\"JA\")),\"\")","v":""}]
[{"$nulls":6},{"$f":"IF(F411<>\"\",IF(F411=\"JA\",COUNTIF($F$4:$F411,\"JA\")),\"\")","v":""}]
[{"$nulls":6},{"$f":"IF(F412<>\"\",IF(F412=\"JA\",COUNTIF($F$4:$F412,\"JA\")),\"\")","v":""}]
[{"$nulls":6},{"$f":"IF(F413<>\"\",IF(F413=\"JA\",COUNTIF($F$4:$F413,\"JA\")),\"\")","v":""}]
[{"$nulls":6},{"$f":"IF(F414<>\"\",IF(F414=\"JA\",COUNTIF($F$4:$F414,\"JA\")),\"\")","v":""}]
[{"$nulls":6},{"$f":"IF(F415<>\"\",IF(F415=\"JA\",COUNTIF($F$4:$F415,\"JA\")),\"\")","v":""}]
[{"$nulls":6},{"$f":"IF(F416<>\"\",IF(F416=\"JA\",COUNTIF($F$4:$F416,\"JA\")),\"\")","v":""}]
[{"$nulls":6},{"$f":"IF(F417<>\"\",IF(F417=\"JA\",COUNTIF($F$4:$F417,\"JA\")),\"\")","v":""}]
[{"$nulls":6},{"$f":"IF(F418<>\"\",IF(F418=\"JA\",COUNTIF($F$4:$F418,\"JA\")),\"\")","v":""}]
[{"$nulls":6},{"$f":"IF(F419<>\"\",IF(F419=\"JA\",COUNTIF($F$4:$F419,\"JA\")),\"\")","v":""}]
[{"$nulls":6},{"$f":"IF(F420<>\"\",IF(F420=\"JA\",COUNTIF($F$4:$F420,\"JA\")),\"\")","v":""}]
[{"$nulls":6},{"$f":"IF(F421<>\"\",IF(F421=\"JA\",COUNTIF($F$4:$F421,\"JA\")),\"\")","v":""}]
[{"$nulls":6},{"$f":"IF(F422<>\"\",IF(F422=\"JA\",COUNTIF($F$4:$F422,\"JA\")),\"\")","v":""}]
[{"$nulls":6},{"$f":"IF(F423<>\"\",IF(F423=\"JA\",COUNTIF($F$4:$F423,\"JA\")),\"\")","v":""}]
[{"$nulls":6},{"$f":"IF(F424<>\"\",IF(F424=\"JA\",COUNTIF($F$4:$F424,\"JA\")),\"\")","v":""}]
[{"$nulls":6},{"$f":"IF(F425<>\"\",IF(F425=\"JA\",COUNTIF($F$4:$F425,\"JA\")),\"\")","v":""}]
[{"$nulls":6},{"$f":"IF(F426<>\"\",IF(F426=\"JA\",COUNTIF($F$4:$F426,\"JA\")),\"\")","v":""}]
[{"$nulls":6},{"$f":"IF(F427<>\"\",IF(F427=\"JA\",COUNTIF($F$4:$F427,\"JA\")),\"\")","v":""}]
[{"$nulls":6},{"$f":"IF(F428<>\"\",IF(F428=\"JA\",COUNTIF($F$4:$F428,\"JA\")),\"\")","v":""}]
[{"$nulls":6},{"$f":"IF(F429<>\"\",IF(F429=\"JA\",COUNTIF($F$4:$F429,\"JA\")),\"\")","v":""}]
[{"$nulls":6},{"$f":"IF(F430<>\"\",IF(F430=\"JA\",COUNTIF($F$4:$F430,\"JA\")),\"\")","v":""}]
[{"$nulls":6},{"$f":"IF(F431<>\"\",IF(F431=\"JA\",COUNTIF($F$4:$F431,\"JA\")),\"\")","v":""}]
[{"$nulls":6},{"$f":"IF(F432<>\"\",IF(F432=\"JA\",COUNTIF($F$4:$F432,\"JA\")),\"\")","v":""}]
[{"$nulls":6},{"$f":"IF(F433<>\"\",IF(F433=\"JA\",COUNTIF($F$4:$F433,\"JA\")),\"\")","v":""}]
[{"$nulls":6},{"$f":"IF(F434<>\"\",IF(F434=\"JA\",COUNTIF($F$4:$F434,\"JA\")),\"\")","v":""}]
[{"$nulls":6},{"$f":"IF(F435<>\"\",IF(F435=\"JA\",COUNTIF($F$4:$F435,\"JA\")),\"\")","v":""}]
[{"$nulls":6},{"$f":"IF(F436<>\"\",IF(F436=\"JA\",COUNTIF($F$4:$F436,\"JA\")),\"\")","v":""}]
[{"$nulls":6},{"$f":"IF(F437<>\"\",IF(F437=\"JA\",COUNTIF($F$4:$F437,\"JA\")),\"\")","v":""}]
[{"$nulls":6},{"$f":"IF(F438<>\"\",IF(F438=\"JA\",COUNTIF($F$4:$F438,\"JA\")),\"\")","v":""}]
[{"$nulls":6},{"$f":"IF(F439<>\"\",IF(F439=\"JA\",COUNTIF($F$4:$F439,\"JA\")),\"\")","v":""}]
[{"$nulls":6},{"$f":"IF(F440<>\"\",IF(F440=\"JA\",COUNTIF($F$4:$F440,\"JA\")),\"\")","v":""}]
[{"$nulls":6},{"$f":"IF(F441<>\"\",IF(F441=\"JA\",COUNTIF($F$4:$F441,\"JA\")),\"\")","v":""}]
[{"$nulls":6},{"$f":"IF(F442<>\"\",IF(F442=\"JA\",COUNTIF($F$4:$F442,\"JA\")),\"\")","v":""}]
[{"$nulls":6},{"$f":"IF(F443<>\"\",IF(F443=\"JA\",COUNTIF($F$4:$F443,\"JA\")),\"\")","v":""}]
[{"$nulls":6},{"$f":"IF(F444<>\"\",IF(F444=\"JA\",COUNTIF($F$4:$F444,\"JA\")),\"\")","v":""}]
[{"$nulls":6},{"$f":"IF(F445<>\"\",IF(F445=\"JA\",COUNTIF($F$4:$F445,\"JA\")),\"\")","v":""}]
[{"$nulls":6},{"$f":"IF(F446<>\"\",IF(F446=\"JA\",COUNTIF($F$4:$F446,\"JA\")),\"\")","v":""}]
[{"$nulls":6},{"$f":"IF(F447<>\"\",IF(F447=\"JA\",COUNTIF($F$4:$F447,\"JA\")),\"\")","v":""}]
[{"$nulls":6},{"$f":"IF(F448<>\"\",IF(F448=\"JA\",COUNTIF($F$4:$F448,\"JA\")),\"\")","v":""}]
[{"$nulls":6},{"$f":"IF(F449<>\"\",IF(F449=\"JA\",COUNTIF($F$4:$F449,\"JA\")),\"\")","v":""}]
[{"$nulls":6},{"$f":"IF(F450<>\"\",IF(F450=\"JA\",COUNTIF($F$4:$F450,\"JA\")),\"\")","v":""}]
[{"$nulls":6},{"$f":"IF(F451<>\"\",IF(F451=\"JA\",COUNTIF($F$4:$F451,\"JA\")),\"\")","v":""}]
[{"$nulls":6},{"$f":"IF(F452<>\"\",IF(F452=\"JA\",COUNTIF($F$4:$F452,\"JA\")),\"\")","v":""}]
[{"$nulls":6},{"$f":"IF(F453<>\"\",IF(F453=\"JA\",COUNTIF($F$4:$F453,\"JA\")),\"\")","v":""}]
[{"$nulls":6},{"$f":"IF(F454<>\"\",IF(F454=\"JA\",COUNTIF($F$4:$F454,\"JA\")),\"\")","v":""}]
[{"$nulls":6},{"$f":"IF(F455<>\"\",IF(F455=\"JA\",COUNTIF($F$4:$F455,\"JA\")),\"\")","v":""}]
[{"$nulls":6},{"$f":"IF(F456<>\"\",IF(F456=\"JA\",COUNTIF($F$4:$F456,\"JA\")),\"\")","v":""}]
[{"$nulls":6},{"$f":"IF(F457<>\"\",IF(F457=\"JA\",COUNTIF($F$4:$F457,\"JA\")),\"\")","v":""}]
[{"$nulls":6},{"$f":"IF(F458<>\"\",IF(F458=\"JA\",COUNTIF($F$4:$F458,\"JA\")),\"\")","v":""}]
[{"$nulls":6},{"$f":"IF(F459<>\"\",IF(F459=\"JA\",COUNTIF($F$4:$F459,\"JA\")),\"\")","v":""}]
[{"$nulls":6},{"$f":"IF(F460<>\"\",IF(F460=\"JA\",COUNTIF($F$4:$F460,\"JA\")),\"\")","v":""}]
[{"$nulls":6},{"$f":"IF(F461<>\"\",IF(F461=\"JA\",COUNTIF($F$4:$F461,\"JA\")),\"\")","v":""}]
[{"$nulls":6},{"$f":"IF(F462<>\"\",IF(F462=\"JA\",COUNTIF($F$4:$F462,\"JA\")),\"\")","v":""}]
[{"$nulls":6},{"$f":"IF(F463<>\"\",IF(F463=\"JA\",COUNTIF($F$4:$F463,\"JA\")),\"\")","v":""}]
[{"$nulls":6},{"$f":"IF(F464<>\"\",IF(F464=\"JA\",COUNTIF($F$4:$F464,\"JA\")),\"\")","v":""}]
[{"$nulls":6},{"$f":"IF(F465<>\"\",IF(F465=\"JA\",COUNTIF($F$4:$F465,\"JA\")),\"\")","v":""}]
[{"$nulls":6},{"$f":"IF(F466<>\"\",IF(F466=\"JA\",COUNTIF($F$4:$F466,\"JA\")),\"\")","v":""}]
[{"$nulls":6},{"$f":"IF(F467<>\"\",IF(F467=\"JA\",COUNTIF($F$4:$F467,\"JA\")),\"\")","v":""}]
[{"$nulls":6},{"$f":"IF(F468<>\"\",IF(F468=\"JA\",COUNTIF($F$4:$F468,\"JA\")),\"\")","v":""}]
[{"$nulls":6},{"$f":"IF(F469<>\"\",IF(F469=\"JA\",COUNTIF($F$4:$F469,\"JA\")),\"\")","v":""}]
[{"$nulls":6},{"$f":"IF(F470<>\"\",IF(F470=\"JA\",COUNTIF($F$4:$F470,\"JA\")),\"\")","v":""}]
[{"$nulls":6},{"$f":"IF(F471<>\"\",IF(F471=\"JA\",COUNTIF($F$4:$F471,\"JA\")),\"\")","v":""}]
[{"$nulls":6},{"$f":"IF(F472<>\"\",IF(F472=\"JA\",COUNTIF($F$4:$F472,\"JA\")),\"\")","v":""}]
[{"$nulls":6},{"$f":"IF(F473<>\"\",IF(F473=\"JA\",COUNTIF($F$4:$F473,\"JA\")),\"\")","v":""}]
[{"$nulls":6},{"$f":"IF(F474<>\"\",IF(F474=\"JA\",COUNTIF($F$4:$F474,\"JA\")),\"\")","v":""}]
[{"$nulls":6},{"$f":"IF(F475<>\"\",IF(F475=\"JA\",COUNTIF($F$4:$F475,\"JA\")),\"\")","v":""}]
[{"$nulls":6},{"$f":"IF(F476<>\"\",IF(F476=\"JA\",COUNTIF($F$4:$F476,\"JA\")),\"\")","v":""}]
[{"$nulls":6},{"$f":"IF(F477<>\"\",IF(F477=\"JA\",COUNTIF($F$4:$F477,\"JA\")),\"\")","v":""}]
[{"$nulls":6},{"$f":"IF(F478<>\"\",IF(F478=\"JA\",COUNTIF($F$4:$F478,\"JA\")),\"\")","v":""}]
[{"$nulls":6},{"$f":"IF(F479<>\"\",IF(F479=\"JA\",COUNTIF($F$4:$F479,\"JA\")),\"\")","v":""}]
[{"$nulls":6},{"$f":"IF(F480<>\"\",IF(F480=\"JA\",COUNTIF($F$4:$F480,\"JA\")),\"\")","v":""}]
[{"$nulls":6},{"$f":"IF(F481<>\"\",IF(F481=\"JA\",COUNTIF($F$4:$F481,\"JA\")),\"\")","v":""}]
[{"$nulls":6},{"$f":"IF(F482<>\"\",IF(F482=\"JA\",COUNTIF($F$4:$F482,\"JA\")),\"\")","v":""}]
[{"$nulls":6},{"$f":"IF(F483<>\"\",IF(F483=\"JA\",COUNTIF($F$4:$F483,\"JA\")),\"\")","v":""}]
[{"$nulls":6},{"$f":"IF(F484<>\"\",IF(F484=\"JA\",COUNTIF($F$4:$F484,\"JA\")),\"\")","v":""}]
[{"$nulls":6},{"$f":"IF(F485<>\"\",IF(F485=\"JA\",COUNTIF($F$4:$F485,\"JA\")),\"\")","v":""}]
[{"$nulls":6},{"$f":"IF(F486<>\"\",IF(F486=\"JA\",COUNTIF($F$4:$F486,\"JA\")),\"\")","v":""}]
[{"$nulls":6},{"$f":"IF(F487<>\"\",IF(F487=\"JA\",COUNTIF($F$4:$F487,\"JA\")),\"\")","v":""}]
[{"$nulls":6},{"$f":"IF(F488<>\"\",IF(F488=\"JA\",COUNTIF($F$4:$F488,\"JA\")),\"\")","v":""}]
[{"$nulls":6},{"$f":"IF(F489<>\"\",IF(F489=\"JA\",COUNTIF($F$4:$F489,\"JA\")),\"\")","v":""}]
[{"$nulls":6},{"$f":"IF(F490<>\"\",IF(F490=\"JA\",COUNTIF($F$4:$F490,\"JA\")),\"\")","v":""}]
[{"$nulls":6},{"$f":"IF(F491<>\"\",IF(F491=\"JA\",COUNTIF($F$4:$F491,\"JA\")),\"\")","v":""}]
[{"$nulls":6},{"$f":"IF(F492<>\"\",IF(F492=\"JA\",COUNTIF($F$4:$F492,\"JA\")),\"\")","v":""}]
[{"$nulls":6},{"$f":"IF(F493<>\"\",IF(F493=\"JA\",COUNTIF($F$4:$F493,\"JA\")),\"\")","v":""}]
[{"$nulls":6},{"$f":"IF(F494<>\"\",IF(F494=\"JA\",COUNTIF($F$4:$F494,\"JA\")),\"\")","v":""}]
[{"$nulls":6},{"$f":"IF(F495<>\"\",IF(F495=\"JA\",COUNTIF($F$4:$F495,\"JA\")),\"\")","v":""}]
[{"$nulls":6},{"$f":"IF(F496<>\"\",IF(F496=\"JA\",COUNTIF($F$4:$F496,\"JA\")),\"\")","v":""}]
[{"$nulls":6},{"$f":"IF(F497<>\"\",IF(F497=\"JA\",COUNTIF($F$4:$F497,\"JA\")),\"\")","v":""}]
[{"$nulls":6},{"$f":"IF(F498<>\"\",IF(F498=\"JA\",COUNTIF($F$4:$F498,\"JA\")),\"\")","v":""}]
[{"$nulls":6},{"$f":"IF(F499<>\"\",IF(F499=\"JA\",COUNTIF($F$4:$F499,\"JA\")),\"\")","v":""}]
[{"$nulls":6},{"$f":"IF(F500<>\"\",IF(F500=\"JA\",COUNTIF($F$4:$F500,\"JA\")),\"\")","v":""}]
[{"$nulls":6},{"$f":"IF(F501<>\"\",IF(F501=\"JA\",COUNTIF($F$4:$F501,\"JA\")),\"\")","v":""}]
[{"$nulls":6},{"$f":"IF(F502<>\"\",IF(F502=\"JA\",COUNTIF($F$4:$F502,\"JA\")),\"\")","v":""}]
[{"$nulls":6},{"$f":"IF(F503<>\"\",IF(F503=\"JA\",COUNTIF($F$4:$F503,\"JA\")),\"\")","v":""}]
[{"$nulls":6},{"$f":"IF(F504<>\"\",IF(F504=\"JA\",COUNTIF($F$4:$F504,\"JA\")),\"\")","v":""}]
[{"$nulls":6},{"$f":"IF(F505<>\"\",IF(F505=\"JA\",COUNTIF($F$4:$F505,\"JA\")),\"\")","v":""}]
[{"$nulls":6},{"$f":"IF(F506<>\"\",IF(F506=\"JA\",COUNTIF($F$4:$F506,\"JA\")),\"\")","v":""}]
[{"$nulls":6},{"$f":"IF(F507<>\"\",IF(F507=\"JA\",COUNTIF($F$4:$F507,\"JA\")),\"\")","v":""}]
[{"$nulls":6},{"$f":"IF(F508<>\"\",IF(F508=\"JA\",COUNTIF($F$4:$F508,\"JA\")),\"\")","v":""}]
[{"$nulls":6},{"$f":"IF(F509<>\"\",IF(F509=\"JA\",COUNTIF($F$4:$F509,\"JA\")),\"\")","v":""}]
[{"$nulls":6},{"$f":"IF(F510<>\"\",IF(F510=\"JA\",COUNTIF($F$4:$F510,\"JA\")),\"\")","v":""}]
[{"$nulls":6},{"$f":"IF(F511<>\"\",IF(F511=\"JA\",COUNTIF($F$4:$F511,\"JA\")),\"\")","v":""}]
[{"$nulls":6},{"$f":"IF(F512<>\"\",IF(F512=\"JA\",COUNTIF($F$4:$F512,\"JA\")),\"\")","v":""}]
[{"$nulls":6},{"$f":"IF(F513<>\"\",IF(F513=\"JA\",COUNTIF($F$4:$F513,\"JA\")),\"\")","v":""}]
[{"$nulls":6},{"$f":"IF(F514<>\"\",IF(F514=\"JA\",COUNTIF($F$4:$F514,\"JA\")),\"\")","v":""}]
[{"$nulls":6},{"$f":"IF(F515<>\"\",IF(F515=\"JA\",COUNTIF($F$4:$F515,\"JA\")),\"\")","v":""}]
[{"$nulls":6},{"$f":"IF(F516<>\"\",IF(F516=\"JA\",COUNTIF($F$4:$F516,\"JA\")),\"\")","v":""}]
[{"$nulls":6},{"$f":"IF(F517<>\"\",IF(F517=\"JA\",COUNTIF($F$4:$F517,\"JA\")),\"\")","v":""}]
[{"$nulls":6},{"$f":"IF(F518<>\"\",IF(F518=\"JA\",COUNTIF($F$4:$F518,\"JA\")),\"\")","v":""}]
[{"$nulls":6},{"$f":"IF(F519<>\"\",IF(F519=\"JA\",COUNTIF($F$4:$F519,\"JA\")),\"\")","v":""}]
[{"$nulls":6},{"$f":"IF(F520<>\"\",IF(F520=\"JA\",COUNTIF($F$4:$F520,\"JA\")),\"\")","v":""}]
[{"$nulls":6},{"$f":"IF(F521<>\"\",IF(F521=\"JA\",COUNTIF($F$4:$F521,\"JA\")),\"\")","v":""}]
[{"$nulls":6},{"$f":"IF(F522<>\"\",IF(F522=\"JA\",COUNTIF($F$4:$F522,\"JA\")),\"\")","v":""}]
[{"$nulls":6},{"$f":"IF(F523<>\"\",IF(F523=\"JA\",COUNTIF($F$4:$F523,\"JA\")),\"\")","v":""}]
[{"$nulls":6},{"$f":"IF(F524<>\"\",IF(F524=\"JA\",COUNTIF($F$4:$F524,\"JA\")),\"\")","v":""}]
[{"$nulls":6},{"$f":"IF(F525<>\"\",IF(F525=\"JA\",COUNTIF($F$4:$F525,\"JA\")),\"\")","v":""}]
[{"$nulls":6},{"$f":"IF(F526<>\"\",IF(F526=\"JA\",COUNTIF($F$4:$F526,\"JA\")),\"\")","v":""}]
[{"$nulls":6},{"$f":"IF(F527<>\"\",IF(F527=\"JA\",COUNTIF($F$4:$F527,\"JA\")),\"\")","v":""}]
[{"$nulls":6},{"$f":"IF(F528<>\"\",IF(F528=\"JA\",COUNTIF($F$4:$F528,\"JA\")),\"\")","v":""}]
[{"$nulls":6},{"$f":"IF(F529<>\"\",IF(F529=\"JA\",COUNTIF($F$4:$F529,\"JA\")),\"\")","v":""}]
[{"$nulls":6},{"$f":"IF(F530<>\"\",IF(F530=\"JA\",COUNTIF($F$4:$F530,\"JA\")),\"\")","v":""}]
[{"$nulls":6},{"$f":"IF(F531<>\"\",IF(F531=\"JA\",COUNTIF($F$4:$F531,\"JA\")),\"\")","v":""}]
[{"$nulls":6},{"$f":"IF(F532<>\"\",IF(F532=\"JA\",COUNTIF($F$4:$F532,\"JA\")),\"\")","v":""}]
[{"$nulls":6},{"$f":"IF(F533<>\"\",IF(F533=\"JA\",COUNTIF($F$4:$F533,\"JA\")),\"\")","v":""}]
[{"$nulls":6},{"$f":"IF(F534<>\"\",IF(F534=\"JA\",COUNTIF($F$4:$F534,\"JA\")),\"\")","v":""}]
[{"$nulls":6},{"$f":"IF(F535<>\"\",IF(F535=\"JA\",COUNTIF($F$4:$F535,\"JA\")),\"\")","v":""}]
[{"$nulls":6},{"$f":"IF(F536<>\"\",IF(F536=\"JA\",COUNTIF($F$4:$F536,\"JA\")),\"\")","v":""}]
[{"$nulls":6},{"$f":"IF(F537<>\"\",IF(F537=\"JA\",COUNTIF($F$4:$F537,\"JA\")),\"\")","v":""}]
[{"$nulls":6},{"$f":"IF(F538<>\"\",IF(F538=\"JA\",COUNTIF($F$4:$F538,\"JA\")),\"\")","v":""}]
[{"$nulls":6},{"$f":"IF(F539<>\"\",IF(F539=\"JA\",COUNTIF($F$4:$F539,\"JA\")),\"\")","v":""}]
[{"$nulls":6},{"$f":"IF(F540<>\"\",IF(F540=\"JA\",COUNTIF($F$4:$F540,\"JA\")),\"\")","v":""}]
[{"$nulls":6},{"$f":"IF(F541<>\"\",IF(F541=\"JA\",COUNTIF($F$4:$F541,\"JA\")),\"\")","v":""}]
[{"$nulls":6},{"$f":"IF(F542<>\"\",IF(F542=\"JA\",COUNTIF($F$4:$F542,\"JA\")),\"\")","v":""}]
[{"$nulls":6},{"$f":"IF(F543<>\"\",IF(F543=\"JA\",COUNTIF($F$4:$F543,\"JA\")),\"\")","v":""}]
[{"$nulls":6},{"$f":"IF(F544<>\"\",IF(F544=\"JA\",COUNTIF($F$4:$F544,\"JA\")),\"\")","v":""}]
[{"$nulls":6},{"$f":"IF(F545<>\"\",IF(F545=\"JA\",COUNTIF($F$4:$F545,\"JA\")),\"\")","v":""}]
[{"$nulls":6},{"$f":"IF(F546<>\"\",IF(F546=\"JA\",COUNTIF($F$4:$F546,\"JA\")),\"\")","v":""}]
[{"$nulls":6},{"$f":"IF(F547<>\"\",IF(F547=\"JA\",COUNTIF($F$4:$F547,\"JA\")),\"\")","v":""}]
[{"$nulls":6},{"$f":"IF(F548<>\"\",IF(F548=\"JA\",COUNTIF($F$4:$F548,\"JA\")),\"\")","v":""}]
[{"$nulls":6},{"$f":"IF(F549<>\"\",IF(F549=\"JA\",COUNTIF($F$4:$F549,\"JA\")),\"\")","v":""}]
[{"$nulls":6},{"$f":"IF(F550<>\"\",IF(F550=\"JA\",COUNTIF($F$4:$F550,\"JA\")),\"\")","v":""}]
[{"$nulls":6},{"$f":"IF(F551<>\"\",IF(F551=\"JA\",COUNTIF($F$4:$F551,\"JA\")),\"\")","v":""}]
[{"$nulls":6},{"$f":"IF(F552<>\"\",IF(F552=\"JA\",COUNTIF($F$4:$F552,\"JA\")),\"\")","v":""}]
[{"$nulls":6},{"$f":"IF(F553<>\"\",IF(F553=\"JA\",COUNTIF($F$4:$F553,\"JA\")),\"\")","v":""}]
[{"$nulls":6},{"$f":"IF(F554<>\"\",IF(F554=\"JA\",COUNTIF($F$4:$F554,\"JA\")),\"\")","v":""}]
[{"$nulls":6},{"$f":"IF(F555<>\"\",IF(F555=\"JA\",COUNTIF($F$4:$F555,\"JA\")),\"\")","v":""}]
[{"$nulls":6},{"$f":"IF(F556<>\"\",IF(F556=\"JA\",COUNTIF($F$4:$F556,\"JA\")),\"\")","v":""}]
[{"$nulls":6},{"$f":"IF(F557<>\"\",IF(F557=\"JA\",COUNTIF($F$4:$F557,\"JA\")),\"\")","v":""}]
[{"$nulls":6},{"$f":"IF(F558<>\"\",IF(F558=\"JA\",COUNTIF($F$4:$F558,\"JA\")),\"\")","v":""}]
[{"$nulls":6},{"$f":"IF(F559<>\"\",IF(F559=\"JA\",COUNTIF($F$4:$F559,\"JA\")),\"\")","v":""}]
[{"$nulls":6},{"$f":"IF(F560<>\"\",IF(F560=\"JA\",COUNTIF($F$4:$F560,\"JA\")),\"\")","v":""}]
[{"$nulls":6},{"$f":"IF(F561<>\"\",IF(F561=\"JA\",COUNTIF($F$4:$F561,\"JA\")),\"\")","v":""}]
[{"$nulls":6},{"$f":"IF(F562<>\"\",IF(F562=\"JA\",COUNTIF($F$4:$F562,\"JA\")),\"\")","v":""}]
[{"$nulls":6},{"$f":"IF(F563<>\"\",IF(F563=\"JA\",COUNTIF($F$4:$F563,\"JA\")),\"\")","v":""}]
[{"$nulls":6},{"$f":"IF(F564<>\"\",IF(F564=\"JA\",COUNTIF($F$4:$F564,\"JA\")),\"\")","v":""}]
[{"$nulls":6},{"$f":"IF(F565<>\"\",IF(F565=\"JA\",COUNTIF($F$4:$F565,\"JA\")),\"\")","v":""}]
[{"$nulls":6},{"$f":"IF(F566<>\"\",IF(F566=\"JA\",COUNTIF($F$4:$F566,\"JA\")),\"\")","v":""}]
[{"$nulls":6},{"$f":"IF(F567<>\"\",IF(F567=\"JA\",COUNTIF($F$4:$F567,\"JA\")),\"\")","v":""}]
[{"$nulls":6},{"$f":"IF(F568<>\"\",IF(F568=\"JA\",COUNTIF($F$4:$F568,\"JA\")),\"\")","v":""}]
[{"$nulls":6},{"$f":"IF(F569<>\"\",IF(F569=\"JA\",COUNTIF($F$4:$F569,\"JA\")),\"\")","v":""}]
[{"$nulls":6},{"$f":"IF(F570<>\"\",IF(F570=\"JA\",COUNTIF($F$4:$F570,\"JA\")),\"\")","v":""}]
[{"$nulls":6},{"$f":"IF(F571<>\"\",IF(F571=\"JA\",COUNTIF($F$4:$F571,\"JA\")),\"\")","v":""}]
[{"$nulls":6},{"$f":"IF(F572<>\"\",IF(F572=\"JA\",COUNTIF($F$4:$F572,\"JA\")),\"\")","v":""}]
[{"$nulls":6},{"$f":"IF(F573<>\"\",IF(F573=\"JA\",COUNTIF($F$4:$F573,\"JA\")),\"\")","v":""}]
[{"$nulls":6},{"$f":"IF(F574<>\"\",IF(F574=\"JA\",COUNTIF($F$4:$F574,\"JA\")),\"\")","v":""}]
[{"$nulls":6},{"$f":"IF(F575<>\"\",IF(F575=\"JA\",COUNTIF($F$4:$F575,\"JA\")),\"\")","v":""}]
[{"$nulls":6},{"$f":"IF(F576<>\"\",IF(F576=\"JA\",COUNTIF($F$4:$F576,\"JA\")),\"\")","v":""}]
[{"$nulls":6},{"$f":"IF(F577<>\"\",IF(F577=\"JA\",COUNTIF($F$4:$F577,\"JA\")),\"\")","v":""}]
[{"$nulls":6},{"$f":"IF(F578<>\"\",IF(F578=\"JA\",COUNTIF($F$4:$F578,\"JA\")),\"\")","v":""}]
[{"$nulls":6},{"$f":"IF(F579<>\"\",IF(F579=\"JA\",COUNTIF($F$4:$F579,\"JA\")),\"\")","v":""}]
[{"$nulls":6},{"$f":"IF(F580<>\"\",IF(F580=\"JA\",COUNTIF($F$4:$F580,\"JA\")),\"\")","v":""}]
[{"$nulls":6},{"$f":"IF(F581<>\"\",IF(F581=\"JA\",COUNTIF($F$4:$F581,\"JA\")),\"\")","v":""}]
[{"$nulls":6},{"$f":"IF(F582<>\"\",IF(F582=\"JA\",COUNTIF($F$4:$F582,\"JA\")),\"\")","v":""}]
[{"$nulls":6},{"$f":"IF(F583<>\"\",IF(F583=\"JA\",COUNTIF($F$4:$F583,\"JA\")),\"\")","v":""}]
[{"$nulls":6},{"$f":"IF(F584<>\"\",IF(F584=\"JA\",COUNTIF($F$4:$F584,\"JA\")),\"\")","v":""}]
[{"$nulls":6},{"$f":"IF(F585<>\"\",IF(F585=\"JA\",COUNTIF($F$4:$F585,\"JA\")),\"\")","v":""}]
[{"$nulls":6},{"$f":"IF(F586<>\"\",IF(F586=\"JA\",COUNTIF($F$4:$F586,\"JA\")),\"\")","v":""}]
[{"$nulls":6},{"$f":"IF(F587<>\"\",IF(F587=\"JA\",COUNTIF($F$4:$F587,\"JA\")),\"\")","v":""}]
[{"$nulls":6},{"$f":"IF(F588<>\"\",IF(F588=\"JA\",COUNTIF($F$4:$F588,\"JA\")),\"\")","v":""}]
[{"$nulls":6},{"$f":"IF(F589<>\"\",IF(F589=\"JA\",COUNTIF($F$4:$F589,\"JA\")),\"\")","v":""}]
[{"$nulls":6},{"$f":"IF(F590<>\"\",IF(F590=\"JA\",COUNTIF($F$4:$F590,\"JA\")),\"\")","v":""}]
[{"$nulls":6},{"$f":"IF(F591<>\"\",IF(F591=\"JA\",COUNTIF($F$4:$F591,\"JA\")),\"\")","v":""}]
[{"$nulls":6},{"$f":"IF(F592<>\"\",IF(F592=\"JA\",COUNTIF($F$4:$F592,\"JA\")),\"\")","v":""}]
[{"$nulls":6},{"$f":"IF(F593<>\"\",IF(F593=\"JA\",COUNTIF($F$4:$F593,\"JA\")),\"\")","v":""}]
[{"$nulls":6},{"$f":"IF(F594<>\"\",IF(F594=\"JA\",COUNTIF($F$4:$F594,\"JA\")),\"\")","v":""}]
[{"$nulls":6},{"$f":"IF(F595<>\"\",IF(F595=\"JA\",COUNTIF($F$4:$F595,\"JA\")),\"\")","v":""}]
[{"$nulls":6},{"$f":"IF(F596<>\"\",IF(F596=\"JA\",COUNTIF($F$4:$F596,\"JA\")),\"\")","v":""}]
[{"$nulls":6},{"$f":"IF(F597<>\"\",IF(F597=\"JA\",COUNTIF($F$4:$F597,\"JA\")),\"\")","v":""}]
[{"$nulls":6},{"$f":"IF(F598<>\"\",IF(F598=\"JA\",COUNTIF($F$4:$F598,\"JA\")),\"\")","v":""}]
[{"$nulls":6},{"$f":"IF(F599<>\"\",IF(F599=\"JA\",COUNTIF($F$4:$F599,\"JA\")),\"\")","v":""}]
[{"$nulls":6},{"$f":"IF(F600<>\"\",IF(F600=\"JA\",COUNTIF($F$4:$F600,\"JA\")),\"\")","v":""}]
[{"$nulls":6},{"$f":"IF(F601<>\"\",IF(F601=\"JA\",COUNTIF($F$4:$F601,\"JA\")),\"\")","v":""}]
[{"$nulls":6},{"$f":"IF(F602<>\"\",IF(F602=\"JA\",COUNTIF($F$4:$F602,\"JA\")),\"\")","v":""}]
[{"$nulls":6},{"$f":"IF(F603<>\"\",IF(F603=\"JA\",COUNTIF($F$4:$F603,\"JA\")),\"\")","v":""}]
[{"$nulls":6},{"$f":"IF(F604<>\"\",IF(F604=\"JA\",COUNTIF($F$4:$F604,\"JA\")),\"\")","v":""}]
[{"$nulls":6},{"$f":"IF(F605<>\"\",IF(F605=\"JA\",COUNTIF($F$4:$F605,\"JA\")),\"\")","v":""}]
[{"$nulls":6},{"$f":"IF(F606<>\"\",IF(F606=\"JA\",COUNTIF($F$4:$F606,\"JA\")),\"\")","v":""}]
[{"$nulls":6},{"$f":"IF(F607<>\"\",IF(F607=\"JA\",COUNTIF($F$4:$F607,\"JA\")),\"\")","v":""}]
[{"$nulls":6},{"$f":"IF(F608<>\"\",IF(F608=\"JA\",COUNTIF($F$4:$F608,\"JA\")),\"\")","v":""}]
[{"$nulls":6},{"$f":"IF(F609<>\"\",IF(F609=\"JA\",COUNTIF($F$4:$F609,\"JA\")),\"\")","v":""}]
[{"$nulls":6},{"$f":"IF(F610<>\"\",IF(F610=\"JA\",COUNTIF($F$4:$F610,\"JA\")),\"\")","v":""}]
[{"$nulls":6},{"$f":"IF(F611<>\"\",IF(F611=\"JA\",COUNTIF($F$4:$F611,\"JA\")),\"\")","v":""}]
[{"$nulls":6},{"$f":"IF(F612<>\"\",IF(F612=\"JA\",COUNTIF($F$4:$F612,\"JA\")),\"\")","v":""}]
[{"$nulls":6},{"$f":"IF(F613<>\"\",IF(F613=\"JA\",COUNTIF($F$4:$F613,\"JA\")),\"\")","v":""}]
[{"$nulls":6},{"$f":"IF(F614<>\"\",IF(F614=\"JA\",COUNTIF($F$4:$F614,\"JA\")),\"\")","v":""}]
[{"$nulls":6},{"$f":"IF(F615<>\"\",IF(F615=\"JA\",COUNTIF($F$4:$F615,\"JA\")),\"\")","v":""}]
[{"$nulls":6},{"$f":"IF(F616<>\"\",IF(F616=\"JA\",COUNTIF($F$4:$F616,\"JA\")),\"\")","v":""}]
[{"$nulls":6},{"$f":"IF(F617<>\"\",IF(F617=\"JA\",COUNTIF($F$4:$F617,\"JA\")),\"\")","v":""}]
[{"$nulls":6},{"$f":"IF(F618<>\"\",IF(F618=\"JA\",COUNTIF($F$4:$F618,\"JA\")),\"\")","v":""}]
[{"$nulls":6},{"$f":"IF(F619<>\"\",IF(F619=\"JA\",COUNTIF($F$4:$F619,\"JA\")),\"\")","v":""}]
[{"$nulls":6},{"$f":"IF(F620<>\"\",IF(F620=\"JA\",COUNTIF($F$4:$F620,\"JA\")),\"\")","v":""}]
[{"$nulls":6},{"$f":"IF(F621<>\"\",IF(F621=\"JA\",COUNTIF($F$4:$F621,\"JA\")),\"\")","v":""}]
[{"$nulls":6},{"$f":"IF(F622<>\"\",IF(F622=\"JA\",COUNTIF($F$4:$F622,\"JA\")),\"\")","v":""}]
[{"$nulls":6},{"$f":"IF(F623<>\"\",IF(F623=\"JA\",COUNTIF($F$4:$F623,\"JA\")),\"\")","v":""}]
[{"$nulls":6},{"$f":"IF(F624<>\"\",IF(F624=\"JA\",COUNTIF($F$4:$F624,\"JA\")),\"\")","v":""}]
[{"$nulls":6},{"$f":"IF(F625<>\"\",IF(F625=\"JA\",COUNTIF($F$4:$F625,\"JA\")),\"\")","v":""}]
[{"$nulls":6},{"$f":"IF(F626<>\"\",IF(F626=\"JA\",COUNTIF($F$4:$F626,\"JA\")),\"\")","v":""}]
[{"$nulls":6},{"$f":"IF(F627<>\"\",IF(F627=\"JA\",COUNTIF($F$4:$F627,\"JA\")),\"\")","v":""}]
[{"$nulls":6},{"$f":"IF(F628<>\"\",IF(F628=\"JA\",COUNTIF($F$4:$F628,\"JA\")),\"\")","v":""}]
[{"$nulls":6},{"$f":"IF(F629<>\"\",IF(F629=\"JA\",COUNTIF($F$4:$F629,\"JA\")),\"\")","v":""}]
[{"$nulls":6},{"$f":"IF(F630<>\"\",IF(F630=\"JA\",COUNTIF($F$4:$F630,\"JA\")),\"\")","v":""}]
[{"$nulls":6},{"$f":"IF(F631<>\"\",IF(F631=\"JA\",COUNTIF($F$4:$F631,\"JA\")),\"\")","v":""}]
[{"$nulls":6},{"$f":"IF(F632<>\"\",IF(F632=\"JA\",COUNTIF($F$4:$F632,\"JA\")),\"\")","v":""}]
[{"$nulls":6},{"$f":"IF(F633<>\"\",IF(F633=\"JA\",COUNTIF($F$4:$F633,\"JA\")),\"\")","v":""}]
[{"$nulls":6},{"$f":"IF(F634<>\"\",IF(F634=\"JA\",COUNTIF($F$4:$F634,\"JA\")),\"\")","v":""}]
[{"$nulls":6},{"$f":"IF(F635<>\"\",IF(F635=\"JA\",COUNTIF($F$4:$F635,\"JA\")),\"\")","v":""}]
[{"$nulls":6},{"$f":"IF(F636<>\"\",IF(F636=\"JA\",COUNTIF($F$4:$F636,\"JA\")),\"\")","v":""}]
[{"$nulls":6},{"$f":"IF(F637<>\"\",IF(F637=\"JA\",COUNTIF($F$4:$F637,\"JA\")),\"\")","v":""}]
[{"$nulls":6},{"$f":"IF(F638<>\"\",IF(F638=\"JA\",COUNTIF($F$4:$F638,\"JA\")),\"\")","v":""}]
[{"$nulls":6},{"$f":"IF(F639<>\"\",IF(F639=\"JA\",COUNTIF($F$4:$F639,\"JA\")),\"\")","v":""}]
[{"$nulls":6},{"$f":"IF(F640<>\"\",IF(F640=\"JA\",COUNTIF($F$4:$F640,\"JA\")),\"\")","v":""}]
[{"$nulls":6},{"$f":"IF(F641<>\"\",IF(F641=\"JA\",COUNTIF($F$4:$F641,\"JA\")),\"\")","v":""}]
[{"$nulls":6},{"$f":"IF(F642<>\"\",IF(F642=\"JA\",COUNTIF($F$4:$F642,\"JA\")),\"\")","v":""}]
[{"$nulls":6},{"$f":"IF(F643<>\"\",IF(F643=\"JA\",COUNTIF($F$4:$F643,\"JA\")),\"\")","v":""}]
[{"$nulls":6},{"$f":"IF(F644<>\"\",IF(F644=\"JA\",COUNTIF($F$4:$F644,\"JA\")),\"\")","v":""}]
[{"$nulls":6},{"$f":"IF(F645<>\"\",IF(F645=\"JA\",COUNTIF($F$4:$F645,\"JA\")),\"\")","v":""}]
[{"$nulls":6},{"$f":"IF(F646<>\"\",IF(F646=\"JA\",COUNTIF($F$4:$F646,\"JA\")),\"\")","v":""}]
[{"$nulls":6},{"$f":"IF(F647<>\"\",IF(F647=\"JA\",COUNTIF($F$4:$F647,\"JA\")),\"\")","v":""}]
[{"$nulls":6},{"$f":"IF(F648<>\"\",IF(F648=\"JA\",COUNTIF($F$4:$F648,\"JA\")),\"\")","v":""}]
[{"$nulls":6},{"$f":"IF(F649<>\"\",IF(F649=\"JA\",COUNTIF($F$4:$F649,\"JA\")),\"\")","v":""}]
[{"$nulls":6},{"$f":"IF(F650<>\"\",IF(F650=\"JA\",COUNTIF($F$4:$F650,\"JA\")),\"\")","v":""}]
[{"$nulls":6},{"$f":"IF(F651<>\"\",IF(F651=\"JA\",COUNTIF($F$4:$F651,\"JA\")),\"\")","v":""}]
[{"$nulls":6},{"$f":"IF(F652<>\"\",IF(F652=\"JA\",COUNTIF($F$4:$F652,\"JA\")),\"\")","v":""}]
[{"$nulls":6},{"$f":"IF(F653<>\"\",IF(F653=\"JA\",COUNTIF($F$4:$F653,\"JA\")),\"\")","v":""}]
[{"$nulls":6},{"$f":"IF(F654<>\"\",IF(F654=\"JA\",COUNTIF($F$4:$F654,\"JA\")),\"\")","v":""}]
[{"$nulls":6},{"$f":"IF(F655<>\"\",IF(F655=\"JA\",COUNTIF($F$4:$F655,\"JA\")),\"\")","v":""}]
[{"$nulls":6},{"$f":"IF(F656<>\"\",IF(F656=\"JA\",COUNTIF($F$4:$F656,\"JA\")),\"\")","v":""}]
[{"$nulls":6},{"$f":"IF(F657<>\"\",IF(F657=\"JA\",COUNTIF($F$4:$F657,\"JA\")),\"\")","v":""}]
[{"$nulls":6},{"$f":"IF(F658<>\"\",IF(F658=\"JA\",COUNTIF($F$4:$F658,\"JA\")),\"\")","v":""}]
[{"$nulls":6},{"$f":"IF(F659<>\"\",IF(F659=\"JA\",COUNTIF($F$4:$F659,\"JA\")),\"\")","v":""}]
[{"$nulls":6},{"$f":"IF(F660<>\"\",IF(F660=\"JA\",COUNTIF($F$4:$F660,\"JA\")),\"\")","v":""}]
[{"$nulls":6},{"$f":"IF(F661<>\"\",IF(F661=\"JA\",COUNTIF($F$4:$F661,\"JA\")),\"\")","v":""}]
[{"$nulls":6},{"$f":"IF(F662<>\"\",IF(F662=\"JA\",COUNTIF($F$4:$F662,\"JA\")),\"\")","v":""}]
[{"$nulls":6},{"$f":"IF(F663<>\"\",IF(F663=\"JA\",COUNTIF($F$4:$F663,\"JA\")),\"\")","v":""}]
[{"$nulls":6},{"$f":"IF(F664<>\"\",IF(F664=\"JA\",COUNTIF($F$4:$F664,\"JA\")),\"\")","v":""}]
[{"$nulls":6},{"$f":"IF(F665<>\"\",IF(F665=\"JA\",COUNTIF($F$4:$F665,\"JA\")),\"\")","v":""}]
[{"$nulls":6},{"$f":"IF(F666<>\"\",IF(F666=\"JA\",COUNTIF($F$4:$F666,\"JA\")),\"\")","v":""}]
[{"$nulls":6},{"$f":"IF(F667<>\"\",IF(F667=\"JA\",COUNTIF($F$4:$F667,\"JA\")),\"\")","v":""}]
[{"$nulls":6},{"$f":"IF(F668<>\"\",IF(F668=\"JA\",COUNTIF($F$4:$F668,\"JA\")),\"\")","v":""}]
[{"$nulls":6},{"$f":"IF(F669<>\"\",IF(F669=\"JA\",COUNTIF($F$4:$F669,\"JA\")),\"\")","v":""}]
[{"$nulls":6},{"$f":"IF(F670<>\"\",IF(F670=\"JA\",COUNTIF($F$4:$F670,\"JA\")),\"\")","v":""}]
[{"$nulls":6},{"$f":"IF(F671<>\"\",IF(F671=\"JA\",COUNTIF($F$4:$F671,\"JA\")),\"\")","v":""}]
[{"$nulls":6},{"$f":"IF(F672<>\"\",IF(F672=\"JA\",COUNTIF($F$4:$F672,\"JA\")),\"\")","v":""}]
[{"$nulls":6},{"$f":"IF(F673<>\"\",IF(F673=\"JA\",COUNTIF($F$4:$F673,\"JA\")),\"\")","v":""}]
[{"$nulls":6},{"$f":"IF(F674<>\"\",IF(F674=\"JA\",COUNTIF($F$4:$F674,\"JA\")),\"\")","v":""}]
[{"$nulls":6},{"$f":"IF(F675<>\"\",IF(F675=\"JA\",COUNTIF($F$4:$F675,\"JA\")),\"\")","v":""}]
[{"$nulls":6},{"$f":"IF(F676<>\"\",IF(F676=\"JA\",COUNTIF($F$4:$F676,\"JA\")),\"\")","v":""}]
[{"$nulls":6},{"$f":"IF(F677<>\"\",IF(F677=\"JA\",COUNTIF($F$4:$F677,\"JA\")),\"\")","v":""}]
[{"$nulls":6},{"$f":"IF(F678<>\"\",IF(F678=\"JA\",COUNTIF($F$4:$F678,\"JA\")),\"\")","v":""}]
[{"$nulls":6},{"$f":"IF(F679<>\"\",IF(F679=\"JA\",COUNTIF($F$4:$F679,\"JA\")),\"\")","v":""}]
[{"$nulls":6},{"$f":"IF(F680<>\"\",IF(F680=\"JA\",COUNTIF($F$4:$F680,\"JA\")),\"\")","v":""}]
[{"$nulls":6},{"$f":"IF(F681<>\"\",IF(F681=\"JA\",COUNTIF($F$4:$F681,\"JA\")),\"\")","v":""}]
[{"$nulls":6},{"$f":"IF(F682<>\"\",IF(F682=\"JA\",COUNTIF($F$4:$F682,\"JA\")),\"\")","v":""}]
[{"$nulls":6},{"$f":"IF(F683<>\"\",IF(F683=\"JA\",COUNTIF($F$4:$F683,\"JA\")),\"\")","v":""}]
[{"$nulls":6},{"$f":"IF(F684<>\"\",IF(F684=\"JA\",COUNTIF($F$4:$F684,\"JA\")),\"\")","v":""}]
[{"$nulls":6},{"$f":"IF(F685<>\"\",IF(F685=\"JA\",COUNTIF($F$4:$F685,\"JA\")),\"\")","v":""}]
[{"$nulls":6},{"$f":"IF(F686<>\"\",IF(F686=\"JA\",COUNTIF($F$4:$F686,\"JA\")),\"\")","v":""}]
[{"$nulls":6},{"$f":"IF(F687<>\"\",IF(F687=\"JA\",COUNTIF($F$4:$F687,\"JA\")),\"\")","v":""}]
[{"$nulls":6},{"$f":"IF(F688<>\"\",IF(F688=\"JA\",COUNTIF($F$4:$F688,\"JA\")),\"\")","v":""}]
[{"$nulls":6},{"$f":"IF(F689<>\"\",IF(F689=\"JA\",COUNTIF($F$4:$F689,\"JA\")),\"\")","v":""}]
[{"$nulls":6},{"$f":"IF(F690<>\"\",IF(F690=\"JA\",COUNTIF($F$4:$F690,\"JA\")),\"\")","v":""}]
[{"$nulls":6},{"$f":"IF(F691<>\"\",IF(F691=\"JA\",COUNTIF($F$4:$F691,\"JA\")),\"\")","v":""}]
[{"$nulls":6},{"$f":"IF(F692<>\"\",IF(F692=\"JA\",COUNTIF($F$4:$F692,\"JA\")),\"\")","v":""}]
[{"$nulls":6},{"$f":"IF(F693<>\"\",IF(F693=\"JA\",COUNTIF($F$4:$F693,\"JA\")),\"\")","v":""}]
[{"$nulls":6},{"$f":"IF(F694<>\"\",IF(F694=\"JA\",COUNTIF($F$4:$F694,\"JA\")),\"\")","v":""}]
[{"$nulls":6},{"$f":"IF(F695<>\"\",IF(F695=\"JA\",COUNTIF($F$4:$F695,\"JA\")),\"\")","v":""}]
[{"$nulls":6},{"$f":"IF(F696<>\"\",IF(F696=\"JA\",COUNTIF($F$4:$F696,\"JA\")),\"\")","v":""}]
[{"$nulls":6},{"$f":"IF(F697<>\"\",IF(F697=\"JA\",COUNTIF($F$4:$F697,\"JA\")),\"\")","v":""}]
[{"$nulls":6},{"$f":"IF(F698<>\"\",IF(F698=\"JA\",COUNTIF($F$4:$F698,\"JA\")),\"\")","v":""}]
[{"$nulls":6},{"$f":"IF(F699<>\"\",IF(F699=\"JA\",COUNTIF($F$4:$F699,\"JA\")),\"\")","v":""}]
[{"$nulls":6},{"$f":"IF(F700<>\"\",IF(F700=\"JA\",COUNTIF($F$4:$F700,\"JA\")),\"\")","v":""}]
[{"$nulls":6},{"$f":"IF(F701<>\"\",IF(F701=\"JA\",COUNTIF($F$4:$F701,\"JA\")),\"\")","v":""}]
[{"$nulls":6},{"$f":"IF(F702<>\"\",IF(F702=\"JA\",COUNTIF($F$4:$F702,\"JA\")),\"\")","v":""}]
[{"$nulls":6},{"$f":"IF(F703<>\"\",IF(F703=\"JA\",COUNTIF($F$4:$F703,\"JA\")),\"\")","v":""}]
[{"$nulls":6},{"$f":"IF(F704<>\"\",IF(F704=\"JA\",COUNTIF($F$4:$F704,\"JA\")),\"\")","v":""}]
[{"$nulls":6},{"$f":"IF(F705<>\"\",IF(F705=\"JA\",COUNTIF($F$4:$F705,\"JA\")),\"\")","v":""}]
[{"$nulls":6},{"$f":"IF(F706<>\"\",IF(F706=\"JA\",COUNTIF($F$4:$F706,\"JA\")),\"\")","v":""}]
[{"$nulls":6},{"$f":"IF(F707<>\"\",IF(F707=\"JA\",COUNTIF($F$4:$F707,\"JA\")),\"\")","v":""}]
[{"$nulls":6},{"$f":"IF(F708<>\"\",IF(F708=\"JA\",COUNTIF($F$4:$F708,\"JA\")),\"\")","v":""}]
[{"$nulls":6},{"$f":"IF(F709<>\"\",IF(F709=\"JA\",COUNTIF($F$4:$F709,\"JA\")),\"\")","v":""}]
[{"$nulls":6},{"$f":"IF(F710<>\"\",IF(F710=\"JA\",COUNTIF($F$4:$F710,\"JA\")),\"\")","v":""}]
[{"$nulls":6},{"$f":"IF(F711<>\"\",IF(F711=\"JA\",COUNTIF($F$4:$F711,\"JA\")),\"\")","v":""}]
[{"$nulls":6},{"$f":"IF(F712<>\"\",IF(F712=\"JA\",COUNTIF($F$4:$F712,\"JA\")),\"\")","v":""}]
[{"$nulls":6},{"$f":"IF(F713<>\"\",IF(F713=\"JA\",COUNTIF($F$4:$F713,\"JA\")),\"\")","v":""}]
[{"$nulls":6},{"$f":"IF(F714<>\"\",IF(F714=\"JA\",COUNTIF($F$4:$F714,\"JA\")),\"\")","v":""}]
[{"$nulls":6},{"$f":"IF(F715<>\"\",IF(F715=\"JA\",COUNTIF($F$4:$F715,\"JA\")),\"\")","v":""}]
[{"$nulls":6},{"$f":"IF(F716<>\"\",IF(F716=\"JA\",COUNTIF($F$4:$F716,\"JA\")),\"\")","v":""}]
[{"$nulls":6},{"$f":"IF(F717<>\"\",IF(F717=\"JA\",COUNTIF($F$4:$F717,\"JA\")),\"\")","v":""}]
[{"$nulls":6},{"$f":"IF(F718<>\"\",IF(F718=\"JA\",COUNTIF($F$4:$F718,\"JA\")),\"\")","v":""}]
[{"$nulls":6},{"$f":"IF(F719<>\"\",IF(F719=\"JA\",COUNTIF($F$4:$F719,\"JA\")),\"\")","v":""}]
[{"$nulls":6},{"$f":"IF(F720<>\"\",IF(F720=\"JA\",COUNTIF($F$4:$F720,\"JA\")),\"\")","v":""}]
[{"$nulls":6},{"$f":"IF(F721<>\"\",IF(F721=\"JA\",COUNTIF($F$4:$F721,\"JA\")),\"\")","v":""}]
[{"$nulls":6},{"$f":"IF(F722<>\"\",IF(F722=\"JA\",COUNTIF($F$4:$F722,\"JA\")),\"\")","v":""}]
[{"$nulls":6},{"$f":"IF(F723<>\"\",IF(F723=\"JA\",COUNTIF($F$4:$F723,\"JA\")),\"\")","v":""}]
[{"$nulls":6},{"$f":"IF(F724<>\"\",IF(F724=\"JA\",COUNTIF($F$4:$F724,\"JA\")),\"\")","v":""}]
[{"$nulls":6},{"$f":"IF(F725<>\"\",IF(F725=\"JA\",COUNTIF($F$4:$F725,\"JA\")),\"\")","v":""}]
[{"$nulls":6},{"$f":"IF(F726<>\"\",IF(F726=\"JA\",COUNTIF($F$4:$F726,\"JA\")),\"\")","v":""}]
[{"$nulls":6},{"$f":"IF(F727<>\"\",IF(F727=\"JA\",COUNTIF($F$4:$F727,\"JA\")),\"\")","v":""}]
[{"$nulls":6},{"$f":"IF(F728<>\"\",IF(F728=\"JA\",COUNTIF($F$4:$F728,\"JA\")),\"\")","v":""}]
[{"$nulls":6},{"$f":"IF(F729<>\"\",IF(F729=\"JA\",COUNTIF($F$4:$F729,\"JA\")),\"\")","v":""}]
[{"$nulls":6},{"$f":"IF(F730<>\"\",IF(F730=\"JA\",COUNTIF($F$4:$F730,\"JA\")),\"\")","v":""}]
[{"$nulls":6},{"$f":"IF(F731<>\"\",IF(F731=\"JA\",COUNTIF($F$4:$F731,\"JA\")),\"\")","v":""}]
[{"$nulls":6},{"$f":"IF(F732<>\"\",IF(F732=\"JA\",COUNTIF($F$4:$F732,\"JA\")),\"\")","v":""}]
[{"$nulls":6},{"$f":"IF(F733<>\"\",IF(F733=\"JA\",COUNTIF($F$4:$F733,\"JA\")),\"\")","v":""}]
[{"$nulls":6},{"$f":"IF(F734<>\"\",IF(F734=\"JA\",COUNTIF($F$4:$F734,\"JA\")),\"\")","v":""}]
[{"$nulls":6},{"$f":"IF(F735<>\"\",IF(F735=\"JA\",COUNTIF($F$4:$F735,\"JA\")),\"\")","v":""}]
[{"$nulls":6},{"$f":"IF(F736<>\"\",IF(F736=\"JA\",COUNTIF($F$4:$F736,\"JA\")),\"\")","v":""}]
[{"$nulls":6},{"$f":"IF(F737<>\"\",IF(F737=\"JA\",COUNTIF($F$4:$F737,\"JA\")),\"\")","v":""}]
[{"$nulls":6},{"$f":"IF(F738<>\"\",IF(F738=\"JA\",COUNTIF($F$4:$F738,\"JA\")),\"\")","v":""}]
[{"$nulls":6},{"$f":"IF(F739<>\"\",IF(F739=\"JA\",COUNTIF($F$4:$F739,\"JA\")),\"\")","v":""}]
[{"$nulls":6},{"$f":"IF(F740<>\"\",IF(F740=\"JA\",COUNTIF($F$4:$F740,\"JA\")),\"\")","v":""}]
[{"$nulls":6},{"$f":"IF(F741<>\"\",IF(F741=\"JA\",COUNTIF($F$4:$F741,\"JA\")),\"\")","v":""}]
[{"$nulls":6},{"$f":"IF(F742<>\"\",IF(F742=\"JA\",COUNTIF($F$4:$F742,\"JA\")),\"\")","v":""}]
[{"$nulls":6},{"$f":"IF(F743<>\"\",IF(F743=\"JA\",COUNTIF($F$4:$F743,\"JA\")),\"\")","v":""}]
[{"$nulls":6},{"$f":"IF(F744<>\"\",IF(F744=\"JA\",COUNTIF($F$4:$F744,\"JA\")),\"\")","v":""}]
[{"$nulls":6},{"$f":"IF(F745<>\"\",IF(F745=\"JA\",COUNTIF($F$4:$F745,\"JA\")),\"\")","v":""}]
[{"$nulls":6},{"$f":"IF(F746<>\"\",IF(F746=\"JA\",COUNTIF($F$4:$F746,\"JA\")),\"\")","v":""}]
[{"$nulls":6},{"$f":"IF(F747<>\"\",IF(F747=\"JA\",COUNTIF($F$4:$F747,\"JA\")),\"\")","v":""}]
[{"$nulls":6},{"$f":"IF(F748<>\"\",IF(F748=\"JA\",COUNTIF($F$4:$F748,\"JA\")),\"\")","v":""}]
[{"$nulls":6},{"$f":"IF(F749<>\"\",IF(F749=\"JA\",COUNTIF($F$4:$F749,\"JA\")),\"\")","v":""}]
[{"$nulls":6},{"$f":"IF(F750<>\"\",IF(F750=\"JA\",COUNTIF($F$4:$F750,\"JA\")),\"\")","v":""}]
[{"$nulls":6},{"$f":"IF(F751<>\"\",IF(F751=\"JA\",COUNTIF($F$4:$F751,\"JA\")),\"\")","v":""}]
[{"$nulls":6},{"$f":"IF(F752<>\"\",IF(F752=\"JA\",COUNTIF($F$4:$F752,\"JA\")),\"\")","v":""}]
[{"$nulls":6},{"$f":"IF(F753<>\"\",IF(F753=\"JA\",COUNTIF($F$4:$F753,\"JA\")),\"\")","v":""}]
[{"$nulls":6},{"$f":"IF(F754<>\"\",IF(F754=\"JA\",COUNTIF($F$4:$F754,\"JA\")),\"\")","v":""}]
[{"$nulls":6},{"$f":"IF(F755<>\"\",IF(F755=\"JA\",COUNTIF($F$4:$F755,\"JA\")),\"\")","v":""}]
[{"$nulls":6},{"$f":"IF(F756<>\"\",IF(F756=\"JA\",COUNTIF($F$4:$F756,\"JA\")),\"\")","v":""}]
[{"$nulls":6},{"$f":"IF(F757<>\"\",IF(F757=\"JA\",COUNTIF($F$4:$F757,\"JA\")),\"\")","v":""}]
[{"$nulls":6},{"$f":"IF(F758<>\"\",IF(F758=\"JA\",COUNTIF($F$4:$F758,\"JA\")),\"\")","v":""}]
[{"$nulls":6},{"$f":"IF(F759<>\"\",IF(F759=\"JA\",COUNTIF($F$4:$F759,\"JA\")),\"\")","v":""}]
[{"$nulls":6},{"$f":"IF(F760<>\"\",IF(F760=\"JA\",COUNTIF($F$4:$F760,\"JA\")),\"\")","v":""}]
[{"$nulls":6},{"$f":"IF(F761<>\"\",IF(F761=\"JA\",COUNTIF($F$4:$F761,\"JA\")),\"\")","v":""}]
[{"$nulls":6},{"$f":"IF(F762<>\"\",IF(F762=\"JA\",COUNTIF($F$4:$F762,\"JA\")),\"\")","v":""}]
[{"$nulls":6},{"$f":"IF(F763<>\"\",IF(F763=\"JA\",COUNTIF($F$4:$F763,\"JA\")),\"\")","v":""}]
[{"$nulls":6},{"$f":"IF(F764<>\"\",IF(F764=\"JA\",COUNTIF($F$4:$F764,\"JA\")),\"\")","v":""}]
[{"$nulls":6},{"$f":"IF(F765<>\"\",IF(F765=\"JA\",COUNTIF($F$4:$F765,\"JA\")),\"\")","v":""}]
[{"$nulls":6},{"$f":"IF(F766<>\"\",IF(F766=\"JA\",COUNTIF($F$4:$F766,\"JA\")),\"\")","v":""}]
[{"$nulls":6},{"$f":"IF(F767<>\"\",IF(F767=\"JA\",COUNTIF($F$4:$F767,\"JA\")),\"\")","v":""}]
[{"$nulls":6},{"$f":"IF(F768<>\"\",IF(F768=\"JA\",COUNTIF($F$4:$F768,\"JA\")),\"\")","v":""}]
[{"$nulls":6},{"$f":"IF(F769<>\"\",IF(F769=\"JA\",COUNTIF($F$4:$F769,\"JA\")),\"\")","v":""}]
[{"$nulls":6},{"$f":"IF(F770<>\"\",IF(F770=\"JA\",COUNTIF($F$4:$F770,\"JA\")),\"\")","v":""}]
[{"$nulls":6},{"$f":"IF(F771<>\"\",IF(F771=\"JA\",COUNTIF($F$4:$F771,\"JA\")),\"\")","v":""}]
[{"$nulls":6},{"$f":"IF(F772<>\"\",IF(F772=\"JA\",COUNTIF($F$4:$F772,\"JA\")),\"\")","v":""}]
[{"$nulls":6},{"$f":"IF(F773<>\"\",IF(F773=\"JA\",COUNTIF($F$4:$F773,\"JA\")),\"\")","v":""}]
[{"$nulls":6},{"$f":"IF(F774<>\"\",IF(F774=\"JA\",COUNTIF($F$4:$F774,\"JA\")),\"\")","v":""}]
[{"$nulls":6},{"$f":"IF(F775<>\"\",IF(F775=\"JA\",COUNTIF($F$4:$F775,\"JA\")),\"\")","v":""}]
[{"$nulls":6},{"$f":"IF(F776<>\"\",IF(F776=\"JA\",COUNTIF($F$4:$F776,\"JA\")),\"\")","v":""}]
[{"$nulls":6},{"$f":"IF(F777<>\"\",IF(F777=\"JA\",COUNTIF($F$4:$F777,\"JA\")),\"\")","v":""}]
[{"$nulls":6},{"$f":"IF(F778<>\"\",IF(F778=\"JA\",COUNTIF($F$4:$F778,\"JA\")),\"\")","v":""}]
[{"$nulls":6},{"$f":"IF(F779<>\"\",IF(F779=\"JA\",COUNTIF($F$4:$F779,\"JA\")),\"\")","v":""}]
[{"$nulls":6},{"$f":"IF(F780<>\"\",IF(F780=\"JA\",COUNTIF($F$4:$F780,\"JA\")),\"\")","v":""}]
[{"$nulls":6},{"$f":"IF(F781<>\"\",IF(F781=\"JA\",COUNTIF($F$4:$F781,\"JA\")),\"\")","v":""}]
[{"$nulls":6},{"$f":"IF(F782<>\"\",IF(F782=\"JA\",COUNTIF($F$4:$F782,\"JA\")),\"\")","v":""}]
[{"$nulls":6},{"$f":"IF(F783<>\"\",IF(F783=\"JA\",COUNTIF($F$4:$F783,\"JA\")),\"\")","v":""}]
[{"$nulls":6},{"$f":"IF(F784<>\"\",IF(F784=\"JA\",COUNTIF($F$4:$F784,\"JA\")),\"\")","v":""}]
[{"$nulls":6},{"$f":"IF(F785<>\"\",IF(F785=\"JA\",COUNTIF($F$4:$F785,\"JA\")),\"\")","v":""}]
[{"$nulls":6},{"$f":"IF(F786<>\"\",IF(F786=\"JA\",COUNTIF($F$4:$F786,\"JA\")),\"\")","v":""}]
[{"$nulls":6},{"$f":"IF(F787<>\"\",IF(F787=\"JA\",COUNTIF($F$4:$F787,\"JA\")),\"\")","v":""}]
[{"$nulls":6},{"$f":"IF(F788<>\"\",IF(F788=\"JA\",COUNTIF($F$4:$F788,\"JA\")),\"\")","v":""}]
[{"$nulls":6},{"$f":"IF(F789<>\"\",IF(F789=\"JA\",COUNTIF($F$4:$F789,\"JA\")),\"\")","v":""}]
[{"$nulls":6},{"$f":"IF(F790<>\"\",IF(F790=\"JA\",COUNTIF($F$4:$F790,\"JA\")),\"\")","v":""}]
[{"$nulls":6},{"$f":"IF(F791<>\"\",IF(F791=\"JA\",COUNTIF($F$4:$F791,\"JA\")),\"\")","v":""}]
[{"$nulls":6},{"$f":"IF(F792<>\"\",IF(F792=\"JA\",COUNTIF($F$4:$F792,\"JA\")),\"\")","v":""}]
[{"$nulls":6},{"$f":"IF(F793<>\"\",IF(F793=\"JA\",COUNTIF($F$4:$F793,\"JA\")),\"\")","v":""}]
[{"$nulls":6},{"$f":"IF(F794<>\"\",IF(F794=\"JA\",COUNTIF($F$4:$F794,\"JA\")),\"\")","v":""}]
[{"$nulls":6},{"$f":"IF(F795<>\"\",IF(F795=\"JA\",COUNTIF($F$4:$F795,\"JA\")),\"\")","v":""}]
[{"$nulls":6},{"$f":"IF(F796<>\"\",IF(F796=\"JA\",COUNTIF($F$4:$F796,\"JA\")),\"\")","v":""}]
[{"$nulls":6},{"$f":"IF(F797<>\"\",IF(F797=\"JA\",COUNTIF($F$4:$F797,\"JA\")),\"\")","v":""}]
[{"$nulls":6},{"$f":"IF(F798<>\"\",IF(F798=\"JA\",COUNTIF($F$4:$F798,\"JA\")),\"\")","v":""}]
[{"$nulls":6},{"$f":"IF(F799<>\"\",IF(F799=\"JA\",COUNTIF($F$4:$F799,\"JA\")),\"\")","v":""}]
[{"$nulls":6},{"$f":"IF(F800<>\"\",IF(F800=\"JA\",COUNTIF($F$4:$F800,\"JA\")),\"\")","v":""}]
[{"$nulls":6},{"$f":"IF(F801<>\"\",IF(F801=\"JA\",COUNTIF($F$4:$F801,\"JA\")),\"\")","v":""}]
[{"$nulls":6},{"$f":"IF(F802<>\"\",IF(F802=\"JA\",COUNTIF($F$4:$F802,\"JA\")),\"\")","v":""}]
[{"$nulls":6},{"$f":"IF(F803<>\"\",IF(F803=\"JA\",COUNTIF($F$4:$F803,\"JA\")),\"\")","v":""}]
[{"$nulls":6},{"$f":"IF(F804<>\"\",IF(F804=\"JA\",COUNTIF($F$4:$F804,\"JA\")),\"\")","v":""}]
[{"$nulls":6},{"$f":"IF(F805<>\"\",IF(F805=\"JA\",COUNTIF($F$4:$F805,\"JA\")),\"\")","v":""}]
[{"$nulls":6},{"$f":"IF(F806<>\"\",IF(F806=\"JA\",COUNTIF($F$4:$F806,\"JA\")),\"\")","v":""}]
[{"$nulls":6},{"$f":"IF(F807<>\"\",IF(F807=\"JA\",COUNTIF($F$4:$F807,\"JA\")),\"\")","v":""}]
[{"$nulls":6},{"$f":"IF(F808<>\"\",IF(F808=\"JA\",COUNTIF($F$4:$F808,\"JA\")),\"\")","v":""}]
[{"$nulls":6},{"$f":"IF(F809<>\"\",IF(F809=\"JA\",COUNTIF($F$4:$F809,\"JA\")),\"\")","v":""}]
[{"$nulls":6},{"$f":"IF(F810<>\"\",IF(F810=\"JA\",COUNTIF($F$4:$F810,\"JA\")),\"\")","v":""}]
[{"$nulls":6},{"$f":"IF(F811<>\"\",IF(F811=\"JA\",COUNTIF($F$4:$F811,\"JA\")),\"\")","v":""}]
[{"$nulls":6},{"$f":"IF(F812<>\"\",IF(F812=\"JA\",COUNTIF($F$4:$F812,\"JA\")),\"\")","v":""}]
[{"$nulls":6},{"$f":"IF(F813<>\"\",IF(F813=\"JA\",COUNTIF($F$4:$F813,\"JA\")),\"\")","v":""}]
[{"$nulls":6},{"$f":"IF(F814<>\"\",IF(F814=\"JA\",COUNTIF($F$4:$F814,\"JA\")),\"\")","v":""}]
[{"$nulls":6},{"$f":"IF(F815<>\"\",IF(F815=\"JA\",COUNTIF($F$4:$F815,\"JA\")),\"\")","v":""}]
[{"$nulls":6},{"$f":"IF(F816<>\"\",IF(F816=\"JA\",COUNTIF($F$4:$F816,\"JA\")),\"\")","v":""}]
[{"$nulls":6},{"$f":"IF(F817<>\"\",IF(F817=\"JA\",COUNTIF($F$4:$F817,\"JA\")),\"\")","v":""}]
[{"$nulls":6},{"$f":"IF(F818<>\"\",IF(F818=\"JA\",COUNTIF($F$4:$F818,\"JA\")),\"\")","v":""}]
[{"$nulls":6},{"$f":"IF(F819<>\"\",IF(F819=\"JA\",COUNTIF($F$4:$F819,\"JA\")),\"\")","v":""}]
[{"$nulls":6},{"$f":"IF(F820<>\"\",IF(F820=\"JA\",COUNTIF($F$4:$F820,\"JA\")),\"\")","v":""}]
[{"$nulls":6},{"$f":"IF(F821<>\"\",IF(F821=\"JA\",COUNTIF($F$4:$F821,\"JA\")),\"\")","v":""}]
[{"$nulls":6},{"$f":"IF(F822<>\"\",IF(F822=\"JA\",COUNTIF($F$4:$F822,\"JA\")),\"\")","v":""}]
[{"$nulls":6},{"$f":"IF(F823<>\"\",IF(F823=\"JA\",COUNTIF($F$4:$F823,\"JA\")),\"\")","v":""}]
[{"$nulls":6},{"$f":"IF(F824<>\"\",IF(F824=\"JA\",COUNTIF($F$4:$F824,\"JA\")),\"\")","v":""}]
[{"$nulls":6},{"$f":"IF(F825<>\"\",IF(F825=\"JA\",COUNTIF($F$4:$F825,\"JA\")),\"\")","v":""}]
[{"$nulls":6},{"$f":"IF(F826<>\"\",IF(F826=\"JA\",COUNTIF($F$4:$F826,\"JA\")),\"\")","v":""}]
[{"$nulls":6},{"$f":"IF(F827<>\"\",IF(F827=\"JA\",COUNTIF($F$4:$F827,\"JA\")),\"\")","v":""}]
[{"$nulls":6},{"$f":"IF(F828<>\"\",IF(F828=\"JA\",COUNTIF($F$4:$F828,\"JA\")),\"\")","v":""}]
[{"$nulls":6},{"$f":"IF(F829<>\"\",IF(F829=\"JA\",COUNTIF($F$4:$F829,\"JA\")),\"\")","v":""}]
[{"$nulls":6},{"$f":"IF(F830<>\"\",IF(F830=\"JA\",COUNTIF($F$4:$F830,\"JA\")),\"\")","v":""}]
[{"$nulls":6},{"$f":"IF(F831<>\"\",IF(F831=\"JA\",COUNTIF($F$4:$F831,\"JA\")),\"\")","v":""}]
[{"$nulls":6},{"$f":"IF(F832<>\"\",IF(F832=\"JA\",COUNTIF($F$4:$F832,\"JA\")),\"\")","v":""}]
[{"$nulls":6},{"$f":"IF(F833<>\"\",IF(F833=\"JA\",COUNTIF($F$4:$F833,\"JA\")),\"\")","v":""}]
[{"$nulls":6},{"$f":"IF(F834<>\"\",IF(F834=\"JA\",COUNTIF($F$4:$F834,\"JA\")),\"\")","v":""}]
[{"$nulls":6},{"$f":"IF(F835<>\"\",IF(F835=\"JA\",COUNTIF($F$4:$F835,\"JA\")),\"\")","v":""}]
[{"$nulls":6},{"$f":"IF(F836<>\"\",IF(F836=\"JA\",COUNTIF($F$4:$F836,\"JA\")),\"\")","v":""}]
[{"$nulls":6},{"$f":"IF(F837<>\"\",IF(F837=\"JA\",COUNTIF($F$4:$F837,\"JA\")),\"\")","v":""}]
[{"$nulls":6},{"$f":"IF(F838<>\"\",IF(F838=\"JA\",COUNTIF($F$4:$F838,\"JA\")),\"\")","v":""}]
[{"$nulls":6},{"$f":"IF(F839<>\"\",IF(F839=\"JA\",COUNTIF($F$4:$F839,\"JA\")),\"\")","v":""}]
[{"$nulls":6},{"$f":"IF(F840<>\"\",IF(F840=\"JA\",COUNTIF($F$4:$F840,\"JA\")),\"\")","v":""}]
[{"$nulls":6},{"$f":"IF(F841<>\"\",IF(F841=\"JA\",COUNTIF($F$4:$F841,\"JA\")),\"\")","v":""}]
[{"$nulls":6},{"$f":"IF(F842<>\"\",IF(F842=\"JA\",COUNTIF($F$4:$F842,\"JA\")),\"\")","v":""}]
[{"$nulls":6},{"$f":"IF(F843<>\"\",IF(F843=\"JA\",COUNTIF($F$4:$F843,\"JA\")),\"\")","v":""}]
[{"$nulls":6},{"$f":"IF(F844<>\"\",IF(F844=\"JA\",COUNTIF($F$4:$F844,\"JA\")),\"\")","v":""}]
[{"$nulls":6},{"$f":"IF(F845<>\"\",IF(F845=\"JA\",COUNTIF($F$4:$F845,\"JA\")),\"\")","v":""}]
[{"$nulls":6},{"$f":"IF(F846<>\"\",IF(F846=\"JA\",COUNTIF($F$4:$F846,\"JA\")),\"\")","v":""}]
[{"$nulls":6},{"$f":"IF(F847<>\"\",IF(F847=\"JA\",COUNTIF($F$4:$F847,\"JA\")),\"\")","v":""}]
[{"$nulls":6},{"$f":"IF(F848<>\"\",IF(F848=\"JA\",COUNTIF($F$4:$F848,\"JA\")),\"\")","v":""}]
[{"$nulls":6},{"$f":"IF(F849<>\"\",IF(F849=\"JA\",COUNTIF($F$4:$F849,\"JA\")),\"\")","v":""}]
[{"$nulls":6},{"$f":"IF(F850<>\"\",IF(F850=\"JA\",COUNTIF($F$4:$F850,\"JA\")),\"\")","v":""}]
[{"$nulls":6},{"$f":"IF(F851<>\"\",IF(F851=\"JA\",COUNTIF($F$4:$F851,\"JA\")),\"\")","v":""}]
[{"$nulls":6},{"$f":"IF(F852<>\"\",IF(F852=\"JA\",COUNTIF($F$4:$F852,\"JA\")),\"\")","v":""}]
[{"$nulls":6},{"$f":"IF(F853<>\"\",IF(F853=\"JA\",COUNTIF($F$4:$F853,\"JA\")),\"\")","v":""}]
[{"$nulls":6},{"$f":"IF(F854<>\"\",IF(F854=\"JA\",COUNTIF($F$4:$F854,\"JA\")),\"\")","v":""}]
[{"$nulls":6},{"$f":"IF(F855<>\"\",IF(F855=\"JA\",COUNTIF($F$4:$F855,\"JA\")),\"\")","v":""}]
[{"$nulls":6},{"$f":"IF(F856<>\"\",IF(F856=\"JA\",COUNTIF($F$4:$F856,\"JA\")),\"\")","v":""}]
[{"$nulls":6},{"$f":"IF(F857<>\"\",IF(F857=\"JA\",COUNTIF($F$4:$F857,\"JA\")),\"\")","v":""}]
[{"$nulls":6},{"$f":"IF(F858<>\"\",IF(F858=\"JA\",COUNTIF($F$4:$F858,\"JA\")),\"\")","v":""}]
[{"$nulls":6},{"$f":"IF(F859<>\"\",IF(F859=\"JA\",COUNTIF($F$4:$F859,\"JA\")),\"\")","v":""}]
[{"$nulls":6},{"$f":"IF(F860<>\"\",IF(F860=\"JA\",COUNTIF($F$4:$F860,\"JA\")),\"\")","v":""}]
[{"$nulls":6},{"$f":"IF(F861<>\"\",IF(F861=\"JA\",COUNTIF($F$4:$F861,\"JA\")),\"\")","v":""}]
[{"$nulls":6},{"$f":"IF(F862<>\"\",IF(F862=\"JA\",COUNTIF($F$4:$F862,\"JA\")),\"\")","v":""}]
[{"$nulls":6},{"$f":"IF(F863<>\"\",IF(F863=\"JA\",COUNTIF($F$4:$F863,\"JA\")),\"\")","v":""}]
[{"$nulls":6},{"$f":"IF(F864<>\"\",IF(F864=\"JA\",COUNTIF($F$4:$F864,\"JA\")),\"\")","v":""}]
[{"$nulls":6},{"$f":"IF(F865<>\"\",IF(F865=\"JA\",COUNTIF($F$4:$F865,\"JA\")),\"\")","v":""}]
[{"$nulls":6},{"$f":"IF(F866<>\"\",IF(F866=\"JA\",COUNTIF($F$4:$F866,\"JA\")),\"\")","v":""}]
[{"$nulls":6},{"$f":"IF(F867<>\"\",IF(F867=\"JA\",COUNTIF($F$4:$F867,\"JA\")),\"\")","v":""}]
[{"$nulls":6},{"$f":"IF(F868<>\"\",IF(F868=\"JA\",COUNTIF($F$4:$F868,\"JA\")),\"\")","v":""}]
[{"$nulls":6},{"$f":"IF(F869<>\"\",IF(F869=\"JA\",COUNTIF($F$4:$F869,\"JA\")),\"\")","v":""}]
[{"$nulls":6},{"$f":"IF(F870<>\"\",IF(F870=\"JA\",COUNTIF($F$4:$F870,\"JA\")),\"\")","v":""}]
[{"$nulls":6},{"$f":"IF(F871<>\"\",IF(F871=\"JA\",COUNTIF($F$4:$F871,\"JA\")),\"\")","v":""}]
[{"$nulls":6},{"$f":"IF(F872<>\"\",IF(F872=\"JA\",COUNTIF($F$4:$F872,\"JA\")),\"\")","v":""}]
[{"$nulls":6},{"$f":"IF(F873<>\"\",IF(F873=\"JA\",COUNTIF($F$4:$F873,\"JA\")),\"\")","v":""}]
[{"$nulls":6},{"$f":"IF(F874<>\"\",IF(F874=\"JA\",COUNTIF($F$4:$F874,\"JA\")),\"\")","v":""}]
[{"$nulls":6},{"$f":"IF(F875<>\"\",IF(F875=\"JA\",COUNTIF($F$4:$F875,\"JA\")),\"\")","v":""}]
[{"$nulls":6},{"$f":"IF(F876<>\"\",IF(F876=\"JA\",COUNTIF($F$4:$F876,\"JA\")),\"\")","v":""}]
[{"$nulls":6},{"$f":"IF(F877<>\"\",IF(F877=\"JA\",COUNTIF($F$4:$F877,\"JA\")),\"\")","v":""}]
[{"$nulls":6},{"$f":"IF(F878<>\"\",IF(F878=\"JA\",COUNTIF($F$4:$F878,\"JA\")),\"\")","v":""}]
[{"$nulls":6},{"$f":"IF(F879<>\"\",IF(F879=\"JA\",COUNTIF($F$4:$F879,\"JA\")),\"\")","v":""}]
[{"$nulls":6},{"$f":"IF(F880<>\"\",IF(F880=\"JA\",COUNTIF($F$4:$F880,\"JA\")),\"\")","v":""}]
[{"$nulls":6},{"$f":"IF(F881<>\"\",IF(F881=\"JA\",COUNTIF($F$4:$F881,\"JA\")),\"\")","v":""}]
[{"$nulls":6},{"$f":"IF(F882<>\"\",IF(F882=\"JA\",COUNTIF($F$4:$F882,\"JA\")),\"\")","v":""}]
[{"$nulls":6},{"$f":"IF(F883<>\"\",IF(F883=\"JA\",COUNTIF($F$4:$F883,\"JA\")),\"\")","v":""}]
[{"$nulls":6},{"$f":"IF(F884<>\"\",IF(F884=\"JA\",COUNTIF($F$4:$F884,\"JA\")),\"\")","v":""}]
[{"$nulls":6},{"$f":"IF(F885<>\"\",IF(F885=\"JA\",COUNTIF($F$4:$F885,\"JA\")),\"\")","v":""}]
[{"$nulls":6},{"$f":"IF(F886<>\"\",IF(F886=\"JA\",COUNTIF($F$4:$F886,\"JA\")),\"\")","v":""}]
[{"$nulls":6},{"$f":"IF(F887<>\"\",IF(F887=\"JA\",COUNTIF($F$4:$F887,\"JA\")),\"\")","v":""}]
[{"$nulls":6},{"$f":"IF(F888<>\"\",IF(F888=\"JA\",COUNTIF($F$4:$F888,\"JA\")),\"\")","v":""}]
[{"$nulls":6},{"$f":"IF(F889<>\"\",IF(F889=\"JA\",COUNTIF($F$4:$F889,\"JA\")),\"\")","v":""}]
[{"$nulls":6},{"$f":"IF(F890<>\"\",IF(F890=\"JA\",COUNTIF($F$4:$F890,\"JA\")),\"\")","v":""}]
[{"$nulls":6},{"$f":"IF(F891<>\"\",IF(F891=\"JA\",COUNTIF($F$4:$F891,\"JA\")),\"\")","v":""}]
[{"$nulls":6},{"$f":"IF(F892<>\"\",IF(F892=\"JA\",COUNTIF($F$4:$F892,\"JA\")),\"\")","v":""}]
[{"$nulls":6},{"$f":"IF(F893<>\"\",IF(F893=\"JA\",COUNTIF($F$4:$F893,\"JA\")),\"\")","v":""}]
[{"$nulls":6},{"$f":"IF(F894<>\"\",IF(F894=\"JA\",COUNTIF($F$4:$F894,\"JA\")),\"\")","v":""}]
[{"$nulls":6},{"$f":"IF(F895<>\"\",IF(F895=\"JA\",COUNTIF($F$4:$F895,\"JA\")),\"\")","v":""}]
[{"$nulls":6},{"$f":"IF(F896<>\"\",IF(F896=\"JA\",COUNTIF($F$4:$F896,\"JA\")),\"\")","v":""}]
[{"$nulls":6},{"$f":"IF(F897<>\"\",IF(F897=\"JA\",COUNTIF($F$4:$F897,\"JA\")),\"\")","v":""}]
[{"$nulls":6},{"$f":"IF(F898<>\"\",IF(F898=\"JA\",COUNTIF($F$4:$F898,\"JA\")),\"\")","v":""}]
[{"$nulls":6},{"$f":"IF(F899<>\"\",IF(F899=\"JA\",COUNTIF($F$4:$F899,\"JA\")),\"\")","v":""}]
[{"$nulls":6},{"$f":"IF(F900<>\"\",IF(F900=\"JA\",COUNTIF($F$4:$F900,\"JA\")),\"\")","v":""}]
[{"$nulls":6},{"$f":"IF(F901<>\"\",IF(F901=\"JA\",COUNTIF($F$4:$F901,\"JA\")),\"\")","v":""}]
[{"$nulls":6},{"$f":"IF(F902<>\"\",IF(F902=\"JA\",COUNTIF($F$4:$F902,\"JA\")),\"\")","v":""}]
[{"$nulls":6},{"$f":"IF(F903<>\"\",IF(F903=\"JA\",COUNTIF($F$4:$F903,\"JA\")),\"\")","v":""}]
[{"$nulls":6},{"$f":"IF(F904<>\"\",IF(F904=\"JA\",COUNTIF($F$4:$F904,\"JA\")),\"\")","v":""}]
[{"$nulls":6},{"$f":"IF(F905<>\"\",IF(F905=\"JA\",COUNTIF($F$4:$F905,\"JA\")),\"\")","v":""}]
[{"$nulls":6},{"$f":"IF(F906<>\"\",IF(F906=\"JA\",COUNTIF($F$4:$F906,\"JA\")),\"\")","v":""}]
[{"$nulls":6},{"$f":"IF(F907<>\"\",IF(F907=\"JA\",COUNTIF($F$4:$F907,\"JA\")),\"\")","v":""}]
[{"$nulls":6},{"$f":"IF(F908<>\"\",IF(F908=\"JA\",COUNTIF($F$4:$F908,\"JA\")),\"\")","v":""}]
[{"$nulls":6},{"$f":"IF(F909<>\"\",IF(F909=\"JA\",COUNTIF($F$4:$F909,\"JA\")),\"\")","v":""}]
[{"$nulls":6},{"$f":"IF(F910<>\"\",IF(F910=\"JA\",COUNTIF($F$4:$F910,\"JA\")),\"\")","v":""}]
[{"$nulls":6},{"$f":"IF(F911<>\"\",IF(F911=\"JA\",COUNTIF($F$4:$F911,\"JA\")),\"\")","v":""}]
[{"$nulls":6},{"$f":"IF(F912<>\"\",IF(F912=\"JA\",COUNTIF($F$4:$F912,\"JA\")),\"\")","v":""}]
[{"$nulls":6},{"$f":"IF(F913<>\"\",IF(F913=\"JA\",COUNTIF($F$4:$F913,\"JA\")),\"\")","v":""}]
[{"$nulls":6},{"$f":"IF(F914<>\"\",IF(F914=\"JA\",COUNTIF($F$4:$F914,\"JA\")),\"\")","v":""}]
[{"$nulls":6},{"$f":"IF(F915<>\"\",IF(F915=\"JA\",COUNTIF($F$4:$F915,\"JA\")),\"\")","v":""}]
[{"$nulls":6},{"$f":"IF(F916<>\"\",IF(F916=\"JA\",COUNTIF($F$4:$F916,\"JA\")),\"\")","v":""}]
[{"$nulls":6},{"$f":"IF(F917<>\"\",IF(F917=\"JA\",COUNTIF($F$4:$F917,\"JA\")),\"\")","v":""}]
[{"$nulls":6},{"$f":"IF(F918<>\"\",IF(F918=\"JA\",COUNTIF($F$4:$F918,\"JA\")),\"\")","v":""}]
[{"$nulls":6},{"$f":"IF(F919<>\"\",IF(F919=\"JA\",COUNTIF($F$4:$F919,\"JA\")),\"\")","v":""}]
[{"$nulls":6},{"$f":"IF(F920<>\"\",IF(F920=\"JA\",COUNTIF($F$4:$F920,\"JA\")),\"\")","v":""}]
[{"$nulls":6},{"$f":"IF(F921<>\"\",IF(F921=\"JA\",COUNTIF($F$4:$F921,\"JA\")),\"\")","v":""}]
[{"$nulls":6},{"$f":"IF(F922<>\"\",IF(F922=\"JA\",COUNTIF($F$4:$F922,\"JA\")),\"\")","v":""}]
[{"$nulls":6},{"$f":"IF(F923<>\"\",IF(F923=\"JA\",COUNTIF($F$4:$F923,\"JA\")),\"\")","v":""}]
[{"$nulls":6},{"$f":"IF(F924<>\"\",IF(F924=\"JA\",COUNTIF($F$4:$F924,\"JA\")),\"\")","v":""}]
[{"$nulls":6},{"$f":"IF(F925<>\"\",IF(F925=\"JA\",COUNTIF($F$4:$F925,\"JA\")),\"\")","v":""}]
[{"$nulls":6},{"$f":"IF(F926<>\"\",IF(F926=\"JA\",COUNTIF($F$4:$F926,\"JA\")),\"\")","v":""}]
[{"$nulls":6},{"$f":"IF(F927<>\"\",IF(F927=\"JA\",COUNTIF($F$4:$F927,\"JA\")),\"\")","v":""}]
[{"$nulls":6},{"$f":"IF(F928<>\"\",IF(F928=\"JA\",COUNTIF($F$4:$F928,\"JA\")),\"\")","v":""}]
[{"$nulls":6},{"$f":"IF(F929<>\"\",IF(F929=\"JA\",COUNTIF($F$4:$F929,\"JA\")),\"\")","v":""}]
[{"$nulls":6},{"$f":"IF(F930<>\"\",IF(F930=\"JA\",COUNTIF($F$4:$F930,\"JA\")),\"\")","v":""}]
[{"$nulls":6},{"$f":"IF(F931<>\"\",IF(F931=\"JA\",COUNTIF($F$4:$F931,\"JA\")),\"\")","v":""}]
[{"$nulls":6},{"$f":"IF(F932<>\"\",IF(F932=\"JA\",COUNTIF($F$4:$F932,\"JA\")),\"\")","v":""}]
[{"$nulls":6},{"$f":"IF(F933<>\"\",IF(F933=\"JA\",COUNTIF($F$4:$F933,\"JA\")),\"\")","v":""}]
[{"$nulls":6},{"$f":"IF(F934<>\"\",IF(F934=\"JA\",COUNTIF($F$4:$F934,\"JA\")),\"\")","v":""}]
[{"$nulls":6},{"$f":"IF(F935<>\"\",IF(F935=\"JA\",COUNTIF($F$4:$F935,\"JA\")),\"\")","v":""}]
[{"$nulls":6},{"$f":"IF(F936<>\"\",IF(F936=\"JA\",COUNTIF($F$4:$F936,\"JA\")),\"\")","v":""}]
[{"$nulls":6},{"$f":"IF(F937<>\"\",IF(F937=\"JA\",COUNTIF($F$4:$F937,\"JA\")),\"\")","v":""}]
[{"$nulls":6},{"$f":"IF(F938<>\"\",IF(F938=\"JA\",COUNTIF($F$4:$F938,\"JA\")),\"\")","v":""}]
[{"$nulls":6},{"$f":"IF(F939<>\"\",IF(F939=\"JA\",COUNTIF($F$4:$F939,\"JA\")),\"\")","v":""}]
[{"$nulls":6},{"$f":"IF(F940<>\"\",IF(F940=\"JA\",COUNTIF($F$4:$F940,\"JA\")),\"\")","v":""}]
[{"$nulls":6},{"$f":"IF(F941<>\"\",IF(F941=\"JA\",COUNTIF($F$4:$F941,\"JA\")),\"\")","v":""}]
[{"$nulls":6},{"$f":"IF(F942<>\"\",IF(F942=\"JA\",COUNTIF($F$4:$F942,\"JA\")),\"\")","v":""}]
[{"$nulls":6},{"$f":"IF(F943<>\"\",IF(F943=\"JA\",COUNTIF($F$4:$F943,\"JA\")),\"\")","v":""}]
[{"$nulls":6},{"$f":"IF(F944<>\"\",IF(F944=\"JA\",COUNTIF($F$4:$F944,\"JA\")),\"\")","v":""}]
[{"$nulls":6},{"$f":"IF(F945<>\"\",IF(F945=\"JA\",COUNTIF($F$4:$F945,\"JA\")),\"\")","v":""}]
[{"$nulls":6},{"$f":"IF(F946<>\"\",IF(F946=\"JA\",COUNTIF($F$4:$F946,\"JA\")),\"\")","v":""}]
[{"$nulls":6},{"$f":"IF(F947<>\"\",IF(F947=\"JA\",COUNTIF($F$4:$F947,\"JA\")),\"\")","v":""}]
[{"$nulls":6},{"$f":"IF(F948<>\"\",IF(F948=\"JA\",COUNTIF($F$4:$F948,\"JA\")),\"\")","v":""}]
[{"$nulls":6},{"$f":"IF(F949<>\"\",IF(F949=\"JA\",COUNTIF($F$4:$F949,\"JA\")),\"\")","v":""}]
[{"$nulls":6},{"$f":"IF(F950<>\"\",IF(F950=\"JA\",COUNTIF($F$4:$F950,\"JA\")),\"\")","v":""}]
[{"$nulls":6},{"$f":"IF(F951<>\"\",IF(F951=\"JA\",COUNTIF($F$4:$F951,\"JA\")),\"\")","v":""}]
[{"$nulls":6},{"$f":"IF(F952<>\"\",IF(F952=\"JA\",COUNTIF($F$4:$F952,\"JA\")),\"\")","v":""}]
[{"$nulls":6},{"$f":"IF(F953<>\"\",IF(F953=\"JA\",COUNTIF($F$4:$F953,\"JA\")),\"\")","v":""}]
[{"$nulls":6},{"$f":"IF(F954<>\"\",IF(F954=\"JA\",COUNTIF($F$4:$F954,\"JA\")),\"\")","v":""}]
[{"$nulls":6},{"$f":"IF(F955<>\"\",IF(F955=\"JA\",COUNTIF($F$4:$F955,\"JA\")),\"\")","v":""}]
[{"$nulls":6},{"$f":"IF(F956<>\"\",IF(F956=\"JA\",COUNTIF($F$4:$F956,\"JA\")),\"\")","v":""}]
[{"$nulls":6},{"$f":"IF(F957<>\"\",IF(F957=\"JA\",COUNTIF($F$4:$F957,\"JA\")),\"\")","v":""}]
[{"$nulls":6},{"$f":"IF(F958<>\"\",IF(F958=\"JA\",COUNTIF($F$4:$F958,\"JA\")),\"\")","v":""}]
[{"$nulls":6},{"$f":"IF(F959<>\"\",IF(F959=\"JA\",COUNTIF($F$4:$F959,\"JA\")),\"\")","v":""}]
[{"$nulls":6},{"$f":"IF(F960<>\"\",IF(F960=\"JA\",COUNTIF($F$4:$F960,\"JA\")),\"\")","v":""}]
[{"$nulls":6},{"$f":"IF(F961<>\"\",IF(F961=\"JA\",COUNTIF($F$4:$F961,\"JA\")),\"\")","v":""}]
[{"$nulls":6},{"$f":"IF(F962<>\"\",IF(F962=\"JA\",COUNTIF($F$4:$F962,\"JA\")),\"\")","v":""}]
[{"$nulls":6},{"$f":"IF(F963<>\"\",IF(F963=\"JA\",COUNTIF($F$4:$F963,\"JA\")),\"\")","v":""}]
[{"$nulls":6},{"$f":"IF(F964<>\"\",IF(F964=\"JA\",COUNTIF($F$4:$F964,\"JA\")),\"\")","v":""}]
[{"$nulls":6},{"$f":"IF(F965<>\"\",IF(F965=\"JA\",COUNTIF($F$4:$F965,\"JA\")),\"\")","v":""}]
[{"$nulls":6},{"$f":"IF(F966<>\"\",IF(F966=\"JA\",COUNTIF($F$4:$F966,\"JA\")),\"\")","v":""}]
[{"$nulls":6},{"$f":"IF(F967<>\"\",IF(F967=\"JA\",COUNTIF($F$4:$F967,\"JA\")),\"\")","v":""}]
[{"$nulls":6},{"$f":"IF(F968<>\"\",IF(F968=\"JA\",COUNTIF($F$4:$F968,\"JA\")),\"\")","v":""}]
[{"$nulls":6},{"$f":"IF(F969<>\"\",IF(F969=\"JA\",COUNTIF($F$4:$F969,\"JA\")),\"\")","v":""}]
[{"$nulls":6},{"$f":"IF(F970<>\"\",IF(F970=\"JA\",COUNTIF($F$4:$F970,\"JA\")),\"\")","v":""}]
[{"$nulls":6},{"$f":"IF(F971<>\"\",IF(F971=\"JA\",COUNTIF($F$4:$F971,\"JA\")),\"\")","v":""}]
[{"$nulls":6},{"$f":"IF(F972<>\"\",IF(F972=\"JA\",COUNTIF($F$4:$F972,\"JA\")),\"\")","v":""}]
[{"$nulls":6},{"$f":"IF(F973<>\"\",IF(F973=\"JA\",COUNTIF($F$4:$F973,\"JA\")),\"\")","v":""}]
[{"$nulls":6},{"$f":"IF(F974<>\"\",IF(F974=\"JA\",COUNTIF($F$4:$F974,\"JA\")),\"\")","v":""}]
[{"$nulls":6},{"$f":"IF(F975<>\"\",IF(F975=\"JA\",COUNTIF($F$4:$F975,\"JA\")),\"\")","v":""}]
[{"$nulls":6},{"$f":"IF(F976<>\"\",IF(F976=\"JA\",COUNTIF($F$4:$F976,\"JA\")),\"\")","v":""}]
[{"$nulls":6},{"$f":"IF(F977<>\"\",IF(F977=\"JA\",COUNTIF($F$4:$F977,\"JA\")),\"\")","v":""}]
[{"$nulls":6},{"$f":"IF(F978<>\"\",IF(F978=\"JA\",COUNTIF($F$4:$F978,\"JA\")),\"\")","v":""}]
[{"$nulls":6},{"$f":"IF(F979<>\"\",IF(F979=\"JA\",COUNTIF($F$4:$F979,\"JA\")),\"\")","v":""}]
[{"$nulls":6},{"$f":"IF(F980<>\"\",IF(F980=\"JA\",COUNTIF($F$4:$F980,\"JA\")),\"\")","v":""}]
[{"$nulls":6},{"$f":"IF(F981<>\"\",IF(F981=\"JA\",COUNTIF($F$4:$F981,\"JA\")),\"\")","v":""}]
[{"$nulls":6},{"$f":"IF(F982<>\"\",IF(F982=\"JA\",COUNTIF($F$4:$F982,\"JA\")),\"\")","v":""}]
[{"$nulls":6},{"$f":"IF(F983<>\"\",IF(F983=\"JA\",COUNTIF($F$4:$F983,\"JA\")),\"\")","v":""}]
[{"$nulls":6},{"$f":"IF(F984<>\"\",IF(F984=\"JA\",COUNTIF($F$4:$F984,\"JA\")),\"\")","v":""}]
[{"$nulls":6},{"$f":"IF(F985<>\"\",IF(F985=\"JA\",COUNTIF($F$4:$F985,\"JA\")),\"\")","v":""}]
[{"$nulls":6},{"$f":"IF(F986<>\"\",IF(F986=\"JA\",COUNTIF($F$4:$F986,\"JA\")),\"\")","v":""}]
[{"$nulls":6},{"$f":"IF(F987<>\"\",IF(F987=\"JA\",COUNTIF($F$4:$F987,\"JA\")),\"\")","v":""}]
[{"$nulls":6},{"$f":"IF(F988<>\"\",IF(F988=\"JA\",COUNTIF($F$4:$F988,\"JA\")),\"\")","v":""}]
[{"$nulls":6},{"$f":"IF(F989<>\"\",IF(F989=\"JA\",COUNTIF($F$4:$F989,\"JA\")),\"\")","v":""}]
[{"$nulls":6},{"$f":"IF(F990<>\"\",IF(F990=\"JA\",COUNTIF($F$4:$F990,\"JA\")),\"\")","v":""}]
[{"$nulls":6},{"$f":"IF(F991<>\"\",IF(F991=\"JA\",COUNTIF($F$4:$F991,\"JA\")),\"\")","v":""}]
[{"$nulls":6},{"$f":"IF(F992<>\"\",IF(F992=\"JA\",COUNTIF($F$4:$F992,\"JA\")),\"\")","v":""}]
[{"$nulls":6},{"$f":"IF(F993<>\"\",IF(F993=\"JA\",COUNTIF($F$4:$F993,\"JA\")),\"\")","v":""}]
[{"$nulls":6},{"$f":"IF(F994<>\"\",IF(F994=\"JA\",COUNTIF($F$4:$F994,\"JA\")),\"\")","v":""}]
[{"$nulls":6},{"$f":"IF(F995<>\"\",IF(F995=\"JA\",COUNTIF($F$4:$F995,\"JA\")),\"\")","v":""}]
[{"$nulls":6},{"$f":"IF(F996<>\"\",IF(F996=\"JA\",COUNTIF($F$4:$F996,\"JA\")),\"\")","v":""}]
[{"$nulls":6},{"$f":"IF(F997<>\"\",IF(F997=\"JA\",COUNTIF($F$4:$F997,\"JA\")),\"\")","v":""}]
[{"$nulls":6},{"$f":"IF(F998<>\"\",IF(F998=\"JA\",COUNTIF($F$4:$F998,\"JA\")),\"\")","v":""}]
[{"$nulls":6},{"$f":"IF(F999<>\"\",IF(F999=\"JA\",COUNTIF($F$4:$F999,\"JA\")),\"\")","v":""}]

{"sheet":"geb.Angebot","index":2,"n_rows":43,"n_cols":5,"rows_kept":43,"cut":false,"hidden":false,"merged":[]}
["Angebote"]
[]
["Datum","Angebotsnummer","Name","€ - Netto","€ - Brutto"]
["2019-01-27","01/2019","Werner Bockelmann",1264.83,1467.2]
["2019-10-28","02/2019","Hans Huber",15000,17400]
["2019-10-28","03/2019","Johann Völkl",50000,58000]
["2019-10-28","04/2019","Klaus Werner",500,570]
["2019-10-28","05/2019","Bernd Müller",1000,1160]
["2019-10-28","06/2019","Susanne Meier",777,901.32]
["2019-10-28","07/2019","Birgit Erfurt",50,58]
["2019-10-28","08/2019","Dieter Lindner",232,269.12]
["2019-10-28","09/2019","Günther Klar",369,428.04]
["2019-10-28","10/2019","Rainer Sandner",5,5.8]
["2019-10-28","11/2019","Wigbert Nesvadba",958,1111.28]
["2019-10-28","12/2019","Gerd Kunze",700,812]
["2019-10-28","13/2019","Peter Maier",169,196.04]
["2019-10-29","14/2019","Anna Pongert",600,696]
["2019-10-29","15/2019","Tim Trottmann",856,992.96]
{"$rows_empty":24}
[{"$nulls":4}," "]

{"sheet":"Offene RG.","index":3,"n_rows":1000,"n_cols":4,"rows_kept":1000,"cut":false,"hidden":false,"merged":[]}
["Kontoübersicht"]
[]
["Summe offener Rechnungen",null,null,{"$f":"SUM(D6:D1000)","v":5674.9800000000005}]
[]
["Rechnungsdatum","Rechnungsnummer","Summe Netto","Summe Brutto"]
[{"$f":"IF(ISNA(INDEX(geb.Rechnung!$A$4:$G$1000,MATCH(ROW()-5,geb.Rechnung!$G$4:$G$1000,0),COLUMN()-1)),\"\",INDEX(geb.Rechnung!$A$4:$G$1000,MATCH(ROW()-5,geb.Rechnung!$G$4:$G$1000,0),COLUMN()-1))","v":"2019-01-27"},{"$f":"IF(ISNA(INDEX(geb.Rechnung!$A$4:$G$1000,MATCH(ROW()-5,geb.Rechnung!$G$4:$G$1000,0),COLUMN()-2)),\"\",INDEX(geb.Rechnung!$A$4:$G$1000,MATCH(ROW()-5,geb.Rechnung!$G$4:$G$1000,0),COLUMN()-2))","v":"01/2019"},{"$f":"IF(ISNA(INDEX(geb.Rechnung!$A$4:$G$1000,MATCH(ROW()-5,geb.Rechnung!$G$4:$G$1000,0),COLUMN()+1)),\"\",INDEX(geb.Rechnung!$A$4:$G$1000,MATCH(ROW()-5,geb.Rechnung!$G$4:$G$1000,0),COLUMN()+1))","v":1264.83},{"$f":"IF(ISNA(INDEX(geb.Rechnung!$A$4:$G$1000,MATCH(ROW()-5,geb.Rechnung!$G$4:$G$1000,0),COLUMN()+1)),\"\",INDEX(geb.Rechnung!$A$4:$G$1000,MATCH(ROW()-5,geb.Rechnung!$G$4:$G$1000,0),COLUMN()+1))","v":1467.2}]
[{"$f":"IF(ISNA(INDEX(geb.Rechnung!$A$4:$G$1000,MATCH(ROW()-5,geb.Rechnung!$G$4:$G$1000,0),COLUMN()-1)),\"\",INDEX(geb.Rechnung!$A$4:$G$1000,MATCH(ROW()-5,geb.Rechnung!$G$4:$G$1000,0),COLUMN()-1))","v":"2019-02-25"},{"$f":"IF(ISNA(INDEX(geb.Rechnung!$A$4:$G$1000,MATCH(ROW()-5,geb.Rechnung!$G$4:$G$1000,0),COLUMN()-2)),\"\",INDEX(geb.Rechnung!$A$4:$G$1000,MATCH(ROW()-5,geb.Rechnung!$G$4:$G$1000,0),COLUMN()-2))","v":"02/2019"},{"$f":"IF(ISNA(INDEX(geb.Rechnung!$A$4:$G$1000,MATCH(ROW()-5,geb.Rechnung!$G$4:$G$1000,0),COLUMN()+1)),\"\",INDEX(geb.Rechnung!$A$4:$G$1000,MATCH(ROW()-5,geb.Rechnung!$G$4:$G$1000,0),COLUMN()+1))","v":1222.4000000000001},{"$f":"IF(ISNA(INDEX(geb.Rechnung!$A$4:$G$1000,MATCH(ROW()-5,geb.Rechnung!$G$4:$G$1000,0),COLUMN()+1)),\"\",INDEX(geb.Rechnung!$A$4:$G$1000,MATCH(ROW()-5,geb.Rechnung!$G$4:$G$1000,0),COLUMN()+1))","v":1417.98}]
[{"$f":"IF(ISNA(INDEX(geb.Rechnung!$A$4:$G$1000,MATCH(ROW()-5,geb.Rechnung!$G$4:$G$1000,0),COLUMN()-1)),\"\",INDEX(geb.Rechnung!$A$4:$G$1000,MATCH(ROW()-5,geb.Rechnung!$G$4:$G$1000,0),COLUMN()-1))","v":"2019-02-27"},{"$f":"IF(ISNA(INDEX(geb.Rechnung!$A$4:$G$1000,MATCH(ROW()-5,geb.Rechnung!$G$4:$G$1000,0),COLUMN()-2)),\"\",INDEX(geb.Rechnung!$A$4:$G$1000,MATCH(ROW()-5,geb.Rechnung!$G$4:$G$1000,0),COLUMN()-2))","v":"04/2019"},{"$f":"IF(ISNA(INDEX(geb.Rechnung!$A$4:$G$1000,MATCH(ROW()-5,geb.Rechnung!$G$4:$G$1000,0),COLUMN()+1)),\"\",INDEX(geb.Rechnung!$A$4:$G$1000,MATCH(ROW()-5,geb.Rechnung!$G$4:$G$1000,0),COLUMN()+1))","v":50},{"$f":"IF(ISNA(INDEX(geb.Rechnung!$A$4:$G$1000,MATCH(ROW()-5,geb.Rechnung!$G$4:$G$1000,0),COLUMN()+1)),\"\",INDEX(geb.Rechnung!$A$4:$G$1000,MATCH(ROW()-5,geb.Rechnung!$G$4:$G$1000,0),COLUMN()+1))","v":58}]
[{"$f":"IF(ISNA(INDEX(geb.Rechnung!$A$4:$G$1000,MATCH(ROW()-5,geb.Rechnung!$G$4:$G$1000,0),COLUMN()-1)),\"\",INDEX(geb.Rechnung!$A$4:$G$1000,MATCH(ROW()-5,geb.Rechnung!$G$4:$G$1000,0),COLUMN()-1))","v":"2019-03-25"},{"$f":"IF(ISNA(INDEX(geb.Rechnung!$A$4:$G$1000,MATCH(ROW()-5,geb.Rechnung!$G$4:$G$1000,0),COLUMN()-2)),\"\",INDEX(geb.Rechnung!$A$4:$G$1000,MATCH(ROW()-5,geb.Rechnung!$G$4:$G$1000,0),COLUMN()-2))","v":"06/2019"},{"$f":"IF(ISNA(INDEX(geb.Rechnung!$A$4:$G$1000,MATCH(ROW()-5,geb.Rechnung!$G$4:$G$1000,0),COLUMN()+1)),\"\",INDEX(geb.Rechnung!$A$4:$G$1000,MATCH(ROW()-5,geb.Rechnung!$G$4:$G$1000,0),COLUMN()+1))","v":1800},{"$f":"IF(ISNA(INDEX(geb.Rechnung!$A$4:$G$1000,MATCH(ROW()-5,geb.Rechnung!$G$4:$G$1000,0),COLUMN()+1)),\"\",INDEX(geb.Rechnung!$A$4:$G$1000,MATCH(ROW()-5,geb.Rechnung!$G$4:$G$1000,0),COLUMN()+1))","v":2088}]
[{"$f":"IF(ISNA(INDEX(geb.Rechnung!$A$4:$G$1000,MATCH(ROW()-5,geb.Rechnung!$G$4:$G$1000,0),COLUMN()-1)),\"\",INDEX(geb.Rechnung!$A$4:$G$1000,MATCH(ROW()-5,geb.Rechnung!$G$4:$G$1000,0),COLUMN()-1))","v":"2019-11-02"},{"$f":"IF(ISNA(INDEX(geb.Rechnung!$A$4:$G$1000,MATCH(ROW()-5,geb.Rechnung!$G$4:$G$1000,0),COLUMN()-2)),\"\",INDEX(geb.Rechnung!$A$4:$G$1000,MATCH(ROW()-5,geb.Rechnung!$G$4:$G$1000,0),COLUMN()-2))","v":"07/2019"},{"$f":"IF(ISNA(INDEX(geb.Rechnung!$A$4:$G$1000,MATCH(ROW()-5,geb.Rechnung!$G$4:$G$1000,0),COLUMN()+1)),\"\",INDEX(geb.Rechnung!$A$4:$G$1000,MATCH(ROW()-5,geb.Rechnung!$G$4:$G$1000,0),COLUMN()+1))","v":550},{"$f":"IF(ISNA(INDEX(geb.Rechnung!$A$4:$G$1000,MATCH(ROW()-5,geb.Rechnung!$G$4:$G$1000,0),COLUMN()+1)),\"\",INDEX(geb.Rechnung!$A$4:$G$1000,MATCH(ROW()-5,geb.Rechnung!$G$4:$G$1000,0),COLUMN()+1))","v":638}]
[{"$f":"IF(ISNA(INDEX(geb.Rechnung!$A$4:$G$1000,MATCH(ROW()-5,geb.Rechnung!$G$4:$G$1000,0),COLUMN()-1)),\"\",INDEX(geb.Rechnung!$A$4:$G$1000,MATCH(ROW()-5,geb.Rechnung!$G$4:$G$1000,0),COLUMN()-1))","v":"2019-11-06"},{"$f":"IF(ISNA(INDEX(geb.Rechnung!$A$4:$G$1000,MATCH(ROW()-5,geb.Rechnung!$G$4:$G$1000,0),COLUMN()-2)),\"\",INDEX(geb.Rechnung!$A$4:$G$1000,MATCH(ROW()-5,geb.Rechnung!$G$4:$G$1000,0),COLUMN()-2))","v":"09/2019"},{"$f":"IF(ISNA(INDEX(geb.Rechnung!$A$4:$G$1000,MATCH(ROW()-5,geb.Rechnung!$G$4:$G$1000,0),COLUMN()+1)),\"\",INDEX(geb.Rechnung!$A$4:$G$1000,MATCH(ROW()-5,geb.Rechnung!$G$4:$G$1000,0),COLUMN()+1))","v":5},{"$f":"IF(ISNA(INDEX(geb.Rechnung!$A$4:$G$1000,MATCH(ROW()-5,geb.Rechnung!$G$4:$G$1000,0),COLUMN()+1)),\"\",INDEX(geb.Rechnung!$A$4:$G$1000,MATCH(ROW()-5,geb.Rechnung!$G$4:$G$1000,0),COLUMN()+1))","v":5.8}]
[{"$f":"IF(ISNA(INDEX(geb.Rechnung!$A$4:$G$1000,MATCH(ROW()-5,geb.Rechnung!$G$4:$G$1000,0),COLUMN()-1)),\"\",INDEX(geb.Rechnung!$A$4:$G$1000,MATCH(ROW()-5,geb.Rechnung!$G$4:$G$1000,0),COLUMN()-1))","v":""},{"$f":"IF(ISNA(INDEX(geb.Rechnung!$A$4:$G$1000,MATCH(ROW()-5,geb.Rechnung!$G$4:$G$1000,0),COLUMN()-2)),\"\",INDEX(geb.Rechnung!$A$4:$G$1000,MATCH(ROW()-5,geb.Rechnung!$G$4:$G$1000,0),COLUMN()-2))","v":""},{"$f":"IF(ISNA(INDEX(geb.Rechnung!$A$4:$G$1000,MATCH(ROW()-5,geb.Rechnung!$G$4:$G$1000,0),COLUMN()+1)),\"\",INDEX(geb.Rechnung!$A$4:$G$1000,MATCH(ROW()-5,geb.Rechnung!$G$4:$G$1000,0),COLUMN()+1))","v":""},{"$f":"IF(ISNA(INDEX(geb.Rechnung!$A$4:$G$1000,MATCH(ROW()-5,geb.Rechnung!$G$4:$G$1000,0),COLUMN()+1)),\"\",INDEX(geb.Rechnung!$A$4:$G$1000,MATCH(ROW()-5,geb.Rechnung!$G$4:$G$1000,0),COLUMN()+1))","v":""}]
[{"$f":"IF(ISNA(INDEX(geb.Rechnung!$A$4:$G$1000,MATCH(ROW()-5,geb.Rechnung!$G$4:$G$1000,0),COLUMN()-1)),\"\",INDEX(geb.Rechnung!$A$4:$G$1000,MATCH(ROW()-5,geb.Rechnung!$G$4:$G$1000,0),COLUMN()-1))","v":""},{"$f":"IF(ISNA(INDEX(geb.Rechnung!$A$4:$G$1000,MATCH(ROW()-5,geb.Rechnung!$G$4:$G$1000,0),COLUMN()-2)),\"\",INDEX(geb.Rechnung!$A$4:$G$1000,MATCH(ROW()-5,geb.Rechnung!$G$4:$G$1000,0),COLUMN()-2))","v":""},{"$f":"IF(ISNA(INDEX(geb.Rechnung!$A$4:$G$1000,MATCH(ROW()-5,geb.Rechnung!$G$4:$G$1000,0),COLUMN()+1)),\"\",INDEX(geb.Rechnung!$A$4:$G$1000,MATCH(ROW()-5,geb.Rechnung!$G$4:$G$1000,0),COLUMN()+1))","v":""},{"$f":"IF(ISNA(INDEX(geb.Rechnung!$A$4:$G$1000,MATCH(ROW()-5,geb.Rechnung!$G$4:$G$1000,0),COLUMN()+1)),\"\",INDEX(geb.Rechnung!$A$4:$G$1000,MATCH(ROW()-5,geb.Rechnung!$G$4:$G$1000,0),COLUMN()+1))","v":""}]
[{"$f":"IF(ISNA(INDEX(geb.Rechnung!$A$4:$G$1000,MATCH(ROW()-5,geb.Rechnung!$G$4:$G$1000,0),COLUMN()-1)),\"\",INDEX(geb.Rechnung!$A$4:$G$1000,MATCH(ROW()-5,geb.Rechnung!$G$4:$G$1000,0),COLUMN()-1))","v":""},{"$f":"IF(ISNA(INDEX(geb.Rechnung!$A$4:$G$1000,MATCH(ROW()-5,geb.Rechnung!$G$4:$G$1000,0),COLUMN()-2)),\"\",INDEX(geb.Rechnung!$A$4:$G$1000,MATCH(ROW()-5,geb.Rechnung!$G$4:$G$1000,0),COLUMN()-2))","v":""},{"$f":"IF(ISNA(INDEX(geb.Rechnung!$A$4:$G$1000,MATCH(ROW()-5,geb.Rechnung!$G$4:$G$1000,0),COLUMN()+1)),\"\",INDEX(geb.Rechnung!$A$4:$G$1000,MATCH(ROW()-5,geb.Rechnung!$G$4:$G$1000,0),COLUMN()+1))","v":""},{"$f":"IF(ISNA(INDEX(geb.Rechnung!$A$4:$G$1000,MATCH(ROW()-5,geb.Rechnung!$G$4:$G$1000,0),COLUMN()+1)),\"\",INDEX(geb.Rechnung!$A$4:$G$1000,MATCH(ROW()-5,geb.Rechnung!$G$4:$G$1000,0),COLUMN()+1))","v":""}]
[{"$f":"IF(ISNA(INDEX(geb.Rechnung!$A$4:$G$1000,MATCH(ROW()-5,geb.Rechnung!$G$4:$G$1000,0),COLUMN()-1)),\"\",INDEX(geb.Rechnung!$A$4:$G$1000,MATCH(ROW()-5,geb.Rechnung!$G$4:$G$1000,0),COLUMN()-1))","v":""},{"$f":"IF(ISNA(INDEX(geb.Rechnung!$A$4:$G$1000,MATCH(ROW()-5,geb.Rechnung!$G$4:$G$1000,0),COLUMN()-2)),\"\",INDEX(geb.Rechnung!$A$4:$G$1000,MATCH(ROW()-5,geb.Rechnung!$G$4:$G$1000,0),COLUMN()-2))","v":""},{"$f":"IF(ISNA(INDEX(geb.Rechnung!$A$4:$G$1000,MATCH(ROW()-5,geb.Rechnung!$G$4:$G$1000,0),COLUMN()+1)),\"\",INDEX(geb.Rechnung!$A$4:$G$1000,MATCH(ROW()-5,geb.Rechnung!$G$4:$G$1000,0),COLUMN()+1))","v":""},{"$f":"IF(ISNA(INDEX(geb.Rechnung!$A$4:$G$1000,MATCH(ROW()-5,geb.Rechnung!$G$4:$G$1000,0),COLUMN()+1)),\"\",INDEX(geb.Rechnung!$A$4:$G$1000,MATCH(ROW()-5,geb.Rechnung!$G$4:$G$1000,0),COLUMN()+1))","v":""}]
[{"$f":"IF(ISNA(INDEX(geb.Rechnung!$A$4:$G$1000,MATCH(ROW()-5,geb.Rechnung!$G$4:$G$1000,0),COLUMN()-1)),\"\",INDEX(geb.Rechnung!$A$4:$G$1000,MATCH(ROW()-5,geb.Rechnung!$G$4:$G$1000,0),COLUMN()-1))","v":""},{"$f":"IF(ISNA(INDEX(geb.Rechnung!$A$4:$G$1000,MATCH(ROW()-5,geb.Rechnung!$G$4:$G$1000,0),COLUMN()-2)),\"\",INDEX(geb.Rechnung!$A$4:$G$1000,MATCH(ROW()-5,geb.Rechnung!$G$4:$G$1000,0),COLUMN()-2))","v":""},{"$f":"IF(ISNA(INDEX(geb.Rechnung!$A$4:$G$1000,MATCH(ROW()-5,geb.Rechnung!$G$4:$G$1000,0),COLUMN()+1)),\"\",INDEX(geb.Rechnung!$A$4:$G$1000,MATCH(ROW()-5,geb.Rechnung!$G$4:$G$1000,0),COLUMN()+1))","v":""},{"$f":"IF(ISNA(INDEX(geb.Rechnung!$A$4:$G$1000,MATCH(ROW()-5,geb.Rechnung!$G$4:$G$1000,0),COLUMN()+1)),\"\",INDEX(geb.Rechnung!$A$4:$G$1000,MATCH(ROW()-5,geb.Rechnung!$G$4:$G$1000,0),COLUMN()+1))","v":""}]
[{"$f":"IF(ISNA(INDEX(geb.Rechnung!$A$4:$G$1000,MATCH(ROW()-5,geb.Rechnung!$G$4:$G$1000,0),COLUMN()-1)),\"\",INDEX(geb.Rechnung!$A$4:$G$1000,MATCH(ROW()-5,geb.Rechnung!$G$4:$G$1000,0),COLUMN()-1))","v":""},{"$f":"IF(ISNA(INDEX(geb.Rechnung!$A$4:$G$1000,MATCH(ROW()-5,geb.Rechnung!$G$4:$G$1000,0),COLUMN()-2)),\"\",INDEX(geb.Rechnung!$A$4:$G$1000,MATCH(ROW()-5,geb.Rechnung!$G$4:$G$1000,0),COLUMN()-2))","v":""},{"$f":"IF(ISNA(INDEX(geb.Rechnung!$A$4:$G$1000,MATCH(ROW()-5,geb.Rechnung!$G$4:$G$1000,0),COLUMN()+1)),\"\",INDEX(geb.Rechnung!$A$4:$G$1000,MATCH(ROW()-5,geb.Rechnung!$G$4:$G$1000,0),COLUMN()+1))","v":""},{"$f":"IF(ISNA(INDEX(geb.Rechnung!$A$4:$G$1000,MATCH(ROW()-5,geb.Rechnung!$G$4:$G$1000,0),COLUMN()+1)),\"\",INDEX(geb.Rechnung!$A$4:$G$1000,MATCH(ROW()-5,geb.Rechnung!$G$4:$G$1000,0),COLUMN()+1))","v":""}]
[{"$f":"IF(ISNA(INDEX(geb.Rechnung!$A$4:$G$1000,MATCH(ROW()-5,geb.Rechnung!$G$4:$G$1000,0),COLUMN()-1)),\"\",INDEX(geb.Rechnung!$A$4:$G$1000,MATCH(ROW()-5,geb.Rechnung!$G$4:$G$1000,0),COLUMN()-1))","v":""},{"$f":"IF(ISNA(INDEX(geb.Rechnung!$A$4:$G$1000,MATCH(ROW()-5,geb.Rechnung!$G$4:$G$1000,0),COLUMN()-2)),\"\",INDEX(geb.Rechnung!$A$4:$G$1000,MATCH(ROW()-5,geb.Rechnung!$G$4:$G$1000,0),COLUMN()-2))","v":""},{"$f":"IF(ISNA(INDEX(geb.Rechnung!$A$4:$G$1000,MATCH(ROW()-5,geb.Rechnung!$G$4:$G$1000,0),COLUMN()+1)),\"\",INDEX(geb.Rechnung!$A$4:$G$1000,MATCH(ROW()-5,geb.Rechnung!$G$4:$G$1000,0),COLUMN()+1))","v":""},{"$f":"IF(ISNA(INDEX(geb.Rechnung!$A$4:$G$1000,MATCH(ROW()-5,geb.Rechnung!$G$4:$G$1000,0),COLUMN()+1)),\"\",INDEX(geb.Rechnung!$A$4:$G$1000,MATCH(ROW()-5,geb.Rechnung!$G$4:$G$1000,0),COLUMN()+1))","v":""}]
[{"$f":"IF(ISNA(INDEX(geb.Rechnung!$A$4:$G$1000,MATCH(ROW()-5,geb.Rechnung!$G$4:$G$1000,0),COLUMN()-1)),\"\",INDEX(geb.Rechnung!$A$4:$G$1000,MATCH(ROW()-5,geb.Rechnung!$G$4:$G$1000,0),COLUMN()-1))","v":""},{"$f":"IF(ISNA(INDEX(geb.Rechnung!$A$4:$G$1000,MATCH(ROW()-5,geb.Rechnung!$G$4:$G$1000,0),COLUMN()-2)),\"\",INDEX(geb.Rechnung!$A$4:$G$1000,MATCH(ROW()-5,geb.Rechnung!$G$4:$G$1000,0),COLUMN()-2))","v":""},{"$f":"IF(ISNA(INDEX(geb.Rechnung!$A$4:$G$1000,MATCH(ROW()-5,geb.Rechnung!$G$4:$G$1000,0),COLUMN()+1)),\"\",INDEX(geb.Rechnung!$A$4:$G$1000,MATCH(ROW()-5,geb.Rechnung!$G$4:$G$1000,0),COLUMN()+1))","v":""},{"$f":"IF(ISNA(INDEX(geb.Rechnung!$A$4:$G$1000,MATCH(ROW()-5,geb.Rechnung!$G$4:$G$1000,0),COLUMN()+1)),\"\",INDEX(geb.Rechnung!$A$4:$G$1000,MATCH(ROW()-5,geb.Rechnung!$G$4:$G$1000,0),COLUMN()+1))","v":""}]
[{"$f":"IF(ISNA(INDEX(geb.Rechnung!$A$4:$G$1000,MATCH(ROW()-5,geb.Rechnung!$G$4:$G$1000,0),COLUMN()-1)),\"\",INDEX(geb.Rechnung!$A$4:$G$1000,MATCH(ROW()-5,geb.Rechnung!$G$4:$G$1000,0),COLUMN()-1))","v":""},{"$f":"IF(ISNA(INDEX(geb.Rechnung!$A$4:$G$1000,MATCH(ROW()-5,geb.Rechnung!$G$4:$G$1000,0),COLUMN()-2)),\"\",INDEX(geb.Rechnung!$A$4:$G$1000,MATCH(ROW()-5,geb.Rechnung!$G$4:$G$1000,0),COLUMN()-2))","v":""},{"$f":"IF(ISNA(INDEX(geb.Rechnung!$A$4:$G$1000,MATCH(ROW()-5,geb.Rechnung!$G$4:$G$1000,0),COLUMN()+1)),\"\",INDEX(geb.Rechnung!$A$4:$G$1000,MATCH(ROW()-5,geb.Rechnung!$G$4:$G$1000,0),COLUMN()+1))","v":""},{"$f":"IF(ISNA(INDEX(geb.Rechnung!$A$4:$G$1000,MATCH(ROW()-5,geb.Rechnung!$G$4:$G$1000,0),COLUMN()+1)),\"\",INDEX(geb.Rechnung!$A$4:$G$1000,MATCH(ROW()-5,geb.Rechnung!$G$4:$G$1000,0),COLUMN()+1))","v":""}]
[{"$f":"IF(ISNA(INDEX(geb.Rechnung!$A$4:$G$1000,MATCH(ROW()-5,geb.Rechnung!$G$4:$G$1000,0),COLUMN()-1)),\"\",INDEX(geb.Rechnung!$A$4:$G$1000,MATCH(ROW()-5,geb.Rechnung!$G$4:$G$1000,0),COLUMN()-1))","v":""},{"$f":"IF(ISNA(INDEX(geb.Rechnung!$A$4:$G$1000,MATCH(ROW()-5,geb.Rechnung!$G$4:$G$1000,0),COLUMN()-2)),\"\",INDEX(geb.Rechnung!$A$4:$G$1000,MATCH(ROW()-5,geb.Rechnung!$G$4:$G$1000,0),COLUMN()-2))","v":""},{"$f":"IF(ISNA(INDEX(geb.Rechnung!$A$4:$G$1000,MATCH(ROW()-5,geb.Rechnung!$G$4:$G$1000,0),COLUMN()+1)),\"\",INDEX(geb.Rechnung!$A$4:$G$1000,MATCH(ROW()-5,geb.Rechnung!$G$4:$G$1000,0),COLUMN()+1))","v":""},{"$f":"IF(ISNA(INDEX(geb.Rechnung!$A$4:$G$1000,MATCH(ROW()-5,geb.Rechnung!$G$4:$G$1000,0),COLUMN()+1)),\"\",INDEX(geb.Rechnung!$A$4:$G$1000,MATCH(ROW()-5,geb.Rechnung!$G$4:$G$1000,0),COLUMN()+1))","v":""}]
[{"$f":"IF(ISNA(INDEX(geb.Rechnung!$A$4:$G$1000,MATCH(ROW()-5,geb.Rechnung!$G$4:$G$1000,0),COLUMN()-1)),\"\",INDEX(geb.Rechnung!$A$4:$G$1000,MATCH(ROW()-5,geb.Rechnung!$G$4:$G$1000,0),COLUMN()-1))","v":""},{"$f":"IF(ISNA(INDEX(geb.Rechnung!$A$4:$G$1000,MATCH(ROW()-5,geb.Rechnung!$G$4:$G$1000,0),COLUMN()-2)),\"\",INDEX(geb.Rechnung!$A$4:$G$1000,MATCH(ROW()-5,geb.Rechnung!$G$4:$G$1000,0),COLUMN()-2))","v":""},{"$f":"IF(ISNA(INDEX(geb.Rechnung!$A$4:$G$1000,MATCH(ROW()-5,geb.Rechnung!$G$4:$G$1000,0),COLUMN()+1)),\"\",INDEX(geb.Rechnung!$A$4:$G$1000,MATCH(ROW()-5,geb.Rechnung!$G$4:$G$1000,0),COLUMN()+1))","v":""},{"$f":"IF(ISNA(INDEX(geb.Rechnung!$A$4:$G$1000,MATCH(ROW()-5,geb.Rechnung!$G$4:$G$1000,0),COLUMN()+1)),\"\",INDEX(geb.Rechnung!$A$4:$G$1000,MATCH(ROW()-5,geb.Rechnung!$G$4:$G$1000,0),COLUMN()+1))","v":""}]
[{"$f":"IF(ISNA(INDEX(geb.Rechnung!$A$4:$G$1000,MATCH(ROW()-5,geb.Rechnung!$G$4:$G$1000,0),COLUMN()-1)),\"\",INDEX(geb.Rechnung!$A$4:$G$1000,MATCH(ROW()-5,geb.Rechnung!$G$4:$G$1000,0),COLUMN()-1))","v":""},{"$f":"IF(ISNA(INDEX(geb.Rechnung!$A$4:$G$1000,MATCH(ROW()-5,geb.Rechnung!$G$4:$G$1000,0),COLUMN()-2)),\"\",INDEX(geb.Rechnung!$A$4:$G$1000,MATCH(ROW()-5,geb.Rechnung!$G$4:$G$1000,0),COLUMN()-2))","v":""},{"$f":"IF(ISNA(INDEX(geb.Rechnung!$A$4:$G$1000,MATCH(ROW()-5,geb.Rechnung!$G$4:$G$1000,0),COLUMN()+1)),\"\",INDEX(geb.Rechnung!$A$4:$G$1000,MATCH(ROW()-5,geb.Rechnung!$G$4:$G$1000,0),COLUMN()+1))","v":""},{"$f":"IF(ISNA(INDEX(geb.Rechnung!$A$4:$G$1000,MATCH(ROW()-5,geb.Rechnung!$G$4:$G$1000,0),COLUMN()+1)),\"\",INDEX(geb.Rechnung!$A$4:$G$1000,MATCH(ROW()-5,geb.Rechnung!$G$4:$G$1000,0),COLUMN()+1))","v":""}]
[{"$f":"IF(ISNA(INDEX(geb.Rechnung!$A$4:$G$1000,MATCH(ROW()-5,geb.Rechnung!$G$4:$G$1000,0),COLUMN()-1)),\"\",INDEX(geb.Rechnung!$A$4:$G$1000,MATCH(ROW()-5,geb.Rechnung!$G$4:$G$1000,0),COLUMN()-1))","v":""},{"$f":"IF(ISNA(INDEX(geb.Rechnung!$A$4:$G$1000,MATCH(ROW()-5,geb.Rechnung!$G$4:$G$1000,0),COLUMN()-2)),\"\",INDEX(geb.Rechnung!$A$4:$G$1000,MATCH(ROW()-5,geb.Rechnung!$G$4:$G$1000,0),COLUMN()-2))","v":""},{"$f":"IF(ISNA(INDEX(geb.Rechnung!$A$4:$G$1000,MATCH(ROW()-5,geb.Rechnung!$G$4:$G$1000,0),COLUMN()+1)),\"\",INDEX(geb.Rechnung!$A$4:$G$1000,MATCH(ROW()-5,geb.Rechnung!$G$4:$G$1000,0),COLUMN()+1))","v":""},{"$f":"IF(ISNA(INDEX(geb.Rechnung!$A$4:$G$1000,MATCH(ROW()-5,geb.Rechnung!$G$4:$G$1000,0),COLUMN()+1)),\"\",INDEX(geb.Rechnung!$A$4:$G$1000,MATCH(ROW()-5,geb.Rechnung!$G$4:$G$1000,0),COLUMN()+1))","v":""}]
[{"$f":"IF(ISNA(INDEX(geb.Rechnung!$A$4:$G$1000,MATCH(ROW()-5,geb.Rechnung!$G$4:$G$1000,0),COLUMN()-1)),\"\",INDEX(geb.Rechnung!$A$4:$G$1000,MATCH(ROW()-5,geb.Rechnung!$G$4:$G$1000,0),COLUMN()-1))","v":""},{"$f":"IF(ISNA(INDEX(geb.Rechnung!$A$4:$G$1000,MATCH(ROW()-5,geb.Rechnung!$G$4:$G$1000,0),COLUMN()-2)),\"\",INDEX(geb.Rechnung!$A$4:$G$1000,MATCH(ROW()-5,geb.Rechnung!$G$4:$G$1000,0),COLUMN()-2))","v":""},{"$f":"IF(ISNA(INDEX(geb.Rechnung!$A$4:$G$1000,MATCH(ROW()-5,geb.Rechnung!$G$4:$G$1000,0),COLUMN()+1)),\"\",INDEX(geb.Rechnung!$A$4:$G$1000,MATCH(ROW()-5,geb.Rechnung!$G$4:$G$1000,0),COLUMN()+1))","v":""},{"$f":"IF(ISNA(INDEX(geb.Rechnung!$A$4:$G$1000,MATCH(ROW()-5,geb.Rechnung!$G$4:$G$1000,0),COLUMN()+1)),\"\",INDEX(geb.Rechnung!$A$4:$G$1000,MATCH(ROW()-5,geb.Rechnung!$G$4:$G$1000,0),COLUMN()+1))","v":""}]
[{"$f":"IF(ISNA(INDEX(geb.Rechnung!$A$4:$G$1000,MATCH(ROW()-5,geb.Rechnung!$G$4:$G$1000,0),COLUMN()-1)),\"\",INDEX(geb.Rechnung!$A$4:$G$1000,MATCH(ROW()-5,geb.Rechnung!$G$4:$G$1000,0),COLUMN()-1))","v":""},{"$f":"IF(ISNA(INDEX(geb.Rechnung!$A$4:$G$1000,MATCH(ROW()-5,geb.Rechnung!$G$4:$G$1000,0),COLUMN()-2)),\"\",INDEX(geb.Rechnung!$A$4:$G$1000,MATCH(ROW()-5,geb.Rechnung!$G$4:$G$1000,0),COLUMN()-2))","v":""},{"$f":"IF(ISNA(INDEX(geb.Rechnung!$A$4:$G$1000,MATCH(ROW()-5,geb.Rechnung!$G$4:$G$1000,0),COLUMN()+1)),\"\",INDEX(geb.Rechnung!$A$4:$G$1000,MATCH(ROW()-5,geb.Rechnung!$G$4:$G$1000,0),COLUMN()+1))","v":""},{"$f":"IF(ISNA(INDEX(geb.Rechnung!$A$4:$G$1000,MATCH(ROW()-5,geb.Rechnung!$G$4:$G$1000,0),COLUMN()+1)),\"\",INDEX(geb.Rechnung!$A$4:$G$1000,MATCH(ROW()-5,geb.Rechnung!$G$4:$G$1000,0),COLUMN()+1))","v":""}]
[{"$f":"IF(ISNA(INDEX(geb.Rechnung!$A$4:$G$1000,MATCH(ROW()-5,geb.Rechnung!$G$4:$G$1000,0),COLUMN()-1)),\"\",INDEX(geb.Rechnung!$A$4:$G$1000,MATCH(ROW()-5,geb.Rechnung!$G$4:$G$1000,0),COLUMN()-1))","v":""},{"$f":"IF(ISNA(INDEX(geb.Rechnung!$A$4:$G$1000,MATCH(ROW()-5,geb.Rechnung!$G$4:$G$1000,0),COLUMN()-2)),\"\",INDEX(geb.Rechnung!$A$4:$G$1000,MATCH(ROW()-5,geb.Rechnung!$G$4:$G$1000,0),COLUMN()-2))","v":""},{"$f":"IF(ISNA(INDEX(geb.Rechnung!$A$4:$G$1000,MATCH(ROW()-5,geb.Rechnung!$G$4:$G$1000,0),COLUMN()+1)),\"\",INDEX(geb.Rechnung!$A$4:$G$1000,MATCH(ROW()-5,geb.Rechnung!$G$4:$G$1000,0),COLUMN()+1))","v":""},{"$f":"IF(ISNA(INDEX(geb.Rechnung!$A$4:$G$1000,MATCH(ROW()-5,geb.Rechnung!$G$4:$G$1000,0),COLUMN()+1)),\"\",INDEX(geb.Rechnung!$A$4:$G$1000,MATCH(ROW()-5,geb.Rechnung!$G$4:$G$1000,0),COLUMN()+1))","v":""}]
[{"$f":"IF(ISNA(INDEX(geb.Rechnung!$A$4:$G$1000,MATCH(ROW()-5,geb.Rechnung!$G$4:$G$1000,0),COLUMN()-1)),\"\",INDEX(geb.Rechnung!$A$4:$G$1000,MATCH(ROW()-5,geb.Rechnung!$G$4:$G$1000,0),COLUMN()-1))","v":""},{"$f":"IF(ISNA(INDEX(geb.Rechnung!$A$4:$G$1000,MATCH(ROW()-5,geb.Rechnung!$G$4:$G$1000,0),COLUMN()-2)),\"\",INDEX(geb.Rechnung!$A$4:$G$1000,MATCH(ROW()-5,geb.Rechnung!$G$4:$G$1000,0),COLUMN()-2))","v":""},{"$f":"IF(ISNA(INDEX(geb.Rechnung!$A$4:$G$1000,MATCH(ROW()-5,geb.Rechnung!$G$4:$G$1000,0),COLUMN()+1)),\"\",INDEX(geb.Rechnung!$A$4:$G$1000,MATCH(ROW()-5,geb.Rechnung!$G$4:$G$1000,0),COLUMN()+1))","v":""},{"$f":"IF(ISNA(INDEX(geb.Rechnung!$A$4:$G$1000,MATCH(ROW()-5,geb.Rechnung!$G$4:$G$1000,0),COLUMN()+1)),\"\",INDEX(geb.Rechnung!$A$4:$G$1000,MATCH(ROW()-5,geb.Rechnung!$G$4:$G$1000,0),COLUMN()+1))","v":""}]
[{"$f":"IF(ISNA(INDEX(geb.Rechnung!$A$4:$G$1000,MATCH(ROW()-5,geb.Rechnung!$G$4:$G$1000,0),COLUMN()-1)),\"\",INDEX(geb.Rechnung!$A$4:$G$1000,MATCH(ROW()-5,geb.Rechnung!$G$4:$G$1000,0),COLUMN()-1))","v":""},{"$f":"IF(ISNA(INDEX(geb.Rechnung!$A$4:$G$1000,MATCH(ROW()-5,geb.Rechnung!$G$4:$G$1000,0),COLUMN()-2)),\"\",INDEX(geb.Rechnung!$A$4:$G$1000,MATCH(ROW()-5,geb.Rechnung!$G$4:$G$1000,0),COLUMN()-2))","v":""},{"$f":"IF(ISNA(INDEX(geb.Rechnung!$A$4:$G$1000,MATCH(ROW()-5,geb.Rechnung!$G$4:$G$1000,0),COLUMN()+1)),\"\",INDEX(geb.Rechnung!$A$4:$G$1000,MATCH(ROW()-5,geb.Rechnung!$G$4:$G$1000,0),COLUMN()+1))","v":""},{"$f":"IF(ISNA(INDEX(geb.Rechnung!$A$4:$G$1000,MATCH(ROW()-5,geb.Rechnung!$G$4:$G$1000,0),COLUMN()+1)),\"\",INDEX(geb.Rechnung!$A$4:$G$1000,MATCH(ROW()-5,geb.Rechnung!$G$4:$G$1000,0),COLUMN()+1))","v":""}]
[{"$f":"IF(ISNA(INDEX(geb.Rechnung!$A$4:$G$1000,MATCH(ROW()-5,geb.Rechnung!$G$4:$G$1000,0),COLUMN()-1)),\"\",INDEX(geb.Rechnung!$A$4:$G$1000,MATCH(ROW()-5,geb.Rechnung!$G$4:$G$1000,0),COLUMN()-1))","v":""},{"$f":"IF(ISNA(INDEX(geb.Rechnung!$A$4:$G$1000,MATCH(ROW()-5,geb.Rechnung!$G$4:$G$1000,0),COLUMN()-2)),\"\",INDEX(geb.Rechnung!$A$4:$G$1000,MATCH(ROW()-5,geb.Rechnung!$G$4:$G$1000,0),COLUMN()-2))","v":""},{"$f":"IF(ISNA(INDEX(geb.Rechnung!$A$4:$G$1000,MATCH(ROW()-5,geb.Rechnung!$G$4:$G$1000,0),COLUMN()+1)),\"\",INDEX(geb.Rechnung!$A$4:$G$1000,MATCH(ROW()-5,geb.Rechnung!$G$4:$G$1000,0),COLUMN()+1))","v":""},{"$f":"IF(ISNA(INDEX(geb.Rechnung!$A$4:$G$1000,MATCH(ROW()-5,geb.Rechnung!$G$4:$G$1000,0),COLUMN()+1)),\"\",INDEX(geb.Rechnung!$A$4:$G$1000,MATCH(ROW()-5,geb.Rechnung!$G$4:$G$1000,0),COLUMN()+1))","v":""}]
[{"$f":"IF(ISNA(INDEX(geb.Rechnung!$A$4:$G$1000,MATCH(ROW()-5,geb.Rechnung!$G$4:$G$1000,0),COLUMN()-1)),\"\",INDEX(geb.Rechnung!$A$4:$G$1000,MATCH(ROW()-5,geb.Rechnung!$G$4:$G$1000,0),COLUMN()-1))","v":""},{"$f":"IF(ISNA(INDEX(geb.Rechnung!$A$4:$G$1000,MATCH(ROW()-5,geb.Rechnung!$G$4:$G$1000,0),COLUMN()-2)),\"\",INDEX(geb.Rechnung!$A$4:$G$1000,MATCH(ROW()-5,geb.Rechnung!$G$4:$G$1000,0),COLUMN()-2))","v":""},{"$f":"IF(ISNA(INDEX(geb.Rechnung!$A$4:$G$1000,MATCH(ROW()-5,geb.Rechnung!$G$4:$G$1000,0),COLUMN()+1)),\"\",INDEX(geb.Rechnung!$A$4:$G$1000,MATCH(ROW()-5,geb.Rechnung!$G$4:$G$1000,0),COLUMN()+1))","v":""},{"$f":"IF(ISNA(INDEX(geb.Rechnung!$A$4:$G$1000,MATCH(ROW()-5,geb.Rechnung!$G$4:$G$1000,0),COLUMN()+1)),\"\",INDEX(geb.Rechnung!$A$4:$G$1000,MATCH(ROW()-5,geb.Rechnung!$G$4:$G$1000,0),COLUMN()+1))","v":""}]
[{"$f":"IF(ISNA(INDEX(geb.Rechnung!$A$4:$G$1000,MATCH(ROW()-5,geb.Rechnung!$G$4:$G$1000,0),COLUMN()-1)),\"\",INDEX(geb.Rechnung!$A$4:$G$1000,MATCH(ROW()-5,geb.Rechnung!$G$4:$G$1000,0),COLUMN()-1))","v":""},{"$f":"IF(ISNA(INDEX(geb.Rechnung!$A$4:$G$1000,MATCH(ROW()-5,geb.Rechnung!$G$4:$G$1000,0),COLUMN()-2)),\"\",INDEX(geb.Rechnung!$A$4:$G$1000,MATCH(ROW()-5,geb.Rechnung!$G$4:$G$1000,0),COLUMN()-2))","v":""},{"$f":"IF(ISNA(INDEX(geb.Rechnung!$A$4:$G$1000,MATCH(ROW()-5,geb.Rechnung!$G$4:$G$1000,0),COLUMN()+1)),\"\",INDEX(geb.Rechnung!$A$4:$G$1000,MATCH(ROW()-5,geb.Rechnung!$G$4:$G$1000,0),COLUMN()+1))","v":""},{"$f":"IF(ISNA(INDEX(geb.Rechnung!$A$4:$G$1000,MATCH(ROW()-5,geb.Rechnung!$G$4:$G$1000,0),COLUMN()+1)),\"\",INDEX(geb.Rechnung!$A$4:$G$1000,MATCH(ROW()-5,geb.Rechnung!$G$4:$G$1000,0),COLUMN()+1))","v":""}]
[{"$f":"IF(ISNA(INDEX(geb.Rechnung!$A$4:$G$1000,MATCH(ROW()-5,geb.Rechnung!$G$4:$G$1000,0),COLUMN()-1)),\"\",INDEX(geb.Rechnung!$A$4:$G$1000,MATCH(ROW()-5,geb.Rechnung!$G$4:$G$1000,0),COLUMN()-1))","v":""},{"$f":"IF(ISNA(INDEX(geb.Rechnung!$A$4:$G$1000,MATCH(ROW()-5,geb.Rechnung!$G$4:$G$1000,0),COLUMN()-2)),\"\",INDEX(geb.Rechnung!$A$4:$G$1000,MATCH(ROW()-5,geb.Rechnung!$G$4:$G$1000,0),COLUMN()-2))","v":""},{"$f":"IF(ISNA(INDEX(geb.Rechnung!$A$4:$G$1000,MATCH(ROW()-5,geb.Rechnung!$G$4:$G$1000,0),COLUMN()+1)),\"\",INDEX(geb.Rechnung!$A$4:$G$1000,MATCH(ROW()-5,geb.Rechnung!$G$4:$G$1000,0),COLUMN()+1))","v":""},{"$f":"IF(ISNA(INDEX(geb.Rechnung!$A$4:$G$1000,MATCH(ROW()-5,geb.Rechnung!$G$4:$G$1000,0),COLUMN()+1)),\"\",INDEX(geb.Rechnung!$A$4:$G$1000,MATCH(ROW()-5,geb.Rechnung!$G$4:$G$1000,0),COLUMN()+1))","v":""}]
[{"$f":"IF(ISNA(INDEX(geb.Rechnung!$A$4:$G$1000,MATCH(ROW()-5,geb.Rechnung!$G$4:$G$1000,0),COLUMN()-1)),\"\",INDEX(geb.Rechnung!$A$4:$G$1000,MATCH(ROW()-5,geb.Rechnung!$G$4:$G$1000,0),COLUMN()-1))","v":""},{"$f":"IF(ISNA(INDEX(geb.Rechnung!$A$4:$G$1000,MATCH(ROW()-5,geb.Rechnung!$G$4:$G$1000,0),COLUMN()-2)),\"\",INDEX(geb.Rechnung!$A$4:$G$1000,MATCH(ROW()-5,geb.Rechnung!$G$4:$G$1000,0),COLUMN()-2))","v":""},{"$f":"IF(ISNA(INDEX(geb.Rechnung!$A$4:$G$1000,MATCH(ROW()-5,geb.Rechnung!$G$4:$G$1000,0),COLUMN()+1)),\"\",INDEX(geb.Rechnung!$A$4:$G$1000,MATCH(ROW()-5,geb.Rechnung!$G$4:$G$1000,0),COLUMN()+1))","v":""},{"$f":"IF(ISNA(INDEX(geb.Rechnung!$A$4:$G$1000,MATCH(ROW()-5,geb.Rechnung!$G$4:$G$1000,0),COLUMN()+1)),\"\",INDEX(geb.Rechnung!$A$4:$G$1000,MATCH(ROW()-5,geb.Rechnung!$G$4:$G$1000,0),COLUMN()+1))","v":""}]
[{"$f":"IF(ISNA(INDEX(geb.Rechnung!$A$4:$G$1000,MATCH(ROW()-5,geb.Rechnung!$G$4:$G$1000,0),COLUMN()-1)),\"\",INDEX(geb.Rechnung!$A$4:$G$1000,MATCH(ROW()-5,geb.Rechnung!$G$4:$G$1000,0),COLUMN()-1))","v":""},{"$f":"IF(ISNA(INDEX(geb.Rechnung!$A$4:$G$1000,MATCH(ROW()-5,geb.Rechnung!$G$4:$G$1000,0),COLUMN()-2)),\"\",INDEX(geb.Rechnung!$A$4:$G$1000,MATCH(ROW()-5,geb.Rechnung!$G$4:$G$1000,0),COLUMN()-2))","v":""},{"$f":"IF(ISNA(INDEX(geb.Rechnung!$A$4:$G$1000,MATCH(ROW()-5,geb.Rechnung!$G$4:$G$1000,0),COLUMN()+1)),\"\",INDEX(geb.Rechnung!$A$4:$G$1000,MATCH(ROW()-5,geb.Rechnung!$G$4:$G$1000,0),COLUMN()+1))","v":""},{"$f":"IF(ISNA(INDEX(geb.Rechnung!$A$4:$G$1000,MATCH(ROW()-5,geb.Rechnung!$G$4:$G$1000,0),COLUMN()+1)),\"\",INDEX(geb.Rechnung!$A$4:$G$1000,MATCH(ROW()-5,geb.Rechnung!$G$4:$G$1000,0),COLUMN()+1))","v":""}]
[{"$f":"IF(ISNA(INDEX(geb.Rechnung!$A$4:$G$1000,MATCH(ROW()-5,geb.Rechnung!$G$4:$G$1000,0),COLUMN()-1)),\"\",INDEX(geb.Rechnung!$A$4:$G$1000,MATCH(ROW()-5,geb.Rechnung!$G$4:$G$1000,0),COLUMN()-1))","v":""},{"$f":"IF(ISNA(INDEX(geb.Rechnung!$A$4:$G$1000,MATCH(ROW()-5,geb.Rechnung!$G$4:$G$1000,0),COLUMN()-2)),\"\",INDEX(geb.Rechnung!$A$4:$G$1000,MATCH(ROW()-5,geb.Rechnung!$G$4:$G$1000,0),COLUMN()-2))","v":""},{"$f":"IF(ISNA(INDEX(geb.Rechnung!$A$4:$G$1000,MATCH(ROW()-5,geb.Rechnung!$G$4:$G$1000,0),COLUMN()+1)),\"\",INDEX(geb.Rechnung!$A$4:$G$1000,MATCH(ROW()-5,geb.Rechnung!$G$4:$G$1000,0),COLUMN()+1))","v":""},{"$f":"IF(ISNA(INDEX(geb.Rechnung!$A$4:$G$1000,MATCH(ROW()-5,geb.Rechnung!$G$4:$G$1000,0),COLUMN()+1)),\"\",INDEX(geb.Rechnung!$A$4:$G$1000,MATCH(ROW()-5,geb.Rechnung!$G$4:$G$1000,0),COLUMN()+1))","v":""}]
[{"$f":"IF(ISNA(INDEX(geb.Rechnung!$A$4:$G$1000,MATCH(ROW()-5,geb.Rechnung!$G$4:$G$1000,0),COLUMN()-1)),\"\",INDEX(geb.Rechnung!$A$4:$G$1000,MATCH(ROW()-5,geb.Rechnung!$G$4:$G$1000,0),COLUMN()-1))","v":""},{"$f":"IF(ISNA(INDEX(geb.Rechnung!$A$4:$G$1000,MATCH(ROW()-5,geb.Rechnung!$G$4:$G$1000,0),COLUMN()-2)),\"\",INDEX(geb.Rechnung!$A$4:$G$1000,MATCH(ROW()-5,geb.Rechnung!$G$4:$G$1000,0),COLUMN()-2))","v":""},{"$f":"IF(ISNA(INDEX(geb.Rechnung!$A$4:$G$1000,MATCH(ROW()-5,geb.Rechnung!$G$4:$G$1000,0),COLUMN()+1)),\"\",INDEX(geb.Rechnung!$A$4:$G$1000,MATCH(ROW()-5,geb.Rechnung!$G$4:$G$1000,0),COLUMN()+1))","v":""},{"$f":"IF(ISNA(INDEX(geb.Rechnung!$A$4:$G$1000,MATCH(ROW()-5,geb.Rechnung!$G$4:$G$1000,0),COLUMN()+1)),\"\",INDEX(geb.Rechnung!$A$4:$G$1000,MATCH(ROW()-5,geb.Rechnung!$G$4:$G$1000,0),COLUMN()+1))","v":""}]
[{"$f":"IF(ISNA(INDEX(geb.Rechnung!$A$4:$G$1000,MATCH(ROW()-5,geb.Rechnung!$G$4:$G$1000,0),COLUMN()-1)),\"\",INDEX(geb.Rechnung!$A$4:$G$1000,MATCH(ROW()-5,geb.Rechnung!$G$4:$G$1000,0),COLUMN()-1))","v":""},{"$f":"IF(ISNA(INDEX(geb.Rechnung!$A$4:$G$1000,MATCH(ROW()-5,geb.Rechnung!$G$4:$G$1000,0),COLUMN()-2)),\"\",INDEX(geb.Rechnung!$A$4:$G$1000,MATCH(ROW()-5,geb.Rechnung!$G$4:$G$1000,0),COLUMN()-2))","v":""},{"$f":"IF(ISNA(INDEX(geb.Rechnung!$A$4:$G$1000,MATCH(ROW()-5,geb.Rechnung!$G$4:$G$1000,0),COLUMN()+1)),\"\",INDEX(geb.Rechnung!$A$4:$G$1000,MATCH(ROW()-5,geb.Rechnung!$G$4:$G$1000,0),COLUMN()+1))","v":""},{"$f":"IF(ISNA(INDEX(geb.Rechnung!$A$4:$G$1000,MATCH(ROW()-5,geb.Rechnung!$G$4:$G$1000,0),COLUMN()+1)),\"\",INDEX(geb.Rechnung!$A$4:$G$1000,MATCH(ROW()-5,geb.Rechnung!$G$4:$G$1000,0),COLUMN()+1))","v":""}]
[{"$f":"IF(ISNA(INDEX(geb.Rechnung!$A$4:$G$1000,MATCH(ROW()-5,geb.Rechnung!$G$4:$G$1000,0),COLUMN()-1)),\"\",INDEX(geb.Rechnung!$A$4:$G$1000,MATCH(ROW()-5,geb.Rechnung!$G$4:$G$1000,0),COLUMN()-1))","v":""},{"$f":"IF(ISNA(INDEX(geb.Rechnung!$A$4:$G$1000,MATCH(ROW()-5,geb.Rechnung!$G$4:$G$1000,0),COLUMN()-2)),\"\",INDEX(geb.Rechnung!$A$4:$G$1000,MATCH(ROW()-5,geb.Rechnung!$G$4:$G$1000,0),COLUMN()-2))","v":""},{"$f":"IF(ISNA(INDEX(geb.Rechnung!$A$4:$G$1000,MATCH(ROW()-5,geb.Rechnung!$G$4:$G$1000,0),COLUMN()+1)),\"\",INDEX(geb.Rechnung!$A$4:$G$1000,MATCH(ROW()-5,geb.Rechnung!$G$4:$G$1000,0),COLUMN()+1))","v":""},{"$f":"IF(ISNA(INDEX(geb.Rechnung!$A$4:$G$1000,MATCH(ROW()-5,geb.Rechnung!$G$4:$G$1000,0),COLUMN()+1)),\"\",INDEX(geb.Rechnung!$A$4:$G$1000,MATCH(ROW()-5,geb.Rechnung!$G$4:$G$1000,0),COLUMN()+1))","v":""}]
[{"$f":"IF(ISNA(INDEX(geb.Rechnung!$A$4:$G$1000,MATCH(ROW()-5,geb.Rechnung!$G$4:$G$1000,0),COLUMN()-1)),\"\",INDEX(geb.Rechnung!$A$4:$G$1000,MATCH(ROW()-5,geb.Rechnung!$G$4:$G$1000,0),COLUMN()-1))","v":""},{"$f":"IF(ISNA(INDEX(geb.Rechnung!$A$4:$G$1000,MATCH(ROW()-5,geb.Rechnung!$G$4:$G$1000,0),COLUMN()-2)),\"\",INDEX(geb.Rechnung!$A$4:$G$1000,MATCH(ROW()-5,geb.Rechnung!$G$4:$G$1000,0),COLUMN()-2))","v":""},{"$f":"IF(ISNA(INDEX(geb.Rechnung!$A$4:$G$1000,MATCH(ROW()-5,geb.Rechnung!$G$4:$G$1000,0),COLUMN()+1)),\"\",INDEX(geb.Rechnung!$A$4:$G$1000,MATCH(ROW()-5,geb.Rechnung!$G$4:$G$1000,0),COLUMN()+1))","v":""},{"$f":"IF(ISNA(INDEX(geb.Rechnung!$A$4:$G$1000,MATCH(ROW()-5,geb.Rechnung!$G$4:$G$1000,0),COLUMN()+1)),\"\",INDEX(geb.Rechnung!$A$4:$G$1000,MATCH(ROW()-5,geb.Rechnung!$G$4:$G$1000,0),COLUMN()+1))","v":""}]
[{"$f":"IF(ISNA(INDEX(geb.Rechnung!$A$4:$G$1000,MATCH(ROW()-5,geb.Rechnung!$G$4:$G$1000,0),COLUMN()-1)),\"\",INDEX(geb.Rechnung!$A$4:$G$1000,MATCH(ROW()-5,geb.Rechnung!$G$4:$G$1000,0),COLUMN()-1))","v":""},{"$f":"IF(ISNA(INDEX(geb.Rechnung!$A$4:$G$1000,MATCH(ROW()-5,geb.Rechnung!$G$4:$G$1000,0),COLUMN()-2)),\"\",INDEX(geb.Rechnung!$A$4:$G$1000,MATCH(ROW()-5,geb.Rechnung!$G$4:$G$1000,0),COLUMN()-2))","v":""},{"$f":"IF(ISNA(INDEX(geb.Rechnung!$A$4:$G$1000,MATCH(ROW()-5,geb.Rechnung!$G$4:$G$1000,0),COLUMN()+1)),\"\",INDEX(geb.Rechnung!$A$4:$G$1000,MATCH(ROW()-5,geb.Rechnung!$G$4:$G$1000,0),COLUMN()+1))","v":""},{"$f":"IF(ISNA(INDEX(geb.Rechnung!$A$4:$G$1000,MATCH(ROW()-5,geb.Rechnung!$G$4:$G$1000,0),COLUMN()+1)),\"\",INDEX(geb.Rechnung!$A$4:$G$1000,MATCH(ROW()-5,geb.Rechnung!$G$4:$G$1000,0),COLUMN()+1))","v":""}]
[{"$f":"IF(ISNA(INDEX(geb.Rechnung!$A$4:$G$1000,MATCH(ROW()-5,geb.Rechnung!$G$4:$G$1000,0),COLUMN()-1)),\"\",INDEX(geb.Rechnung!$A$4:$G$1000,MATCH(ROW()-5,geb.Rechnung!$G$4:$G$1000,0),COLUMN()-1))","v":""},{"$f":"IF(ISNA(INDEX(geb.Rechnung!$A$4:$G$1000,MATCH(ROW()-5,geb.Rechnung!$G$4:$G$1000,0),COLUMN()-2)),\"\",INDEX(geb.Rechnung!$A$4:$G$1000,MATCH(ROW()-5,geb.Rechnung!$G$4:$G$1000,0),COLUMN()-2))","v":""},{"$f":"IF(ISNA(INDEX(geb.Rechnung!$A$4:$G$1000,MATCH(ROW()-5,geb.Rechnung!$G$4:$G$1000,0),COLUMN()+1)),\"\",INDEX(geb.Rechnung!$A$4:$G$1000,MATCH(ROW()-5,geb.Rechnung!$G$4:$G$1000,0),COLUMN()+1))","v":""},{"$f":"IF(ISNA(INDEX(geb.Rechnung!$A$4:$G$1000,MATCH(ROW()-5,geb.Rechnung!$G$4:$G$1000,0),COLUMN()+1)),\"\",INDEX(geb.Rechnung!$A$4:$G$1000,MATCH(ROW()-5,geb.Rechnung!$G$4:$G$1000,0),COLUMN()+1))","v":""}]
[{"$f":"IF(ISNA(INDEX(geb.Rechnung!$A$4:$G$1000,MATCH(ROW()-5,geb.Rechnung!$G$4:$G$1000,0),COLUMN()-1)),\"\",INDEX(geb.Rechnung!$A$4:$G$1000,MATCH(ROW()-5,geb.Rechnung!$G$4:$G$1000,0),COLUMN()-1))","v":""},{"$f":"IF(ISNA(INDEX(geb.Rechnung!$A$4:$G$1000,MATCH(ROW()-5,geb.Rechnung!$G$4:$G$1000,0),COLUMN()-2)),\"\",INDEX(geb.Rechnung!$A$4:$G$1000,MATCH(ROW()-5,geb.Rechnung!$G$4:$G$1000,0),COLUMN()-2))","v":""},{"$f":"IF(ISNA(INDEX(geb.Rechnung!$A$4:$G$1000,MATCH(ROW()-5,geb.Rechnung!$G$4:$G$1000,0),COLUMN()+1)),\"\",INDEX(geb.Rechnung!$A$4:$G$1000,MATCH(ROW()-5,geb.Rechnung!$G$4:$G$1000,0),COLUMN()+1))","v":""},{"$f":"IF(ISNA(INDEX(geb.Rechnung!$A$4:$G$1000,MATCH(ROW()-5,geb.Rechnung!$G$4:$G$1000,0),COLUMN()+1)),\"\",INDEX(geb.Rechnung!$A$4:$G$1000,MATCH(ROW()-5,geb.Rechnung!$G$4:$G$1000,0),COLUMN()+1))","v":""}]
[{"$f":"IF(ISNA(INDEX(geb.Rechnung!$A$4:$G$1000,MATCH(ROW()-5,geb.Rechnung!$G$4:$G$1000,0),COLUMN()-1)),\"\",INDEX(geb.Rechnung!$A$4:$G$1000,MATCH(ROW()-5,geb.Rechnung!$G$4:$G$1000,0),COLUMN()-1))","v":""},{"$f":"IF(ISNA(INDEX(geb.Rechnung!$A$4:$G$1000,MATCH(ROW()-5,geb.Rechnung!$G$4:$G$1000,0),COLUMN()-2)),\"\",INDEX(geb.Rechnung!$A$4:$G$1000,MATCH(ROW()-5,geb.Rechnung!$G$4:$G$1000,0),COLUMN()-2))","v":""},{"$f":"IF(ISNA(INDEX(geb.Rechnung!$A$4:$G$1000,MATCH(ROW()-5,geb.Rechnung!$G$4:$G$1000,0),COLUMN()+1)),\"\",INDEX(geb.Rechnung!$A$4:$G$1000,MATCH(ROW()-5,geb.Rechnung!$G$4:$G$1000,0),COLUMN()+1))","v":""},{"$f":"IF(ISNA(INDEX(geb.Rechnung!$A$4:$G$1000,MATCH(ROW()-5,geb.Rechnung!$G$4:$G$1000,0),COLUMN()+1)),\"\",INDEX(geb.Rechnung!$A$4:$G$1000,MATCH(ROW()-5,geb.Rechnung!$G$4:$G$1000,0),COLUMN()+1))","v":""}]
[{"$f":"IF(ISNA(INDEX(geb.Rechnung!$A$4:$G$1000,MATCH(ROW()-5,geb.Rechnung!$G$4:$G$1000,0),COLUMN()-1)),\"\",INDEX(geb.Rechnung!$A$4:$G$1000,MATCH(ROW()-5,geb.Rechnung!$G$4:$G$1000,0),COLUMN()-1))","v":""},{"$f":"IF(ISNA(INDEX(geb.Rechnung!$A$4:$G$1000,MATCH(ROW()-5,geb.Rechnung!$G$4:$G$1000,0),COLUMN()-2)),\"\",INDEX(geb.Rechnung!$A$4:$G$1000,MATCH(ROW()-5,geb.Rechnung!$G$4:$G$1000,0),COLUMN()-2))","v":""},{"$f":"IF(ISNA(INDEX(geb.Rechnung!$A$4:$G$1000,MATCH(ROW()-5,geb.Rechnung!$G$4:$G$1000,0),COLUMN()+1)),\"\",INDEX(geb.Rechnung!$A$4:$G$1000,MATCH(ROW()-5,geb.Rechnung!$G$4:$G$1000,0),COLUMN()+1))","v":""},{"$f":"IF(ISNA(INDEX(geb.Rechnung!$A$4:$G$1000,MATCH(ROW()-5,geb.Rechnung!$G$4:$G$1000,0),COLUMN()+1)),\"\",INDEX(geb.Rechnung!$A$4:$G$1000,MATCH(ROW()-5,geb.Rechnung!$G$4:$G$1000,0),COLUMN()+1))","v":""}]
[{"$f":"IF(ISNA(INDEX(geb.Rechnung!$A$4:$G$1000,MATCH(ROW()-5,geb.Rechnung!$G$4:$G$1000,0),COLUMN()-1)),\"\",INDEX(geb.Rechnung!$A$4:$G$1000,MATCH(ROW()-5,geb.Rechnung!$G$4:$G$1000,0),COLUMN()-1))","v":""},{"$f":"IF(ISNA(INDEX(geb.Rechnung!$A$4:$G$1000,MATCH(ROW()-5,geb.Rechnung!$G$4:$G$1000,0),COLUMN()-2)),\"\",INDEX(geb.Rechnung!$A$4:$G$1000,MATCH(ROW()-5,geb.Rechnung!$G$4:$G$1000,0),COLUMN()-2))","v":""},{"$f":"IF(ISNA(INDEX(geb.Rechnung!$A$4:$G$1000,MATCH(ROW()-5,geb.Rechnung!$G$4:$G$1000,0),COLUMN()+1)),\"\",INDEX(geb.Rechnung!$A$4:$G$1000,MATCH(ROW()-5,geb.Rechnung!$G$4:$G$1000,0),COLUMN()+1))","v":""},{"$f":"IF(ISNA(INDEX(geb.Rechnung!$A$4:$G$1000,MATCH(ROW()-5,geb.Rechnung!$G$4:$G$1000,0),COLUMN()+1)),\"\",INDEX(geb.Rechnung!$A$4:$G$1000,MATCH(ROW()-5,geb.Rechnung!$G$4:$G$1000,0),COLUMN()+1))","v":""}]
[{"$f":"IF(ISNA(INDEX(geb.Rechnung!$A$4:$G$1000,MATCH(ROW()-5,geb.Rechnung!$G$4:$G$1000,0),COLUMN()-1)),\"\",INDEX(geb.Rechnung!$A$4:$G$1000,MATCH(ROW()-5,geb.Rechnung!$G$4:$G$1000,0),COLUMN()-1))","v":""},{"$f":"IF(ISNA(INDEX(geb.Rechnung!$A$4:$G$1000,MATCH(ROW()-5,geb.Rechnung!$G$4:$G$1000,0),COLUMN()-2)),\"\",INDEX(geb.Rechnung!$A$4:$G$1000,MATCH(ROW()-5,geb.Rechnung!$G$4:$G$1000,0),COLUMN()-2))","v":""},{"$f":"IF(ISNA(INDEX(geb.Rechnung!$A$4:$G$1000,MATCH(ROW()-5,geb.Rechnung!$G$4:$G$1000,0),COLUMN()+1)),\"\",INDEX(geb.Rechnung!$A$4:$G$1000,MATCH(ROW()-5,geb.Rechnung!$G$4:$G$1000,0),COLUMN()+1))","v":""},{"$f":"IF(ISNA(INDEX(geb.Rechnung!$A$4:$G$1000,MATCH(ROW()-5,geb.Rechnung!$G$4:$G$1000,0),COLUMN()+1)),\"\",INDEX(geb.Rechnung!$A$4:$G$1000,MATCH(ROW()-5,geb.Rechnung!$G$4:$G$1000,0),COLUMN()+1))","v":""}]
[{"$f":"IF(ISNA(INDEX(geb.Rechnung!$A$4:$G$1000,MATCH(ROW()-5,geb.Rechnung!$G$4:$G$1000,0),COLUMN()-1)),\"\",INDEX(geb.Rechnung!$A$4:$G$1000,MATCH(ROW()-5,geb.Rechnung!$G$4:$G$1000,0),COLUMN()-1))","v":""},{"$f":"IF(ISNA(INDEX(geb.Rechnung!$A$4:$G$1000,MATCH(ROW()-5,geb.Rechnung!$G$4:$G$1000,0),COLUMN()-2)),\"\",INDEX(geb.Rechnung!$A$4:$G$1000,MATCH(ROW()-5,geb.Rechnung!$G$4:$G$1000,0),COLUMN()-2))","v":""},{"$f":"IF(ISNA(INDEX(geb.Rechnung!$A$4:$G$1000,MATCH(ROW()-5,geb.Rechnung!$G$4:$G$1000,0),COLUMN()+1)),\"\",INDEX(geb.Rechnung!$A$4:$G$1000,MATCH(ROW()-5,geb.Rechnung!$G$4:$G$1000,0),COLUMN()+1))","v":""},{"$f":"IF(ISNA(INDEX(geb.Rechnung!$A$4:$G$1000,MATCH(ROW()-5,geb.Rechnung!$G$4:$G$1000,0),COLUMN()+1)),\"\",INDEX(geb.Rechnung!$A$4:$G$1000,MATCH(ROW()-5,geb.Rechnung!$G$4:$G$1000,0),COLUMN()+1))","v":""}]
[{"$f":"IF(ISNA(INDEX(geb.Rechnung!$A$4:$G$1000,MATCH(ROW()-5,geb.Rechnung!$G$4:$G$1000,0),COLUMN()-1)),\"\",INDEX(geb.Rechnung!$A$4:$G$1000,MATCH(ROW()-5,geb.Rechnung!$G$4:$G$1000,0),COLUMN()-1))","v":""},{"$f":"IF(ISNA(INDEX(geb.Rechnung!$A$4:$G$1000,MATCH(ROW()-5,geb.Rechnung!$G$4:$G$1000,0),COLUMN()-2)),\"\",INDEX(geb.Rechnung!$A$4:$G$1000,MATCH(ROW()-5,geb.Rechnung!$G$4:$G$1000,0),COLUMN()-2))","v":""},{"$f":"IF(ISNA(INDEX(geb.Rechnung!$A$4:$G$1000,MATCH(ROW()-5,geb.Rechnung!$G$4:$G$1000,0),COLUMN()+1)),\"\",INDEX(geb.Rechnung!$A$4:$G$1000,MATCH(ROW()-5,geb.Rechnung!$G$4:$G$1000,0),COLUMN()+1))","v":""},{"$f":"IF(ISNA(INDEX(geb.Rechnung!$A$4:$G$1000,MATCH(ROW()-5,geb.Rechnung!$G$4:$G$1000,0),COLUMN()+1)),\"\",INDEX(geb.Rechnung!$A$4:$G$1000,MATCH(ROW()-5,geb.Rechnung!$G$4:$G$1000,0),COLUMN()+1))","v":""}]
[{"$f":"IF(ISNA(INDEX(geb.Rechnung!$A$4:$G$1000,MATCH(ROW()-5,geb.Rechnung!$G$4:$G$1000,0),COLUMN()-1)),\"\",INDEX(geb.Rechnung!$A$4:$G$1000,MATCH(ROW()-5,geb.Rechnung!$G$4:$G$1000,0),COLUMN()-1))","v":""},{"$f":"IF(ISNA(INDEX(geb.Rechnung!$A$4:$G$1000,MATCH(ROW()-5,geb.Rechnung!$G$4:$G$1000,0),COLUMN()-2)),\"\",INDEX(geb.Rechnung!$A$4:$G$1000,MATCH(ROW()-5,geb.Rechnung!$G$4:$G$1000,0),COLUMN()-2))","v":""},{"$f":"IF(ISNA(INDEX(geb.Rechnung!$A$4:$G$1000,MATCH(ROW()-5,geb.Rechnung!$G$4:$G$1000,0),COLUMN()+1)),\"\",INDEX(geb.Rechnung!$A$4:$G$1000,MATCH(ROW()-5,geb.Rechnung!$G$4:$G$1000,0),COLUMN()+1))","v":""},{"$f":"IF(ISNA(INDEX(geb.Rechnung!$A$4:$G$1000,MATCH(ROW()-5,geb.Rechnung!$G$4:$G$1000,0),COLUMN()+1)),\"\",INDEX(geb.Rechnung!$A$4:$G$1000,MATCH(ROW()-5,geb.Rechnung!$G$4:$G$1000,0),COLUMN()+1))","v":""}]
[{"$f":"IF(ISNA(INDEX(geb.Rechnung!$A$4:$G$1000,MATCH(ROW()-5,geb.Rechnung!$G$4:$G$1000,0),COLUMN()-1)),\"\",INDEX(geb.Rechnung!$A$4:$G$1000,MATCH(ROW()-5,geb.Rechnung!$G$4:$G$1000,0),COLUMN()-1))","v":""},{"$f":"IF(ISNA(INDEX(geb.Rechnung!$A$4:$G$1000,MATCH(ROW()-5,geb.Rechnung!$G$4:$G$1000,0),COLUMN()-2)),\"\",INDEX(geb.Rechnung!$A$4:$G$1000,MATCH(ROW()-5,geb.Rechnung!$G$4:$G$1000,0),COLUMN()-2))","v":""},{"$f":"IF(ISNA(INDEX(geb.Rechnung!$A$4:$G$1000,MATCH(ROW()-5,geb.Rechnung!$G$4:$G$1000,0),COLUMN()+1)),\"\",INDEX(geb.Rechnung!$A$4:$G$1000,MATCH(ROW()-5,geb.Rechnung!$G$4:$G$1000,0),COLUMN()+1))","v":""},{"$f":"IF(ISNA(INDEX(geb.Rechnung!$A$4:$G$1000,MATCH(ROW()-5,geb.Rechnung!$G$4:$G$1000,0),COLUMN()+1)),\"\",INDEX(geb.Rechnung!$A$4:$G$1000,MATCH(ROW()-5,geb.Rechnung!$G$4:$G$1000,0),COLUMN()+1))","v":""}]
[{"$f":"IF(ISNA(INDEX(geb.Rechnung!$A$4:$G$1000,MATCH(ROW()-5,geb.Rechnung!$G$4:$G$1000,0),COLUMN()-1)),\"\",INDEX(geb.Rechnung!$A$4:$G$1000,MATCH(ROW()-5,geb.Rechnung!$G$4:$G$1000,0),COLUMN()-1))","v":""},{"$f":"IF(ISNA(INDEX(geb.Rechnung!$A$4:$G$1000,MATCH(ROW()-5,geb.Rechnung!$G$4:$G$1000,0),COLUMN()-2)),\"\",INDEX(geb.Rechnung!$A$4:$G$1000,MATCH(ROW()-5,geb.Rechnung!$G$4:$G$1000,0),COLUMN()-2))","v":""},{"$f":"IF(ISNA(INDEX(geb.Rechnung!$A$4:$G$1000,MATCH(ROW()-5,geb.Rechnung!$G$4:$G$1000,0),COLUMN()+1)),\"\",INDEX(geb.Rechnung!$A$4:$G$1000,MATCH(ROW()-5,geb.Rechnung!$G$4:$G$1000,0),COLUMN()+1))","v":""},{"$f":"IF(ISNA(INDEX(geb.Rechnung!$A$4:$G$1000,MATCH(ROW()-5,geb.Rechnung!$G$4:$G$1000,0),COLUMN()+1)),\"\",INDEX(geb.Rechnung!$A$4:$G$1000,MATCH(ROW()-5,geb.Rechnung!$G$4:$G$1000,0),COLUMN()+1))","v":""}]
[{"$f":"IF(ISNA(INDEX(geb.Rechnung!$A$4:$G$1000,MATCH(ROW()-5,geb.Rechnung!$G$4:$G$1000,0),COLUMN()-1)),\"\",INDEX(geb.Rechnung!$A$4:$G$1000,MATCH(ROW()-5,geb.Rechnung!$G$4:$G$1000,0),COLUMN()-1))","v":""},{"$f":"IF(ISNA(INDEX(geb.Rechnung!$A$4:$G$1000,MATCH(ROW()-5,geb.Rechnung!$G$4:$G$1000,0),COLUMN()-2)),\"\",INDEX(geb.Rechnung!$A$4:$G$1000,MATCH(ROW()-5,geb.Rechnung!$G$4:$G$1000,0),COLUMN()-2))","v":""},{"$f":"IF(ISNA(INDEX(geb.Rechnung!$A$4:$G$1000,MATCH(ROW()-5,geb.Rechnung!$G$4:$G$1000,0),COLUMN()+1)),\"\",INDEX(geb.Rechnung!$A$4:$G$1000,MATCH(ROW()-5,geb.Rechnung!$G$4:$G$1000,0),COLUMN()+1))","v":""},{"$f":"IF(ISNA(INDEX(geb.Rechnung!$A$4:$G$1000,MATCH(ROW()-5,geb.Rechnung!$G$4:$G$1000,0),COLUMN()+1)),\"\",INDEX(geb.Rechnung!$A$4:$G$1000,MATCH(ROW()-5,geb.Rechnung!$G$4:$G$1000,0),COLUMN()+1))","v":""}]
[{"$f":"IF(ISNA(INDEX(geb.Rechnung!$A$4:$G$1000,MATCH(ROW()-5,geb.Rechnung!$G$4:$G$1000,0),COLUMN()-1)),\"\",INDEX(geb.Rechnung!$A$4:$G$1000,MATCH(ROW()-5,geb.Rechnung!$G$4:$G$1000,0),COLUMN()-1))","v":""},{"$f":"IF(ISNA(INDEX(geb.Rechnung!$A$4:$G$1000,MATCH(ROW()-5,geb.Rechnung!$G$4:$G$1000,0),COLUMN()-2)),\"\",INDEX(geb.Rechnung!$A$4:$G$1000,MATCH(ROW()-5,geb.Rechnung!$G$4:$G$1000,0),COLUMN()-2))","v":""},{"$f":"IF(ISNA(INDEX(geb.Rechnung!$A$4:$G$1000,MATCH(ROW()-5,geb.Rechnung!$G$4:$G$1000,0),COLUMN()+1)),\"\",INDEX(geb.Rechnung!$A$4:$G$1000,MATCH(ROW()-5,geb.Rechnung!$G$4:$G$1000,0),COLUMN()+1))","v":""},{"$f":"IF(ISNA(INDEX(geb.Rechnung!$A$4:$G$1000,MATCH(ROW()-5,geb.Rechnung!$G$4:$G$1000,0),COLUMN()+1)),\"\",INDEX(geb.Rechnung!$A$4:$G$1000,MATCH(ROW()-5,geb.Rechnung!$G$4:$G$1000,0),COLUMN()+1))","v":""}]
[{"$f":"IF(ISNA(INDEX(geb.Rechnung!$A$4:$G$1000,MATCH(ROW()-5,geb.Rechnung!$G$4:$G$1000,0),COLUMN()-1)),\"\",INDEX(geb.Rechnung!$A$4:$G$1000,MATCH(ROW()-5,geb.Rechnung!$G$4:$G$1000,0),COLUMN()-1))","v":""},{"$f":"IF(ISNA(INDEX(geb.Rechnung!$A$4:$G$1000,MATCH(ROW()-5,geb.Rechnung!$G$4:$G$1000,0),COLUMN()-2)),\"\",INDEX(geb.Rechnung!$A$4:$G$1000,MATCH(ROW()-5,geb.Rechnung!$G$4:$G$1000,0),COLUMN()-2))","v":""},{"$f":"IF(ISNA(INDEX(geb.Rechnung!$A$4:$G$1000,MATCH(ROW()-5,geb.Rechnung!$G$4:$G$1000,0),COLUMN()+1)),\"\",INDEX(geb.Rechnung!$A$4:$G$1000,MATCH(ROW()-5,geb.Rechnung!$G$4:$G$1000,0),COLUMN()+1))","v":""},{"$f":"IF(ISNA(INDEX(geb.Rechnung!$A$4:$G$1000,MATCH(ROW()-5,geb.Rechnung!$G$4:$G$1000,0),COLUMN()+1)),\"\",INDEX(geb.Rechnung!$A$4:$G$1000,MATCH(ROW()-5,geb.Rechnung!$G$4:$G$1000,0),COLUMN()+1))","v":""}]
[{"$f":"IF(ISNA(INDEX(geb.Rechnung!$A$4:$G$1000,MATCH(ROW()-5,geb.Rechnung!$G$4:$G$1000,0),COLUMN()-1)),\"\",INDEX(geb.Rechnung!$A$4:$G$1000,MATCH(ROW()-5,geb.Rechnung!$G$4:$G$1000,0),COLUMN()-1))","v":""},{"$f":"IF(ISNA(INDEX(geb.Rechnung!$A$4:$G$1000,MATCH(ROW()-5,geb.Rechnung!$G$4:$G$1000,0),COLUMN()-2)),\"\",INDEX(geb.Rechnung!$A$4:$G$1000,MATCH(ROW()-5,geb.Rechnung!$G$4:$G$1000,0),COLUMN()-2))","v":""},{"$f":"IF(ISNA(INDEX(geb.Rechnung!$A$4:$G$1000,MATCH(ROW()-5,geb.Rechnung!$G$4:$G$1000,0),COLUMN()+1)),\"\",INDEX(geb.Rechnung!$A$4:$G$1000,MATCH(ROW()-5,geb.Rechnung!$G$4:$G$1000,0),COLUMN()+1))","v":""},{"$f":"IF(ISNA(INDEX(geb.Rechnung!$A$4:$G$1000,MATCH(ROW()-5,geb.Rechnung!$G$4:$G$1000,0),COLUMN()+1)),\"\",INDEX(geb.Rechnung!$A$4:$G$1000,MATCH(ROW()-5,geb.Rechnung!$G$4:$G$1000,0),COLUMN()+1))","v":""}]
[{"$f":"IF(ISNA(INDEX(geb.Rechnung!$A$4:$G$1000,MATCH(ROW()-5,geb.Rechnung!$G$4:$G$1000,0),COLUMN()-1)),\"\",INDEX(geb.Rechnung!$A$4:$G$1000,MATCH(ROW()-5,geb.Rechnung!$G$4:$G$1000,0),COLUMN()-1))","v":""},{"$f":"IF(ISNA(INDEX(geb.Rechnung!$A$4:$G$1000,MATCH(ROW()-5,geb.Rechnung!$G$4:$G$1000,0),COLUMN()-2)),\"\",INDEX(geb.Rechnung!$A$4:$G$1000,MATCH(ROW()-5,geb.Rechnung!$G$4:$G$1000,0),COLUMN()-2))","v":""},{"$f":"IF(ISNA(INDEX(geb.Rechnung!$A$4:$G$1000,MATCH(ROW()-5,geb.Rechnung!$G$4:$G$1000,0),COLUMN()+1)),\"\",INDEX(geb.Rechnung!$A$4:$G$1000,MATCH(ROW()-5,geb.Rechnung!$G$4:$G$1000,0),COLUMN()+1))","v":""},{"$f":"IF(ISNA(INDEX(geb.Rechnung!$A$4:$G$1000,MATCH(ROW()-5,geb.Rechnung!$G$4:$G$1000,0),COLUMN()+1)),\"\",INDEX(geb.Rechnung!$A$4:$G$1000,MATCH(ROW()-5,geb.Rechnung!$G$4:$G$1000,0),COLUMN()+1))","v":""}]
[{"$f":"IF(ISNA(INDEX(geb.Rechnung!$A$4:$G$1000,MATCH(ROW()-5,geb.Rechnung!$G$4:$G$1000,0),COLUMN()-1)),\"\",INDEX(geb.Rechnung!$A$4:$G$1000,MATCH(ROW()-5,geb.Rechnung!$G$4:$G$1000,0),COLUMN()-1))","v":""},{"$f":"IF(ISNA(INDEX(geb.Rechnung!$A$4:$G$1000,MATCH(ROW()-5,geb.Rechnung!$G$4:$G$1000,0),COLUMN()-2)),\"\",INDEX(geb.Rechnung!$A$4:$G$1000,MATCH(ROW()-5,geb.Rechnung!$G$4:$G$1000,0),COLUMN()-2))","v":""},{"$f":"IF(ISNA(INDEX(geb.Rechnung!$A$4:$G$1000,MATCH(ROW()-5,geb.Rechnung!$G$4:$G$1000,0),COLUMN()+1)),\"\",INDEX(geb.Rechnung!$A$4:$G$1000,MATCH(ROW()-5,geb.Rechnung!$G$4:$G$1000,0),COLUMN()+1))","v":""},{"$f":"IF(ISNA(INDEX(geb.Rechnung!$A$4:$G$1000,MATCH(ROW()-5,geb.Rechnung!$G$4:$G$1000,0),COLUMN()+1)),\"\",INDEX(geb.Rechnung!$A$4:$G$1000,MATCH(ROW()-5,geb.Rechnung!$G$4:$G$1000,0),COLUMN()+1))","v":""}]
[{"$f":"IF(ISNA(INDEX(geb.Rechnung!$A$4:$G$1000,MATCH(ROW()-5,geb.Rechnung!$G$4:$G$1000,0),COLUMN()-1)),\"\",INDEX(geb.Rechnung!$A$4:$G$1000,MATCH(ROW()-5,geb.Rechnung!$G$4:$G$1000,0),COLUMN()-1))","v":""},{"$f":"IF(ISNA(INDEX(geb.Rechnung!$A$4:$G$1000,MATCH(ROW()-5,geb.Rechnung!$G$4:$G$1000,0),COLUMN()-2)),\"\",INDEX(geb.Rechnung!$A$4:$G$1000,MATCH(ROW()-5,geb.Rechnung!$G$4:$G$1000,0),COLUMN()-2))","v":""},{"$f":"IF(ISNA(INDEX(geb.Rechnung!$A$4:$G$1000,MATCH(ROW()-5,geb.Rechnung!$G$4:$G$1000,0),COLUMN()+1)),\"\",INDEX(geb.Rechnung!$A$4:$G$1000,MATCH(ROW()-5,geb.Rechnung!$G$4:$G$1000,0),COLUMN()+1))","v":""},{"$f":"IF(ISNA(INDEX(geb.Rechnung!$A$4:$G$1000,MATCH(ROW()-5,geb.Rechnung!$G$4:$G$1000,0),COLUMN()+1)),\"\",INDEX(geb.Rechnung!$A$4:$G$1000,MATCH(ROW()-5,geb.Rechnung!$G$4:$G$1000,0),COLUMN()+1))","v":""}]
[{"$f":"IF(ISNA(INDEX(geb.Rechnung!$A$4:$G$1000,MATCH(ROW()-5,geb.Rechnung!$G$4:$G$1000,0),COLUMN()-1)),\"\",INDEX(geb.Rechnung!$A$4:$G$1000,MATCH(ROW()-5,geb.Rechnung!$G$4:$G$1000,0),COLUMN()-1))","v":""},{"$f":"IF(ISNA(INDEX(geb.Rechnung!$A$4:$G$1000,MATCH(ROW()-5,geb.Rechnung!$G$4:$G$1000,0),COLUMN()-2)),\"\",INDEX(geb.Rechnung!$A$4:$G$1000,MATCH(ROW()-5,geb.Rechnung!$G$4:$G$1000,0),COLUMN()-2))","v":""},{"$f":"IF(ISNA(INDEX(geb.Rechnung!$A$4:$G$1000,MATCH(ROW()-5,geb.Rechnung!$G$4:$G$1000,0),COLUMN()+1)),\"\",INDEX(geb.Rechnung!$A$4:$G$1000,MATCH(ROW()-5,geb.Rechnung!$G$4:$G$1000,0),COLUMN()+1))","v":""},{"$f":"IF(ISNA(INDEX(geb.Rechnung!$A$4:$G$1000,MATCH(ROW()-5,geb.Rechnung!$G$4:$G$1000,0),COLUMN()+1)),\"\",INDEX(geb.Rechnung!$A$4:$G$1000,MATCH(ROW()-5,geb.Rechnung!$G$4:$G$1000,0),COLUMN()+1))","v":""}]
[{"$f":"IF(ISNA(INDEX(geb.Rechnung!$A$4:$G$1000,MATCH(ROW()-5,geb.Rechnung!$G$4:$G$1000,0),COLUMN()-1)),\"\",INDEX(geb.Rechnung!$A$4:$G$1000,MATCH(ROW()-5,geb.Rechnung!$G$4:$G$1000,0),COLUMN()-1))","v":""},{"$f":"IF(ISNA(INDEX(geb.Rechnung!$A$4:$G$1000,MATCH(ROW()-5,geb.Rechnung!$G$4:$G$1000,0),COLUMN()-2)),\"\",INDEX(geb.Rechnung!$A$4:$G$1000,MATCH(ROW()-5,geb.Rechnung!$G$4:$G$1000,0),COLUMN()-2))","v":""},{"$f":"IF(ISNA(INDEX(geb.Rechnung!$A$4:$G$1000,MATCH(ROW()-5,geb.Rechnung!$G$4:$G$1000,0),COLUMN()+1)),\"\",INDEX(geb.Rechnung!$A$4:$G$1000,MATCH(ROW()-5,geb.Rechnung!$G$4:$G$1000,0),COLUMN()+1))","v":""},{"$f":"IF(ISNA(INDEX(geb.Rechnung!$A$4:$G$1000,MATCH(ROW()-5,geb.Rechnung!$G$4:$G$1000,0),COLUMN()+1)),\"\",INDEX(geb.Rechnung!$A$4:$G$1000,MATCH(ROW()-5,geb.Rechnung!$G$4:$G$1000,0),COLUMN()+1))","v":""}]
[{"$f":"IF(ISNA(INDEX(geb.Rechnung!$A$4:$G$1000,MATCH(ROW()-5,geb.Rechnung!$G$4:$G$1000,0),COLUMN()-1)),\"\",INDEX(geb.Rechnung!$A$4:$G$1000,MATCH(ROW()-5,geb.Rechnung!$G$4:$G$1000,0),COLUMN()-1))","v":""},{"$f":"IF(ISNA(INDEX(geb.Rechnung!$A$4:$G$1000,MATCH(ROW()-5,geb.Rechnung!$G$4:$G$1000,0),COLUMN()-2)),\"\",INDEX(geb.Rechnung!$A$4:$G$1000,MATCH(ROW()-5,geb.Rechnung!$G$4:$G$1000,0),COLUMN()-2))","v":""},{"$f":"IF(ISNA(INDEX(geb.Rechnung!$A$4:$G$1000,MATCH(ROW()-5,geb.Rechnung!$G$4:$G$1000,0),COLUMN()+1)),\"\",INDEX(geb.Rechnung!$A$4:$G$1000,MATCH(ROW()-5,geb.Rechnung!$G$4:$G$1000,0),COLUMN()+1))","v":""},{"$f":"IF(ISNA(INDEX(geb.Rechnung!$A$4:$G$1000,MATCH(ROW()-5,geb.Rechnung!$G$4:$G$1000,0),COLUMN()+1)),\"\",INDEX(geb.Rechnung!$A$4:$G$1000,MATCH(ROW()-5,geb.Rechnung!$G$4:$G$1000,0),COLUMN()+1))","v":""}]
[{"$f":"IF(ISNA(INDEX(geb.Rechnung!$A$4:$G$1000,MATCH(ROW()-5,geb.Rechnung!$G$4:$G$1000,0),COLUMN()-1)),\"\",INDEX(geb.Rechnung!$A$4:$G$1000,MATCH(ROW()-5,geb.Rechnung!$G$4:$G$1000,0),COLUMN()-1))","v":""},{"$f":"IF(ISNA(INDEX(geb.Rechnung!$A$4:$G$1000,MATCH(ROW()-5,geb.Rechnung!$G$4:$G$1000,0),COLUMN()-2)),\"\",INDEX(geb.Rechnung!$A$4:$G$1000,MATCH(ROW()-5,geb.Rechnung!$G$4:$G$1000,0),COLUMN()-2))","v":""},{"$f":"IF(ISNA(INDEX(geb.Rechnung!$A$4:$G$1000,MATCH(ROW()-5,geb.Rechnung!$G$4:$G$1000,0),COLUMN()+1)),\"\",INDEX(geb.Rechnung!$A$4:$G$1000,MATCH(ROW()-5,geb.Rechnung!$G$4:$G$1000,0),COLUMN()+1))","v":""},{"$f":"IF(ISNA(INDEX(geb.Rechnung!$A$4:$G$1000,MATCH(ROW()-5,geb.Rechnung!$G$4:$G$1000,0),COLUMN()+1)),\"\",INDEX(geb.Rechnung!$A$4:$G$1000,MATCH(ROW()-5,geb.Rechnung!$G$4:$G$1000,0),COLUMN()+1))","v":""}]
[{"$f":"IF(ISNA(INDEX(geb.Rechnung!$A$4:$G$1000,MATCH(ROW()-5,geb.Rechnung!$G$4:$G$1000,0),COLUMN()-1)),\"\",INDEX(geb.Rechnung!$A$4:$G$1000,MATCH(ROW()-5,geb.Rechnung!$G$4:$G$1000,0),COLUMN()-1))","v":""},{"$f":"IF(ISNA(INDEX(geb.Rechnung!$A$4:$G$1000,MATCH(ROW()-5,geb.Rechnung!$G$4:$G$1000,0),COLUMN()-2)),\"\",INDEX(geb.Rechnung!$A$4:$G$1000,MATCH(ROW()-5,geb.Rechnung!$G$4:$G$1000,0),COLUMN()-2))","v":""},{"$f":"IF(ISNA(INDEX(geb.Rechnung!$A$4:$G$1000,MATCH(ROW()-5,geb.Rechnung!$G$4:$G$1000,0),COLUMN()+1)),\"\",INDEX(geb.Rechnung!$A$4:$G$1000,MATCH(ROW()-5,geb.Rechnung!$G$4:$G$1000,0),COLUMN()+1))","v":""},{"$f":"IF(ISNA(INDEX(geb.Rechnung!$A$4:$G$1000,MATCH(ROW()-5,geb.Rechnung!$G$4:$G$1000,0),COLUMN()+1)),\"\",INDEX(geb.Rechnung!$A$4:$G$1000,MATCH(ROW()-5,geb.Rechnung!$G$4:$G$1000,0),COLUMN()+1))","v":""}]
[{"$f":"IF(ISNA(INDEX(geb.Rechnung!$A$4:$G$1000,MATCH(ROW()-5,geb.Rechnung!$G$4:$G$1000,0),COLUMN()-1)),\"\",INDEX(geb.Rechnung!$A$4:$G$1000,MATCH(ROW()-5,geb.Rechnung!$G$4:$G$1000,0),COLUMN()-1))","v":""},{"$f":"IF(ISNA(INDEX(geb.Rechnung!$A$4:$G$1000,MATCH(ROW()-5,geb.Rechnung!$G$4:$G$1000,0),COLUMN()-2)),\"\",INDEX(geb.Rechnung!$A$4:$G$1000,MATCH(ROW()-5,geb.Rechnung!$G$4:$G$1000,0),COLUMN()-2))","v":""},{"$f":"IF(ISNA(INDEX(geb.Rechnung!$A$4:$G$1000,MATCH(ROW()-5,geb.Rechnung!$G$4:$G$1000,0),COLUMN()+1)),\"\",INDEX(geb.Rechnung!$A$4:$G$1000,MATCH(ROW()-5,geb.Rechnung!$G$4:$G$1000,0),COLUMN()+1))","v":""},{"$f":"IF(ISNA(INDEX(geb.Rechnung!$A$4:$G$1000,MATCH(ROW()-5,geb.Rechnung!$G$4:$G$1000,0),COLUMN()+1)),\"\",INDEX(geb.Rechnung!$A$4:$G$1000,MATCH(ROW()-5,geb.Rechnung!$G$4:$G$1000,0),COLUMN()+1))","v":""}]
[{"$f":"IF(ISNA(INDEX(geb.Rechnung!$A$4:$G$1000,MATCH(ROW()-5,geb.Rechnung!$G$4:$G$1000,0),COLUMN()-1)),\"\",INDEX(geb.Rechnung!$A$4:$G$1000,MATCH(ROW()-5,geb.Rechnung!$G$4:$G$1000,0),COLUMN()-1))","v":""},{"$f":"IF(ISNA(INDEX(geb.Rechnung!$A$4:$G$1000,MATCH(ROW()-5,geb.Rechnung!$G$4:$G$1000,0),COLUMN()-2)),\"\",INDEX(geb.Rechnung!$A$4:$G$1000,MATCH(ROW()-5,geb.Rechnung!$G$4:$G$1000,0),COLUMN()-2))","v":""},{"$f":"IF(ISNA(INDEX(geb.Rechnung!$A$4:$G$1000,MATCH(ROW()-5,geb.Rechnung!$G$4:$G$1000,0),COLUMN()+1)),\"\",INDEX(geb.Rechnung!$A$4:$G$1000,MATCH(ROW()-5,geb.Rechnung!$G$4:$G$1000,0),COLUMN()+1))","v":""},{"$f":"IF(ISNA(INDEX(geb.Rechnung!$A$4:$G$1000,MATCH(ROW()-5,geb.Rechnung!$G$4:$G$1000,0),COLUMN()+1)),\"\",INDEX(geb.Rechnung!$A$4:$G$1000,MATCH(ROW()-5,geb.Rechnung!$G$4:$G$1000,0),COLUMN()+1))","v":""}]
[{"$f":"IF(ISNA(INDEX(geb.Rechnung!$A$4:$G$1000,MATCH(ROW()-5,geb.Rechnung!$G$4:$G$1000,0),COLUMN()-1)),\"\",INDEX(geb.Rechnung!$A$4:$G$1000,MATCH(ROW()-5,geb.Rechnung!$G$4:$G$1000,0),COLUMN()-1))","v":""},{"$f":"IF(ISNA(INDEX(geb.Rechnung!$A$4:$G$1000,MATCH(ROW()-5,geb.Rechnung!$G$4:$G$1000,0),COLUMN()-2)),\"\",INDEX(geb.Rechnung!$A$4:$G$1000,MATCH(ROW()-5,geb.Rechnung!$G$4:$G$1000,0),COLUMN()-2))","v":""},{"$f":"IF(ISNA(INDEX(geb.Rechnung!$A$4:$G$1000,MATCH(ROW()-5,geb.Rechnung!$G$4:$G$1000,0),COLUMN()+1)),\"\",INDEX(geb.Rechnung!$A$4:$G$1000,MATCH(ROW()-5,geb.Rechnung!$G$4:$G$1000,0),COLUMN()+1))","v":""},{"$f":"IF(ISNA(INDEX(geb.Rechnung!$A$4:$G$1000,MATCH(ROW()-5,geb.Rechnung!$G$4:$G$1000,0),COLUMN()+1)),\"\",INDEX(geb.Rechnung!$A$4:$G$1000,MATCH(ROW()-5,geb.Rechnung!$G$4:$G$1000,0),COLUMN()+1))","v":""}]
[{"$f":"IF(ISNA(INDEX(geb.Rechnung!$A$4:$G$1000,MATCH(ROW()-5,geb.Rechnung!$G$4:$G$1000,0),COLUMN()-1)),\"\",INDEX(geb.Rechnung!$A$4:$G$1000,MATCH(ROW()-5,geb.Rechnung!$G$4:$G$1000,0),COLUMN()-1))","v":""},{"$f":"IF(ISNA(INDEX(geb.Rechnung!$A$4:$G$1000,MATCH(ROW()-5,geb.Rechnung!$G$4:$G$1000,0),COLUMN()-2)),\"\",INDEX(geb.Rechnung!$A$4:$G$1000,MATCH(ROW()-5,geb.Rechnung!$G$4:$G$1000,0),COLUMN()-2))","v":""},{"$f":"IF(ISNA(INDEX(geb.Rechnung!$A$4:$G$1000,MATCH(ROW()-5,geb.Rechnung!$G$4:$G$1000,0),COLUMN()+1)),\"\",INDEX(geb.Rechnung!$A$4:$G$1000,MATCH(ROW()-5,geb.Rechnung!$G$4:$G$1000,0),COLUMN()+1))","v":""},{"$f":"IF(ISNA(INDEX(geb.Rechnung!$A$4:$G$1000,MATCH(ROW()-5,geb.Rechnung!$G$4:$G$1000,0),COLUMN()+1)),\"\",INDEX(geb.Rechnung!$A$4:$G$1000,MATCH(ROW()-5,geb.Rechnung!$G$4:$G$1000,0),COLUMN()+1))","v":""}]
[{"$f":"IF(ISNA(INDEX(geb.Rechnung!$A$4:$G$1000,MATCH(ROW()-5,geb.Rechnung!$G$4:$G$1000,0),COLUMN()-1)),\"\",INDEX(geb.Rechnung!$A$4:$G$1000,MATCH(ROW()-5,geb.Rechnung!$G$4:$G$1000,0),COLUMN()-1))","v":""},{"$f":"IF(ISNA(INDEX(geb.Rechnung!$A$4:$G$1000,MATCH(ROW()-5,geb.Rechnung!$G$4:$G$1000,0),COLUMN()-2)),\"\",INDEX(geb.Rechnung!$A$4:$G$1000,MATCH(ROW()-5,geb.Rechnung!$G$4:$G$1000,0),COLUMN()-2))","v":""},{"$f":"IF(ISNA(INDEX(geb.Rechnung!$A$4:$G$1000,MATCH(ROW()-5,geb.Rechnung!$G$4:$G$1000,0),COLUMN()+1)),\"\",INDEX(geb.Rechnung!$A$4:$G$1000,MATCH(ROW()-5,geb.Rechnung!$G$4:$G$1000,0),COLUMN()+1))","v":""},{"$f":"IF(ISNA(INDEX(geb.Rechnung!$A$4:$G$1000,MATCH(ROW()-5,geb.Rechnung!$G$4:$G$1000,0),COLUMN()+1)),\"\",INDEX(geb.Rechnung!$A$4:$G$1000,MATCH(ROW()-5,geb.Rechnung!$G$4:$G$1000,0),COLUMN()+1))","v":""}]
[{"$f":"IF(ISNA(INDEX(geb.Rechnung!$A$4:$G$1000,MATCH(ROW()-5,geb.Rechnung!$G$4:$G$1000,0),COLUMN()-1)),\"\",INDEX(geb.Rechnung!$A$4:$G$1000,MATCH(ROW()-5,geb.Rechnung!$G$4:$G$1000,0),COLUMN()-1))","v":""},{"$f":"IF(ISNA(INDEX(geb.Rechnung!$A$4:$G$1000,MATCH(ROW()-5,geb.Rechnung!$G$4:$G$1000,0),COLUMN()-2)),\"\",INDEX(geb.Rechnung!$A$4:$G$1000,MATCH(ROW()-5,geb.Rechnung!$G$4:$G$1000,0),COLUMN()-2))","v":""},{"$f":"IF(ISNA(INDEX(geb.Rechnung!$A$4:$G$1000,MATCH(ROW()-5,geb.Rechnung!$G$4:$G$1000,0),COLUMN()+1)),\"\",INDEX(geb.Rechnung!$A$4:$G$1000,MATCH(ROW()-5,geb.Rechnung!$G$4:$G$1000,0),COLUMN()+1))","v":""},{"$f":"IF(ISNA(INDEX(geb.Rechnung!$A$4:$G$1000,MATCH(ROW()-5,geb.Rechnung!$G$4:$G$1000,0),COLUMN()+1)),\"\",INDEX(geb.Rechnung!$A$4:$G$1000,MATCH(ROW()-5,geb.Rechnung!$G$4:$G$1000,0),COLUMN()+1))","v":""}]
[{"$f":"IF(ISNA(INDEX(geb.Rechnung!$A$4:$G$1000,MATCH(ROW()-5,geb.Rechnung!$G$4:$G$1000,0),COLUMN()-1)),\"\",INDEX(geb.Rechnung!$A$4:$G$1000,MATCH(ROW()-5,geb.Rechnung!$G$4:$G$1000,0),COLUMN()-1))","v":""},{"$f":"IF(ISNA(INDEX(geb.Rechnung!$A$4:$G$1000,MATCH(ROW()-5,geb.Rechnung!$G$4:$G$1000,0),COLUMN()-2)),\"\",INDEX(geb.Rechnung!$A$4:$G$1000,MATCH(ROW()-5,geb.Rechnung!$G$4:$G$1000,0),COLUMN()-2))","v":""},{"$f":"IF(ISNA(INDEX(geb.Rechnung!$A$4:$G$1000,MATCH(ROW()-5,geb.Rechnung!$G$4:$G$1000,0),COLUMN()+1)),\"\",INDEX(geb.Rechnung!$A$4:$G$1000,MATCH(ROW()-5,geb.Rechnung!$G$4:$G$1000,0),COLUMN()+1))","v":""},{"$f":"IF(ISNA(INDEX(geb.Rechnung!$A$4:$G$1000,MATCH(ROW()-5,geb.Rechnung!$G$4:$G$1000,0),COLUMN()+1)),\"\",INDEX(geb.Rechnung!$A$4:$G$1000,MATCH(ROW()-5,geb.Rechnung!$G$4:$G$1000,0),COLUMN()+1))","v":""}]
[{"$f":"IF(ISNA(INDEX(geb.Rechnung!$A$4:$G$1000,MATCH(ROW()-5,geb.Rechnung!$G$4:$G$1000,0),COLUMN()-1)),\"\",INDEX(geb.Rechnung!$A$4:$G$1000,MATCH(ROW()-5,geb.Rechnung!$G$4:$G$1000,0),COLUMN()-1))","v":""},{"$f":"IF(ISNA(INDEX(geb.Rechnung!$A$4:$G$1000,MATCH(ROW()-5,geb.Rechnung!$G$4:$G$1000,0),COLUMN()-2)),\"\",INDEX(geb.Rechnung!$A$4:$G$1000,MATCH(ROW()-5,geb.Rechnung!$G$4:$G$1000,0),COLUMN()-2))","v":""},{"$f":"IF(ISNA(INDEX(geb.Rechnung!$A$4:$G$1000,MATCH(ROW()-5,geb.Rechnung!$G$4:$G$1000,0),COLUMN()+1)),\"\",INDEX(geb.Rechnung!$A$4:$G$1000,MATCH(ROW()-5,geb.Rechnung!$G$4:$G$1000,0),COLUMN()+1))","v":""},{"$f":"IF(ISNA(INDEX(geb.Rechnung!$A$4:$G$1000,MATCH(ROW()-5,geb.Rechnung!$G$4:$G$1000,0),COLUMN()+1)),\"\",INDEX(geb.Rechnung!$A$4:$G$1000,MATCH(ROW()-5,geb.Rechnung!$G$4:$G$1000,0),COLUMN()+1))","v":""}]
[{"$f":"IF(ISNA(INDEX(geb.Rechnung!$A$4:$G$1000,MATCH(ROW()-5,geb.Rechnung!$G$4:$G$1000,0),COLUMN()-1)),\"\",INDEX(geb.Rechnung!$A$4:$G$1000,MATCH(ROW()-5,geb.Rechnung!$G$4:$G$1000,0),COLUMN()-1))","v":""},{"$f":"IF(ISNA(INDEX(geb.Rechnung!$A$4:$G$1000,MATCH(ROW()-5,geb.Rechnung!$G$4:$G$1000,0),COLUMN()-2)),\"\",INDEX(geb.Rechnung!$A$4:$G$1000,MATCH(ROW()-5,geb.Rechnung!$G$4:$G$1000,0),COLUMN()-2))","v":""},{"$f":"IF(ISNA(INDEX(geb.Rechnung!$A$4:$G$1000,MATCH(ROW()-5,geb.Rechnung!$G$4:$G$1000,0),COLUMN()+1)),\"\",INDEX(geb.Rechnung!$A$4:$G$1000,MATCH(ROW()-5,geb.Rechnung!$G$4:$G$1000,0),COLUMN()+1))","v":""},{"$f":"IF(ISNA(INDEX(geb.Rechnung!$A$4:$G$1000,MATCH(ROW()-5,geb.Rechnung!$G$4:$G$1000,0),COLUMN()+1)),\"\",INDEX(geb.Rechnung!$A$4:$G$1000,MATCH(ROW()-5,geb.Rechnung!$G$4:$G$1000,0),COLUMN()+1))","v":""}]
[{"$f":"IF(ISNA(INDEX(geb.Rechnung!$A$4:$G$1000,MATCH(ROW()-5,geb.Rechnung!$G$4:$G$1000,0),COLUMN()-1)),\"\",INDEX(geb.Rechnung!$A$4:$G$1000,MATCH(ROW()-5,geb.Rechnung!$G$4:$G$1000,0),COLUMN()-1))","v":""},{"$f":"IF(ISNA(INDEX(geb.Rechnung!$A$4:$G$1000,MATCH(ROW()-5,geb.Rechnung!$G$4:$G$1000,0),COLUMN()-2)),\"\",INDEX(geb.Rechnung!$A$4:$G$1000,MATCH(ROW()-5,geb.Rechnung!$G$4:$G$1000,0),COLUMN()-2))","v":""},{"$f":"IF(ISNA(INDEX(geb.Rechnung!$A$4:$G$1000,MATCH(ROW()-5,geb.Rechnung!$G$4:$G$1000,0),COLUMN()+1)),\"\",INDEX(geb.Rechnung!$A$4:$G$1000,MATCH(ROW()-5,geb.Rechnung!$G$4:$G$1000,0),COLUMN()+1))","v":""},{"$f":"IF(ISNA(INDEX(geb.Rechnung!$A$4:$G$1000,MATCH(ROW()-5,geb.Rechnung!$G$4:$G$1000,0),COLUMN()+1)),\"\",INDEX(geb.Rechnung!$A$4:$G$1000,MATCH(ROW()-5,geb.Rechnung!$G$4:$G$1000,0),COLUMN()+1))","v":""}]
[{"$f":"IF(ISNA(INDEX(geb.Rechnung!$A$4:$G$1000,MATCH(ROW()-5,geb.Rechnung!$G$4:$G$1000,0),COLUMN()-1)),\"\",INDEX(geb.Rechnung!$A$4:$G$1000,MATCH(ROW()-5,geb.Rechnung!$G$4:$G$1000,0),COLUMN()-1))","v":""},{"$f":"IF(ISNA(INDEX(geb.Rechnung!$A$4:$G$1000,MATCH(ROW()-5,geb.Rechnung!$G$4:$G$1000,0),COLUMN()-2)),\"\",INDEX(geb.Rechnung!$A$4:$G$1000,MATCH(ROW()-5,geb.Rechnung!$G$4:$G$1000,0),COLUMN()-2))","v":""},{"$f":"IF(ISNA(INDEX(geb.Rechnung!$A$4:$G$1000,MATCH(ROW()-5,geb.Rechnung!$G$4:$G$1000,0),COLUMN()+1)),\"\",INDEX(geb.Rechnung!$A$4:$G$1000,MATCH(ROW()-5,geb.Rechnung!$G$4:$G$1000,0),COLUMN()+1))","v":""},{"$f":"IF(ISNA(INDEX(geb.Rechnung!$A$4:$G$1000,MATCH(ROW()-5,geb.Rechnung!$G$4:$G$1000,0),COLUMN()+1)),\"\",INDEX(geb.Rechnung!$A$4:$G$1000,MATCH(ROW()-5,geb.Rechnung!$G$4:$G$1000,0),COLUMN()+1))","v":""}]
[{"$f":"IF(ISNA(INDEX(geb.Rechnung!$A$4:$G$1000,MATCH(ROW()-5,geb.Rechnung!$G$4:$G$1000,0),COLUMN()-1)),\"\",INDEX(geb.Rechnung!$A$4:$G$1000,MATCH(ROW()-5,geb.Rechnung!$G$4:$G$1000,0),COLUMN()-1))","v":""},{"$f":"IF(ISNA(INDEX(geb.Rechnung!$A$4:$G$1000,MATCH(ROW()-5,geb.Rechnung!$G$4:$G$1000,0),COLUMN()-2)),\"\",INDEX(geb.Rechnung!$A$4:$G$1000,MATCH(ROW()-5,geb.Rechnung!$G$4:$G$1000,0),COLUMN()-2))","v":""},{"$f":"IF(ISNA(INDEX(geb.Rechnung!$A$4:$G$1000,MATCH(ROW()-5,geb.Rechnung!$G$4:$G$1000,0),COLUMN()+1)),\"\",INDEX(geb.Rechnung!$A$4:$G$1000,MATCH(ROW()-5,geb.Rechnung!$G$4:$G$1000,0),COLUMN()+1))","v":""},{"$f":"IF(ISNA(INDEX(geb.Rechnung!$A$4:$G$1000,MATCH(ROW()-5,geb.Rechnung!$G$4:$G$1000,0),COLUMN()+1)),\"\",INDEX(geb.Rechnung!$A$4:$G$1000,MATCH(ROW()-5,geb.Rechnung!$G$4:$G$1000,0),COLUMN()+1))","v":""}]
[{"$f":"IF(ISNA(INDEX(geb.Rechnung!$A$4:$G$1000,MATCH(ROW()-5,geb.Rechnung!$G$4:$G$1000,0),COLUMN()-1)),\"\",INDEX(geb.Rechnung!$A$4:$G$1000,MATCH(ROW()-5,geb.Rechnung!$G$4:$G$1000,0),COLUMN()-1))","v":""},{"$f":"IF(ISNA(INDEX(geb.Rechnung!$A$4:$G$1000,MATCH(ROW()-5,geb.Rechnung!$G$4:$G$1000,0),COLUMN()-2)),\"\",INDEX(geb.Rechnung!$A$4:$G$1000,MATCH(ROW()-5,geb.Rechnung!$G$4:$G$1000,0),COLUMN()-2))","v":""},{"$f":"IF(ISNA(INDEX(geb.Rechnung!$A$4:$G$1000,MATCH(ROW()-5,geb.Rechnung!$G$4:$G$1000,0),COLUMN()+1)),\"\",INDEX(geb.Rechnung!$A$4:$G$1000,MATCH(ROW()-5,geb.Rechnung!$G$4:$G$1000,0),COLUMN()+1))","v":""},{"$f":"IF(ISNA(INDEX(geb.Rechnung!$A$4:$G$1000,MATCH(ROW()-5,geb.Rechnung!$G$4:$G$1000,0),COLUMN()+1)),\"\",INDEX(geb.Rechnung!$A$4:$G$1000,MATCH(ROW()-5,geb.Rechnung!$G$4:$G$1000,0),COLUMN()+1))","v":""}]
[{"$f":"IF(ISNA(INDEX(geb.Rechnung!$A$4:$G$1000,MATCH(ROW()-5,geb.Rechnung!$G$4:$G$1000,0),COLUMN()-1)),\"\",INDEX(geb.Rechnung!$A$4:$G$1000,MATCH(ROW()-5,geb.Rechnung!$G$4:$G$1000,0),COLUMN()-1))","v":""},{"$f":"IF(ISNA(INDEX(geb.Rechnung!$A$4:$G$1000,MATCH(ROW()-5,geb.Rechnung!$G$4:$G$1000,0),COLUMN()-2)),\"\",INDEX(geb.Rechnung!$A$4:$G$1000,MATCH(ROW()-5,geb.Rechnung!$G$4:$G$1000,0),COLUMN()-2))","v":""},{"$f":"IF(ISNA(INDEX(geb.Rechnung!$A$4:$G$1000,MATCH(ROW()-5,geb.Rechnung!$G$4:$G$1000,0),COLUMN()+1)),\"\",INDEX(geb.Rechnung!$A$4:$G$1000,MATCH(ROW()-5,geb.Rechnung!$G$4:$G$1000,0),COLUMN()+1))","v":""},{"$f":"IF(ISNA(INDEX(geb.Rechnung!$A$4:$G$1000,MATCH(ROW()-5,geb.Rechnung!$G$4:$G$1000,0),COLUMN()+1)),\"\",INDEX(geb.Rechnung!$A$4:$G$1000,MATCH(ROW()-5,geb.Rechnung!$G$4:$G$1000,0),COLUMN()+1))","v":""}]
[{"$f":"IF(ISNA(INDEX(geb.Rechnung!$A$4:$G$1000,MATCH(ROW()-5,geb.Rechnung!$G$4:$G$1000,0),COLUMN()-1)),\"\",INDEX(geb.Rechnung!$A$4:$G$1000,MATCH(ROW()-5,geb.Rechnung!$G$4:$G$1000,0),COLUMN()-1))","v":""},{"$f":"IF(ISNA(INDEX(geb.Rechnung!$A$4:$G$1000,MATCH(ROW()-5,geb.Rechnung!$G$4:$G$1000,0),COLUMN()-2)),\"\",INDEX(geb.Rechnung!$A$4:$G$1000,MATCH(ROW()-5,geb.Rechnung!$G$4:$G$1000,0),COLUMN()-2))","v":""},{"$f":"IF(ISNA(INDEX(geb.Rechnung!$A$4:$G$1000,MATCH(ROW()-5,geb.Rechnung!$G$4:$G$1000,0),COLUMN()+1)),\"\",INDEX(geb.Rechnung!$A$4:$G$1000,MATCH(ROW()-5,geb.Rechnung!$G$4:$G$1000,0),COLUMN()+1))","v":""},{"$f":"IF(ISNA(INDEX(geb.Rechnung!$A$4:$G$1000,MATCH(ROW()-5,geb.Rechnung!$G$4:$G$1000,0),COLUMN()+1)),\"\",INDEX(geb.Rechnung!$A$4:$G$1000,MATCH(ROW()-5,geb.Rechnung!$G$4:$G$1000,0),COLUMN()+1))","v":""}]
[{"$f":"IF(ISNA(INDEX(geb.Rechnung!$A$4:$G$1000,MATCH(ROW()-5,geb.Rechnung!$G$4:$G$1000,0),COLUMN()-1)),\"\",INDEX(geb.Rechnung!$A$4:$G$1000,MATCH(ROW()-5,geb.Rechnung!$G$4:$G$1000,0),COLUMN()-1))","v":""},{"$f":"IF(ISNA(INDEX(geb.Rechnung!$A$4:$G$1000,MATCH(ROW()-5,geb.Rechnung!$G$4:$G$1000,0),COLUMN()-2)),\"\",INDEX(geb.Rechnung!$A$4:$G$1000,MATCH(ROW()-5,geb.Rechnung!$G$4:$G$1000,0),COLUMN()-2))","v":""},{"$f":"IF(ISNA(INDEX(geb.Rechnung!$A$4:$G$1000,MATCH(ROW()-5,geb.Rechnung!$G$4:$G$1000,0),COLUMN()+1)),\"\",INDEX(geb.Rechnung!$A$4:$G$1000,MATCH(ROW()-5,geb.Rechnung!$G$4:$G$1000,0),COLUMN()+1))","v":""},{"$f":"IF(ISNA(INDEX(geb.Rechnung!$A$4:$G$1000,MATCH(ROW()-5,geb.Rechnung!$G$4:$G$1000,0),COLUMN()+1)),\"\",INDEX(geb.Rechnung!$A$4:$G$1000,MATCH(ROW()-5,geb.Rechnung!$G$4:$G$1000,0),COLUMN()+1))","v":""}]
[{"$f":"IF(ISNA(INDEX(geb.Rechnung!$A$4:$G$1000,MATCH(ROW()-5,geb.Rechnung!$G$4:$G$1000,0),COLUMN()-1)),\"\",INDEX(geb.Rechnung!$A$4:$G$1000,MATCH(ROW()-5,geb.Rechnung!$G$4:$G$1000,0),COLUMN()-1))","v":""},{"$f":"IF(ISNA(INDEX(geb.Rechnung!$A$4:$G$1000,MATCH(ROW()-5,geb.Rechnung!$G$4:$G$1000,0),COLUMN()-2)),\"\",INDEX(geb.Rechnung!$A$4:$G$1000,MATCH(ROW()-5,geb.Rechnung!$G$4:$G$1000,0),COLUMN()-2))","v":""},{"$f":"IF(ISNA(INDEX(geb.Rechnung!$A$4:$G$1000,MATCH(ROW()-5,geb.Rechnung!$G$4:$G$1000,0),COLUMN()+1)),\"\",INDEX(geb.Rechnung!$A$4:$G$1000,MATCH(ROW()-5,geb.Rechnung!$G$4:$G$1000,0),COLUMN()+1))","v":""},{"$f":"IF(ISNA(INDEX(geb.Rechnung!$A$4:$G$1000,MATCH(ROW()-5,geb.Rechnung!$G$4:$G$1000,0),COLUMN()+1)),\"\",INDEX(geb.Rechnung!$A$4:$G$1000,MATCH(ROW()-5,geb.Rechnung!$G$4:$G$1000,0),COLUMN()+1))","v":""}]
[{"$f":"IF(ISNA(INDEX(geb.Rechnung!$A$4:$G$1000,MATCH(ROW()-5,geb.Rechnung!$G$4:$G$1000,0),COLUMN()-1)),\"\",INDEX(geb.Rechnung!$A$4:$G$1000,MATCH(ROW()-5,geb.Rechnung!$G$4:$G$1000,0),COLUMN()-1))","v":""},{"$f":"IF(ISNA(INDEX(geb.Rechnung!$A$4:$G$1000,MATCH(ROW()-5,geb.Rechnung!$G$4:$G$1000,0),COLUMN()-2)),\"\",INDEX(geb.Rechnung!$A$4:$G$1000,MATCH(ROW()-5,geb.Rechnung!$G$4:$G$1000,0),COLUMN()-2))","v":""},{"$f":"IF(ISNA(INDEX(geb.Rechnung!$A$4:$G$1000,MATCH(ROW()-5,geb.Rechnung!$G$4:$G$1000,0),COLUMN()+1)),\"\",INDEX(geb.Rechnung!$A$4:$G$1000,MATCH(ROW()-5,geb.Rechnung!$G$4:$G$1000,0),COLUMN()+1))","v":""},{"$f":"IF(ISNA(INDEX(geb.Rechnung!$A$4:$G$1000,MATCH(ROW()-5,geb.Rechnung!$G$4:$G$1000,0),COLUMN()+1)),\"\",INDEX(geb.Rechnung!$A$4:$G$1000,MATCH(ROW()-5,geb.Rechnung!$G$4:$G$1000,0),COLUMN()+1))","v":""}]
[{"$f":"IF(ISNA(INDEX(geb.Rechnung!$A$4:$G$1000,MATCH(ROW()-5,geb.Rechnung!$G$4:$G$1000,0),COLUMN()-1)),\"\",INDEX(geb.Rechnung!$A$4:$G$1000,MATCH(ROW()-5,geb.Rechnung!$G$4:$G$1000,0),COLUMN()-1))","v":""},{"$f":"IF(ISNA(INDEX(geb.Rechnung!$A$4:$G$1000,MATCH(ROW()-5,geb.Rechnung!$G$4:$G$1000,0),COLUMN()-2)),\"\",INDEX(geb.Rechnung!$A$4:$G$1000,MATCH(ROW()-5,geb.Rechnung!$G$4:$G$1000,0),COLUMN()-2))","v":""},{"$f":"IF(ISNA(INDEX(geb.Rechnung!$A$4:$G$1000,MATCH(ROW()-5,geb.Rechnung!$G$4:$G$1000,0),COLUMN()+1)),\"\",INDEX(geb.Rechnung!$A$4:$G$1000,MATCH(ROW()-5,geb.Rechnung!$G$4:$G$1000,0),COLUMN()+1))","v":""},{"$f":"IF(ISNA(INDEX(geb.Rechnung!$A$4:$G$1000,MATCH(ROW()-5,geb.Rechnung!$G$4:$G$1000,0),COLUMN()+1)),\"\",INDEX(geb.Rechnung!$A$4:$G$1000,MATCH(ROW()-5,geb.Rechnung!$G$4:$G$1000,0),COLUMN()+1))","v":""}]
[{"$f":"IF(ISNA(INDEX(geb.Rechnung!$A$4:$G$1000,MATCH(ROW()-5,geb.Rechnung!$G$4:$G$1000,0),COLUMN()-1)),\"\",INDEX(geb.Rechnung!$A$4:$G$1000,MATCH(ROW()-5,geb.Rechnung!$G$4:$G$1000,0),COLUMN()-1))","v":""},{"$f":"IF(ISNA(INDEX(geb.Rechnung!$A$4:$G$1000,MATCH(ROW()-5,geb.Rechnung!$G$4:$G$1000,0),COLUMN()-2)),\"\",INDEX(geb.Rechnung!$A$4:$G$1000,MATCH(ROW()-5,geb.Rechnung!$G$4:$G$1000,0),COLUMN()-2))","v":""},{"$f":"IF(ISNA(INDEX(geb.Rechnung!$A$4:$G$1000,MATCH(ROW()-5,geb.Rechnung!$G$4:$G$1000,0),COLUMN()+1)),\"\",INDEX(geb.Rechnung!$A$4:$G$1000,MATCH(ROW()-5,geb.Rechnung!$G$4:$G$1000,0),COLUMN()+1))","v":""},{"$f":"IF(ISNA(INDEX(geb.Rechnung!$A$4:$G$1000,MATCH(ROW()-5,geb.Rechnung!$G$4:$G$1000,0),COLUMN()+1)),\"\",INDEX(geb.Rechnung!$A$4:$G$1000,MATCH(ROW()-5,geb.Rechnung!$G$4:$G$1000,0),COLUMN()+1))","v":""}]
[{"$f":"IF(ISNA(INDEX(geb.Rechnung!$A$4:$G$1000,MATCH(ROW()-5,geb.Rechnung!$G$4:$G$1000,0),COLUMN()-1)),\"\",INDEX(geb.Rechnung!$A$4:$G$1000,MATCH(ROW()-5,geb.Rechnung!$G$4:$G$1000,0),COLUMN()-1))","v":""},{"$f":"IF(ISNA(INDEX(geb.Rechnung!$A$4:$G$1000,MATCH(ROW()-5,geb.Rechnung!$G$4:$G$1000,0),COLUMN()-2)),\"\",INDEX(geb.Rechnung!$A$4:$G$1000,MATCH(ROW()-5,geb.Rechnung!$G$4:$G$1000,0),COLUMN()-2))","v":""},{"$f":"IF(ISNA(INDEX(geb.Rechnung!$A$4:$G$1000,MATCH(ROW()-5,geb.Rechnung!$G$4:$G$1000,0),COLUMN()+1)),\"\",INDEX(geb.Rechnung!$A$4:$G$1000,MATCH(ROW()-5,geb.Rechnung!$G$4:$G$1000,0),COLUMN()+1))","v":""},{"$f":"IF(ISNA(INDEX(geb.Rechnung!$A$4:$G$1000,MATCH(ROW()-5,geb.Rechnung!$G$4:$G$1000,0),COLUMN()+1)),\"\",INDEX(geb.Rechnung!$A$4:$G$1000,MATCH(ROW()-5,geb.Rechnung!$G$4:$G$1000,0),COLUMN()+1))","v":""}]
[{"$f":"IF(ISNA(INDEX(geb.Rechnung!$A$4:$G$1000,MATCH(ROW()-5,geb.Rechnung!$G$4:$G$1000,0),COLUMN()-1)),\"\",INDEX(geb.Rechnung!$A$4:$G$1000,MATCH(ROW()-5,geb.Rechnung!$G$4:$G$1000,0),COLUMN()-1))","v":""},{"$f":"IF(ISNA(INDEX(geb.Rechnung!$A$4:$G$1000,MATCH(ROW()-5,geb.Rechnung!$G$4:$G$1000,0),COLUMN()-2)),\"\",INDEX(geb.Rechnung!$A$4:$G$1000,MATCH(ROW()-5,geb.Rechnung!$G$4:$G$1000,0),COLUMN()-2))","v":""},{"$f":"IF(ISNA(INDEX(geb.Rechnung!$A$4:$G$1000,MATCH(ROW()-5,geb.Rechnung!$G$4:$G$1000,0),COLUMN()+1)),\"\",INDEX(geb.Rechnung!$A$4:$G$1000,MATCH(ROW()-5,geb.Rechnung!$G$4:$G$1000,0),COLUMN()+1))","v":""},{"$f":"IF(ISNA(INDEX(geb.Rechnung!$A$4:$G$1000,MATCH(ROW()-5,geb.Rechnung!$G$4:$G$1000,0),COLUMN()+1)),\"\",INDEX(geb.Rechnung!$A$4:$G$1000,MATCH(ROW()-5,geb.Rechnung!$G$4:$G$1000,0),COLUMN()+1))","v":""}]
[{"$f":"IF(ISNA(INDEX(geb.Rechnung!$A$4:$G$1000,MATCH(ROW()-5,geb.Rechnung!$G$4:$G$1000,0),COLUMN()-1)),\"\",INDEX(geb.Rechnung!$A$4:$G$1000,MATCH(ROW()-5,geb.Rechnung!$G$4:$G$1000,0),COLUMN()-1))","v":""},{"$f":"IF(ISNA(INDEX(geb.Rechnung!$A$4:$G$1000,MATCH(ROW()-5,geb.Rechnung!$G$4:$G$1000,0),COLUMN()-2)),\"\",INDEX(geb.Rechnung!$A$4:$G$1000,MATCH(ROW()-5,geb.Rechnung!$G$4:$G$1000,0),COLUMN()-2))","v":""},{"$f":"IF(ISNA(INDEX(geb.Rechnung!$A$4:$G$1000,MATCH(ROW()-5,geb.Rechnung!$G$4:$G$1000,0),COLUMN()+1)),\"\",INDEX(geb.Rechnung!$A$4:$G$1000,MATCH(ROW()-5,geb.Rechnung!$G$4:$G$1000,0),COLUMN()+1))","v":""},{"$f":"IF(ISNA(INDEX(geb.Rechnung!$A$4:$G$1000,MATCH(ROW()-5,geb.Rechnung!$G$4:$G$1000,0),COLUMN()+1)),\"\",INDEX(geb.Rechnung!$A$4:$G$1000,MATCH(ROW()-5,geb.Rechnung!$G$4:$G$1000,0),COLUMN()+1))","v":""}]
[{"$f":"IF(ISNA(INDEX(geb.Rechnung!$A$4:$G$1000,MATCH(ROW()-5,geb.Rechnung!$G$4:$G$1000,0),COLUMN()-1)),\"\",INDEX(geb.Rechnung!$A$4:$G$1000,MATCH(ROW()-5,geb.Rechnung!$G$4:$G$1000,0),COLUMN()-1))","v":""},{"$f":"IF(ISNA(INDEX(geb.Rechnung!$A$4:$G$1000,MATCH(ROW()-5,geb.Rechnung!$G$4:$G$1000,0),COLUMN()-2)),\"\",INDEX(geb.Rechnung!$A$4:$G$1000,MATCH(ROW()-5,geb.Rechnung!$G$4:$G$1000,0),COLUMN()-2))","v":""},{"$f":"IF(ISNA(INDEX(geb.Rechnung!$A$4:$G$1000,MATCH(ROW()-5,geb.Rechnung!$G$4:$G$1000,0),COLUMN()+1)),\"\",INDEX(geb.Rechnung!$A$4:$G$1000,MATCH(ROW()-5,geb.Rechnung!$G$4:$G$1000,0),COLUMN()+1))","v":""},{"$f":"IF(ISNA(INDEX(geb.Rechnung!$A$4:$G$1000,MATCH(ROW()-5,geb.Rechnung!$G$4:$G$1000,0),COLUMN()+1)),\"\",INDEX(geb.Rechnung!$A$4:$G$1000,MATCH(ROW()-5,geb.Rechnung!$G$4:$G$1000,0),COLUMN()+1))","v":""}]
[{"$f":"IF(ISNA(INDEX(geb.Rechnung!$A$4:$G$1000,MATCH(ROW()-5,geb.Rechnung!$G$4:$G$1000,0),COLUMN()-1)),\"\",INDEX(geb.Rechnung!$A$4:$G$1000,MATCH(ROW()-5,geb.Rechnung!$G$4:$G$1000,0),COLUMN()-1))","v":""},{"$f":"IF(ISNA(INDEX(geb.Rechnung!$A$4:$G$1000,MATCH(ROW()-5,geb.Rechnung!$G$4:$G$1000,0),COLUMN()-2)),\"\",INDEX(geb.Rechnung!$A$4:$G$1000,MATCH(ROW()-5,geb.Rechnung!$G$4:$G$1000,0),COLUMN()-2))","v":""},{"$f":"IF(ISNA(INDEX(geb.Rechnung!$A$4:$G$1000,MATCH(ROW()-5,geb.Rechnung!$G$4:$G$1000,0),COLUMN()+1)),\"\",INDEX(geb.Rechnung!$A$4:$G$1000,MATCH(ROW()-5,geb.Rechnung!$G$4:$G$1000,0),COLUMN()+1))","v":""},{"$f":"IF(ISNA(INDEX(geb.Rechnung!$A$4:$G$1000,MATCH(ROW()-5,geb.Rechnung!$G$4:$G$1000,0),COLUMN()+1)),\"\",INDEX(geb.Rechnung!$A$4:$G$1000,MATCH(ROW()-5,geb.Rechnung!$G$4:$G$1000,0),COLUMN()+1))","v":""}]
[{"$f":"IF(ISNA(INDEX(geb.Rechnung!$A$4:$G$1000,MATCH(ROW()-5,geb.Rechnung!$G$4:$G$1000,0),COLUMN()-1)),\"\",INDEX(geb.Rechnung!$A$4:$G$1000,MATCH(ROW()-5,geb.Rechnung!$G$4:$G$1000,0),COLUMN()-1))","v":""},{"$f":"IF(ISNA(INDEX(geb.Rechnung!$A$4:$G$1000,MATCH(ROW()-5,geb.Rechnung!$G$4:$G$1000,0),COLUMN()-2)),\"\",INDEX(geb.Rechnung!$A$4:$G$1000,MATCH(ROW()-5,geb.Rechnung!$G$4:$G$1000,0),COLUMN()-2))","v":""},{"$f":"IF(ISNA(INDEX(geb.Rechnung!$A$4:$G$1000,MATCH(ROW()-5,geb.Rechnung!$G$4:$G$1000,0),COLUMN()+1)),\"\",INDEX(geb.Rechnung!$A$4:$G$1000,MATCH(ROW()-5,geb.Rechnung!$G$4:$G$1000,0),COLUMN()+1))","v":""},{"$f":"IF(ISNA(INDEX(geb.Rechnung!$A$4:$G$1000,MATCH(ROW()-5,geb.Rechnung!$G$4:$G$1000,0),COLUMN()+1)),\"\",INDEX(geb.Rechnung!$A$4:$G$1000,MATCH(ROW()-5,geb.Rechnung!$G$4:$G$1000,0),COLUMN()+1))","v":""}]
[{"$f":"IF(ISNA(INDEX(geb.Rechnung!$A$4:$G$1000,MATCH(ROW()-5,geb.Rechnung!$G$4:$G$1000,0),COLUMN()-1)),\"\",INDEX(geb.Rechnung!$A$4:$G$1000,MATCH(ROW()-5,geb.Rechnung!$G$4:$G$1000,0),COLUMN()-1))","v":""},{"$f":"IF(ISNA(INDEX(geb.Rechnung!$A$4:$G$1000,MATCH(ROW()-5,geb.Rechnung!$G$4:$G$1000,0),COLUMN()-2)),\"\",INDEX(geb.Rechnung!$A$4:$G$1000,MATCH(ROW()-5,geb.Rechnung!$G$4:$G$1000,0),COLUMN()-2))","v":""},{"$f":"IF(ISNA(INDEX(geb.Rechnung!$A$4:$G$1000,MATCH(ROW()-5,geb.Rechnung!$G$4:$G$1000,0),COLUMN()+1)),\"\",INDEX(geb.Rechnung!$A$4:$G$1000,MATCH(ROW()-5,geb.Rechnung!$G$4:$G$1000,0),COLUMN()+1))","v":""},{"$f":"IF(ISNA(INDEX(geb.Rechnung!$A$4:$G$1000,MATCH(ROW()-5,geb.Rechnung!$G$4:$G$1000,0),COLUMN()+1)),\"\",INDEX(geb.Rechnung!$A$4:$G$1000,MATCH(ROW()-5,geb.Rechnung!$G$4:$G$1000,0),COLUMN()+1))","v":""}]
[{"$f":"IF(ISNA(INDEX(geb.Rechnung!$A$4:$G$1000,MATCH(ROW()-5,geb.Rechnung!$G$4:$G$1000,0),COLUMN()-1)),\"\",INDEX(geb.Rechnung!$A$4:$G$1000,MATCH(ROW()-5,geb.Rechnung!$G$4:$G$1000,0),COLUMN()-1))","v":""},{"$f":"IF(ISNA(INDEX(geb.Rechnung!$A$4:$G$1000,MATCH(ROW()-5,geb.Rechnung!$G$4:$G$1000,0),COLUMN()-2)),\"\",INDEX(geb.Rechnung!$A$4:$G$1000,MATCH(ROW()-5,geb.Rechnung!$G$4:$G$1000,0),COLUMN()-2))","v":""},{"$f":"IF(ISNA(INDEX(geb.Rechnung!$A$4:$G$1000,MATCH(ROW()-5,geb.Rechnung!$G$4:$G$1000,0),COLUMN()+1)),\"\",INDEX(geb.Rechnung!$A$4:$G$1000,MATCH(ROW()-5,geb.Rechnung!$G$4:$G$1000,0),COLUMN()+1))","v":""},{"$f":"IF(ISNA(INDEX(geb.Rechnung!$A$4:$G$1000,MATCH(ROW()-5,geb.Rechnung!$G$4:$G$1000,0),COLUMN()+1)),\"\",INDEX(geb.Rechnung!$A$4:$G$1000,MATCH(ROW()-5,geb.Rechnung!$G$4:$G$1000,0),COLUMN()+1))","v":""}]
[{"$f":"IF(ISNA(INDEX(geb.Rechnung!$A$4:$G$1000,MATCH(ROW()-5,geb.Rechnung!$G$4:$G$1000,0),COLUMN()-1)),\"\",INDEX(geb.Rechnung!$A$4:$G$1000,MATCH(ROW()-5,geb.Rechnung!$G$4:$G$1000,0),COLUMN()-1))","v":""},{"$f":"IF(ISNA(INDEX(geb.Rechnung!$A$4:$G$1000,MATCH(ROW()-5,geb.Rechnung!$G$4:$G$1000,0),COLUMN()-2)),\"\",INDEX(geb.Rechnung!$A$4:$G$1000,MATCH(ROW()-5,geb.Rechnung!$G$4:$G$1000,0),COLUMN()-2))","v":""},{"$f":"IF(ISNA(INDEX(geb.Rechnung!$A$4:$G$1000,MATCH(ROW()-5,geb.Rechnung!$G$4:$G$1000,0),COLUMN()+1)),\"\",INDEX(geb.Rechnung!$A$4:$G$1000,MATCH(ROW()-5,geb.Rechnung!$G$4:$G$1000,0),COLUMN()+1))","v":""},{"$f":"IF(ISNA(INDEX(geb.Rechnung!$A$4:$G$1000,MATCH(ROW()-5,geb.Rechnung!$G$4:$G$1000,0),COLUMN()+1)),\"\",INDEX(geb.Rechnung!$A$4:$G$1000,MATCH(ROW()-5,geb.Rechnung!$G$4:$G$1000,0),COLUMN()+1))","v":""}]
[{"$f":"IF(ISNA(INDEX(geb.Rechnung!$A$4:$G$1000,MATCH(ROW()-5,geb.Rechnung!$G$4:$G$1000,0),COLUMN()-1)),\"\",INDEX(geb.Rechnung!$A$4:$G$1000,MATCH(ROW()-5,geb.Rechnung!$G$4:$G$1000,0),COLUMN()-1))","v":""},{"$f":"IF(ISNA(INDEX(geb.Rechnung!$A$4:$G$1000,MATCH(ROW()-5,geb.Rechnung!$G$4:$G$1000,0),COLUMN()-2)),\"\",INDEX(geb.Rechnung!$A$4:$G$1000,MATCH(ROW()-5,geb.Rechnung!$G$4:$G$1000,0),COLUMN()-2))","v":""},{"$f":"IF(ISNA(INDEX(geb.Rechnung!$A$4:$G$1000,MATCH(ROW()-5,geb.Rechnung!$G$4:$G$1000,0),COLUMN()+1)),\"\",INDEX(geb.Rechnung!$A$4:$G$1000,MATCH(ROW()-5,geb.Rechnung!$G$4:$G$1000,0),COLUMN()+1))","v":""},{"$f":"IF(ISNA(INDEX(geb.Rechnung!$A$4:$G$1000,MATCH(ROW()-5,geb.Rechnung!$G$4:$G$1000,0),COLUMN()+1)),\"\",INDEX(geb.Rechnung!$A$4:$G$1000,MATCH(ROW()-5,geb.Rechnung!$G$4:$G$1000,0),COLUMN()+1))","v":""}]
[{"$f":"IF(ISNA(INDEX(geb.Rechnung!$A$4:$G$1000,MATCH(ROW()-5,geb.Rechnung!$G$4:$G$1000,0),COLUMN()-1)),\"\",INDEX(geb.Rechnung!$A$4:$G$1000,MATCH(ROW()-5,geb.Rechnung!$G$4:$G$1000,0),COLUMN()-1))","v":""},{"$f":"IF(ISNA(INDEX(geb.Rechnung!$A$4:$G$1000,MATCH(ROW()-5,geb.Rechnung!$G$4:$G$1000,0),COLUMN()-2)),\"\",INDEX(geb.Rechnung!$A$4:$G$1000,MATCH(ROW()-5,geb.Rechnung!$G$4:$G$1000,0),COLUMN()-2))","v":""},{"$f":"IF(ISNA(INDEX(geb.Rechnung!$A$4:$G$1000,MATCH(ROW()-5,geb.Rechnung!$G$4:$G$1000,0),COLUMN()+1)),\"\",INDEX(geb.Rechnung!$A$4:$G$1000,MATCH(ROW()-5,geb.Rechnung!$G$4:$G$1000,0),COLUMN()+1))","v":""},{"$f":"IF(ISNA(INDEX(geb.Rechnung!$A$4:$G$1000,MATCH(ROW()-5,geb.Rechnung!$G$4:$G$1000,0),COLUMN()+1)),\"\",INDEX(geb.Rechnung!$A$4:$G$1000,MATCH(ROW()-5,geb.Rechnung!$G$4:$G$1000,0),COLUMN()+1))","v":""}]
[{"$f":"IF(ISNA(INDEX(geb.Rechnung!$A$4:$G$1000,MATCH(ROW()-5,geb.Rechnung!$G$4:$G$1000,0),COLUMN()-1)),\"\",INDEX(geb.Rechnung!$A$4:$G$1000,MATCH(ROW()-5,geb.Rechnung!$G$4:$G$1000,0),COLUMN()-1))","v":""},{"$f":"IF(ISNA(INDEX(geb.Rechnung!$A$4:$G$1000,MATCH(ROW()-5,geb.Rechnung!$G$4:$G$1000,0),COLUMN()-2)),\"\",INDEX(geb.Rechnung!$A$4:$G$1000,MATCH(ROW()-5,geb.Rechnung!$G$4:$G$1000,0),COLUMN()-2))","v":""},{"$f":"IF(ISNA(INDEX(geb.Rechnung!$A$4:$G$1000,MATCH(ROW()-5,geb.Rechnung!$G$4:$G$1000,0),COLUMN()+1)),\"\",INDEX(geb.Rechnung!$A$4:$G$1000,MATCH(ROW()-5,geb.Rechnung!$G$4:$G$1000,0),COLUMN()+1))","v":""},{"$f":"IF(ISNA(INDEX(geb.Rechnung!$A$4:$G$1000,MATCH(ROW()-5,geb.Rechnung!$G$4:$G$1000,0),COLUMN()+1)),\"\",INDEX(geb.Rechnung!$A$4:$G$1000,MATCH(ROW()-5,geb.Rechnung!$G$4:$G$1000,0),COLUMN()+1))","v":""}]
[{"$f":"IF(ISNA(INDEX(geb.Rechnung!$A$4:$G$1000,MATCH(ROW()-5,geb.Rechnung!$G$4:$G$1000,0),COLUMN()-1)),\"\",INDEX(geb.Rechnung!$A$4:$G$1000,MATCH(ROW()-5,geb.Rechnung!$G$4:$G$1000,0),COLUMN()-1))","v":""},{"$f":"IF(ISNA(INDEX(geb.Rechnung!$A$4:$G$1000,MATCH(ROW()-5,geb.Rechnung!$G$4:$G$1000,0),COLUMN()-2)),\"\",INDEX(geb.Rechnung!$A$4:$G$1000,MATCH(ROW()-5,geb.Rechnung!$G$4:$G$1000,0),COLUMN()-2))","v":""},{"$f":"IF(ISNA(INDEX(geb.Rechnung!$A$4:$G$1000,MATCH(ROW()-5,geb.Rechnung!$G$4:$G$1000,0),COLUMN()+1)),\"\",INDEX(geb.Rechnung!$A$4:$G$1000,MATCH(ROW()-5,geb.Rechnung!$G$4:$G$1000,0),COLUMN()+1))","v":""},{"$f":"IF(ISNA(INDEX(geb.Rechnung!$A$4:$G$1000,MATCH(ROW()-5,geb.Rechnung!$G$4:$G$1000,0),COLUMN()+1)),\"\",INDEX(geb.Rechnung!$A$4:$G$1000,MATCH(ROW()-5,geb.Rechnung!$G$4:$G$1000,0),COLUMN()+1))","v":""}]
[{"$f":"IF(ISNA(INDEX(geb.Rechnung!$A$4:$G$1000,MATCH(ROW()-5,geb.Rechnung!$G$4:$G$1000,0),COLUMN()-1)),\"\",INDEX(geb.Rechnung!$A$4:$G$1000,MATCH(ROW()-5,geb.Rechnung!$G$4:$G$1000,0),COLUMN()-1))","v":""},{"$f":"IF(ISNA(INDEX(geb.Rechnung!$A$4:$G$1000,MATCH(ROW()-5,geb.Rechnung!$G$4:$G$1000,0),COLUMN()-2)),\"\",INDEX(geb.Rechnung!$A$4:$G$1000,MATCH(ROW()-5,geb.Rechnung!$G$4:$G$1000,0),COLUMN()-2))","v":""},{"$f":"IF(ISNA(INDEX(geb.Rechnung!$A$4:$G$1000,MATCH(ROW()-5,geb.Rechnung!$G$4:$G$1000,0),COLUMN()+1)),\"\",INDEX(geb.Rechnung!$A$4:$G$1000,MATCH(ROW()-5,geb.Rechnung!$G$4:$G$1000,0),COLUMN()+1))","v":""},{"$f":"IF(ISNA(INDEX(geb.Rechnung!$A$4:$G$1000,MATCH(ROW()-5,geb.Rechnung!$G$4:$G$1000,0),COLUMN()+1)),\"\",INDEX(geb.Rechnung!$A$4:$G$1000,MATCH(ROW()-5,geb.Rechnung!$G$4:$G$1000,0),COLUMN()+1))","v":""}]
[{"$f":"IF(ISNA(INDEX(geb.Rechnung!$A$4:$G$1000,MATCH(ROW()-5,geb.Rechnung!$G$4:$G$1000,0),COLUMN()-1)),\"\",INDEX(geb.Rechnung!$A$4:$G$1000,MATCH(ROW()-5,geb.Rechnung!$G$4:$G$1000,0),COLUMN()-1))","v":""},{"$f":"IF(ISNA(INDEX(geb.Rechnung!$A$4:$G$1000,MATCH(ROW()-5,geb.Rechnung!$G$4:$G$1000,0),COLUMN()-2)),\"\",INDEX(geb.Rechnung!$A$4:$G$1000,MATCH(ROW()-5,geb.Rechnung!$G$4:$G$1000,0),COLUMN()-2))","v":""},{"$f":"IF(ISNA(INDEX(geb.Rechnung!$A$4:$G$1000,MATCH(ROW()-5,geb.Rechnung!$G$4:$G$1000,0),COLUMN()+1)),\"\",INDEX(geb.Rechnung!$A$4:$G$1000,MATCH(ROW()-5,geb.Rechnung!$G$4:$G$1000,0),COLUMN()+1))","v":""},{"$f":"IF(ISNA(INDEX(geb.Rechnung!$A$4:$G$1000,MATCH(ROW()-5,geb.Rechnung!$G$4:$G$1000,0),COLUMN()+1)),\"\",INDEX(geb.Rechnung!$A$4:$G$1000,MATCH(ROW()-5,geb.Rechnung!$G$4:$G$1000,0),COLUMN()+1))","v":""}]
[{"$f":"IF(ISNA(INDEX(geb.Rechnung!$A$4:$G$1000,MATCH(ROW()-5,geb.Rechnung!$G$4:$G$1000,0),COLUMN()-1)),\"\",INDEX(geb.Rechnung!$A$4:$G$1000,MATCH(ROW()-5,geb.Rechnung!$G$4:$G$1000,0),COLUMN()-1))","v":""},{"$f":"IF(ISNA(INDEX(geb.Rechnung!$A$4:$G$1000,MATCH(ROW()-5,geb.Rechnung!$G$4:$G$1000,0),COLUMN()-2)),\"\",INDEX(geb.Rechnung!$A$4:$G$1000,MATCH(ROW()-5,geb.Rechnung!$G$4:$G$1000,0),COLUMN()-2))","v":""},{"$f":"IF(ISNA(INDEX(geb.Rechnung!$A$4:$G$1000,MATCH(ROW()-5,geb.Rechnung!$G$4:$G$1000,0),COLUMN()+1)),\"\",INDEX(geb.Rechnung!$A$4:$G$1000,MATCH(ROW()-5,geb.Rechnung!$G$4:$G$1000,0),COLUMN()+1))","v":""},{"$f":"IF(ISNA(INDEX(geb.Rechnung!$A$4:$G$1000,MATCH(ROW()-5,geb.Rechnung!$G$4:$G$1000,0),COLUMN()+1)),\"\",INDEX(geb.Rechnung!$A$4:$G$1000,MATCH(ROW()-5,geb.Rechnung!$G$4:$G$1000,0),COLUMN()+1))","v":""}]
[{"$f":"IF(ISNA(INDEX(geb.Rechnung!$A$4:$G$1000,MATCH(ROW()-5,geb.Rechnung!$G$4:$G$1000,0),COLUMN()-1)),\"\",INDEX(geb.Rechnung!$A$4:$G$1000,MATCH(ROW()-5,geb.Rechnung!$G$4:$G$1000,0),COLUMN()-1))","v":""},{"$f":"IF(ISNA(INDEX(geb.Rechnung!$A$4:$G$1000,MATCH(ROW()-5,geb.Rechnung!$G$4:$G$1000,0),COLUMN()-2)),\"\",INDEX(geb.Rechnung!$A$4:$G$1000,MATCH(ROW()-5,geb.Rechnung!$G$4:$G$1000,0),COLUMN()-2))","v":""},{"$f":"IF(ISNA(INDEX(geb.Rechnung!$A$4:$G$1000,MATCH(ROW()-5,geb.Rechnung!$G$4:$G$1000,0),COLUMN()+1)),\"\",INDEX(geb.Rechnung!$A$4:$G$1000,MATCH(ROW()-5,geb.Rechnung!$G$4:$G$1000,0),COLUMN()+1))","v":""},{"$f":"IF(ISNA(INDEX(geb.Rechnung!$A$4:$G$1000,MATCH(ROW()-5,geb.Rechnung!$G$4:$G$1000,0),COLUMN()+1)),\"\",INDEX(geb.Rechnung!$A$4:$G$1000,MATCH(ROW()-5,geb.Rechnung!$G$4:$G$1000,0),COLUMN()+1))","v":""}]
[{"$f":"IF(ISNA(INDEX(geb.Rechnung!$A$4:$G$1000,MATCH(ROW()-5,geb.Rechnung!$G$4:$G$1000,0),COLUMN()-1)),\"\",INDEX(geb.Rechnung!$A$4:$G$1000,MATCH(ROW()-5,geb.Rechnung!$G$4:$G$1000,0),COLUMN()-1))","v":""},{"$f":"IF(ISNA(INDEX(geb.Rechnung!$A$4:$G$1000,MATCH(ROW()-5,geb.Rechnung!$G$4:$G$1000,0),COLUMN()-2)),\"\",INDEX(geb.Rechnung!$A$4:$G$1000,MATCH(ROW()-5,geb.Rechnung!$G$4:$G$1000,0),COLUMN()-2))","v":""},{"$f":"IF(ISNA(INDEX(geb.Rechnung!$A$4:$G$1000,MATCH(ROW()-5,geb.Rechnung!$G$4:$G$1000,0),COLUMN()+1)),\"\",INDEX(geb.Rechnung!$A$4:$G$1000,MATCH(ROW()-5,geb.Rechnung!$G$4:$G$1000,0),COLUMN()+1))","v":""},{"$f":"IF(ISNA(INDEX(geb.Rechnung!$A$4:$G$1000,MATCH(ROW()-5,geb.Rechnung!$G$4:$G$1000,0),COLUMN()+1)),\"\",INDEX(geb.Rechnung!$A$4:$G$1000,MATCH(ROW()-5,geb.Rechnung!$G$4:$G$1000,0),COLUMN()+1))","v":""}]
[{"$f":"IF(ISNA(INDEX(geb.Rechnung!$A$4:$G$1000,MATCH(ROW()-5,geb.Rechnung!$G$4:$G$1000,0),COLUMN()-1)),\"\",INDEX(geb.Rechnung!$A$4:$G$1000,MATCH(ROW()-5,geb.Rechnung!$G$4:$G$1000,0),COLUMN()-1))","v":""},{"$f":"IF(ISNA(INDEX(geb.Rechnung!$A$4:$G$1000,MATCH(ROW()-5,geb.Rechnung!$G$4:$G$1000,0),COLUMN()-2)),\"\",INDEX(geb.Rechnung!$A$4:$G$1000,MATCH(ROW()-5,geb.Rechnung!$G$4:$G$1000,0),COLUMN()-2))","v":""},{"$f":"IF(ISNA(INDEX(geb.Rechnung!$A$4:$G$1000,MATCH(ROW()-5,geb.Rechnung!$G$4:$G$1000,0),COLUMN()+1)),\"\",INDEX(geb.Rechnung!$A$4:$G$1000,MATCH(ROW()-5,geb.Rechnung!$G$4:$G$1000,0),COLUMN()+1))","v":""},{"$f":"IF(ISNA(INDEX(geb.Rechnung!$A$4:$G$1000,MATCH(ROW()-5,geb.Rechnung!$G$4:$G$1000,0),COLUMN()+1)),\"\",INDEX(geb.Rechnung!$A$4:$G$1000,MATCH(ROW()-5,geb.Rechnung!$G$4:$G$1000,0),COLUMN()+1))","v":""}]
[{"$f":"IF(ISNA(INDEX(geb.Rechnung!$A$4:$G$1000,MATCH(ROW()-5,geb.Rechnung!$G$4:$G$1000,0),COLUMN()-1)),\"\",INDEX(geb.Rechnung!$A$4:$G$1000,MATCH(ROW()-5,geb.Rechnung!$G$4:$G$1000,0),COLUMN()-1))","v":""},{"$f":"IF(ISNA(INDEX(geb.Rechnung!$A$4:$G$1000,MATCH(ROW()-5,geb.Rechnung!$G$4:$G$1000,0),COLUMN()-2)),\"\",INDEX(geb.Rechnung!$A$4:$G$1000,MATCH(ROW()-5,geb.Rechnung!$G$4:$G$1000,0),COLUMN()-2))","v":""},{"$f":"IF(ISNA(INDEX(geb.Rechnung!$A$4:$G$1000,MATCH(ROW()-5,geb.Rechnung!$G$4:$G$1000,0),COLUMN()+1)),\"\",INDEX(geb.Rechnung!$A$4:$G$1000,MATCH(ROW()-5,geb.Rechnung!$G$4:$G$1000,0),COLUMN()+1))","v":""},{"$f":"IF(ISNA(INDEX(geb.Rechnung!$A$4:$G$1000,MATCH(ROW()-5,geb.Rechnung!$G$4:$G$1000,0),COLUMN()+1)),\"\",INDEX(geb.Rechnung!$A$4:$G$1000,MATCH(ROW()-5,geb.Rechnung!$G$4:$G$1000,0),COLUMN()+1))","v":""}]
[{"$f":"IF(ISNA(INDEX(geb.Rechnung!$A$4:$G$1000,MATCH(ROW()-5,geb.Rechnung!$G$4:$G$1000,0),COLUMN()-1)),\"\",INDEX(geb.Rechnung!$A$4:$G$1000,MATCH(ROW()-5,geb.Rechnung!$G$4:$G$1000,0),COLUMN()-1))","v":""},{"$f":"IF(ISNA(INDEX(geb.Rechnung!$A$4:$G$1000,MATCH(ROW()-5,geb.Rechnung!$G$4:$G$1000,0),COLUMN()-2)),\"\",INDEX(geb.Rechnung!$A$4:$G$1000,MATCH(ROW()-5,geb.Rechnung!$G$4:$G$1000,0),COLUMN()-2))","v":""},{"$f":"IF(ISNA(INDEX(geb.Rechnung!$A$4:$G$1000,MATCH(ROW()-5,geb.Rechnung!$G$4:$G$1000,0),COLUMN()+1)),\"\",INDEX(geb.Rechnung!$A$4:$G$1000,MATCH(ROW()-5,geb.Rechnung!$G$4:$G$1000,0),COLUMN()+1))","v":""},{"$f":"IF(ISNA(INDEX(geb.Rechnung!$A$4:$G$1000,MATCH(ROW()-5,geb.Rechnung!$G$4:$G$1000,0),COLUMN()+1)),\"\",INDEX(geb.Rechnung!$A$4:$G$1000,MATCH(ROW()-5,geb.Rechnung!$G$4:$G$1000,0),COLUMN()+1))","v":""}]
[{"$f":"IF(ISNA(INDEX(geb.Rechnung!$A$4:$G$1000,MATCH(ROW()-5,geb.Rechnung!$G$4:$G$1000,0),COLUMN()-1)),\"\",INDEX(geb.Rechnung!$A$4:$G$1000,MATCH(ROW()-5,geb.Rechnung!$G$4:$G$1000,0),COLUMN()-1))","v":""},{"$f":"IF(ISNA(INDEX(geb.Rechnung!$A$4:$G$1000,MATCH(ROW()-5,geb.Rechnung!$G$4:$G$1000,0),COLUMN()-2)),\"\",INDEX(geb.Rechnung!$A$4:$G$1000,MATCH(ROW()-5,geb.Rechnung!$G$4:$G$1000,0),COLUMN()-2))","v":""},{"$f":"IF(ISNA(INDEX(geb.Rechnung!$A$4:$G$1000,MATCH(ROW()-5,geb.Rechnung!$G$4:$G$1000,0),COLUMN()+1)),\"\",INDEX(geb.Rechnung!$A$4:$G$1000,MATCH(ROW()-5,geb.Rechnung!$G$4:$G$1000,0),COLUMN()+1))","v":""},{"$f":"IF(ISNA(INDEX(geb.Rechnung!$A$4:$G$1000,MATCH(ROW()-5,geb.Rechnung!$G$4:$G$1000,0),COLUMN()+1)),\"\",INDEX(geb.Rechnung!$A$4:$G$1000,MATCH(ROW()-5,geb.Rechnung!$G$4:$G$1000,0),COLUMN()+1))","v":""}]
[{"$f":"IF(ISNA(INDEX(geb.Rechnung!$A$4:$G$1000,MATCH(ROW()-5,geb.Rechnung!$G$4:$G$1000,0),COLUMN()-1)),\"\",INDEX(geb.Rechnung!$A$4:$G$1000,MATCH(ROW()-5,geb.Rechnung!$G$4:$G$1000,0),COLUMN()-1))","v":""},{"$f":"IF(ISNA(INDEX(geb.Rechnung!$A$4:$G$1000,MATCH(ROW()-5,geb.Rechnung!$G$4:$G$1000,0),COLUMN()-2)),\"\",INDEX(geb.Rechnung!$A$4:$G$1000,MATCH(ROW()-5,geb.Rechnung!$G$4:$G$1000,0),COLUMN()-2))","v":""},{"$f":"IF(ISNA(INDEX(geb.Rechnung!$A$4:$G$1000,MATCH(ROW()-5,geb.Rechnung!$G$4:$G$1000,0),COLUMN()+1)),\"\",INDEX(geb.Rechnung!$A$4:$G$1000,MATCH(ROW()-5,geb.Rechnung!$G$4:$G$1000,0),COLUMN()+1))","v":""},{"$f":"IF(ISNA(INDEX(geb.Rechnung!$A$4:$G$1000,MATCH(ROW()-5,geb.Rechnung!$G$4:$G$1000,0),COLUMN()+1)),\"\",INDEX(geb.Rechnung!$A$4:$G$1000,MATCH(ROW()-5,geb.Rechnung!$G$4:$G$1000,0),COLUMN()+1))","v":""}]
[{"$f":"IF(ISNA(INDEX(geb.Rechnung!$A$4:$G$1000,MATCH(ROW()-5,geb.Rechnung!$G$4:$G$1000,0),COLUMN()-1)),\"\",INDEX(geb.Rechnung!$A$4:$G$1000,MATCH(ROW()-5,geb.Rechnung!$G$4:$G$1000,0),COLUMN()-1))","v":""},{"$f":"IF(ISNA(INDEX(geb.Rechnung!$A$4:$G$1000,MATCH(ROW()-5,geb.Rechnung!$G$4:$G$1000,0),COLUMN()-2)),\"\",INDEX(geb.Rechnung!$A$4:$G$1000,MATCH(ROW()-5,geb.Rechnung!$G$4:$G$1000,0),COLUMN()-2))","v":""},{"$f":"IF(ISNA(INDEX(geb.Rechnung!$A$4:$G$1000,MATCH(ROW()-5,geb.Rechnung!$G$4:$G$1000,0),COLUMN()+1)),\"\",INDEX(geb.Rechnung!$A$4:$G$1000,MATCH(ROW()-5,geb.Rechnung!$G$4:$G$1000,0),COLUMN()+1))","v":""},{"$f":"IF(ISNA(INDEX(geb.Rechnung!$A$4:$G$1000,MATCH(ROW()-5,geb.Rechnung!$G$4:$G$1000,0),COLUMN()+1)),\"\",INDEX(geb.Rechnung!$A$4:$G$1000,MATCH(ROW()-5,geb.Rechnung!$G$4:$G$1000,0),COLUMN()+1))","v":""}]
[{"$f":"IF(ISNA(INDEX(geb.Rechnung!$A$4:$G$1000,MATCH(ROW()-5,geb.Rechnung!$G$4:$G$1000,0),COLUMN()-1)),\"\",INDEX(geb.Rechnung!$A$4:$G$1000,MATCH(ROW()-5,geb.Rechnung!$G$4:$G$1000,0),COLUMN()-1))","v":""},{"$f":"IF(ISNA(INDEX(geb.Rechnung!$A$4:$G$1000,MATCH(ROW()-5,geb.Rechnung!$G$4:$G$1000,0),COLUMN()-2)),\"\",INDEX(geb.Rechnung!$A$4:$G$1000,MATCH(ROW()-5,geb.Rechnung!$G$4:$G$1000,0),COLUMN()-2))","v":""},{"$f":"IF(ISNA(INDEX(geb.Rechnung!$A$4:$G$1000,MATCH(ROW()-5,geb.Rechnung!$G$4:$G$1000,0),COLUMN()+1)),\"\",INDEX(geb.Rechnung!$A$4:$G$1000,MATCH(ROW()-5,geb.Rechnung!$G$4:$G$1000,0),COLUMN()+1))","v":""},{"$f":"IF(ISNA(INDEX(geb.Rechnung!$A$4:$G$1000,MATCH(ROW()-5,geb.Rechnung!$G$4:$G$1000,0),COLUMN()+1)),\"\",INDEX(geb.Rechnung!$A$4:$G$1000,MATCH(ROW()-5,geb.Rechnung!$G$4:$G$1000,0),COLUMN()+1))","v":""}]
[{"$f":"IF(ISNA(INDEX(geb.Rechnung!$A$4:$G$1000,MATCH(ROW()-5,geb.Rechnung!$G$4:$G$1000,0),COLUMN()-1)),\"\",INDEX(geb.Rechnung!$A$4:$G$1000,MATCH(ROW()-5,geb.Rechnung!$G$4:$G$1000,0),COLUMN()-1))","v":""},{"$f":"IF(ISNA(INDEX(geb.Rechnung!$A$4:$G$1000,MATCH(ROW()-5,geb.Rechnung!$G$4:$G$1000,0),COLUMN()-2)),\"\",INDEX(geb.Rechnung!$A$4:$G$1000,MATCH(ROW()-5,geb.Rechnung!$G$4:$G$1000,0),COLUMN()-2))","v":""},{"$f":"IF(ISNA(INDEX(geb.Rechnung!$A$4:$G$1000,MATCH(ROW()-5,geb.Rechnung!$G$4:$G$1000,0),COLUMN()+1)),\"\",INDEX(geb.Rechnung!$A$4:$G$1000,MATCH(ROW()-5,geb.Rechnung!$G$4:$G$1000,0),COLUMN()+1))","v":""},{"$f":"IF(ISNA(INDEX(geb.Rechnung!$A$4:$G$1000,MATCH(ROW()-5,geb.Rechnung!$G$4:$G$1000,0),COLUMN()+1)),\"\",INDEX(geb.Rechnung!$A$4:$G$1000,MATCH(ROW()-5,geb.Rechnung!$G$4:$G$1000,0),COLUMN()+1))","v":""}]
[{"$f":"IF(ISNA(INDEX(geb.Rechnung!$A$4:$G$1000,MATCH(ROW()-5,geb.Rechnung!$G$4:$G$1000,0),COLUMN()-1)),\"\",INDEX(geb.Rechnung!$A$4:$G$1000,MATCH(ROW()-5,geb.Rechnung!$G$4:$G$1000,0),COLUMN()-1))","v":""},{"$f":"IF(ISNA(INDEX(geb.Rechnung!$A$4:$G$1000,MATCH(ROW()-5,geb.Rechnung!$G$4:$G$1000,0),COLUMN()-2)),\"\",INDEX(geb.Rechnung!$A$4:$G$1000,MATCH(ROW()-5,geb.Rechnung!$G$4:$G$1000,0),COLUMN()-2))","v":""},{"$f":"IF(ISNA(INDEX(geb.Rechnung!$A$4:$G$1000,MATCH(ROW()-5,geb.Rechnung!$G$4:$G$1000,0),COLUMN()+1)),\"\",INDEX(geb.Rechnung!$A$4:$G$1000,MATCH(ROW()-5,geb.Rechnung!$G$4:$G$1000,0),COLUMN()+1))","v":""},{"$f":"IF(ISNA(INDEX(geb.Rechnung!$A$4:$G$1000,MATCH(ROW()-5,geb.Rechnung!$G$4:$G$1000,0),COLUMN()+1)),\"\",INDEX(geb.Rechnung!$A$4:$G$1000,MATCH(ROW()-5,geb.Rechnung!$G$4:$G$1000,0),COLUMN()+1))","v":""}]
[{"$f":"IF(ISNA(INDEX(geb.Rechnung!$A$4:$G$1000,MATCH(ROW()-5,geb.Rechnung!$G$4:$G$1000,0),COLUMN()-1)),\"\",INDEX(geb.Rechnung!$A$4:$G$1000,MATCH(ROW()-5,geb.Rechnung!$G$4:$G$1000,0),COLUMN()-1))","v":""},{"$f":"IF(ISNA(INDEX(geb.Rechnung!$A$4:$G$1000,MATCH(ROW()-5,geb.Rechnung!$G$4:$G$1000,0),COLUMN()-2)),\"\",INDEX(geb.Rechnung!$A$4:$G$1000,MATCH(ROW()-5,geb.Rechnung!$G$4:$G$1000,0),COLUMN()-2))","v":""},{"$f":"IF(ISNA(INDEX(geb.Rechnung!$A$4:$G$1000,MATCH(ROW()-5,geb.Rechnung!$G$4:$G$1000,0),COLUMN()+1)),\"\",INDEX(geb.Rechnung!$A$4:$G$1000,MATCH(ROW()-5,geb.Rechnung!$G$4:$G$1000,0),COLUMN()+1))","v":""},{"$f":"IF(ISNA(INDEX(geb.Rechnung!$A$4:$G$1000,MATCH(ROW()-5,geb.Rechnung!$G$4:$G$1000,0),COLUMN()+1)),\"\",INDEX(geb.Rechnung!$A$4:$G$1000,MATCH(ROW()-5,geb.Rechnung!$G$4:$G$1000,0),COLUMN()+1))","v":""}]
[{"$f":"IF(ISNA(INDEX(geb.Rechnung!$A$4:$G$1000,MATCH(ROW()-5,geb.Rechnung!$G$4:$G$1000,0),COLUMN()-1)),\"\",INDEX(geb.Rechnung!$A$4:$G$1000,MATCH(ROW()-5,geb.Rechnung!$G$4:$G$1000,0),COLUMN()-1))","v":""},{"$f":"IF(ISNA(INDEX(geb.Rechnung!$A$4:$G$1000,MATCH(ROW()-5,geb.Rechnung!$G$4:$G$1000,0),COLUMN()-2)),\"\",INDEX(geb.Rechnung!$A$4:$G$1000,MATCH(ROW()-5,geb.Rechnung!$G$4:$G$1000,0),COLUMN()-2))","v":""},{"$f":"IF(ISNA(INDEX(geb.Rechnung!$A$4:$G$1000,MATCH(ROW()-5,geb.Rechnung!$G$4:$G$1000,0),COLUMN()+1)),\"\",INDEX(geb.Rechnung!$A$4:$G$1000,MATCH(ROW()-5,geb.Rechnung!$G$4:$G$1000,0),COLUMN()+1))","v":""},{"$f":"IF(ISNA(INDEX(geb.Rechnung!$A$4:$G$1000,MATCH(ROW()-5,geb.Rechnung!$G$4:$G$1000,0),COLUMN()+1)),\"\",INDEX(geb.Rechnung!$A$4:$G$1000,MATCH(ROW()-5,geb.Rechnung!$G$4:$G$1000,0),COLUMN()+1))","v":""}]
[{"$f":"IF(ISNA(INDEX(geb.Rechnung!$A$4:$G$1000,MATCH(ROW()-5,geb.Rechnung!$G$4:$G$1000,0),COLUMN()-1)),\"\",INDEX(geb.Rechnung!$A$4:$G$1000,MATCH(ROW()-5,geb.Rechnung!$G$4:$G$1000,0),COLUMN()-1))","v":""},{"$f":"IF(ISNA(INDEX(geb.Rechnung!$A$4:$G$1000,MATCH(ROW()-5,geb.Rechnung!$G$4:$G$1000,0),COLUMN()-2)),\"\",INDEX(geb.Rechnung!$A$4:$G$1000,MATCH(ROW()-5,geb.Rechnung!$G$4:$G$1000,0),COLUMN()-2))","v":""},{"$f":"IF(ISNA(INDEX(geb.Rechnung!$A$4:$G$1000,MATCH(ROW()-5,geb.Rechnung!$G$4:$G$1000,0),COLUMN()+1)),\"\",INDEX(geb.Rechnung!$A$4:$G$1000,MATCH(ROW()-5,geb.Rechnung!$G$4:$G$1000,0),COLUMN()+1))","v":""},{"$f":"IF(ISNA(INDEX(geb.Rechnung!$A$4:$G$1000,MATCH(ROW()-5,geb.Rechnung!$G$4:$G$1000,0),COLUMN()+1)),\"\",INDEX(geb.Rechnung!$A$4:$G$1000,MATCH(ROW()-5,geb.Rechnung!$G$4:$G$1000,0),COLUMN()+1))","v":""}]
[{"$f":"IF(ISNA(INDEX(geb.Rechnung!$A$4:$G$1000,MATCH(ROW()-5,geb.Rechnung!$G$4:$G$1000,0),COLUMN()-1)),\"\",INDEX(geb.Rechnung!$A$4:$G$1000,MATCH(ROW()-5,geb.Rechnung!$G$4:$G$1000,0),COLUMN()-1))","v":""},{"$f":"IF(ISNA(INDEX(geb.Rechnung!$A$4:$G$1000,MATCH(ROW()-5,geb.Rechnung!$G$4:$G$1000,0),COLUMN()-2)),\"\",INDEX(geb.Rechnung!$A$4:$G$1000,MATCH(ROW()-5,geb.Rechnung!$G$4:$G$1000,0),COLUMN()-2))","v":""},{"$f":"IF(ISNA(INDEX(geb.Rechnung!$A$4:$G$1000,MATCH(ROW()-5,geb.Rechnung!$G$4:$G$1000,0),COLUMN()+1)),\"\",INDEX(geb.Rechnung!$A$4:$G$1000,MATCH(ROW()-5,geb.Rechnung!$G$4:$G$1000,0),COLUMN()+1))","v":""},{"$f":"IF(ISNA(INDEX(geb.Rechnung!$A$4:$G$1000,MATCH(ROW()-5,geb.Rechnung!$G$4:$G$1000,0),COLUMN()+1)),\"\",INDEX(geb.Rechnung!$A$4:$G$1000,MATCH(ROW()-5,geb.Rechnung!$G$4:$G$1000,0),COLUMN()+1))","v":""}]
[{"$f":"IF(ISNA(INDEX(geb.Rechnung!$A$4:$G$1000,MATCH(ROW()-5,geb.Rechnung!$G$4:$G$1000,0),COLUMN()-1)),\"\",INDEX(geb.Rechnung!$A$4:$G$1000,MATCH(ROW()-5,geb.Rechnung!$G$4:$G$1000,0),COLUMN()-1))","v":""},{"$f":"IF(ISNA(INDEX(geb.Rechnung!$A$4:$G$1000,MATCH(ROW()-5,geb.Rechnung!$G$4:$G$1000,0),COLUMN()-2)),\"\",INDEX(geb.Rechnung!$A$4:$G$1000,MATCH(ROW()-5,geb.Rechnung!$G$4:$G$1000,0),COLUMN()-2))","v":""},{"$f":"IF(ISNA(INDEX(geb.Rechnung!$A$4:$G$1000,MATCH(ROW()-5,geb.Rechnung!$G$4:$G$1000,0),COLUMN()+1)),\"\",INDEX(geb.Rechnung!$A$4:$G$1000,MATCH(ROW()-5,geb.Rechnung!$G$4:$G$1000,0),COLUMN()+1))","v":""},{"$f":"IF(ISNA(INDEX(geb.Rechnung!$A$4:$G$1000,MATCH(ROW()-5,geb.Rechnung!$G$4:$G$1000,0),COLUMN()+1)),\"\",INDEX(geb.Rechnung!$A$4:$G$1000,MATCH(ROW()-5,geb.Rechnung!$G$4:$G$1000,0),COLUMN()+1))","v":""}]
[{"$f":"IF(ISNA(INDEX(geb.Rechnung!$A$4:$G$1000,MATCH(ROW()-5,geb.Rechnung!$G$4:$G$1000,0),COLUMN()-1)),\"\",INDEX(geb.Rechnung!$A$4:$G$1000,MATCH(ROW()-5,geb.Rechnung!$G$4:$G$1000,0),COLUMN()-1))","v":""},{"$f":"IF(ISNA(INDEX(geb.Rechnung!$A$4:$G$1000,MATCH(ROW()-5,geb.Rechnung!$G$4:$G$1000,0),COLUMN()-2)),\"\",INDEX(geb.Rechnung!$A$4:$G$1000,MATCH(ROW()-5,geb.Rechnung!$G$4:$G$1000,0),COLUMN()-2))","v":""},{"$f":"IF(ISNA(INDEX(geb.Rechnung!$A$4:$G$1000,MATCH(ROW()-5,geb.Rechnung!$G$4:$G$1000,0),COLUMN()+1)),\"\",INDEX(geb.Rechnung!$A$4:$G$1000,MATCH(ROW()-5,geb.Rechnung!$G$4:$G$1000,0),COLUMN()+1))","v":""},{"$f":"IF(ISNA(INDEX(geb.Rechnung!$A$4:$G$1000,MATCH(ROW()-5,geb.Rechnung!$G$4:$G$1000,0),COLUMN()+1)),\"\",INDEX(geb.Rechnung!$A$4:$G$1000,MATCH(ROW()-5,geb.Rechnung!$G$4:$G$1000,0),COLUMN()+1))","v":""}]
[{"$f":"IF(ISNA(INDEX(geb.Rechnung!$A$4:$G$1000,MATCH(ROW()-5,geb.Rechnung!$G$4:$G$1000,0),COLUMN()-1)),\"\",INDEX(geb.Rechnung!$A$4:$G$1000,MATCH(ROW()-5,geb.Rechnung!$G$4:$G$1000,0),COLUMN()-1))","v":""},{"$f":"IF(ISNA(INDEX(geb.Rechnung!$A$4:$G$1000,MATCH(ROW()-5,geb.Rechnung!$G$4:$G$1000,0),COLUMN()-2)),\"\",INDEX(geb.Rechnung!$A$4:$G$1000,MATCH(ROW()-5,geb.Rechnung!$G$4:$G$1000,0),COLUMN()-2))","v":""},{"$f":"IF(ISNA(INDEX(geb.Rechnung!$A$4:$G$1000,MATCH(ROW()-5,geb.Rechnung!$G$4:$G$1000,0),COLUMN()+1)),\"\",INDEX(geb.Rechnung!$A$4:$G$1000,MATCH(ROW()-5,geb.Rechnung!$G$4:$G$1000,0),COLUMN()+1))","v":""},{"$f":"IF(ISNA(INDEX(geb.Rechnung!$A$4:$G$1000,MATCH(ROW()-5,geb.Rechnung!$G$4:$G$1000,0),COLUMN()+1)),\"\",INDEX(geb.Rechnung!$A$4:$G$1000,MATCH(ROW()-5,geb.Rechnung!$G$4:$G$1000,0),COLUMN()+1))","v":""}]
[{"$f":"IF(ISNA(INDEX(geb.Rechnung!$A$4:$G$1000,MATCH(ROW()-5,geb.Rechnung!$G$4:$G$1000,0),COLUMN()-1)),\"\",INDEX(geb.Rechnung!$A$4:$G$1000,MATCH(ROW()-5,geb.Rechnung!$G$4:$G$1000,0),COLUMN()-1))","v":""},{"$f":"IF(ISNA(INDEX(geb.Rechnung!$A$4:$G$1000,MATCH(ROW()-5,geb.Rechnung!$G$4:$G$1000,0),COLUMN()-2)),\"\",INDEX(geb.Rechnung!$A$4:$G$1000,MATCH(ROW()-5,geb.Rechnung!$G$4:$G$1000,0),COLUMN()-2))","v":""},{"$f":"IF(ISNA(INDEX(geb.Rechnung!$A$4:$G$1000,MATCH(ROW()-5,geb.Rechnung!$G$4:$G$1000,0),COLUMN()+1)),\"\",INDEX(geb.Rechnung!$A$4:$G$1000,MATCH(ROW()-5,geb.Rechnung!$G$4:$G$1000,0),COLUMN()+1))","v":""},{"$f":"IF(ISNA(INDEX(geb.Rechnung!$A$4:$G$1000,MATCH(ROW()-5,geb.Rechnung!$G$4:$G$1000,0),COLUMN()+1)),\"\",INDEX(geb.Rechnung!$A$4:$G$1000,MATCH(ROW()-5,geb.Rechnung!$G$4:$G$1000,0),COLUMN()+1))","v":""}]
[{"$f":"IF(ISNA(INDEX(geb.Rechnung!$A$4:$G$1000,MATCH(ROW()-5,geb.Rechnung!$G$4:$G$1000,0),COLUMN()-1)),\"\",INDEX(geb.Rechnung!$A$4:$G$1000,MATCH(ROW()-5,geb.Rechnung!$G$4:$G$1000,0),COLUMN()-1))","v":""},{"$f":"IF(ISNA(INDEX(geb.Rechnung!$A$4:$G$1000,MATCH(ROW()-5,geb.Rechnung!$G$4:$G$1000,0),COLUMN()-2)),\"\",INDEX(geb.Rechnung!$A$4:$G$1000,MATCH(ROW()-5,geb.Rechnung!$G$4:$G$1000,0),COLUMN()-2))","v":""},{"$f":"IF(ISNA(INDEX(geb.Rechnung!$A$4:$G$1000,MATCH(ROW()-5,geb.Rechnung!$G$4:$G$1000,0),COLUMN()+1)),\"\",INDEX(geb.Rechnung!$A$4:$G$1000,MATCH(ROW()-5,geb.Rechnung!$G$4:$G$1000,0),COLUMN()+1))","v":""},{"$f":"IF(ISNA(INDEX(geb.Rechnung!$A$4:$G$1000,MATCH(ROW()-5,geb.Rechnung!$G$4:$G$1000,0),COLUMN()+1)),\"\",INDEX(geb.Rechnung!$A$4:$G$1000,MATCH(ROW()-5,geb.Rechnung!$G$4:$G$1000,0),COLUMN()+1))","v":""}]
[{"$f":"IF(ISNA(INDEX(geb.Rechnung!$A$4:$G$1000,MATCH(ROW()-5,geb.Rechnung!$G$4:$G$1000,0),COLUMN()-1)),\"\",INDEX(geb.Rechnung!$A$4:$G$1000,MATCH(ROW()-5,geb.Rechnung!$G$4:$G$1000,0),COLUMN()-1))","v":""},{"$f":"IF(ISNA(INDEX(geb.Rechnung!$A$4:$G$1000,MATCH(ROW()-5,geb.Rechnung!$G$4:$G$1000,0),COLUMN()-2)),\"\",INDEX(geb.Rechnung!$A$4:$G$1000,MATCH(ROW()-5,geb.Rechnung!$G$4:$G$1000,0),COLUMN()-2))","v":""},{"$f":"IF(ISNA(INDEX(geb.Rechnung!$A$4:$G$1000,MATCH(ROW()-5,geb.Rechnung!$G$4:$G$1000,0),COLUMN()+1)),\"\",INDEX(geb.Rechnung!$A$4:$G$1000,MATCH(ROW()-5,geb.Rechnung!$G$4:$G$1000,0),COLUMN()+1))","v":""},{"$f":"IF(ISNA(INDEX(geb.Rechnung!$A$4:$G$1000,MATCH(ROW()-5,geb.Rechnung!$G$4:$G$1000,0),COLUMN()+1)),\"\",INDEX(geb.Rechnung!$A$4:$G$1000,MATCH(ROW()-5,geb.Rechnung!$G$4:$G$1000,0),COLUMN()+1))","v":""}]
[{"$f":"IF(ISNA(INDEX(geb.Rechnung!$A$4:$G$1000,MATCH(ROW()-5,geb.Rechnung!$G$4:$G$1000,0),COLUMN()-1)),\"\",INDEX(geb.Rechnung!$A$4:$G$1000,MATCH(ROW()-5,geb.Rechnung!$G$4:$G$1000,0),COLUMN()-1))","v":""},{"$f":"IF(ISNA(INDEX(geb.Rechnung!$A$4:$G$1000,MATCH(ROW()-5,geb.Rechnung!$G$4:$G$1000,0),COLUMN()-2)),\"\",INDEX(geb.Rechnung!$A$4:$G$1000,MATCH(ROW()-5,geb.Rechnung!$G$4:$G$1000,0),COLUMN()-2))","v":""},{"$f":"IF(ISNA(INDEX(geb.Rechnung!$A$4:$G$1000,MATCH(ROW()-5,geb.Rechnung!$G$4:$G$1000,0),COLUMN()+1)),\"\",INDEX(geb.Rechnung!$A$4:$G$1000,MATCH(ROW()-5,geb.Rechnung!$G$4:$G$1000,0),COLUMN()+1))","v":""},{"$f":"IF(ISNA(INDEX(geb.Rechnung!$A$4:$G$1000,MATCH(ROW()-5,geb.Rechnung!$G$4:$G$1000,0),COLUMN()+1)),\"\",INDEX(geb.Rechnung!$A$4:$G$1000,MATCH(ROW()-5,geb.Rechnung!$G$4:$G$1000,0),COLUMN()+1))","v":""}]
[{"$f":"IF(ISNA(INDEX(geb.Rechnung!$A$4:$G$1000,MATCH(ROW()-5,geb.Rechnung!$G$4:$G$1000,0),COLUMN()-1)),\"\",INDEX(geb.Rechnung!$A$4:$G$1000,MATCH(ROW()-5,geb.Rechnung!$G$4:$G$1000,0),COLUMN()-1))","v":""},{"$f":"IF(ISNA(INDEX(geb.Rechnung!$A$4:$G$1000,MATCH(ROW()-5,geb.Rechnung!$G$4:$G$1000,0),COLUMN()-2)),\"\",INDEX(geb.Rechnung!$A$4:$G$1000,MATCH(ROW()-5,geb.Rechnung!$G$4:$G$1000,0),COLUMN()-2))","v":""},{"$f":"IF(ISNA(INDEX(geb.Rechnung!$A$4:$G$1000,MATCH(ROW()-5,geb.Rechnung!$G$4:$G$1000,0),COLUMN()+1)),\"\",INDEX(geb.Rechnung!$A$4:$G$1000,MATCH(ROW()-5,geb.Rechnung!$G$4:$G$1000,0),COLUMN()+1))","v":""},{"$f":"IF(ISNA(INDEX(geb.Rechnung!$A$4:$G$1000,MATCH(ROW()-5,geb.Rechnung!$G$4:$G$1000,0),COLUMN()+1)),\"\",INDEX(geb.Rechnung!$A$4:$G$1000,MATCH(ROW()-5,geb.Rechnung!$G$4:$G$1000,0),COLUMN()+1))","v":""}]
[{"$f":"IF(ISNA(INDEX(geb.Rechnung!$A$4:$G$1000,MATCH(ROW()-5,geb.Rechnung!$G$4:$G$1000,0),COLUMN()-1)),\"\",INDEX(geb.Rechnung!$A$4:$G$1000,MATCH(ROW()-5,geb.Rechnung!$G$4:$G$1000,0),COLUMN()-1))","v":""},{"$f":"IF(ISNA(INDEX(geb.Rechnung!$A$4:$G$1000,MATCH(ROW()-5,geb.Rechnung!$G$4:$G$1000,0),COLUMN()-2)),\"\",INDEX(geb.Rechnung!$A$4:$G$1000,MATCH(ROW()-5,geb.Rechnung!$G$4:$G$1000,0),COLUMN()-2))","v":""},{"$f":"IF(ISNA(INDEX(geb.Rechnung!$A$4:$G$1000,MATCH(ROW()-5,geb.Rechnung!$G$4:$G$1000,0),COLUMN()+1)),\"\",INDEX(geb.Rechnung!$A$4:$G$1000,MATCH(ROW()-5,geb.Rechnung!$G$4:$G$1000,0),COLUMN()+1))","v":""},{"$f":"IF(ISNA(INDEX(geb.Rechnung!$A$4:$G$1000,MATCH(ROW()-5,geb.Rechnung!$G$4:$G$1000,0),COLUMN()+1)),\"\",INDEX(geb.Rechnung!$A$4:$G$1000,MATCH(ROW()-5,geb.Rechnung!$G$4:$G$1000,0),COLUMN()+1))","v":""}]
[{"$f":"IF(ISNA(INDEX(geb.Rechnung!$A$4:$G$1000,MATCH(ROW()-5,geb.Rechnung!$G$4:$G$1000,0),COLUMN()-1)),\"\",INDEX(geb.Rechnung!$A$4:$G$1000,MATCH(ROW()-5,geb.Rechnung!$G$4:$G$1000,0),COLUMN()-1))","v":""},{"$f":"IF(ISNA(INDEX(geb.Rechnung!$A$4:$G$1000,MATCH(ROW()-5,geb.Rechnung!$G$4:$G$1000,0),COLUMN()-2)),\"\",INDEX(geb.Rechnung!$A$4:$G$1000,MATCH(ROW()-5,geb.Rechnung!$G$4:$G$1000,0),COLUMN()-2))","v":""},{"$f":"IF(ISNA(INDEX(geb.Rechnung!$A$4:$G$1000,MATCH(ROW()-5,geb.Rechnung!$G$4:$G$1000,0),COLUMN()+1)),\"\",INDEX(geb.Rechnung!$A$4:$G$1000,MATCH(ROW()-5,geb.Rechnung!$G$4:$G$1000,0),COLUMN()+1))","v":""},{"$f":"IF(ISNA(INDEX(geb.Rechnung!$A$4:$G$1000,MATCH(ROW()-5,geb.Rechnung!$G$4:$G$1000,0),COLUMN()+1)),\"\",INDEX(geb.Rechnung!$A$4:$G$1000,MATCH(ROW()-5,geb.Rechnung!$G$4:$G$1000,0),COLUMN()+1))","v":""}]
[{"$f":"IF(ISNA(INDEX(geb.Rechnung!$A$4:$G$1000,MATCH(ROW()-5,geb.Rechnung!$G$4:$G$1000,0),COLUMN()-1)),\"\",INDEX(geb.Rechnung!$A$4:$G$1000,MATCH(ROW()-5,geb.Rechnung!$G$4:$G$1000,0),COLUMN()-1))","v":""},{"$f":"IF(ISNA(INDEX(geb.Rechnung!$A$4:$G$1000,MATCH(ROW()-5,geb.Rechnung!$G$4:$G$1000,0),COLUMN()-2)),\"\",INDEX(geb.Rechnung!$A$4:$G$1000,MATCH(ROW()-5,geb.Rechnung!$G$4:$G$1000,0),COLUMN()-2))","v":""},{"$f":"IF(ISNA(INDEX(geb.Rechnung!$A$4:$G$1000,MATCH(ROW()-5,geb.Rechnung!$G$4:$G$1000,0),COLUMN()+1)),\"\",INDEX(geb.Rechnung!$A$4:$G$1000,MATCH(ROW()-5,geb.Rechnung!$G$4:$G$1000,0),COLUMN()+1))","v":""},{"$f":"IF(ISNA(INDEX(geb.Rechnung!$A$4:$G$1000,MATCH(ROW()-5,geb.Rechnung!$G$4:$G$1000,0),COLUMN()+1)),\"\",INDEX(geb.Rechnung!$A$4:$G$1000,MATCH(ROW()-5,geb.Rechnung!$G$4:$G$1000,0),COLUMN()+1))","v":""}]
[{"$f":"IF(ISNA(INDEX(geb.Rechnung!$A$4:$G$1000,MATCH(ROW()-5,geb.Rechnung!$G$4:$G$1000,0),COLUMN()-1)),\"\",INDEX(geb.Rechnung!$A$4:$G$1000,MATCH(ROW()-5,geb.Rechnung!$G$4:$G$1000,0),COLUMN()-1))","v":""},{"$f":"IF(ISNA(INDEX(geb.Rechnung!$A$4:$G$1000,MATCH(ROW()-5,geb.Rechnung!$G$4:$G$1000,0),COLUMN()-2)),\"\",INDEX(geb.Rechnung!$A$4:$G$1000,MATCH(ROW()-5,geb.Rechnung!$G$4:$G$1000,0),COLUMN()-2))","v":""},{"$f":"IF(ISNA(INDEX(geb.Rechnung!$A$4:$G$1000,MATCH(ROW()-5,geb.Rechnung!$G$4:$G$1000,0),COLUMN()+1)),\"\",INDEX(geb.Rechnung!$A$4:$G$1000,MATCH(ROW()-5,geb.Rechnung!$G$4:$G$1000,0),COLUMN()+1))","v":""},{"$f":"IF(ISNA(INDEX(geb.Rechnung!$A$4:$G$1000,MATCH(ROW()-5,geb.Rechnung!$G$4:$G$1000,0),COLUMN()+1)),\"\",INDEX(geb.Rechnung!$A$4:$G$1000,MATCH(ROW()-5,geb.Rechnung!$G$4:$G$1000,0),COLUMN()+1))","v":""}]
[{"$f":"IF(ISNA(INDEX(geb.Rechnung!$A$4:$G$1000,MATCH(ROW()-5,geb.Rechnung!$G$4:$G$1000,0),COLUMN()-1)),\"\",INDEX(geb.Rechnung!$A$4:$G$1000,MATCH(ROW()-5,geb.Rechnung!$G$4:$G$1000,0),COLUMN()-1))","v":""},{"$f":"IF(ISNA(INDEX(geb.Rechnung!$A$4:$G$1000,MATCH(ROW()-5,geb.Rechnung!$G$4:$G$1000,0),COLUMN()-2)),\"\",INDEX(geb.Rechnung!$A$4:$G$1000,MATCH(ROW()-5,geb.Rechnung!$G$4:$G$1000,0),COLUMN()-2))","v":""},{"$f":"IF(ISNA(INDEX(geb.Rechnung!$A$4:$G$1000,MATCH(ROW()-5,geb.Rechnung!$G$4:$G$1000,0),COLUMN()+1)),\"\",INDEX(geb.Rechnung!$A$4:$G$1000,MATCH(ROW()-5,geb.Rechnung!$G$4:$G$1000,0),COLUMN()+1))","v":""},{"$f":"IF(ISNA(INDEX(geb.Rechnung!$A$4:$G$1000,MATCH(ROW()-5,geb.Rechnung!$G$4:$G$1000,0),COLUMN()+1)),\"\",INDEX(geb.Rechnung!$A$4:$G$1000,MATCH(ROW()-5,geb.Rechnung!$G$4:$G$1000,0),COLUMN()+1))","v":""}]
[{"$f":"IF(ISNA(INDEX(geb.Rechnung!$A$4:$G$1000,MATCH(ROW()-5,geb.Rechnung!$G$4:$G$1000,0),COLUMN()-1)),\"\",INDEX(geb.Rechnung!$A$4:$G$1000,MATCH(ROW()-5,geb.Rechnung!$G$4:$G$1000,0),COLUMN()-1))","v":""},{"$f":"IF(ISNA(INDEX(geb.Rechnung!$A$4:$G$1000,MATCH(ROW()-5,geb.Rechnung!$G$4:$G$1000,0),COLUMN()-2)),\"\",INDEX(geb.Rechnung!$A$4:$G$1000,MATCH(ROW()-5,geb.Rechnung!$G$4:$G$1000,0),COLUMN()-2))","v":""},{"$f":"IF(ISNA(INDEX(geb.Rechnung!$A$4:$G$1000,MATCH(ROW()-5,geb.Rechnung!$G$4:$G$1000,0),COLUMN()+1)),\"\",INDEX(geb.Rechnung!$A$4:$G$1000,MATCH(ROW()-5,geb.Rechnung!$G$4:$G$1000,0),COLUMN()+1))","v":""},{"$f":"IF(ISNA(INDEX(geb.Rechnung!$A$4:$G$1000,MATCH(ROW()-5,geb.Rechnung!$G$4:$G$1000,0),COLUMN()+1)),\"\",INDEX(geb.Rechnung!$A$4:$G$1000,MATCH(ROW()-5,geb.Rechnung!$G$4:$G$1000,0),COLUMN()+1))","v":""}]
[{"$f":"IF(ISNA(INDEX(geb.Rechnung!$A$4:$G$1000,MATCH(ROW()-5,geb.Rechnung!$G$4:$G$1000,0),COLUMN()-1)),\"\",INDEX(geb.Rechnung!$A$4:$G$1000,MATCH(ROW()-5,geb.Rechnung!$G$4:$G$1000,0),COLUMN()-1))","v":""},{"$f":"IF(ISNA(INDEX(geb.Rechnung!$A$4:$G$1000,MATCH(ROW()-5,geb.Rechnung!$G$4:$G$1000,0),COLUMN()-2)),\"\",INDEX(geb.Rechnung!$A$4:$G$1000,MATCH(ROW()-5,geb.Rechnung!$G$4:$G$1000,0),COLUMN()-2))","v":""},{"$f":"IF(ISNA(INDEX(geb.Rechnung!$A$4:$G$1000,MATCH(ROW()-5,geb.Rechnung!$G$4:$G$1000,0),COLUMN()+1)),\"\",INDEX(geb.Rechnung!$A$4:$G$1000,MATCH(ROW()-5,geb.Rechnung!$G$4:$G$1000,0),COLUMN()+1))","v":""},{"$f":"IF(ISNA(INDEX(geb.Rechnung!$A$4:$G$1000,MATCH(ROW()-5,geb.Rechnung!$G$4:$G$1000,0),COLUMN()+1)),\"\",INDEX(geb.Rechnung!$A$4:$G$1000,MATCH(ROW()-5,geb.Rechnung!$G$4:$G$1000,0),COLUMN()+1))","v":""}]
[{"$f":"IF(ISNA(INDEX(geb.Rechnung!$A$4:$G$1000,MATCH(ROW()-5,geb.Rechnung!$G$4:$G$1000,0),COLUMN()-1)),\"\",INDEX(geb.Rechnung!$A$4:$G$1000,MATCH(ROW()-5,geb.Rechnung!$G$4:$G$1000,0),COLUMN()-1))","v":""},{"$f":"IF(ISNA(INDEX(geb.Rechnung!$A$4:$G$1000,MATCH(ROW()-5,geb.Rechnung!$G$4:$G$1000,0),COLUMN()-2)),\"\",INDEX(geb.Rechnung!$A$4:$G$1000,MATCH(ROW()-5,geb.Rechnung!$G$4:$G$1000,0),COLUMN()-2))","v":""},{"$f":"IF(ISNA(INDEX(geb.Rechnung!$A$4:$G$1000,MATCH(ROW()-5,geb.Rechnung!$G$4:$G$1000,0),COLUMN()+1)),\"\",INDEX(geb.Rechnung!$A$4:$G$1000,MATCH(ROW()-5,geb.Rechnung!$G$4:$G$1000,0),COLUMN()+1))","v":""},{"$f":"IF(ISNA(INDEX(geb.Rechnung!$A$4:$G$1000,MATCH(ROW()-5,geb.Rechnung!$G$4:$G$1000,0),COLUMN()+1)),\"\",INDEX(geb.Rechnung!$A$4:$G$1000,MATCH(ROW()-5,geb.Rechnung!$G$4:$G$1000,0),COLUMN()+1))","v":""}]
[{"$f":"IF(ISNA(INDEX(geb.Rechnung!$A$4:$G$1000,MATCH(ROW()-5,geb.Rechnung!$G$4:$G$1000,0),COLUMN()-1)),\"\",INDEX(geb.Rechnung!$A$4:$G$1000,MATCH(ROW()-5,geb.Rechnung!$G$4:$G$1000,0),COLUMN()-1))","v":""},{"$f":"IF(ISNA(INDEX(geb.Rechnung!$A$4:$G$1000,MATCH(ROW()-5,geb.Rechnung!$G$4:$G$1000,0),COLUMN()-2)),\"\",INDEX(geb.Rechnung!$A$4:$G$1000,MATCH(ROW()-5,geb.Rechnung!$G$4:$G$1000,0),COLUMN()-2))","v":""},{"$f":"IF(ISNA(INDEX(geb.Rechnung!$A$4:$G$1000,MATCH(ROW()-5,geb.Rechnung!$G$4:$G$1000,0),COLUMN()+1)),\"\",INDEX(geb.Rechnung!$A$4:$G$1000,MATCH(ROW()-5,geb.Rechnung!$G$4:$G$1000,0),COLUMN()+1))","v":""},{"$f":"IF(ISNA(INDEX(geb.Rechnung!$A$4:$G$1000,MATCH(ROW()-5,geb.Rechnung!$G$4:$G$1000,0),COLUMN()+1)),\"\",INDEX(geb.Rechnung!$A$4:$G$1000,MATCH(ROW()-5,geb.Rechnung!$G$4:$G$1000,0),COLUMN()+1))","v":""}]
[{"$f":"IF(ISNA(INDEX(geb.Rechnung!$A$4:$G$1000,MATCH(ROW()-5,geb.Rechnung!$G$4:$G$1000,0),COLUMN()-1)),\"\",INDEX(geb.Rechnung!$A$4:$G$1000,MATCH(ROW()-5,geb.Rechnung!$G$4:$G$1000,0),COLUMN()-1))","v":""},{"$f":"IF(ISNA(INDEX(geb.Rechnung!$A$4:$G$1000,MATCH(ROW()-5,geb.Rechnung!$G$4:$G$1000,0),COLUMN()-2)),\"\",INDEX(geb.Rechnung!$A$4:$G$1000,MATCH(ROW()-5,geb.Rechnung!$G$4:$G$1000,0),COLUMN()-2))","v":""},{"$f":"IF(ISNA(INDEX(geb.Rechnung!$A$4:$G$1000,MATCH(ROW()-5,geb.Rechnung!$G$4:$G$1000,0),COLUMN()+1)),\"\",INDEX(geb.Rechnung!$A$4:$G$1000,MATCH(ROW()-5,geb.Rechnung!$G$4:$G$1000,0),COLUMN()+1))","v":""},{"$f":"IF(ISNA(INDEX(geb.Rechnung!$A$4:$G$1000,MATCH(ROW()-5,geb.Rechnung!$G$4:$G$1000,0),COLUMN()+1)),\"\",INDEX(geb.Rechnung!$A$4:$G$1000,MATCH(ROW()-5,geb.Rechnung!$G$4:$G$1000,0),COLUMN()+1))","v":""}]
[{"$f":"IF(ISNA(INDEX(geb.Rechnung!$A$4:$G$1000,MATCH(ROW()-5,geb.Rechnung!$G$4:$G$1000,0),COLUMN()-1)),\"\",INDEX(geb.Rechnung!$A$4:$G$1000,MATCH(ROW()-5,geb.Rechnung!$G$4:$G$1000,0),COLUMN()-1))","v":""},{"$f":"IF(ISNA(INDEX(geb.Rechnung!$A$4:$G$1000,MATCH(ROW()-5,geb.Rechnung!$G$4:$G$1000,0),COLUMN()-2)),\"\",INDEX(geb.Rechnung!$A$4:$G$1000,MATCH(ROW()-5,geb.Rechnung!$G$4:$G$1000,0),COLUMN()-2))","v":""},{"$f":"IF(ISNA(INDEX(geb.Rechnung!$A$4:$G$1000,MATCH(ROW()-5,geb.Rechnung!$G$4:$G$1000,0),COLUMN()+1)),\"\",INDEX(geb.Rechnung!$A$4:$G$1000,MATCH(ROW()-5,geb.Rechnung!$G$4:$G$1000,0),COLUMN()+1))","v":""},{"$f":"IF(ISNA(INDEX(geb.Rechnung!$A$4:$G$1000,MATCH(ROW()-5,geb.Rechnung!$G$4:$G$1000,0),COLUMN()+1)),\"\",INDEX(geb.Rechnung!$A$4:$G$1000,MATCH(ROW()-5,geb.Rechnung!$G$4:$G$1000,0),COLUMN()+1))","v":""}]
[{"$f":"IF(ISNA(INDEX(geb.Rechnung!$A$4:$G$1000,MATCH(ROW()-5,geb.Rechnung!$G$4:$G$1000,0),COLUMN()-1)),\"\",INDEX(geb.Rechnung!$A$4:$G$1000,MATCH(ROW()-5,geb.Rechnung!$G$4:$G$1000,0),COLUMN()-1))","v":""},{"$f":"IF(ISNA(INDEX(geb.Rechnung!$A$4:$G$1000,MATCH(ROW()-5,geb.Rechnung!$G$4:$G$1000,0),COLUMN()-2)),\"\",INDEX(geb.Rechnung!$A$4:$G$1000,MATCH(ROW()-5,geb.Rechnung!$G$4:$G$1000,0),COLUMN()-2))","v":""},{"$f":"IF(ISNA(INDEX(geb.Rechnung!$A$4:$G$1000,MATCH(ROW()-5,geb.Rechnung!$G$4:$G$1000,0),COLUMN()+1)),\"\",INDEX(geb.Rechnung!$A$4:$G$1000,MATCH(ROW()-5,geb.Rechnung!$G$4:$G$1000,0),COLUMN()+1))","v":""},{"$f":"IF(ISNA(INDEX(geb.Rechnung!$A$4:$G$1000,MATCH(ROW()-5,geb.Rechnung!$G$4:$G$1000,0),COLUMN()+1)),\"\",INDEX(geb.Rechnung!$A$4:$G$1000,MATCH(ROW()-5,geb.Rechnung!$G$4:$G$1000,0),COLUMN()+1))","v":""}]
[{"$f":"IF(ISNA(INDEX(geb.Rechnung!$A$4:$G$1000,MATCH(ROW()-5,geb.Rechnung!$G$4:$G$1000,0),COLUMN()-1)),\"\",INDEX(geb.Rechnung!$A$4:$G$1000,MATCH(ROW()-5,geb.Rechnung!$G$4:$G$1000,0),COLUMN()-1))","v":""},{"$f":"IF(ISNA(INDEX(geb.Rechnung!$A$4:$G$1000,MATCH(ROW()-5,geb.Rechnung!$G$4:$G$1000,0),COLUMN()-2)),\"\",INDEX(geb.Rechnung!$A$4:$G$1000,MATCH(ROW()-5,geb.Rechnung!$G$4:$G$1000,0),COLUMN()-2))","v":""},{"$f":"IF(ISNA(INDEX(geb.Rechnung!$A$4:$G$1000,MATCH(ROW()-5,geb.Rechnung!$G$4:$G$1000,0),COLUMN()+1)),\"\",INDEX(geb.Rechnung!$A$4:$G$1000,MATCH(ROW()-5,geb.Rechnung!$G$4:$G$1000,0),COLUMN()+1))","v":""},{"$f":"IF(ISNA(INDEX(geb.Rechnung!$A$4:$G$1000,MATCH(ROW()-5,geb.Rechnung!$G$4:$G$1000,0),COLUMN()+1)),\"\",INDEX(geb.Rechnung!$A$4:$G$1000,MATCH(ROW()-5,geb.Rechnung!$G$4:$G$1000,0),COLUMN()+1))","v":""}]
[{"$f":"IF(ISNA(INDEX(geb.Rechnung!$A$4:$G$1000,MATCH(ROW()-5,geb.Rechnung!$G$4:$G$1000,0),COLUMN()-1)),\"\",INDEX(geb.Rechnung!$A$4:$G$1000,MATCH(ROW()-5,geb.Rechnung!$G$4:$G$1000,0),COLUMN()-1))","v":""},{"$f":"IF(ISNA(INDEX(geb.Rechnung!$A$4:$G$1000,MATCH(ROW()-5,geb.Rechnung!$G$4:$G$1000,0),COLUMN()-2)),\"\",INDEX(geb.Rechnung!$A$4:$G$1000,MATCH(ROW()-5,geb.Rechnung!$G$4:$G$1000,0),COLUMN()-2))","v":""},{"$f":"IF(ISNA(INDEX(geb.Rechnung!$A$4:$G$1000,MATCH(ROW()-5,geb.Rechnung!$G$4:$G$1000,0),COLUMN()+1)),\"\",INDEX(geb.Rechnung!$A$4:$G$1000,MATCH(ROW()-5,geb.Rechnung!$G$4:$G$1000,0),COLUMN()+1))","v":""},{"$f":"IF(ISNA(INDEX(geb.Rechnung!$A$4:$G$1000,MATCH(ROW()-5,geb.Rechnung!$G$4:$G$1000,0),COLUMN()+1)),\"\",INDEX(geb.Rechnung!$A$4:$G$1000,MATCH(ROW()-5,geb.Rechnung!$G$4:$G$1000,0),COLUMN()+1))","v":""}]
[{"$f":"IF(ISNA(INDEX(geb.Rechnung!$A$4:$G$1000,MATCH(ROW()-5,geb.Rechnung!$G$4:$G$1000,0),COLUMN()-1)),\"\",INDEX(geb.Rechnung!$A$4:$G$1000,MATCH(ROW()-5,geb.Rechnung!$G$4:$G$1000,0),COLUMN()-1))","v":""},{"$f":"IF(ISNA(INDEX(geb.Rechnung!$A$4:$G$1000,MATCH(ROW()-5,geb.Rechnung!$G$4:$G$1000,0),COLUMN()-2)),\"\",INDEX(geb.Rechnung!$A$4:$G$1000,MATCH(ROW()-5,geb.Rechnung!$G$4:$G$1000,0),COLUMN()-2))","v":""},{"$f":"IF(ISNA(INDEX(geb.Rechnung!$A$4:$G$1000,MATCH(ROW()-5,geb.Rechnung!$G$4:$G$1000,0),COLUMN()+1)),\"\",INDEX(geb.Rechnung!$A$4:$G$1000,MATCH(ROW()-5,geb.Rechnung!$G$4:$G$1000,0),COLUMN()+1))","v":""},{"$f":"IF(ISNA(INDEX(geb.Rechnung!$A$4:$G$1000,MATCH(ROW()-5,geb.Rechnung!$G$4:$G$1000,0),COLUMN()+1)),\"\",INDEX(geb.Rechnung!$A$4:$G$1000,MATCH(ROW()-5,geb.Rechnung!$G$4:$G$1000,0),COLUMN()+1))","v":""}]
[{"$f":"IF(ISNA(INDEX(geb.Rechnung!$A$4:$G$1000,MATCH(ROW()-5,geb.Rechnung!$G$4:$G$1000,0),COLUMN()-1)),\"\",INDEX(geb.Rechnung!$A$4:$G$1000,MATCH(ROW()-5,geb.Rechnung!$G$4:$G$1000,0),COLUMN()-1))","v":""},{"$f":"IF(ISNA(INDEX(geb.Rechnung!$A$4:$G$1000,MATCH(ROW()-5,geb.Rechnung!$G$4:$G$1000,0),COLUMN()-2)),\"\",INDEX(geb.Rechnung!$A$4:$G$1000,MATCH(ROW()-5,geb.Rechnung!$G$4:$G$1000,0),COLUMN()-2))","v":""},{"$f":"IF(ISNA(INDEX(geb.Rechnung!$A$4:$G$1000,MATCH(ROW()-5,geb.Rechnung!$G$4:$G$1000,0),COLUMN()+1)),\"\",INDEX(geb.Rechnung!$A$4:$G$1000,MATCH(ROW()-5,geb.Rechnung!$G$4:$G$1000,0),COLUMN()+1))","v":""},{"$f":"IF(ISNA(INDEX(geb.Rechnung!$A$4:$G$1000,MATCH(ROW()-5,geb.Rechnung!$G$4:$G$1000,0),COLUMN()+1)),\"\",INDEX(geb.Rechnung!$A$4:$G$1000,MATCH(ROW()-5,geb.Rechnung!$G$4:$G$1000,0),COLUMN()+1))","v":""}]
[{"$f":"IF(ISNA(INDEX(geb.Rechnung!$A$4:$G$1000,MATCH(ROW()-5,geb.Rechnung!$G$4:$G$1000,0),COLUMN()-1)),\"\",INDEX(geb.Rechnung!$A$4:$G$1000,MATCH(ROW()-5,geb.Rechnung!$G$4:$G$1000,0),COLUMN()-1))","v":""},{"$f":"IF(ISNA(INDEX(geb.Rechnung!$A$4:$G$1000,MATCH(ROW()-5,geb.Rechnung!$G$4:$G$1000,0),COLUMN()-2)),\"\",INDEX(geb.Rechnung!$A$4:$G$1000,MATCH(ROW()-5,geb.Rechnung!$G$4:$G$1000,0),COLUMN()-2))","v":""},{"$f":"IF(ISNA(INDEX(geb.Rechnung!$A$4:$G$1000,MATCH(ROW()-5,geb.Rechnung!$G$4:$G$1000,0),COLUMN()+1)),\"\",INDEX(geb.Rechnung!$A$4:$G$1000,MATCH(ROW()-5,geb.Rechnung!$G$4:$G$1000,0),COLUMN()+1))","v":""},{"$f":"IF(ISNA(INDEX(geb.Rechnung!$A$4:$G$1000,MATCH(ROW()-5,geb.Rechnung!$G$4:$G$1000,0),COLUMN()+1)),\"\",INDEX(geb.Rechnung!$A$4:$G$1000,MATCH(ROW()-5,geb.Rechnung!$G$4:$G$1000,0),COLUMN()+1))","v":""}]
[{"$f":"IF(ISNA(INDEX(geb.Rechnung!$A$4:$G$1000,MATCH(ROW()-5,geb.Rechnung!$G$4:$G$1000,0),COLUMN()-1)),\"\",INDEX(geb.Rechnung!$A$4:$G$1000,MATCH(ROW()-5,geb.Rechnung!$G$4:$G$1000,0),COLUMN()-1))","v":""},{"$f":"IF(ISNA(INDEX(geb.Rechnung!$A$4:$G$1000,MATCH(ROW()-5,geb.Rechnung!$G$4:$G$1000,0),COLUMN()-2)),\"\",INDEX(geb.Rechnung!$A$4:$G$1000,MATCH(ROW()-5,geb.Rechnung!$G$4:$G$1000,0),COLUMN()-2))","v":""},{"$f":"IF(ISNA(INDEX(geb.Rechnung!$A$4:$G$1000,MATCH(ROW()-5,geb.Rechnung!$G$4:$G$1000,0),COLUMN()+1)),\"\",INDEX(geb.Rechnung!$A$4:$G$1000,MATCH(ROW()-5,geb.Rechnung!$G$4:$G$1000,0),COLUMN()+1))","v":""},{"$f":"IF(ISNA(INDEX(geb.Rechnung!$A$4:$G$1000,MATCH(ROW()-5,geb.Rechnung!$G$4:$G$1000,0),COLUMN()+1)),\"\",INDEX(geb.Rechnung!$A$4:$G$1000,MATCH(ROW()-5,geb.Rechnung!$G$4:$G$1000,0),COLUMN()+1))","v":""}]
[{"$f":"IF(ISNA(INDEX(geb.Rechnung!$A$4:$G$1000,MATCH(ROW()-5,geb.Rechnung!$G$4:$G$1000,0),COLUMN()-1)),\"\",INDEX(geb.Rechnung!$A$4:$G$1000,MATCH(ROW()-5,geb.Rechnung!$G$4:$G$1000,0),COLUMN()-1))","v":""},{"$f":"IF(ISNA(INDEX(geb.Rechnung!$A$4:$G$1000,MATCH(ROW()-5,geb.Rechnung!$G$4:$G$1000,0),COLUMN()-2)),\"\",INDEX(geb.Rechnung!$A$4:$G$1000,MATCH(ROW()-5,geb.Rechnung!$G$4:$G$1000,0),COLUMN()-2))","v":""},{"$f":"IF(ISNA(INDEX(geb.Rechnung!$A$4:$G$1000,MATCH(ROW()-5,geb.Rechnung!$G$4:$G$1000,0),COLUMN()+1)),\"\",INDEX(geb.Rechnung!$A$4:$G$1000,MATCH(ROW()-5,geb.Rechnung!$G$4:$G$1000,0),COLUMN()+1))","v":""},{"$f":"IF(ISNA(INDEX(geb.Rechnung!$A$4:$G$1000,MATCH(ROW()-5,geb.Rechnung!$G$4:$G$1000,0),COLUMN()+1)),\"\",INDEX(geb.Rechnung!$A$4:$G$1000,MATCH(ROW()-5,geb.Rechnung!$G$4:$G$1000,0),COLUMN()+1))","v":""}]
[{"$f":"IF(ISNA(INDEX(geb.Rechnung!$A$4:$G$1000,MATCH(ROW()-5,geb.Rechnung!$G$4:$G$1000,0),COLUMN()-1)),\"\",INDEX(geb.Rechnung!$A$4:$G$1000,MATCH(ROW()-5,geb.Rechnung!$G$4:$G$1000,0),COLUMN()-1))","v":""},{"$f":"IF(ISNA(INDEX(geb.Rechnung!$A$4:$G$1000,MATCH(ROW()-5,geb.Rechnung!$G$4:$G$1000,0),COLUMN()-2)),\"\",INDEX(geb.Rechnung!$A$4:$G$1000,MATCH(ROW()-5,geb.Rechnung!$G$4:$G$1000,0),COLUMN()-2))","v":""},{"$f":"IF(ISNA(INDEX(geb.Rechnung!$A$4:$G$1000,MATCH(ROW()-5,geb.Rechnung!$G$4:$G$1000,0),COLUMN()+1)),\"\",INDEX(geb.Rechnung!$A$4:$G$1000,MATCH(ROW()-5,geb.Rechnung!$G$4:$G$1000,0),COLUMN()+1))","v":""},{"$f":"IF(ISNA(INDEX(geb.Rechnung!$A$4:$G$1000,MATCH(ROW()-5,geb.Rechnung!$G$4:$G$1000,0),COLUMN()+1)),\"\",INDEX(geb.Rechnung!$A$4:$G$1000,MATCH(ROW()-5,geb.Rechnung!$G$4:$G$1000,0),COLUMN()+1))","v":""}]
[{"$f":"IF(ISNA(INDEX(geb.Rechnung!$A$4:$G$1000,MATCH(ROW()-5,geb.Rechnung!$G$4:$G$1000,0),COLUMN()-1)),\"\",INDEX(geb.Rechnung!$A$4:$G$1000,MATCH(ROW()-5,geb.Rechnung!$G$4:$G$1000,0),COLUMN()-1))","v":""},{"$f":"IF(ISNA(INDEX(geb.Rechnung!$A$4:$G$1000,MATCH(ROW()-5,geb.Rechnung!$G$4:$G$1000,0),COLUMN()-2)),\"\",INDEX(geb.Rechnung!$A$4:$G$1000,MATCH(ROW()-5,geb.Rechnung!$G$4:$G$1000,0),COLUMN()-2))","v":""},{"$f":"IF(ISNA(INDEX(geb.Rechnung!$A$4:$G$1000,MATCH(ROW()-5,geb.Rechnung!$G$4:$G$1000,0),COLUMN()+1)),\"\",INDEX(geb.Rechnung!$A$4:$G$1000,MATCH(ROW()-5,geb.Rechnung!$G$4:$G$1000,0),COLUMN()+1))","v":""},{"$f":"IF(ISNA(INDEX(geb.Rechnung!$A$4:$G$1000,MATCH(ROW()-5,geb.Rechnung!$G$4:$G$1000,0),COLUMN()+1)),\"\",INDEX(geb.Rechnung!$A$4:$G$1000,MATCH(ROW()-5,geb.Rechnung!$G$4:$G$1000,0),COLUMN()+1))","v":""}]
[{"$f":"IF(ISNA(INDEX(geb.Rechnung!$A$4:$G$1000,MATCH(ROW()-5,geb.Rechnung!$G$4:$G$1000,0),COLUMN()-1)),\"\",INDEX(geb.Rechnung!$A$4:$G$1000,MATCH(ROW()-5,geb.Rechnung!$G$4:$G$1000,0),COLUMN()-1))","v":""},{"$f":"IF(ISNA(INDEX(geb.Rechnung!$A$4:$G$1000,MATCH(ROW()-5,geb.Rechnung!$G$4:$G$1000,0),COLUMN()-2)),\"\",INDEX(geb.Rechnung!$A$4:$G$1000,MATCH(ROW()-5,geb.Rechnung!$G$4:$G$1000,0),COLUMN()-2))","v":""},{"$f":"IF(ISNA(INDEX(geb.Rechnung!$A$4:$G$1000,MATCH(ROW()-5,geb.Rechnung!$G$4:$G$1000,0),COLUMN()+1)),\"\",INDEX(geb.Rechnung!$A$4:$G$1000,MATCH(ROW()-5,geb.Rechnung!$G$4:$G$1000,0),COLUMN()+1))","v":""},{"$f":"IF(ISNA(INDEX(geb.Rechnung!$A$4:$G$1000,MATCH(ROW()-5,geb.Rechnung!$G$4:$G$1000,0),COLUMN()+1)),\"\",INDEX(geb.Rechnung!$A$4:$G$1000,MATCH(ROW()-5,geb.Rechnung!$G$4:$G$1000,0),COLUMN()+1))","v":""}]
[{"$f":"IF(ISNA(INDEX(geb.Rechnung!$A$4:$G$1000,MATCH(ROW()-5,geb.Rechnung!$G$4:$G$1000,0),COLUMN()-1)),\"\",INDEX(geb.Rechnung!$A$4:$G$1000,MATCH(ROW()-5,geb.Rechnung!$G$4:$G$1000,0),COLUMN()-1))","v":""},{"$f":"IF(ISNA(INDEX(geb.Rechnung!$A$4:$G$1000,MATCH(ROW()-5,geb.Rechnung!$G$4:$G$1000,0),COLUMN()-2)),\"\",INDEX(geb.Rechnung!$A$4:$G$1000,MATCH(ROW()-5,geb.Rechnung!$G$4:$G$1000,0),COLUMN()-2))","v":""},{"$f":"IF(ISNA(INDEX(geb.Rechnung!$A$4:$G$1000,MATCH(ROW()-5,geb.Rechnung!$G$4:$G$1000,0),COLUMN()+1)),\"\",INDEX(geb.Rechnung!$A$4:$G$1000,MATCH(ROW()-5,geb.Rechnung!$G$4:$G$1000,0),COLUMN()+1))","v":""},{"$f":"IF(ISNA(INDEX(geb.Rechnung!$A$4:$G$1000,MATCH(ROW()-5,geb.Rechnung!$G$4:$G$1000,0),COLUMN()+1)),\"\",INDEX(geb.Rechnung!$A$4:$G$1000,MATCH(ROW()-5,geb.Rechnung!$G$4:$G$1000,0),COLUMN()+1))","v":""}]
[{"$f":"IF(ISNA(INDEX(geb.Rechnung!$A$4:$G$1000,MATCH(ROW()-5,geb.Rechnung!$G$4:$G$1000,0),COLUMN()-1)),\"\",INDEX(geb.Rechnung!$A$4:$G$1000,MATCH(ROW()-5,geb.Rechnung!$G$4:$G$1000,0),COLUMN()-1))","v":""},{"$f":"IF(ISNA(INDEX(geb.Rechnung!$A$4:$G$1000,MATCH(ROW()-5,geb.Rechnung!$G$4:$G$1000,0),COLUMN()-2)),\"\",INDEX(geb.Rechnung!$A$4:$G$1000,MATCH(ROW()-5,geb.Rechnung!$G$4:$G$1000,0),COLUMN()-2))","v":""},{"$f":"IF(ISNA(INDEX(geb.Rechnung!$A$4:$G$1000,MATCH(ROW()-5,geb.Rechnung!$G$4:$G$1000,0),COLUMN()+1)),\"\",INDEX(geb.Rechnung!$A$4:$G$1000,MATCH(ROW()-5,geb.Rechnung!$G$4:$G$1000,0),COLUMN()+1))","v":""},{"$f":"IF(ISNA(INDEX(geb.Rechnung!$A$4:$G$1000,MATCH(ROW()-5,geb.Rechnung!$G$4:$G$1000,0),COLUMN()+1)),\"\",INDEX(geb.Rechnung!$A$4:$G$1000,MATCH(ROW()-5,geb.Rechnung!$G$4:$G$1000,0),COLUMN()+1))","v":""}]
[{"$f":"IF(ISNA(INDEX(geb.Rechnung!$A$4:$G$1000,MATCH(ROW()-5,geb.Rechnung!$G$4:$G$1000,0),COLUMN()-1)),\"\",INDEX(geb.Rechnung!$A$4:$G$1000,MATCH(ROW()-5,geb.Rechnung!$G$4:$G$1000,0),COLUMN()-1))","v":""},{"$f":"IF(ISNA(INDEX(geb.Rechnung!$A$4:$G$1000,MATCH(ROW()-5,geb.Rechnung!$G$4:$G$1000,0),COLUMN()-2)),\"\",INDEX(geb.Rechnung!$A$4:$G$1000,MATCH(ROW()-5,geb.Rechnung!$G$4:$G$1000,0),COLUMN()-2))","v":""},{"$f":"IF(ISNA(INDEX(geb.Rechnung!$A$4:$G$1000,MATCH(ROW()-5,geb.Rechnung!$G$4:$G$1000,0),COLUMN()+1)),\"\",INDEX(geb.Rechnung!$A$4:$G$1000,MATCH(ROW()-5,geb.Rechnung!$G$4:$G$1000,0),COLUMN()+1))","v":""},{"$f":"IF(ISNA(INDEX(geb.Rechnung!$A$4:$G$1000,MATCH(ROW()-5,geb.Rechnung!$G$4:$G$1000,0),COLUMN()+1)),\"\",INDEX(geb.Rechnung!$A$4:$G$1000,MATCH(ROW()-5,geb.Rechnung!$G$4:$G$1000,0),COLUMN()+1))","v":""}]
[{"$f":"IF(ISNA(INDEX(geb.Rechnung!$A$4:$G$1000,MATCH(ROW()-5,geb.Rechnung!$G$4:$G$1000,0),COLUMN()-1)),\"\",INDEX(geb.Rechnung!$A$4:$G$1000,MATCH(ROW()-5,geb.Rechnung!$G$4:$G$1000,0),COLUMN()-1))","v":""},{"$f":"IF(ISNA(INDEX(geb.Rechnung!$A$4:$G$1000,MATCH(ROW()-5,geb.Rechnung!$G$4:$G$1000,0),COLUMN()-2)),\"\",INDEX(geb.Rechnung!$A$4:$G$1000,MATCH(ROW()-5,geb.Rechnung!$G$4:$G$1000,0),COLUMN()-2))","v":""},{"$f":"IF(ISNA(INDEX(geb.Rechnung!$A$4:$G$1000,MATCH(ROW()-5,geb.Rechnung!$G$4:$G$1000,0),COLUMN()+1)),\"\",INDEX(geb.Rechnung!$A$4:$G$1000,MATCH(ROW()-5,geb.Rechnung!$G$4:$G$1000,0),COLUMN()+1))","v":""},{"$f":"IF(ISNA(INDEX(geb.Rechnung!$A$4:$G$1000,MATCH(ROW()-5,geb.Rechnung!$G$4:$G$1000,0),COLUMN()+1)),\"\",INDEX(geb.Rechnung!$A$4:$G$1000,MATCH(ROW()-5,geb.Rechnung!$G$4:$G$1000,0),COLUMN()+1))","v":""}]
[{"$f":"IF(ISNA(INDEX(geb.Rechnung!$A$4:$G$1000,MATCH(ROW()-5,geb.Rechnung!$G$4:$G$1000,0),COLUMN()-1)),\"\",INDEX(geb.Rechnung!$A$4:$G$1000,MATCH(ROW()-5,geb.Rechnung!$G$4:$G$1000,0),COLUMN()-1))","v":""},{"$f":"IF(ISNA(INDEX(geb.Rechnung!$A$4:$G$1000,MATCH(ROW()-5,geb.Rechnung!$G$4:$G$1000,0),COLUMN()-2)),\"\",INDEX(geb.Rechnung!$A$4:$G$1000,MATCH(ROW()-5,geb.Rechnung!$G$4:$G$1000,0),COLUMN()-2))","v":""},{"$f":"IF(ISNA(INDEX(geb.Rechnung!$A$4:$G$1000,MATCH(ROW()-5,geb.Rechnung!$G$4:$G$1000,0),COLUMN()+1)),\"\",INDEX(geb.Rechnung!$A$4:$G$1000,MATCH(ROW()-5,geb.Rechnung!$G$4:$G$1000,0),COLUMN()+1))","v":""},{"$f":"IF(ISNA(INDEX(geb.Rechnung!$A$4:$G$1000,MATCH(ROW()-5,geb.Rechnung!$G$4:$G$1000,0),COLUMN()+1)),\"\",INDEX(geb.Rechnung!$A$4:$G$1000,MATCH(ROW()-5,geb.Rechnung!$G$4:$G$1000,0),COLUMN()+1))","v":""}]
[{"$f":"IF(ISNA(INDEX(geb.Rechnung!$A$4:$G$1000,MATCH(ROW()-5,geb.Rechnung!$G$4:$G$1000,0),COLUMN()-1)),\"\",INDEX(geb.Rechnung!$A$4:$G$1000,MATCH(ROW()-5,geb.Rechnung!$G$4:$G$1000,0),COLUMN()-1))","v":""},{"$f":"IF(ISNA(INDEX(geb.Rechnung!$A$4:$G$1000,MATCH(ROW()-5,geb.Rechnung!$G$4:$G$1000,0),COLUMN()-2)),\"\",INDEX(geb.Rechnung!$A$4:$G$1000,MATCH(ROW()-5,geb.Rechnung!$G$4:$G$1000,0),COLUMN()-2))","v":""},{"$f":"IF(ISNA(INDEX(geb.Rechnung!$A$4:$G$1000,MATCH(ROW()-5,geb.Rechnung!$G$4:$G$1000,0),COLUMN()+1)),\"\",INDEX(geb.Rechnung!$A$4:$G$1000,MATCH(ROW()-5,geb.Rechnung!$G$4:$G$1000,0),COLUMN()+1))","v":""},{"$f":"IF(ISNA(INDEX(geb.Rechnung!$A$4:$G$1000,MATCH(ROW()-5,geb.Rechnung!$G$4:$G$1000,0),COLUMN()+1)),\"\",INDEX(geb.Rechnung!$A$4:$G$1000,MATCH(ROW()-5,geb.Rechnung!$G$4:$G$1000,0),COLUMN()+1))","v":""}]
[{"$f":"IF(ISNA(INDEX(geb.Rechnung!$A$4:$G$1000,MATCH(ROW()-5,geb.Rechnung!$G$4:$G$1000,0),COLUMN()-1)),\"\",INDEX(geb.Rechnung!$A$4:$G$1000,MATCH(ROW()-5,geb.Rechnung!$G$4:$G$1000,0),COLUMN()-1))","v":""},{"$f":"IF(ISNA(INDEX(geb.Rechnung!$A$4:$G$1000,MATCH(ROW()-5,geb.Rechnung!$G$4:$G$1000,0),COLUMN()-2)),\"\",INDEX(geb.Rechnung!$A$4:$G$1000,MATCH(ROW()-5,geb.Rechnung!$G$4:$G$1000,0),COLUMN()-2))","v":""},{"$f":"IF(ISNA(INDEX(geb.Rechnung!$A$4:$G$1000,MATCH(ROW()-5,geb.Rechnung!$G$4:$G$1000,0),COLUMN()+1)),\"\",INDEX(geb.Rechnung!$A$4:$G$1000,MATCH(ROW()-5,geb.Rechnung!$G$4:$G$1000,0),COLUMN()+1))","v":""},{"$f":"IF(ISNA(INDEX(geb.Rechnung!$A$4:$G$1000,MATCH(ROW()-5,geb.Rechnung!$G$4:$G$1000,0),COLUMN()+1)),\"\",INDEX(geb.Rechnung!$A$4:$G$1000,MATCH(ROW()-5,geb.Rechnung!$G$4:$G$1000,0),COLUMN()+1))","v":""}]
[{"$f":"IF(ISNA(INDEX(geb.Rechnung!$A$4:$G$1000,MATCH(ROW()-5,geb.Rechnung!$G$4:$G$1000,0),COLUMN()-1)),\"\",INDEX(geb.Rechnung!$A$4:$G$1000,MATCH(ROW()-5,geb.Rechnung!$G$4:$G$1000,0),COLUMN()-1))","v":""},{"$f":"IF(ISNA(INDEX(geb.Rechnung!$A$4:$G$1000,MATCH(ROW()-5,geb.Rechnung!$G$4:$G$1000,0),COLUMN()-2)),\"\",INDEX(geb.Rechnung!$A$4:$G$1000,MATCH(ROW()-5,geb.Rechnung!$G$4:$G$1000,0),COLUMN()-2))","v":""},{"$f":"IF(ISNA(INDEX(geb.Rechnung!$A$4:$G$1000,MATCH(ROW()-5,geb.Rechnung!$G$4:$G$1000,0),COLUMN()+1)),\"\",INDEX(geb.Rechnung!$A$4:$G$1000,MATCH(ROW()-5,geb.Rechnung!$G$4:$G$1000,0),COLUMN()+1))","v":""},{"$f":"IF(ISNA(INDEX(geb.Rechnung!$A$4:$G$1000,MATCH(ROW()-5,geb.Rechnung!$G$4:$G$1000,0),COLUMN()+1)),\"\",INDEX(geb.Rechnung!$A$4:$G$1000,MATCH(ROW()-5,geb.Rechnung!$G$4:$G$1000,0),COLUMN()+1))","v":""}]
[{"$f":"IF(ISNA(INDEX(geb.Rechnung!$A$4:$G$1000,MATCH(ROW()-5,geb.Rechnung!$G$4:$G$1000,0),COLUMN()-1)),\"\",INDEX(geb.Rechnung!$A$4:$G$1000,MATCH(ROW()-5,geb.Rechnung!$G$4:$G$1000,0),COLUMN()-1))","v":""},{"$f":"IF(ISNA(INDEX(geb.Rechnung!$A$4:$G$1000,MATCH(ROW()-5,geb.Rechnung!$G$4:$G$1000,0),COLUMN()-2)),\"\",INDEX(geb.Rechnung!$A$4:$G$1000,MATCH(ROW()-5,geb.Rechnung!$G$4:$G$1000,0),COLUMN()-2))","v":""},{"$f":"IF(ISNA(INDEX(geb.Rechnung!$A$4:$G$1000,MATCH(ROW()-5,geb.Rechnung!$G$4:$G$1000,0),COLUMN()+1)),\"\",INDEX(geb.Rechnung!$A$4:$G$1000,MATCH(ROW()-5,geb.Rechnung!$G$4:$G$1000,0),COLUMN()+1))","v":""},{"$f":"IF(ISNA(INDEX(geb.Rechnung!$A$4:$G$1000,MATCH(ROW()-5,geb.Rechnung!$G$4:$G$1000,0),COLUMN()+1)),\"\",INDEX(geb.Rechnung!$A$4:$G$1000,MATCH(ROW()-5,geb.Rechnung!$G$4:$G$1000,0),COLUMN()+1))","v":""}]
[{"$f":"IF(ISNA(INDEX(geb.Rechnung!$A$4:$G$1000,MATCH(ROW()-5,geb.Rechnung!$G$4:$G$1000,0),COLUMN()-1)),\"\",INDEX(geb.Rechnung!$A$4:$G$1000,MATCH(ROW()-5,geb.Rechnung!$G$4:$G$1000,0),COLUMN()-1))","v":""},{"$f":"IF(ISNA(INDEX(geb.Rechnung!$A$4:$G$1000,MATCH(ROW()-5,geb.Rechnung!$G$4:$G$1000,0),COLUMN()-2)),\"\",INDEX(geb.Rechnung!$A$4:$G$1000,MATCH(ROW()-5,geb.Rechnung!$G$4:$G$1000,0),COLUMN()-2))","v":""},{"$f":"IF(ISNA(INDEX(geb.Rechnung!$A$4:$G$1000,MATCH(ROW()-5,geb.Rechnung!$G$4:$G$1000,0),COLUMN()+1)),\"\",INDEX(geb.Rechnung!$A$4:$G$1000,MATCH(ROW()-5,geb.Rechnung!$G$4:$G$1000,0),COLUMN()+1))","v":""},{"$f":"IF(ISNA(INDEX(geb.Rechnung!$A$4:$G$1000,MATCH(ROW()-5,geb.Rechnung!$G$4:$G$1000,0),COLUMN()+1)),\"\",INDEX(geb.Rechnung!$A$4:$G$1000,MATCH(ROW()-5,geb.Rechnung!$G$4:$G$1000,0),COLUMN()+1))","v":""}]
[{"$f":"IF(ISNA(INDEX(geb.Rechnung!$A$4:$G$1000,MATCH(ROW()-5,geb.Rechnung!$G$4:$G$1000,0),COLUMN()-1)),\"\",INDEX(geb.Rechnung!$A$4:$G$1000,MATCH(ROW()-5,geb.Rechnung!$G$4:$G$1000,0),COLUMN()-1))","v":""},{"$f":"IF(ISNA(INDEX(geb.Rechnung!$A$4:$G$1000,MATCH(ROW()-5,geb.Rechnung!$G$4:$G$1000,0),COLUMN()-2)),\"\",INDEX(geb.Rechnung!$A$4:$G$1000,MATCH(ROW()-5,geb.Rechnung!$G$4:$G$1000,0),COLUMN()-2))","v":""},{"$f":"IF(ISNA(INDEX(geb.Rechnung!$A$4:$G$1000,MATCH(ROW()-5,geb.Rechnung!$G$4:$G$1000,0),COLUMN()+1)),\"\",INDEX(geb.Rechnung!$A$4:$G$1000,MATCH(ROW()-5,geb.Rechnung!$G$4:$G$1000,0),COLUMN()+1))","v":""},{"$f":"IF(ISNA(INDEX(geb.Rechnung!$A$4:$G$1000,MATCH(ROW()-5,geb.Rechnung!$G$4:$G$1000,0),COLUMN()+1)),\"\",INDEX(geb.Rechnung!$A$4:$G$1000,MATCH(ROW()-5,geb.Rechnung!$G$4:$G$1000,0),COLUMN()+1))","v":""}]
[{"$f":"IF(ISNA(INDEX(geb.Rechnung!$A$4:$G$1000,MATCH(ROW()-5,geb.Rechnung!$G$4:$G$1000,0),COLUMN()-1)),\"\",INDEX(geb.Rechnung!$A$4:$G$1000,MATCH(ROW()-5,geb.Rechnung!$G$4:$G$1000,0),COLUMN()-1))","v":""},{"$f":"IF(ISNA(INDEX(geb.Rechnung!$A$4:$G$1000,MATCH(ROW()-5,geb.Rechnung!$G$4:$G$1000,0),COLUMN()-2)),\"\",INDEX(geb.Rechnung!$A$4:$G$1000,MATCH(ROW()-5,geb.Rechnung!$G$4:$G$1000,0),COLUMN()-2))","v":""},{"$f":"IF(ISNA(INDEX(geb.Rechnung!$A$4:$G$1000,MATCH(ROW()-5,geb.Rechnung!$G$4:$G$1000,0),COLUMN()+1)),\"\",INDEX(geb.Rechnung!$A$4:$G$1000,MATCH(ROW()-5,geb.Rechnung!$G$4:$G$1000,0),COLUMN()+1))","v":""},{"$f":"IF(ISNA(INDEX(geb.Rechnung!$A$4:$G$1000,MATCH(ROW()-5,geb.Rechnung!$G$4:$G$1000,0),COLUMN()+1)),\"\",INDEX(geb.Rechnung!$A$4:$G$1000,MATCH(ROW()-5,geb.Rechnung!$G$4:$G$1000,0),COLUMN()+1))","v":""}]
[{"$f":"IF(ISNA(INDEX(geb.Rechnung!$A$4:$G$1000,MATCH(ROW()-5,geb.Rechnung!$G$4:$G$1000,0),COLUMN()-1)),\"\",INDEX(geb.Rechnung!$A$4:$G$1000,MATCH(ROW()-5,geb.Rechnung!$G$4:$G$1000,0),COLUMN()-1))","v":""},{"$f":"IF(ISNA(INDEX(geb.Rechnung!$A$4:$G$1000,MATCH(ROW()-5,geb.Rechnung!$G$4:$G$1000,0),COLUMN()-2)),\"\",INDEX(geb.Rechnung!$A$4:$G$1000,MATCH(ROW()-5,geb.Rechnung!$G$4:$G$1000,0),COLUMN()-2))","v":""},{"$f":"IF(ISNA(INDEX(geb.Rechnung!$A$4:$G$1000,MATCH(ROW()-5,geb.Rechnung!$G$4:$G$1000,0),COLUMN()+1)),\"\",INDEX(geb.Rechnung!$A$4:$G$1000,MATCH(ROW()-5,geb.Rechnung!$G$4:$G$1000,0),COLUMN()+1))","v":""},{"$f":"IF(ISNA(INDEX(geb.Rechnung!$A$4:$G$1000,MATCH(ROW()-5,geb.Rechnung!$G$4:$G$1000,0),COLUMN()+1)),\"\",INDEX(geb.Rechnung!$A$4:$G$1000,MATCH(ROW()-5,geb.Rechnung!$G$4:$G$1000,0),COLUMN()+1))","v":""}]
[{"$f":"IF(ISNA(INDEX(geb.Rechnung!$A$4:$G$1000,MATCH(ROW()-5,geb.Rechnung!$G$4:$G$1000,0),COLUMN()-1)),\"\",INDEX(geb.Rechnung!$A$4:$G$1000,MATCH(ROW()-5,geb.Rechnung!$G$4:$G$1000,0),COLUMN()-1))","v":""},{"$f":"IF(ISNA(INDEX(geb.Rechnung!$A$4:$G$1000,MATCH(ROW()-5,geb.Rechnung!$G$4:$G$1000,0),COLUMN()-2)),\"\",INDEX(geb.Rechnung!$A$4:$G$1000,MATCH(ROW()-5,geb.Rechnung!$G$4:$G$1000,0),COLUMN()-2))","v":""},{"$f":"IF(ISNA(INDEX(geb.Rechnung!$A$4:$G$1000,MATCH(ROW()-5,geb.Rechnung!$G$4:$G$1000,0),COLUMN()+1)),\"\",INDEX(geb.Rechnung!$A$4:$G$1000,MATCH(ROW()-5,geb.Rechnung!$G$4:$G$1000,0),COLUMN()+1))","v":""},{"$f":"IF(ISNA(INDEX(geb.Rechnung!$A$4:$G$1000,MATCH(ROW()-5,geb.Rechnung!$G$4:$G$1000,0),COLUMN()+1)),\"\",INDEX(geb.Rechnung!$A$4:$G$1000,MATCH(ROW()-5,geb.Rechnung!$G$4:$G$1000,0),COLUMN()+1))","v":""}]
[{"$f":"IF(ISNA(INDEX(geb.Rechnung!$A$4:$G$1000,MATCH(ROW()-5,geb.Rechnung!$G$4:$G$1000,0),COLUMN()-1)),\"\",INDEX(geb.Rechnung!$A$4:$G$1000,MATCH(ROW()-5,geb.Rechnung!$G$4:$G$1000,0),COLUMN()-1))","v":""},{"$f":"IF(ISNA(INDEX(geb.Rechnung!$A$4:$G$1000,MATCH(ROW()-5,geb.Rechnung!$G$4:$G$1000,0),COLUMN()-2)),\"\",INDEX(geb.Rechnung!$A$4:$G$1000,MATCH(ROW()-5,geb.Rechnung!$G$4:$G$1000,0),COLUMN()-2))","v":""},{"$f":"IF(ISNA(INDEX(geb.Rechnung!$A$4:$G$1000,MATCH(ROW()-5,geb.Rechnung!$G$4:$G$1000,0),COLUMN()+1)),\"\",INDEX(geb.Rechnung!$A$4:$G$1000,MATCH(ROW()-5,geb.Rechnung!$G$4:$G$1000,0),COLUMN()+1))","v":""},{"$f":"IF(ISNA(INDEX(geb.Rechnung!$A$4:$G$1000,MATCH(ROW()-5,geb.Rechnung!$G$4:$G$1000,0),COLUMN()+1)),\"\",INDEX(geb.Rechnung!$A$4:$G$1000,MATCH(ROW()-5,geb.Rechnung!$G$4:$G$1000,0),COLUMN()+1))","v":""}]
[{"$f":"IF(ISNA(INDEX(geb.Rechnung!$A$4:$G$1000,MATCH(ROW()-5,geb.Rechnung!$G$4:$G$1000,0),COLUMN()-1)),\"\",INDEX(geb.Rechnung!$A$4:$G$1000,MATCH(ROW()-5,geb.Rechnung!$G$4:$G$1000,0),COLUMN()-1))","v":""},{"$f":"IF(ISNA(INDEX(geb.Rechnung!$A$4:$G$1000,MATCH(ROW()-5,geb.Rechnung!$G$4:$G$1000,0),COLUMN()-2)),\"\",INDEX(geb.Rechnung!$A$4:$G$1000,MATCH(ROW()-5,geb.Rechnung!$G$4:$G$1000,0),COLUMN()-2))","v":""},{"$f":"IF(ISNA(INDEX(geb.Rechnung!$A$4:$G$1000,MATCH(ROW()-5,geb.Rechnung!$G$4:$G$1000,0),COLUMN()+1)),\"\",INDEX(geb.Rechnung!$A$4:$G$1000,MATCH(ROW()-5,geb.Rechnung!$G$4:$G$1000,0),COLUMN()+1))","v":""},{"$f":"IF(ISNA(INDEX(geb.Rechnung!$A$4:$G$1000,MATCH(ROW()-5,geb.Rechnung!$G$4:$G$1000,0),COLUMN()+1)),\"\",INDEX(geb.Rechnung!$A$4:$G$1000,MATCH(ROW()-5,geb.Rechnung!$G$4:$G$1000,0),COLUMN()+1))","v":""}]
[{"$f":"IF(ISNA(INDEX(geb.Rechnung!$A$4:$G$1000,MATCH(ROW()-5,geb.Rechnung!$G$4:$G$1000,0),COLUMN()-1)),\"\",INDEX(geb.Rechnung!$A$4:$G$1000,MATCH(ROW()-5,geb.Rechnung!$G$4:$G$1000,0),COLUMN()-1))","v":""},{"$f":"IF(ISNA(INDEX(geb.Rechnung!$A$4:$G$1000,MATCH(ROW()-5,geb.Rechnung!$G$4:$G$1000,0),COLUMN()-2)),\"\",INDEX(geb.Rechnung!$A$4:$G$1000,MATCH(ROW()-5,geb.Rechnung!$G$4:$G$1000,0),COLUMN()-2))","v":""},{"$f":"IF(ISNA(INDEX(geb.Rechnung!$A$4:$G$1000,MATCH(ROW()-5,geb.Rechnung!$G$4:$G$1000,0),COLUMN()+1)),\"\",INDEX(geb.Rechnung!$A$4:$G$1000,MATCH(ROW()-5,geb.Rechnung!$G$4:$G$1000,0),COLUMN()+1))","v":""},{"$f":"IF(ISNA(INDEX(geb.Rechnung!$A$4:$G$1000,MATCH(ROW()-5,geb.Rechnung!$G$4:$G$1000,0),COLUMN()+1)),\"\",INDEX(geb.Rechnung!$A$4:$G$1000,MATCH(ROW()-5,geb.Rechnung!$G$4:$G$1000,0),COLUMN()+1))","v":""}]
[{"$f":"IF(ISNA(INDEX(geb.Rechnung!$A$4:$G$1000,MATCH(ROW()-5,geb.Rechnung!$G$4:$G$1000,0),COLUMN()-1)),\"\",INDEX(geb.Rechnung!$A$4:$G$1000,MATCH(ROW()-5,geb.Rechnung!$G$4:$G$1000,0),COLUMN()-1))","v":""},{"$f":"IF(ISNA(INDEX(geb.Rechnung!$A$4:$G$1000,MATCH(ROW()-5,geb.Rechnung!$G$4:$G$1000,0),COLUMN()-2)),\"\",INDEX(geb.Rechnung!$A$4:$G$1000,MATCH(ROW()-5,geb.Rechnung!$G$4:$G$1000,0),COLUMN()-2))","v":""},{"$f":"IF(ISNA(INDEX(geb.Rechnung!$A$4:$G$1000,MATCH(ROW()-5,geb.Rechnung!$G$4:$G$1000,0),COLUMN()+1)),\"\",INDEX(geb.Rechnung!$A$4:$G$1000,MATCH(ROW()-5,geb.Rechnung!$G$4:$G$1000,0),COLUMN()+1))","v":""},{"$f":"IF(ISNA(INDEX(geb.Rechnung!$A$4:$G$1000,MATCH(ROW()-5,geb.Rechnung!$G$4:$G$1000,0),COLUMN()+1)),\"\",INDEX(geb.Rechnung!$A$4:$G$1000,MATCH(ROW()-5,geb.Rechnung!$G$4:$G$1000,0),COLUMN()+1))","v":""}]
[{"$f":"IF(ISNA(INDEX(geb.Rechnung!$A$4:$G$1000,MATCH(ROW()-5,geb.Rechnung!$G$4:$G$1000,0),COLUMN()-1)),\"\",INDEX(geb.Rechnung!$A$4:$G$1000,MATCH(ROW()-5,geb.Rechnung!$G$4:$G$1000,0),COLUMN()-1))","v":""},{"$f":"IF(ISNA(INDEX(geb.Rechnung!$A$4:$G$1000,MATCH(ROW()-5,geb.Rechnung!$G$4:$G$1000,0),COLUMN()-2)),\"\",INDEX(geb.Rechnung!$A$4:$G$1000,MATCH(ROW()-5,geb.Rechnung!$G$4:$G$1000,0),COLUMN()-2))","v":""},{"$f":"IF(ISNA(INDEX(geb.Rechnung!$A$4:$G$1000,MATCH(ROW()-5,geb.Rechnung!$G$4:$G$1000,0),COLUMN()+1)),\"\",INDEX(geb.Rechnung!$A$4:$G$1000,MATCH(ROW()-5,geb.Rechnung!$G$4:$G$1000,0),COLUMN()+1))","v":""},{"$f":"IF(ISNA(INDEX(geb.Rechnung!$A$4:$G$1000,MATCH(ROW()-5,geb.Rechnung!$G$4:$G$1000,0),COLUMN()+1)),\"\",INDEX(geb.Rechnung!$A$4:$G$1000,MATCH(ROW()-5,geb.Rechnung!$G$4:$G$1000,0),COLUMN()+1))","v":""}]
[{"$f":"IF(ISNA(INDEX(geb.Rechnung!$A$4:$G$1000,MATCH(ROW()-5,geb.Rechnung!$G$4:$G$1000,0),COLUMN()-1)),\"\",INDEX(geb.Rechnung!$A$4:$G$1000,MATCH(ROW()-5,geb.Rechnung!$G$4:$G$1000,0),COLUMN()-1))","v":""},{"$f":"IF(ISNA(INDEX(geb.Rechnung!$A$4:$G$1000,MATCH(ROW()-5,geb.Rechnung!$G$4:$G$1000,0),COLUMN()-2)),\"\",INDEX(geb.Rechnung!$A$4:$G$1000,MATCH(ROW()-5,geb.Rechnung!$G$4:$G$1000,0),COLUMN()-2))","v":""},{"$f":"IF(ISNA(INDEX(geb.Rechnung!$A$4:$G$1000,MATCH(ROW()-5,geb.Rechnung!$G$4:$G$1000,0),COLUMN()+1)),\"\",INDEX(geb.Rechnung!$A$4:$G$1000,MATCH(ROW()-5,geb.Rechnung!$G$4:$G$1000,0),COLUMN()+1))","v":""},{"$f":"IF(ISNA(INDEX(geb.Rechnung!$A$4:$G$1000,MATCH(ROW()-5,geb.Rechnung!$G$4:$G$1000,0),COLUMN()+1)),\"\",INDEX(geb.Rechnung!$A$4:$G$1000,MATCH(ROW()-5,geb.Rechnung!$G$4:$G$1000,0),COLUMN()+1))","v":""}]
[{"$f":"IF(ISNA(INDEX(geb.Rechnung!$A$4:$G$1000,MATCH(ROW()-5,geb.Rechnung!$G$4:$G$1000,0),COLUMN()-1)),\"\",INDEX(geb.Rechnung!$A$4:$G$1000,MATCH(ROW()-5,geb.Rechnung!$G$4:$G$1000,0),COLUMN()-1))","v":""},{"$f":"IF(ISNA(INDEX(geb.Rechnung!$A$4:$G$1000,MATCH(ROW()-5,geb.Rechnung!$G$4:$G$1000,0),COLUMN()-2)),\"\",INDEX(geb.Rechnung!$A$4:$G$1000,MATCH(ROW()-5,geb.Rechnung!$G$4:$G$1000,0),COLUMN()-2))","v":""},{"$f":"IF(ISNA(INDEX(geb.Rechnung!$A$4:$G$1000,MATCH(ROW()-5,geb.Rechnung!$G$4:$G$1000,0),COLUMN()+1)),\"\",INDEX(geb.Rechnung!$A$4:$G$1000,MATCH(ROW()-5,geb.Rechnung!$G$4:$G$1000,0),COLUMN()+1))","v":""},{"$f":"IF(ISNA(INDEX(geb.Rechnung!$A$4:$G$1000,MATCH(ROW()-5,geb.Rechnung!$G$4:$G$1000,0),COLUMN()+1)),\"\",INDEX(geb.Rechnung!$A$4:$G$1000,MATCH(ROW()-5,geb.Rechnung!$G$4:$G$1000,0),COLUMN()+1))","v":""}]
[{"$f":"IF(ISNA(INDEX(geb.Rechnung!$A$4:$G$1000,MATCH(ROW()-5,geb.Rechnung!$G$4:$G$1000,0),COLUMN()-1)),\"\",INDEX(geb.Rechnung!$A$4:$G$1000,MATCH(ROW()-5,geb.Rechnung!$G$4:$G$1000,0),COLUMN()-1))","v":""},{"$f":"IF(ISNA(INDEX(geb.Rechnung!$A$4:$G$1000,MATCH(ROW()-5,geb.Rechnung!$G$4:$G$1000,0),COLUMN()-2)),\"\",INDEX(geb.Rechnung!$A$4:$G$1000,MATCH(ROW()-5,geb.Rechnung!$G$4:$G$1000,0),COLUMN()-2))","v":""},{"$f":"IF(ISNA(INDEX(geb.Rechnung!$A$4:$G$1000,MATCH(ROW()-5,geb.Rechnung!$G$4:$G$1000,0),COLUMN()+1)),\"\",INDEX(geb.Rechnung!$A$4:$G$1000,MATCH(ROW()-5,geb.Rechnung!$G$4:$G$1000,0),COLUMN()+1))","v":""},{"$f":"IF(ISNA(INDEX(geb.Rechnung!$A$4:$G$1000,MATCH(ROW()-5,geb.Rechnung!$G$4:$G$1000,0),COLUMN()+1)),\"\",INDEX(geb.Rechnung!$A$4:$G$1000,MATCH(ROW()-5,geb.Rechnung!$G$4:$G$1000,0),COLUMN()+1))","v":""}]
[{"$f":"IF(ISNA(INDEX(geb.Rechnung!$A$4:$G$1000,MATCH(ROW()-5,geb.Rechnung!$G$4:$G$1000,0),COLUMN()-1)),\"\",INDEX(geb.Rechnung!$A$4:$G$1000,MATCH(ROW()-5,geb.Rechnung!$G$4:$G$1000,0),COLUMN()-1))","v":""},{"$f":"IF(ISNA(INDEX(geb.Rechnung!$A$4:$G$1000,MATCH(ROW()-5,geb.Rechnung!$G$4:$G$1000,0),COLUMN()-2)),\"\",INDEX(geb.Rechnung!$A$4:$G$1000,MATCH(ROW()-5,geb.Rechnung!$G$4:$G$1000,0),COLUMN()-2))","v":""},{"$f":"IF(ISNA(INDEX(geb.Rechnung!$A$4:$G$1000,MATCH(ROW()-5,geb.Rechnung!$G$4:$G$1000,0),COLUMN()+1)),\"\",INDEX(geb.Rechnung!$A$4:$G$1000,MATCH(ROW()-5,geb.Rechnung!$G$4:$G$1000,0),COLUMN()+1))","v":""},{"$f":"IF(ISNA(INDEX(geb.Rechnung!$A$4:$G$1000,MATCH(ROW()-5,geb.Rechnung!$G$4:$G$1000,0),COLUMN()+1)),\"\",INDEX(geb.Rechnung!$A$4:$G$1000,MATCH(ROW()-5,geb.Rechnung!$G$4:$G$1000,0),COLUMN()+1))","v":""}]
[{"$f":"IF(ISNA(INDEX(geb.Rechnung!$A$4:$G$1000,MATCH(ROW()-5,geb.Rechnung!$G$4:$G$1000,0),COLUMN()-1)),\"\",INDEX(geb.Rechnung!$A$4:$G$1000,MATCH(ROW()-5,geb.Rechnung!$G$4:$G$1000,0),COLUMN()-1))","v":""},{"$f":"IF(ISNA(INDEX(geb.Rechnung!$A$4:$G$1000,MATCH(ROW()-5,geb.Rechnung!$G$4:$G$1000,0),COLUMN()-2)),\"\",INDEX(geb.Rechnung!$A$4:$G$1000,MATCH(ROW()-5,geb.Rechnung!$G$4:$G$1000,0),COLUMN()-2))","v":""},{"$f":"IF(ISNA(INDEX(geb.Rechnung!$A$4:$G$1000,MATCH(ROW()-5,geb.Rechnung!$G$4:$G$1000,0),COLUMN()+1)),\"\",INDEX(geb.Rechnung!$A$4:$G$1000,MATCH(ROW()-5,geb.Rechnung!$G$4:$G$1000,0),COLUMN()+1))","v":""},{"$f":"IF(ISNA(INDEX(geb.Rechnung!$A$4:$G$1000,MATCH(ROW()-5,geb.Rechnung!$G$4:$G$1000,0),COLUMN()+1)),\"\",INDEX(geb.Rechnung!$A$4:$G$1000,MATCH(ROW()-5,geb.Rechnung!$G$4:$G$1000,0),COLUMN()+1))","v":""}]
[{"$f":"IF(ISNA(INDEX(geb.Rechnung!$A$4:$G$1000,MATCH(ROW()-5,geb.Rechnung!$G$4:$G$1000,0),COLUMN()-1)),\"\",INDEX(geb.Rechnung!$A$4:$G$1000,MATCH(ROW()-5,geb.Rechnung!$G$4:$G$1000,0),COLUMN()-1))","v":""},{"$f":"IF(ISNA(INDEX(geb.Rechnung!$A$4:$G$1000,MATCH(ROW()-5,geb.Rechnung!$G$4:$G$1000,0),COLUMN()-2)),\"\",INDEX(geb.Rechnung!$A$4:$G$1000,MATCH(ROW()-5,geb.Rechnung!$G$4:$G$1000,0),COLUMN()-2))","v":""},{"$f":"IF(ISNA(INDEX(geb.Rechnung!$A$4:$G$1000,MATCH(ROW()-5,geb.Rechnung!$G$4:$G$1000,0),COLUMN()+1)),\"\",INDEX(geb.Rechnung!$A$4:$G$1000,MATCH(ROW()-5,geb.Rechnung!$G$4:$G$1000,0),COLUMN()+1))","v":""},{"$f":"IF(ISNA(INDEX(geb.Rechnung!$A$4:$G$1000,MATCH(ROW()-5,geb.Rechnung!$G$4:$G$1000,0),COLUMN()+1)),\"\",INDEX(geb.Rechnung!$A$4:$G$1000,MATCH(ROW()-5,geb.Rechnung!$G$4:$G$1000,0),COLUMN()+1))","v":""}]
[{"$f":"IF(ISNA(INDEX(geb.Rechnung!$A$4:$G$1000,MATCH(ROW()-5,geb.Rechnung!$G$4:$G$1000,0),COLUMN()-1)),\"\",INDEX(geb.Rechnung!$A$4:$G$1000,MATCH(ROW()-5,geb.Rechnung!$G$4:$G$1000,0),COLUMN()-1))","v":""},{"$f":"IF(ISNA(INDEX(geb.Rechnung!$A$4:$G$1000,MATCH(ROW()-5,geb.Rechnung!$G$4:$G$1000,0),COLUMN()-2)),\"\",INDEX(geb.Rechnung!$A$4:$G$1000,MATCH(ROW()-5,geb.Rechnung!$G$4:$G$1000,0),COLUMN()-2))","v":""},{"$f":"IF(ISNA(INDEX(geb.Rechnung!$A$4:$G$1000,MATCH(ROW()-5,geb.Rechnung!$G$4:$G$1000,0),COLUMN()+1)),\"\",INDEX(geb.Rechnung!$A$4:$G$1000,MATCH(ROW()-5,geb.Rechnung!$G$4:$G$1000,0),COLUMN()+1))","v":""},{"$f":"IF(ISNA(INDEX(geb.Rechnung!$A$4:$G$1000,MATCH(ROW()-5,geb.Rechnung!$G$4:$G$1000,0),COLUMN()+1)),\"\",INDEX(geb.Rechnung!$A$4:$G$1000,MATCH(ROW()-5,geb.Rechnung!$G$4:$G$1000,0),COLUMN()+1))","v":""}]
[{"$f":"IF(ISNA(INDEX(geb.Rechnung!$A$4:$G$1000,MATCH(ROW()-5,geb.Rechnung!$G$4:$G$1000,0),COLUMN()-1)),\"\",INDEX(geb.Rechnung!$A$4:$G$1000,MATCH(ROW()-5,geb.Rechnung!$G$4:$G$1000,0),COLUMN()-1))","v":""},{"$f":"IF(ISNA(INDEX(geb.Rechnung!$A$4:$G$1000,MATCH(ROW()-5,geb.Rechnung!$G$4:$G$1000,0),COLUMN()-2)),\"\",INDEX(geb.Rechnung!$A$4:$G$1000,MATCH(ROW()-5,geb.Rechnung!$G$4:$G$1000,0),COLUMN()-2))","v":""},{"$f":"IF(ISNA(INDEX(geb.Rechnung!$A$4:$G$1000,MATCH(ROW()-5,geb.Rechnung!$G$4:$G$1000,0),COLUMN()+1)),\"\",INDEX(geb.Rechnung!$A$4:$G$1000,MATCH(ROW()-5,geb.Rechnung!$G$4:$G$1000,0),COLUMN()+1))","v":""},{"$f":"IF(ISNA(INDEX(geb.Rechnung!$A$4:$G$1000,MATCH(ROW()-5,geb.Rechnung!$G$4:$G$1000,0),COLUMN()+1)),\"\",INDEX(geb.Rechnung!$A$4:$G$1000,MATCH(ROW()-5,geb.Rechnung!$G$4:$G$1000,0),COLUMN()+1))","v":""}]
[{"$f":"IF(ISNA(INDEX(geb.Rechnung!$A$4:$G$1000,MATCH(ROW()-5,geb.Rechnung!$G$4:$G$1000,0),COLUMN()-1)),\"\",INDEX(geb.Rechnung!$A$4:$G$1000,MATCH(ROW()-5,geb.Rechnung!$G$4:$G$1000,0),COLUMN()-1))","v":""},{"$f":"IF(ISNA(INDEX(geb.Rechnung!$A$4:$G$1000,MATCH(ROW()-5,geb.Rechnung!$G$4:$G$1000,0),COLUMN()-2)),\"\",INDEX(geb.Rechnung!$A$4:$G$1000,MATCH(ROW()-5,geb.Rechnung!$G$4:$G$1000,0),COLUMN()-2))","v":""},{"$f":"IF(ISNA(INDEX(geb.Rechnung!$A$4:$G$1000,MATCH(ROW()-5,geb.Rechnung!$G$4:$G$1000,0),COLUMN()+1)),\"\",INDEX(geb.Rechnung!$A$4:$G$1000,MATCH(ROW()-5,geb.Rechnung!$G$4:$G$1000,0),COLUMN()+1))","v":""},{"$f":"IF(ISNA(INDEX(geb.Rechnung!$A$4:$G$1000,MATCH(ROW()-5,geb.Rechnung!$G$4:$G$1000,0),COLUMN()+1)),\"\",INDEX(geb.Rechnung!$A$4:$G$1000,MATCH(ROW()-5,geb.Rechnung!$G$4:$G$1000,0),COLUMN()+1))","v":""}]
[{"$f":"IF(ISNA(INDEX(geb.Rechnung!$A$4:$G$1000,MATCH(ROW()-5,geb.Rechnung!$G$4:$G$1000,0),COLUMN()-1)),\"\",INDEX(geb.Rechnung!$A$4:$G$1000,MATCH(ROW()-5,geb.Rechnung!$G$4:$G$1000,0),COLUMN()-1))","v":""},{"$f":"IF(ISNA(INDEX(geb.Rechnung!$A$4:$G$1000,MATCH(ROW()-5,geb.Rechnung!$G$4:$G$1000,0),COLUMN()-2)),\"\",INDEX(geb.Rechnung!$A$4:$G$1000,MATCH(ROW()-5,geb.Rechnung!$G$4:$G$1000,0),COLUMN()-2))","v":""},{"$f":"IF(ISNA(INDEX(geb.Rechnung!$A$4:$G$1000,MATCH(ROW()-5,geb.Rechnung!$G$4:$G$1000,0),COLUMN()+1)),\"\",INDEX(geb.Rechnung!$A$4:$G$1000,MATCH(ROW()-5,geb.Rechnung!$G$4:$G$1000,0),COLUMN()+1))","v":""},{"$f":"IF(ISNA(INDEX(geb.Rechnung!$A$4:$G$1000,MATCH(ROW()-5,geb.Rechnung!$G$4:$G$1000,0),COLUMN()+1)),\"\",INDEX(geb.Rechnung!$A$4:$G$1000,MATCH(ROW()-5,geb.Rechnung!$G$4:$G$1000,0),COLUMN()+1))","v":""}]
[{"$f":"IF(ISNA(INDEX(geb.Rechnung!$A$4:$G$1000,MATCH(ROW()-5,geb.Rechnung!$G$4:$G$1000,0),COLUMN()-1)),\"\",INDEX(geb.Rechnung!$A$4:$G$1000,MATCH(ROW()-5,geb.Rechnung!$G$4:$G$1000,0),COLUMN()-1))","v":""},{"$f":"IF(ISNA(INDEX(geb.Rechnung!$A$4:$G$1000,MATCH(ROW()-5,geb.Rechnung!$G$4:$G$1000,0),COLUMN()-2)),\"\",INDEX(geb.Rechnung!$A$4:$G$1000,MATCH(ROW()-5,geb.Rechnung!$G$4:$G$1000,0),COLUMN()-2))","v":""},{"$f":"IF(ISNA(INDEX(geb.Rechnung!$A$4:$G$1000,MATCH(ROW()-5,geb.Rechnung!$G$4:$G$1000,0),COLUMN()+1)),\"\",INDEX(geb.Rechnung!$A$4:$G$1000,MATCH(ROW()-5,geb.Rechnung!$G$4:$G$1000,0),COLUMN()+1))","v":""},{"$f":"IF(ISNA(INDEX(geb.Rechnung!$A$4:$G$1000,MATCH(ROW()-5,geb.Rechnung!$G$4:$G$1000,0),COLUMN()+1)),\"\",INDEX(geb.Rechnung!$A$4:$G$1000,MATCH(ROW()-5,geb.Rechnung!$G$4:$G$1000,0),COLUMN()+1))","v":""}]
[{"$f":"IF(ISNA(INDEX(geb.Rechnung!$A$4:$G$1000,MATCH(ROW()-5,geb.Rechnung!$G$4:$G$1000,0),COLUMN()-1)),\"\",INDEX(geb.Rechnung!$A$4:$G$1000,MATCH(ROW()-5,geb.Rechnung!$G$4:$G$1000,0),COLUMN()-1))","v":""},{"$f":"IF(ISNA(INDEX(geb.Rechnung!$A$4:$G$1000,MATCH(ROW()-5,geb.Rechnung!$G$4:$G$1000,0),COLUMN()-2)),\"\",INDEX(geb.Rechnung!$A$4:$G$1000,MATCH(ROW()-5,geb.Rechnung!$G$4:$G$1000,0),COLUMN()-2))","v":""},{"$f":"IF(ISNA(INDEX(geb.Rechnung!$A$4:$G$1000,MATCH(ROW()-5,geb.Rechnung!$G$4:$G$1000,0),COLUMN()+1)),\"\",INDEX(geb.Rechnung!$A$4:$G$1000,MATCH(ROW()-5,geb.Rechnung!$G$4:$G$1000,0),COLUMN()+1))","v":""},{"$f":"IF(ISNA(INDEX(geb.Rechnung!$A$4:$G$1000,MATCH(ROW()-5,geb.Rechnung!$G$4:$G$1000,0),COLUMN()+1)),\"\",INDEX(geb.Rechnung!$A$4:$G$1000,MATCH(ROW()-5,geb.Rechnung!$G$4:$G$1000,0),COLUMN()+1))","v":""}]
[{"$f":"IF(ISNA(INDEX(geb.Rechnung!$A$4:$G$1000,MATCH(ROW()-5,geb.Rechnung!$G$4:$G$1000,0),COLUMN()-1)),\"\",INDEX(geb.Rechnung!$A$4:$G$1000,MATCH(ROW()-5,geb.Rechnung!$G$4:$G$1000,0),COLUMN()-1))","v":""},{"$f":"IF(ISNA(INDEX(geb.Rechnung!$A$4:$G$1000,MATCH(ROW()-5,geb.Rechnung!$G$4:$G$1000,0),COLUMN()-2)),\"\",INDEX(geb.Rechnung!$A$4:$G$1000,MATCH(ROW()-5,geb.Rechnung!$G$4:$G$1000,0),COLUMN()-2))","v":""},{"$f":"IF(ISNA(INDEX(geb.Rechnung!$A$4:$G$1000,MATCH(ROW()-5,geb.Rechnung!$G$4:$G$1000,0),COLUMN()+1)),\"\",INDEX(geb.Rechnung!$A$4:$G$1000,MATCH(ROW()-5,geb.Rechnung!$G$4:$G$1000,0),COLUMN()+1))","v":""},{"$f":"IF(ISNA(INDEX(geb.Rechnung!$A$4:$G$1000,MATCH(ROW()-5,geb.Rechnung!$G$4:$G$1000,0),COLUMN()+1)),\"\",INDEX(geb.Rechnung!$A$4:$G$1000,MATCH(ROW()-5,geb.Rechnung!$G$4:$G$1000,0),COLUMN()+1))","v":""}]
[{"$f":"IF(ISNA(INDEX(geb.Rechnung!$A$4:$G$1000,MATCH(ROW()-5,geb.Rechnung!$G$4:$G$1000,0),COLUMN()-1)),\"\",INDEX(geb.Rechnung!$A$4:$G$1000,MATCH(ROW()-5,geb.Rechnung!$G$4:$G$1000,0),COLUMN()-1))","v":""},{"$f":"IF(ISNA(INDEX(geb.Rechnung!$A$4:$G$1000,MATCH(ROW()-5,geb.Rechnung!$G$4:$G$1000,0),COLUMN()-2)),\"\",INDEX(geb.Rechnung!$A$4:$G$1000,MATCH(ROW()-5,geb.Rechnung!$G$4:$G$1000,0),COLUMN()-2))","v":""},{"$f":"IF(ISNA(INDEX(geb.Rechnung!$A$4:$G$1000,MATCH(ROW()-5,geb.Rechnung!$G$4:$G$1000,0),COLUMN()+1)),\"\",INDEX(geb.Rechnung!$A$4:$G$1000,MATCH(ROW()-5,geb.Rechnung!$G$4:$G$1000,0),COLUMN()+1))","v":""},{"$f":"IF(ISNA(INDEX(geb.Rechnung!$A$4:$G$1000,MATCH(ROW()-5,geb.Rechnung!$G$4:$G$1000,0),COLUMN()+1)),\"\",INDEX(geb.Rechnung!$A$4:$G$1000,MATCH(ROW()-5,geb.Rechnung!$G$4:$G$1000,0),COLUMN()+1))","v":""}]
[{"$f":"IF(ISNA(INDEX(geb.Rechnung!$A$4:$G$1000,MATCH(ROW()-5,geb.Rechnung!$G$4:$G$1000,0),COLUMN()-1)),\"\",INDEX(geb.Rechnung!$A$4:$G$1000,MATCH(ROW()-5,geb.Rechnung!$G$4:$G$1000,0),COLUMN()-1))","v":""},{"$f":"IF(ISNA(INDEX(geb.Rechnung!$A$4:$G$1000,MATCH(ROW()-5,geb.Rechnung!$G$4:$G$1000,0),COLUMN()-2)),\"\",INDEX(geb.Rechnung!$A$4:$G$1000,MATCH(ROW()-5,geb.Rechnung!$G$4:$G$1000,0),COLUMN()-2))","v":""},{"$f":"IF(ISNA(INDEX(geb.Rechnung!$A$4:$G$1000,MATCH(ROW()-5,geb.Rechnung!$G$4:$G$1000,0),COLUMN()+1)),\"\",INDEX(geb.Rechnung!$A$4:$G$1000,MATCH(ROW()-5,geb.Rechnung!$G$4:$G$1000,0),COLUMN()+1))","v":""},{"$f":"IF(ISNA(INDEX(geb.Rechnung!$A$4:$G$1000,MATCH(ROW()-5,geb.Rechnung!$G$4:$G$1000,0),COLUMN()+1)),\"\",INDEX(geb.Rechnung!$A$4:$G$1000,MATCH(ROW()-5,geb.Rechnung!$G$4:$G$1000,0),COLUMN()+1))","v":""}]
[{"$f":"IF(ISNA(INDEX(geb.Rechnung!$A$4:$G$1000,MATCH(ROW()-5,geb.Rechnung!$G$4:$G$1000,0),COLUMN()-1)),\"\",INDEX(geb.Rechnung!$A$4:$G$1000,MATCH(ROW()-5,geb.Rechnung!$G$4:$G$1000,0),COLUMN()-1))","v":""},{"$f":"IF(ISNA(INDEX(geb.Rechnung!$A$4:$G$1000,MATCH(ROW()-5,geb.Rechnung!$G$4:$G$1000,0),COLUMN()-2)),\"\",INDEX(geb.Rechnung!$A$4:$G$1000,MATCH(ROW()-5,geb.Rechnung!$G$4:$G$1000,0),COLUMN()-2))","v":""},{"$f":"IF(ISNA(INDEX(geb.Rechnung!$A$4:$G$1000,MATCH(ROW()-5,geb.Rechnung!$G$4:$G$1000,0),COLUMN()+1)),\"\",INDEX(geb.Rechnung!$A$4:$G$1000,MATCH(ROW()-5,geb.Rechnung!$G$4:$G$1000,0),COLUMN()+1))","v":""},{"$f":"IF(ISNA(INDEX(geb.Rechnung!$A$4:$G$1000,MATCH(ROW()-5,geb.Rechnung!$G$4:$G$1000,0),COLUMN()+1)),\"\",INDEX(geb.Rechnung!$A$4:$G$1000,MATCH(ROW()-5,geb.Rechnung!$G$4:$G$1000,0),COLUMN()+1))","v":""}]
[{"$f":"IF(ISNA(INDEX(geb.Rechnung!$A$4:$G$1000,MATCH(ROW()-5,geb.Rechnung!$G$4:$G$1000,0),COLUMN()-1)),\"\",INDEX(geb.Rechnung!$A$4:$G$1000,MATCH(ROW()-5,geb.Rechnung!$G$4:$G$1000,0),COLUMN()-1))","v":""},{"$f":"IF(ISNA(INDEX(geb.Rechnung!$A$4:$G$1000,MATCH(ROW()-5,geb.Rechnung!$G$4:$G$1000,0),COLUMN()-2)),\"\",INDEX(geb.Rechnung!$A$4:$G$1000,MATCH(ROW()-5,geb.Rechnung!$G$4:$G$1000,0),COLUMN()-2))","v":""},{"$f":"IF(ISNA(INDEX(geb.Rechnung!$A$4:$G$1000,MATCH(ROW()-5,geb.Rechnung!$G$4:$G$1000,0),COLUMN()+1)),\"\",INDEX(geb.Rechnung!$A$4:$G$1000,MATCH(ROW()-5,geb.Rechnung!$G$4:$G$1000,0),COLUMN()+1))","v":""},{"$f":"IF(ISNA(INDEX(geb.Rechnung!$A$4:$G$1000,MATCH(ROW()-5,geb.Rechnung!$G$4:$G$1000,0),COLUMN()+1)),\"\",INDEX(geb.Rechnung!$A$4:$G$1000,MATCH(ROW()-5,geb.Rechnung!$G$4:$G$1000,0),COLUMN()+1))","v":""}]
[{"$f":"IF(ISNA(INDEX(geb.Rechnung!$A$4:$G$1000,MATCH(ROW()-5,geb.Rechnung!$G$4:$G$1000,0),COLUMN()-1)),\"\",INDEX(geb.Rechnung!$A$4:$G$1000,MATCH(ROW()-5,geb.Rechnung!$G$4:$G$1000,0),COLUMN()-1))","v":""},{"$f":"IF(ISNA(INDEX(geb.Rechnung!$A$4:$G$1000,MATCH(ROW()-5,geb.Rechnung!$G$4:$G$1000,0),COLUMN()-2)),\"\",INDEX(geb.Rechnung!$A$4:$G$1000,MATCH(ROW()-5,geb.Rechnung!$G$4:$G$1000,0),COLUMN()-2))","v":""},{"$f":"IF(ISNA(INDEX(geb.Rechnung!$A$4:$G$1000,MATCH(ROW()-5,geb.Rechnung!$G$4:$G$1000,0),COLUMN()+1)),\"\",INDEX(geb.Rechnung!$A$4:$G$1000,MATCH(ROW()-5,geb.Rechnung!$G$4:$G$1000,0),COLUMN()+1))","v":""},{"$f":"IF(ISNA(INDEX(geb.Rechnung!$A$4:$G$1000,MATCH(ROW()-5,geb.Rechnung!$G$4:$G$1000,0),COLUMN()+1)),\"\",INDEX(geb.Rechnung!$A$4:$G$1000,MATCH(ROW()-5,geb.Rechnung!$G$4:$G$1000,0),COLUMN()+1))","v":""}]
[{"$f":"IF(ISNA(INDEX(geb.Rechnung!$A$4:$G$1000,MATCH(ROW()-5,geb.Rechnung!$G$4:$G$1000,0),COLUMN()-1)),\"\",INDEX(geb.Rechnung!$A$4:$G$1000,MATCH(ROW()-5,geb.Rechnung!$G$4:$G$1000,0),COLUMN()-1))","v":""},{"$f":"IF(ISNA(INDEX(geb.Rechnung!$A$4:$G$1000,MATCH(ROW()-5,geb.Rechnung!$G$4:$G$1000,0),COLUMN()-2)),\"\",INDEX(geb.Rechnung!$A$4:$G$1000,MATCH(ROW()-5,geb.Rechnung!$G$4:$G$1000,0),COLUMN()-2))","v":""},{"$f":"IF(ISNA(INDEX(geb.Rechnung!$A$4:$G$1000,MATCH(ROW()-5,geb.Rechnung!$G$4:$G$1000,0),COLUMN()+1)),\"\",INDEX(geb.Rechnung!$A$4:$G$1000,MATCH(ROW()-5,geb.Rechnung!$G$4:$G$1000,0),COLUMN()+1))","v":""},{"$f":"IF(ISNA(INDEX(geb.Rechnung!$A$4:$G$1000,MATCH(ROW()-5,geb.Rechnung!$G$4:$G$1000,0),COLUMN()+1)),\"\",INDEX(geb.Rechnung!$A$4:$G$1000,MATCH(ROW()-5,geb.Rechnung!$G$4:$G$1000,0),COLUMN()+1))","v":""}]
[{"$f":"IF(ISNA(INDEX(geb.Rechnung!$A$4:$G$1000,MATCH(ROW()-5,geb.Rechnung!$G$4:$G$1000,0),COLUMN()-1)),\"\",INDEX(geb.Rechnung!$A$4:$G$1000,MATCH(ROW()-5,geb.Rechnung!$G$4:$G$1000,0),COLUMN()-1))","v":""},{"$f":"IF(ISNA(INDEX(geb.Rechnung!$A$4:$G$1000,MATCH(ROW()-5,geb.Rechnung!$G$4:$G$1000,0),COLUMN()-2)),\"\",INDEX(geb.Rechnung!$A$4:$G$1000,MATCH(ROW()-5,geb.Rechnung!$G$4:$G$1000,0),COLUMN()-2))","v":""},{"$f":"IF(ISNA(INDEX(geb.Rechnung!$A$4:$G$1000,MATCH(ROW()-5,geb.Rechnung!$G$4:$G$1000,0),COLUMN()+1)),\"\",INDEX(geb.Rechnung!$A$4:$G$1000,MATCH(ROW()-5,geb.Rechnung!$G$4:$G$1000,0),COLUMN()+1))","v":""},{"$f":"IF(ISNA(INDEX(geb.Rechnung!$A$4:$G$1000,MATCH(ROW()-5,geb.Rechnung!$G$4:$G$1000,0),COLUMN()+1)),\"\",INDEX(geb.Rechnung!$A$4:$G$1000,MATCH(ROW()-5,geb.Rechnung!$G$4:$G$1000,0),COLUMN()+1))","v":""}]
[{"$f":"IF(ISNA(INDEX(geb.Rechnung!$A$4:$G$1000,MATCH(ROW()-5,geb.Rechnung!$G$4:$G$1000,0),COLUMN()-1)),\"\",INDEX(geb.Rechnung!$A$4:$G$1000,MATCH(ROW()-5,geb.Rechnung!$G$4:$G$1000,0),COLUMN()-1))","v":""},{"$f":"IF(ISNA(INDEX(geb.Rechnung!$A$4:$G$1000,MATCH(ROW()-5,geb.Rechnung!$G$4:$G$1000,0),COLUMN()-2)),\"\",INDEX(geb.Rechnung!$A$4:$G$1000,MATCH(ROW()-5,geb.Rechnung!$G$4:$G$1000,0),COLUMN()-2))","v":""},{"$f":"IF(ISNA(INDEX(geb.Rechnung!$A$4:$G$1000,MATCH(ROW()-5,geb.Rechnung!$G$4:$G$1000,0),COLUMN()+1)),\"\",INDEX(geb.Rechnung!$A$4:$G$1000,MATCH(ROW()-5,geb.Rechnung!$G$4:$G$1000,0),COLUMN()+1))","v":""},{"$f":"IF(ISNA(INDEX(geb.Rechnung!$A$4:$G$1000,MATCH(ROW()-5,geb.Rechnung!$G$4:$G$1000,0),COLUMN()+1)),\"\",INDEX(geb.Rechnung!$A$4:$G$1000,MATCH(ROW()-5,geb.Rechnung!$G$4:$G$1000,0),COLUMN()+1))","v":""}]
[{"$f":"IF(ISNA(INDEX(geb.Rechnung!$A$4:$G$1000,MATCH(ROW()-5,geb.Rechnung!$G$4:$G$1000,0),COLUMN()-1)),\"\",INDEX(geb.Rechnung!$A$4:$G$1000,MATCH(ROW()-5,geb.Rechnung!$G$4:$G$1000,0),COLUMN()-1))","v":""},{"$f":"IF(ISNA(INDEX(geb.Rechnung!$A$4:$G$1000,MATCH(ROW()-5,geb.Rechnung!$G$4:$G$1000,0),COLUMN()-2)),\"\",INDEX(geb.Rechnung!$A$4:$G$1000,MATCH(ROW()-5,geb.Rechnung!$G$4:$G$1000,0),COLUMN()-2))","v":""},{"$f":"IF(ISNA(INDEX(geb.Rechnung!$A$4:$G$1000,MATCH(ROW()-5,geb.Rechnung!$G$4:$G$1000,0),COLUMN()+1)),\"\",INDEX(geb.Rechnung!$A$4:$G$1000,MATCH(ROW()-5,geb.Rechnung!$G$4:$G$1000,0),COLUMN()+1))","v":""},{"$f":"IF(ISNA(INDEX(geb.Rechnung!$A$4:$G$1000,MATCH(ROW()-5,geb.Rechnung!$G$4:$G$1000,0),COLUMN()+1)),\"\",INDEX(geb.Rechnung!$A$4:$G$1000,MATCH(ROW()-5,geb.Rechnung!$G$4:$G$1000,0),COLUMN()+1))","v":""}]
[{"$f":"IF(ISNA(INDEX(geb.Rechnung!$A$4:$G$1000,MATCH(ROW()-5,geb.Rechnung!$G$4:$G$1000,0),COLUMN()-1)),\"\",INDEX(geb.Rechnung!$A$4:$G$1000,MATCH(ROW()-5,geb.Rechnung!$G$4:$G$1000,0),COLUMN()-1))","v":""},{"$f":"IF(ISNA(INDEX(geb.Rechnung!$A$4:$G$1000,MATCH(ROW()-5,geb.Rechnung!$G$4:$G$1000,0),COLUMN()-2)),\"\",INDEX(geb.Rechnung!$A$4:$G$1000,MATCH(ROW()-5,geb.Rechnung!$G$4:$G$1000,0),COLUMN()-2))","v":""},{"$f":"IF(ISNA(INDEX(geb.Rechnung!$A$4:$G$1000,MATCH(ROW()-5,geb.Rechnung!$G$4:$G$1000,0),COLUMN()+1)),\"\",INDEX(geb.Rechnung!$A$4:$G$1000,MATCH(ROW()-5,geb.Rechnung!$G$4:$G$1000,0),COLUMN()+1))","v":""},{"$f":"IF(ISNA(INDEX(geb.Rechnung!$A$4:$G$1000,MATCH(ROW()-5,geb.Rechnung!$G$4:$G$1000,0),COLUMN()+1)),\"\",INDEX(geb.Rechnung!$A$4:$G$1000,MATCH(ROW()-5,geb.Rechnung!$G$4:$G$1000,0),COLUMN()+1))","v":""}]
[{"$f":"IF(ISNA(INDEX(geb.Rechnung!$A$4:$G$1000,MATCH(ROW()-5,geb.Rechnung!$G$4:$G$1000,0),COLUMN()-1)),\"\",INDEX(geb.Rechnung!$A$4:$G$1000,MATCH(ROW()-5,geb.Rechnung!$G$4:$G$1000,0),COLUMN()-1))","v":""},{"$f":"IF(ISNA(INDEX(geb.Rechnung!$A$4:$G$1000,MATCH(ROW()-5,geb.Rechnung!$G$4:$G$1000,0),COLUMN()-2)),\"\",INDEX(geb.Rechnung!$A$4:$G$1000,MATCH(ROW()-5,geb.Rechnung!$G$4:$G$1000,0),COLUMN()-2))","v":""},{"$f":"IF(ISNA(INDEX(geb.Rechnung!$A$4:$G$1000,MATCH(ROW()-5,geb.Rechnung!$G$4:$G$1000,0),COLUMN()+1)),\"\",INDEX(geb.Rechnung!$A$4:$G$1000,MATCH(ROW()-5,geb.Rechnung!$G$4:$G$1000,0),COLUMN()+1))","v":""},{"$f":"IF(ISNA(INDEX(geb.Rechnung!$A$4:$G$1000,MATCH(ROW()-5,geb.Rechnung!$G$4:$G$1000,0),COLUMN()+1)),\"\",INDEX(geb.Rechnung!$A$4:$G$1000,MATCH(ROW()-5,geb.Rechnung!$G$4:$G$1000,0),COLUMN()+1))","v":""}]
[{"$f":"IF(ISNA(INDEX(geb.Rechnung!$A$4:$G$1000,MATCH(ROW()-5,geb.Rechnung!$G$4:$G$1000,0),COLUMN()-1)),\"\",INDEX(geb.Rechnung!$A$4:$G$1000,MATCH(ROW()-5,geb.Rechnung!$G$4:$G$1000,0),COLUMN()-1))","v":""},{"$f":"IF(ISNA(INDEX(geb.Rechnung!$A$4:$G$1000,MATCH(ROW()-5,geb.Rechnung!$G$4:$G$1000,0),COLUMN()-2)),\"\",INDEX(geb.Rechnung!$A$4:$G$1000,MATCH(ROW()-5,geb.Rechnung!$G$4:$G$1000,0),COLUMN()-2))","v":""},{"$f":"IF(ISNA(INDEX(geb.Rechnung!$A$4:$G$1000,MATCH(ROW()-5,geb.Rechnung!$G$4:$G$1000,0),COLUMN()+1)),\"\",INDEX(geb.Rechnung!$A$4:$G$1000,MATCH(ROW()-5,geb.Rechnung!$G$4:$G$1000,0),COLUMN()+1))","v":""},{"$f":"IF(ISNA(INDEX(geb.Rechnung!$A$4:$G$1000,MATCH(ROW()-5,geb.Rechnung!$G$4:$G$1000,0),COLUMN()+1)),\"\",INDEX(geb.Rechnung!$A$4:$G$1000,MATCH(ROW()-5,geb.Rechnung!$G$4:$G$1000,0),COLUMN()+1))","v":""}]
[{"$f":"IF(ISNA(INDEX(geb.Rechnung!$A$4:$G$1000,MATCH(ROW()-5,geb.Rechnung!$G$4:$G$1000,0),COLUMN()-1)),\"\",INDEX(geb.Rechnung!$A$4:$G$1000,MATCH(ROW()-5,geb.Rechnung!$G$4:$G$1000,0),COLUMN()-1))","v":""},{"$f":"IF(ISNA(INDEX(geb.Rechnung!$A$4:$G$1000,MATCH(ROW()-5,geb.Rechnung!$G$4:$G$1000,0),COLUMN()-2)),\"\",INDEX(geb.Rechnung!$A$4:$G$1000,MATCH(ROW()-5,geb.Rechnung!$G$4:$G$1000,0),COLUMN()-2))","v":""},{"$f":"IF(ISNA(INDEX(geb.Rechnung!$A$4:$G$1000,MATCH(ROW()-5,geb.Rechnung!$G$4:$G$1000,0),COLUMN()+1)),\"\",INDEX(geb.Rechnung!$A$4:$G$1000,MATCH(ROW()-5,geb.Rechnung!$G$4:$G$1000,0),COLUMN()+1))","v":""},{"$f":"IF(ISNA(INDEX(geb.Rechnung!$A$4:$G$1000,MATCH(ROW()-5,geb.Rechnung!$G$4:$G$1000,0),COLUMN()+1)),\"\",INDEX(geb.Rechnung!$A$4:$G$1000,MATCH(ROW()-5,geb.Rechnung!$G$4:$G$1000,0),COLUMN()+1))","v":""}]
[{"$f":"IF(ISNA(INDEX(geb.Rechnung!$A$4:$G$1000,MATCH(ROW()-5,geb.Rechnung!$G$4:$G$1000,0),COLUMN()-1)),\"\",INDEX(geb.Rechnung!$A$4:$G$1000,MATCH(ROW()-5,geb.Rechnung!$G$4:$G$1000,0),COLUMN()-1))","v":""},{"$f":"IF(ISNA(INDEX(geb.Rechnung!$A$4:$G$1000,MATCH(ROW()-5,geb.Rechnung!$G$4:$G$1000,0),COLUMN()-2)),\"\",INDEX(geb.Rechnung!$A$4:$G$1000,MATCH(ROW()-5,geb.Rechnung!$G$4:$G$1000,0),COLUMN()-2))","v":""},{"$f":"IF(ISNA(INDEX(geb.Rechnung!$A$4:$G$1000,MATCH(ROW()-5,geb.Rechnung!$G$4:$G$1000,0),COLUMN()+1)),\"\",INDEX(geb.Rechnung!$A$4:$G$1000,MATCH(ROW()-5,geb.Rechnung!$G$4:$G$1000,0),COLUMN()+1))","v":""},{"$f":"IF(ISNA(INDEX(geb.Rechnung!$A$4:$G$1000,MATCH(ROW()-5,geb.Rechnung!$G$4:$G$1000,0),COLUMN()+1)),\"\",INDEX(geb.Rechnung!$A$4:$G$1000,MATCH(ROW()-5,geb.Rechnung!$G$4:$G$1000,0),COLUMN()+1))","v":""}]
[{"$f":"IF(ISNA(INDEX(geb.Rechnung!$A$4:$G$1000,MATCH(ROW()-5,geb.Rechnung!$G$4:$G$1000,0),COLUMN()-1)),\"\",INDEX(geb.Rechnung!$A$4:$G$1000,MATCH(ROW()-5,geb.Rechnung!$G$4:$G$1000,0),COLUMN()-1))","v":""},{"$f":"IF(ISNA(INDEX(geb.Rechnung!$A$4:$G$1000,MATCH(ROW()-5,geb.Rechnung!$G$4:$G$1000,0),COLUMN()-2)),\"\",INDEX(geb.Rechnung!$A$4:$G$1000,MATCH(ROW()-5,geb.Rechnung!$G$4:$G$1000,0),COLUMN()-2))","v":""},{"$f":"IF(ISNA(INDEX(geb.Rechnung!$A$4:$G$1000,MATCH(ROW()-5,geb.Rechnung!$G$4:$G$1000,0),COLUMN()+1)),\"\",INDEX(geb.Rechnung!$A$4:$G$1000,MATCH(ROW()-5,geb.Rechnung!$G$4:$G$1000,0),COLUMN()+1))","v":""},{"$f":"IF(ISNA(INDEX(geb.Rechnung!$A$4:$G$1000,MATCH(ROW()-5,geb.Rechnung!$G$4:$G$1000,0),COLUMN()+1)),\"\",INDEX(geb.Rechnung!$A$4:$G$1000,MATCH(ROW()-5,geb.Rechnung!$G$4:$G$1000,0),COLUMN()+1))","v":""}]
[{"$f":"IF(ISNA(INDEX(geb.Rechnung!$A$4:$G$1000,MATCH(ROW()-5,geb.Rechnung!$G$4:$G$1000,0),COLUMN()-1)),\"\",INDEX(geb.Rechnung!$A$4:$G$1000,MATCH(ROW()-5,geb.Rechnung!$G$4:$G$1000,0),COLUMN()-1))","v":""},{"$f":"IF(ISNA(INDEX(geb.Rechnung!$A$4:$G$1000,MATCH(ROW()-5,geb.Rechnung!$G$4:$G$1000,0),COLUMN()-2)),\"\",INDEX(geb.Rechnung!$A$4:$G$1000,MATCH(ROW()-5,geb.Rechnung!$G$4:$G$1000,0),COLUMN()-2))","v":""},{"$f":"IF(ISNA(INDEX(geb.Rechnung!$A$4:$G$1000,MATCH(ROW()-5,geb.Rechnung!$G$4:$G$1000,0),COLUMN()+1)),\"\",INDEX(geb.Rechnung!$A$4:$G$1000,MATCH(ROW()-5,geb.Rechnung!$G$4:$G$1000,0),COLUMN()+1))","v":""},{"$f":"IF(ISNA(INDEX(geb.Rechnung!$A$4:$G$1000,MATCH(ROW()-5,geb.Rechnung!$G$4:$G$1000,0),COLUMN()+1)),\"\",INDEX(geb.Rechnung!$A$4:$G$1000,MATCH(ROW()-5,geb.Rechnung!$G$4:$G$1000,0),COLUMN()+1))","v":""}]
[{"$f":"IF(ISNA(INDEX(geb.Rechnung!$A$4:$G$1000,MATCH(ROW()-5,geb.Rechnung!$G$4:$G$1000,0),COLUMN()-1)),\"\",INDEX(geb.Rechnung!$A$4:$G$1000,MATCH(ROW()-5,geb.Rechnung!$G$4:$G$1000,0),COLUMN()-1))","v":""},{"$f":"IF(ISNA(INDEX(geb.Rechnung!$A$4:$G$1000,MATCH(ROW()-5,geb.Rechnung!$G$4:$G$1000,0),COLUMN()-2)),\"\",INDEX(geb.Rechnung!$A$4:$G$1000,MATCH(ROW()-5,geb.Rechnung!$G$4:$G$1000,0),COLUMN()-2))","v":""},{"$f":"IF(ISNA(INDEX(geb.Rechnung!$A$4:$G$1000,MATCH(ROW()-5,geb.Rechnung!$G$4:$G$1000,0),COLUMN()+1)),\"\",INDEX(geb.Rechnung!$A$4:$G$1000,MATCH(ROW()-5,geb.Rechnung!$G$4:$G$1000,0),COLUMN()+1))","v":""},{"$f":"IF(ISNA(INDEX(geb.Rechnung!$A$4:$G$1000,MATCH(ROW()-5,geb.Rechnung!$G$4:$G$1000,0),COLUMN()+1)),\"\",INDEX(geb.Rechnung!$A$4:$G$1000,MATCH(ROW()-5,geb.Rechnung!$G$4:$G$1000,0),COLUMN()+1))","v":""}]
[{"$f":"IF(ISNA(INDEX(geb.Rechnung!$A$4:$G$1000,MATCH(ROW()-5,geb.Rechnung!$G$4:$G$1000,0),COLUMN()-1)),\"\",INDEX(geb.Rechnung!$A$4:$G$1000,MATCH(ROW()-5,geb.Rechnung!$G$4:$G$1000,0),COLUMN()-1))","v":""},{"$f":"IF(ISNA(INDEX(geb.Rechnung!$A$4:$G$1000,MATCH(ROW()-5,geb.Rechnung!$G$4:$G$1000,0),COLUMN()-2)),\"\",INDEX(geb.Rechnung!$A$4:$G$1000,MATCH(ROW()-5,geb.Rechnung!$G$4:$G$1000,0),COLUMN()-2))","v":""},{"$f":"IF(ISNA(INDEX(geb.Rechnung!$A$4:$G$1000,MATCH(ROW()-5,geb.Rechnung!$G$4:$G$1000,0),COLUMN()+1)),\"\",INDEX(geb.Rechnung!$A$4:$G$1000,MATCH(ROW()-5,geb.Rechnung!$G$4:$G$1000,0),COLUMN()+1))","v":""},{"$f":"IF(ISNA(INDEX(geb.Rechnung!$A$4:$G$1000,MATCH(ROW()-5,geb.Rechnung!$G$4:$G$1000,0),COLUMN()+1)),\"\",INDEX(geb.Rechnung!$A$4:$G$1000,MATCH(ROW()-5,geb.Rechnung!$G$4:$G$1000,0),COLUMN()+1))","v":""}]
[{"$f":"IF(ISNA(INDEX(geb.Rechnung!$A$4:$G$1000,MATCH(ROW()-5,geb.Rechnung!$G$4:$G$1000,0),COLUMN()-1)),\"\",INDEX(geb.Rechnung!$A$4:$G$1000,MATCH(ROW()-5,geb.Rechnung!$G$4:$G$1000,0),COLUMN()-1))","v":""},{"$f":"IF(ISNA(INDEX(geb.Rechnung!$A$4:$G$1000,MATCH(ROW()-5,geb.Rechnung!$G$4:$G$1000,0),COLUMN()-2)),\"\",INDEX(geb.Rechnung!$A$4:$G$1000,MATCH(ROW()-5,geb.Rechnung!$G$4:$G$1000,0),COLUMN()-2))","v":""},{"$f":"IF(ISNA(INDEX(geb.Rechnung!$A$4:$G$1000,MATCH(ROW()-5,geb.Rechnung!$G$4:$G$1000,0),COLUMN()+1)),\"\",INDEX(geb.Rechnung!$A$4:$G$1000,MATCH(ROW()-5,geb.Rechnung!$G$4:$G$1000,0),COLUMN()+1))","v":""},{"$f":"IF(ISNA(INDEX(geb.Rechnung!$A$4:$G$1000,MATCH(ROW()-5,geb.Rechnung!$G$4:$G$1000,0),COLUMN()+1)),\"\",INDEX(geb.Rechnung!$A$4:$G$1000,MATCH(ROW()-5,geb.Rechnung!$G$4:$G$1000,0),COLUMN()+1))","v":""}]
[{"$f":"IF(ISNA(INDEX(geb.Rechnung!$A$4:$G$1000,MATCH(ROW()-5,geb.Rechnung!$G$4:$G$1000,0),COLUMN()-1)),\"\",INDEX(geb.Rechnung!$A$4:$G$1000,MATCH(ROW()-5,geb.Rechnung!$G$4:$G$1000,0),COLUMN()-1))","v":""},{"$f":"IF(ISNA(INDEX(geb.Rechnung!$A$4:$G$1000,MATCH(ROW()-5,geb.Rechnung!$G$4:$G$1000,0),COLUMN()-2)),\"\",INDEX(geb.Rechnung!$A$4:$G$1000,MATCH(ROW()-5,geb.Rechnung!$G$4:$G$1000,0),COLUMN()-2))","v":""},{"$f":"IF(ISNA(INDEX(geb.Rechnung!$A$4:$G$1000,MATCH(ROW()-5,geb.Rechnung!$G$4:$G$1000,0),COLUMN()+1)),\"\",INDEX(geb.Rechnung!$A$4:$G$1000,MATCH(ROW()-5,geb.Rechnung!$G$4:$G$1000,0),COLUMN()+1))","v":""},{"$f":"IF(ISNA(INDEX(geb.Rechnung!$A$4:$G$1000,MATCH(ROW()-5,geb.Rechnung!$G$4:$G$1000,0),COLUMN()+1)),\"\",INDEX(geb.Rechnung!$A$4:$G$1000,MATCH(ROW()-5,geb.Rechnung!$G$4:$G$1000,0),COLUMN()+1))","v":""}]
[{"$f":"IF(ISNA(INDEX(geb.Rechnung!$A$4:$G$1000,MATCH(ROW()-5,geb.Rechnung!$G$4:$G$1000,0),COLUMN()-1)),\"\",INDEX(geb.Rechnung!$A$4:$G$1000,MATCH(ROW()-5,geb.Rechnung!$G$4:$G$1000,0),COLUMN()-1))","v":""},{"$f":"IF(ISNA(INDEX(geb.Rechnung!$A$4:$G$1000,MATCH(ROW()-5,geb.Rechnung!$G$4:$G$1000,0),COLUMN()-2)),\"\",INDEX(geb.Rechnung!$A$4:$G$1000,MATCH(ROW()-5,geb.Rechnung!$G$4:$G$1000,0),COLUMN()-2))","v":""},{"$f":"IF(ISNA(INDEX(geb.Rechnung!$A$4:$G$1000,MATCH(ROW()-5,geb.Rechnung!$G$4:$G$1000,0),COLUMN()+1)),\"\",INDEX(geb.Rechnung!$A$4:$G$1000,MATCH(ROW()-5,geb.Rechnung!$G$4:$G$1000,0),COLUMN()+1))","v":""},{"$f":"IF(ISNA(INDEX(geb.Rechnung!$A$4:$G$1000,MATCH(ROW()-5,geb.Rechnung!$G$4:$G$1000,0),COLUMN()+1)),\"\",INDEX(geb.Rechnung!$A$4:$G$1000,MATCH(ROW()-5,geb.Rechnung!$G$4:$G$1000,0),COLUMN()+1))","v":""}]
[{"$f":"IF(ISNA(INDEX(geb.Rechnung!$A$4:$G$1000,MATCH(ROW()-5,geb.Rechnung!$G$4:$G$1000,0),COLUMN()-1)),\"\",INDEX(geb.Rechnung!$A$4:$G$1000,MATCH(ROW()-5,geb.Rechnung!$G$4:$G$1000,0),COLUMN()-1))","v":""},{"$f":"IF(ISNA(INDEX(geb.Rechnung!$A$4:$G$1000,MATCH(ROW()-5,geb.Rechnung!$G$4:$G$1000,0),COLUMN()-2)),\"\",INDEX(geb.Rechnung!$A$4:$G$1000,MATCH(ROW()-5,geb.Rechnung!$G$4:$G$1000,0),COLUMN()-2))","v":""},{"$f":"IF(ISNA(INDEX(geb.Rechnung!$A$4:$G$1000,MATCH(ROW()-5,geb.Rechnung!$G$4:$G$1000,0),COLUMN()+1)),\"\",INDEX(geb.Rechnung!$A$4:$G$1000,MATCH(ROW()-5,geb.Rechnung!$G$4:$G$1000,0),COLUMN()+1))","v":""},{"$f":"IF(ISNA(INDEX(geb.Rechnung!$A$4:$G$1000,MATCH(ROW()-5,geb.Rechnung!$G$4:$G$1000,0),COLUMN()+1)),\"\",INDEX(geb.Rechnung!$A$4:$G$1000,MATCH(ROW()-5,geb.Rechnung!$G$4:$G$1000,0),COLUMN()+1))","v":""}]
[{"$f":"IF(ISNA(INDEX(geb.Rechnung!$A$4:$G$1000,MATCH(ROW()-5,geb.Rechnung!$G$4:$G$1000,0),COLUMN()-1)),\"\",INDEX(geb.Rechnung!$A$4:$G$1000,MATCH(ROW()-5,geb.Rechnung!$G$4:$G$1000,0),COLUMN()-1))","v":""},{"$f":"IF(ISNA(INDEX(geb.Rechnung!$A$4:$G$1000,MATCH(ROW()-5,geb.Rechnung!$G$4:$G$1000,0),COLUMN()-2)),\"\",INDEX(geb.Rechnung!$A$4:$G$1000,MATCH(ROW()-5,geb.Rechnung!$G$4:$G$1000,0),COLUMN()-2))","v":""},{"$f":"IF(ISNA(INDEX(geb.Rechnung!$A$4:$G$1000,MATCH(ROW()-5,geb.Rechnung!$G$4:$G$1000,0),COLUMN()+1)),\"\",INDEX(geb.Rechnung!$A$4:$G$1000,MATCH(ROW()-5,geb.Rechnung!$G$4:$G$1000,0),COLUMN()+1))","v":""},{"$f":"IF(ISNA(INDEX(geb.Rechnung!$A$4:$G$1000,MATCH(ROW()-5,geb.Rechnung!$G$4:$G$1000,0),COLUMN()+1)),\"\",INDEX(geb.Rechnung!$A$4:$G$1000,MATCH(ROW()-5,geb.Rechnung!$G$4:$G$1000,0),COLUMN()+1))","v":""}]
[{"$f":"IF(ISNA(INDEX(geb.Rechnung!$A$4:$G$1000,MATCH(ROW()-5,geb.Rechnung!$G$4:$G$1000,0),COLUMN()-1)),\"\",INDEX(geb.Rechnung!$A$4:$G$1000,MATCH(ROW()-5,geb.Rechnung!$G$4:$G$1000,0),COLUMN()-1))","v":""},{"$f":"IF(ISNA(INDEX(geb.Rechnung!$A$4:$G$1000,MATCH(ROW()-5,geb.Rechnung!$G$4:$G$1000,0),COLUMN()-2)),\"\",INDEX(geb.Rechnung!$A$4:$G$1000,MATCH(ROW()-5,geb.Rechnung!$G$4:$G$1000,0),COLUMN()-2))","v":""},{"$f":"IF(ISNA(INDEX(geb.Rechnung!$A$4:$G$1000,MATCH(ROW()-5,geb.Rechnung!$G$4:$G$1000,0),COLUMN()+1)),\"\",INDEX(geb.Rechnung!$A$4:$G$1000,MATCH(ROW()-5,geb.Rechnung!$G$4:$G$1000,0),COLUMN()+1))","v":""},{"$f":"IF(ISNA(INDEX(geb.Rechnung!$A$4:$G$1000,MATCH(ROW()-5,geb.Rechnung!$G$4:$G$1000,0),COLUMN()+1)),\"\",INDEX(geb.Rechnung!$A$4:$G$1000,MATCH(ROW()-5,geb.Rechnung!$G$4:$G$1000,0),COLUMN()+1))","v":""}]
[{"$f":"IF(ISNA(INDEX(geb.Rechnung!$A$4:$G$1000,MATCH(ROW()-5,geb.Rechnung!$G$4:$G$1000,0),COLUMN()-1)),\"\",INDEX(geb.Rechnung!$A$4:$G$1000,MATCH(ROW()-5,geb.Rechnung!$G$4:$G$1000,0),COLUMN()-1))","v":""},{"$f":"IF(ISNA(INDEX(geb.Rechnung!$A$4:$G$1000,MATCH(ROW()-5,geb.Rechnung!$G$4:$G$1000,0),COLUMN()-2)),\"\",INDEX(geb.Rechnung!$A$4:$G$1000,MATCH(ROW()-5,geb.Rechnung!$G$4:$G$1000,0),COLUMN()-2))","v":""},{"$f":"IF(ISNA(INDEX(geb.Rechnung!$A$4:$G$1000,MATCH(ROW()-5,geb.Rechnung!$G$4:$G$1000,0),COLUMN()+1)),\"\",INDEX(geb.Rechnung!$A$4:$G$1000,MATCH(ROW()-5,geb.Rechnung!$G$4:$G$1000,0),COLUMN()+1))","v":""},{"$f":"IF(ISNA(INDEX(geb.Rechnung!$A$4:$G$1000,MATCH(ROW()-5,geb.Rechnung!$G$4:$G$1000,0),COLUMN()+1)),\"\",INDEX(geb.Rechnung!$A$4:$G$1000,MATCH(ROW()-5,geb.Rechnung!$G$4:$G$1000,0),COLUMN()+1))","v":""}]
[{"$f":"IF(ISNA(INDEX(geb.Rechnung!$A$4:$G$1000,MATCH(ROW()-5,geb.Rechnung!$G$4:$G$1000,0),COLUMN()-1)),\"\",INDEX(geb.Rechnung!$A$4:$G$1000,MATCH(ROW()-5,geb.Rechnung!$G$4:$G$1000,0),COLUMN()-1))","v":""},{"$f":"IF(ISNA(INDEX(geb.Rechnung!$A$4:$G$1000,MATCH(ROW()-5,geb.Rechnung!$G$4:$G$1000,0),COLUMN()-2)),\"\",INDEX(geb.Rechnung!$A$4:$G$1000,MATCH(ROW()-5,geb.Rechnung!$G$4:$G$1000,0),COLUMN()-2))","v":""},{"$f":"IF(ISNA(INDEX(geb.Rechnung!$A$4:$G$1000,MATCH(ROW()-5,geb.Rechnung!$G$4:$G$1000,0),COLUMN()+1)),\"\",INDEX(geb.Rechnung!$A$4:$G$1000,MATCH(ROW()-5,geb.Rechnung!$G$4:$G$1000,0),COLUMN()+1))","v":""},{"$f":"IF(ISNA(INDEX(geb.Rechnung!$A$4:$G$1000,MATCH(ROW()-5,geb.Rechnung!$G$4:$G$1000,0),COLUMN()+1)),\"\",INDEX(geb.Rechnung!$A$4:$G$1000,MATCH(ROW()-5,geb.Rechnung!$G$4:$G$1000,0),COLUMN()+1))","v":""}]
[{"$f":"IF(ISNA(INDEX(geb.Rechnung!$A$4:$G$1000,MATCH(ROW()-5,geb.Rechnung!$G$4:$G$1000,0),COLUMN()-1)),\"\",INDEX(geb.Rechnung!$A$4:$G$1000,MATCH(ROW()-5,geb.Rechnung!$G$4:$G$1000,0),COLUMN()-1))","v":""},{"$f":"IF(ISNA(INDEX(geb.Rechnung!$A$4:$G$1000,MATCH(ROW()-5,geb.Rechnung!$G$4:$G$1000,0),COLUMN()-2)),\"\",INDEX(geb.Rechnung!$A$4:$G$1000,MATCH(ROW()-5,geb.Rechnung!$G$4:$G$1000,0),COLUMN()-2))","v":""},{"$f":"IF(ISNA(INDEX(geb.Rechnung!$A$4:$G$1000,MATCH(ROW()-5,geb.Rechnung!$G$4:$G$1000,0),COLUMN()+1)),\"\",INDEX(geb.Rechnung!$A$4:$G$1000,MATCH(ROW()-5,geb.Rechnung!$G$4:$G$1000,0),COLUMN()+1))","v":""},{"$f":"IF(ISNA(INDEX(geb.Rechnung!$A$4:$G$1000,MATCH(ROW()-5,geb.Rechnung!$G$4:$G$1000,0),COLUMN()+1)),\"\",INDEX(geb.Rechnung!$A$4:$G$1000,MATCH(ROW()-5,geb.Rechnung!$G$4:$G$1000,0),COLUMN()+1))","v":""}]
[{"$f":"IF(ISNA(INDEX(geb.Rechnung!$A$4:$G$1000,MATCH(ROW()-5,geb.Rechnung!$G$4:$G$1000,0),COLUMN()-1)),\"\",INDEX(geb.Rechnung!$A$4:$G$1000,MATCH(ROW()-5,geb.Rechnung!$G$4:$G$1000,0),COLUMN()-1))","v":""},{"$f":"IF(ISNA(INDEX(geb.Rechnung!$A$4:$G$1000,MATCH(ROW()-5,geb.Rechnung!$G$4:$G$1000,0),COLUMN()-2)),\"\",INDEX(geb.Rechnung!$A$4:$G$1000,MATCH(ROW()-5,geb.Rechnung!$G$4:$G$1000,0),COLUMN()-2))","v":""},{"$f":"IF(ISNA(INDEX(geb.Rechnung!$A$4:$G$1000,MATCH(ROW()-5,geb.Rechnung!$G$4:$G$1000,0),COLUMN()+1)),\"\",INDEX(geb.Rechnung!$A$4:$G$1000,MATCH(ROW()-5,geb.Rechnung!$G$4:$G$1000,0),COLUMN()+1))","v":""},{"$f":"IF(ISNA(INDEX(geb.Rechnung!$A$4:$G$1000,MATCH(ROW()-5,geb.Rechnung!$G$4:$G$1000,0),COLUMN()+1)),\"\",INDEX(geb.Rechnung!$A$4:$G$1000,MATCH(ROW()-5,geb.Rechnung!$G$4:$G$1000,0),COLUMN()+1))","v":""}]
[{"$f":"IF(ISNA(INDEX(geb.Rechnung!$A$4:$G$1000,MATCH(ROW()-5,geb.Rechnung!$G$4:$G$1000,0),COLUMN()-1)),\"\",INDEX(geb.Rechnung!$A$4:$G$1000,MATCH(ROW()-5,geb.Rechnung!$G$4:$G$1000,0),COLUMN()-1))","v":""},{"$f":"IF(ISNA(INDEX(geb.Rechnung!$A$4:$G$1000,MATCH(ROW()-5,geb.Rechnung!$G$4:$G$1000,0),COLUMN()-2)),\"\",INDEX(geb.Rechnung!$A$4:$G$1000,MATCH(ROW()-5,geb.Rechnung!$G$4:$G$1000,0),COLUMN()-2))","v":""},{"$f":"IF(ISNA(INDEX(geb.Rechnung!$A$4:$G$1000,MATCH(ROW()-5,geb.Rechnung!$G$4:$G$1000,0),COLUMN()+1)),\"\",INDEX(geb.Rechnung!$A$4:$G$1000,MATCH(ROW()-5,geb.Rechnung!$G$4:$G$1000,0),COLUMN()+1))","v":""},{"$f":"IF(ISNA(INDEX(geb.Rechnung!$A$4:$G$1000,MATCH(ROW()-5,geb.Rechnung!$G$4:$G$1000,0),COLUMN()+1)),\"\",INDEX(geb.Rechnung!$A$4:$G$1000,MATCH(ROW()-5,geb.Rechnung!$G$4:$G$1000,0),COLUMN()+1))","v":""}]
[{"$f":"IF(ISNA(INDEX(geb.Rechnung!$A$4:$G$1000,MATCH(ROW()-5,geb.Rechnung!$G$4:$G$1000,0),COLUMN()-1)),\"\",INDEX(geb.Rechnung!$A$4:$G$1000,MATCH(ROW()-5,geb.Rechnung!$G$4:$G$1000,0),COLUMN()-1))","v":""},{"$f":"IF(ISNA(INDEX(geb.Rechnung!$A$4:$G$1000,MATCH(ROW()-5,geb.Rechnung!$G$4:$G$1000,0),COLUMN()-2)),\"\",INDEX(geb.Rechnung!$A$4:$G$1000,MATCH(ROW()-5,geb.Rechnung!$G$4:$G$1000,0),COLUMN()-2))","v":""},{"$f":"IF(ISNA(INDEX(geb.Rechnung!$A$4:$G$1000,MATCH(ROW()-5,geb.Rechnung!$G$4:$G$1000,0),COLUMN()+1)),\"\",INDEX(geb.Rechnung!$A$4:$G$1000,MATCH(ROW()-5,geb.Rechnung!$G$4:$G$1000,0),COLUMN()+1))","v":""},{"$f":"IF(ISNA(INDEX(geb.Rechnung!$A$4:$G$1000,MATCH(ROW()-5,geb.Rechnung!$G$4:$G$1000,0),COLUMN()+1)),\"\",INDEX(geb.Rechnung!$A$4:$G$1000,MATCH(ROW()-5,geb.Rechnung!$G$4:$G$1000,0),COLUMN()+1))","v":""}]
[{"$f":"IF(ISNA(INDEX(geb.Rechnung!$A$4:$G$1000,MATCH(ROW()-5,geb.Rechnung!$G$4:$G$1000,0),COLUMN()-1)),\"\",INDEX(geb.Rechnung!$A$4:$G$1000,MATCH(ROW()-5,geb.Rechnung!$G$4:$G$1000,0),COLUMN()-1))","v":""},{"$f":"IF(ISNA(INDEX(geb.Rechnung!$A$4:$G$1000,MATCH(ROW()-5,geb.Rechnung!$G$4:$G$1000,0),COLUMN()-2)),\"\",INDEX(geb.Rechnung!$A$4:$G$1000,MATCH(ROW()-5,geb.Rechnung!$G$4:$G$1000,0),COLUMN()-2))","v":""},{"$f":"IF(ISNA(INDEX(geb.Rechnung!$A$4:$G$1000,MATCH(ROW()-5,geb.Rechnung!$G$4:$G$1000,0),COLUMN()+1)),\"\",INDEX(geb.Rechnung!$A$4:$G$1000,MATCH(ROW()-5,geb.Rechnung!$G$4:$G$1000,0),COLUMN()+1))","v":""},{"$f":"IF(ISNA(INDEX(geb.Rechnung!$A$4:$G$1000,MATCH(ROW()-5,geb.Rechnung!$G$4:$G$1000,0),COLUMN()+1)),\"\",INDEX(geb.Rechnung!$A$4:$G$1000,MATCH(ROW()-5,geb.Rechnung!$G$4:$G$1000,0),COLUMN()+1))","v":""}]
[{"$f":"IF(ISNA(INDEX(geb.Rechnung!$A$4:$G$1000,MATCH(ROW()-5,geb.Rechnung!$G$4:$G$1000,0),COLUMN()-1)),\"\",INDEX(geb.Rechnung!$A$4:$G$1000,MATCH(ROW()-5,geb.Rechnung!$G$4:$G$1000,0),COLUMN()-1))","v":""},{"$f":"IF(ISNA(INDEX(geb.Rechnung!$A$4:$G$1000,MATCH(ROW()-5,geb.Rechnung!$G$4:$G$1000,0),COLUMN()-2)),\"\",INDEX(geb.Rechnung!$A$4:$G$1000,MATCH(ROW()-5,geb.Rechnung!$G$4:$G$1000,0),COLUMN()-2))","v":""},{"$f":"IF(ISNA(INDEX(geb.Rechnung!$A$4:$G$1000,MATCH(ROW()-5,geb.Rechnung!$G$4:$G$1000,0),COLUMN()+1)),\"\",INDEX(geb.Rechnung!$A$4:$G$1000,MATCH(ROW()-5,geb.Rechnung!$G$4:$G$1000,0),COLUMN()+1))","v":""},{"$f":"IF(ISNA(INDEX(geb.Rechnung!$A$4:$G$1000,MATCH(ROW()-5,geb.Rechnung!$G$4:$G$1000,0),COLUMN()+1)),\"\",INDEX(geb.Rechnung!$A$4:$G$1000,MATCH(ROW()-5,geb.Rechnung!$G$4:$G$1000,0),COLUMN()+1))","v":""}]
[{"$f":"IF(ISNA(INDEX(geb.Rechnung!$A$4:$G$1000,MATCH(ROW()-5,geb.Rechnung!$G$4:$G$1000,0),COLUMN()-1)),\"\",INDEX(geb.Rechnung!$A$4:$G$1000,MATCH(ROW()-5,geb.Rechnung!$G$4:$G$1000,0),COLUMN()-1))","v":""},{"$f":"IF(ISNA(INDEX(geb.Rechnung!$A$4:$G$1000,MATCH(ROW()-5,geb.Rechnung!$G$4:$G$1000,0),COLUMN()-2)),\"\",INDEX(geb.Rechnung!$A$4:$G$1000,MATCH(ROW()-5,geb.Rechnung!$G$4:$G$1000,0),COLUMN()-2))","v":""},{"$f":"IF(ISNA(INDEX(geb.Rechnung!$A$4:$G$1000,MATCH(ROW()-5,geb.Rechnung!$G$4:$G$1000,0),COLUMN()+1)),\"\",INDEX(geb.Rechnung!$A$4:$G$1000,MATCH(ROW()-5,geb.Rechnung!$G$4:$G$1000,0),COLUMN()+1))","v":""},{"$f":"IF(ISNA(INDEX(geb.Rechnung!$A$4:$G$1000,MATCH(ROW()-5,geb.Rechnung!$G$4:$G$1000,0),COLUMN()+1)),\"\",INDEX(geb.Rechnung!$A$4:$G$1000,MATCH(ROW()-5,geb.Rechnung!$G$4:$G$1000,0),COLUMN()+1))","v":""}]
[{"$f":"IF(ISNA(INDEX(geb.Rechnung!$A$4:$G$1000,MATCH(ROW()-5,geb.Rechnung!$G$4:$G$1000,0),COLUMN()-1)),\"\",INDEX(geb.Rechnung!$A$4:$G$1000,MATCH(ROW()-5,geb.Rechnung!$G$4:$G$1000,0),COLUMN()-1))","v":""},{"$f":"IF(ISNA(INDEX(geb.Rechnung!$A$4:$G$1000,MATCH(ROW()-5,geb.Rechnung!$G$4:$G$1000,0),COLUMN()-2)),\"\",INDEX(geb.Rechnung!$A$4:$G$1000,MATCH(ROW()-5,geb.Rechnung!$G$4:$G$1000,0),COLUMN()-2))","v":""},{"$f":"IF(ISNA(INDEX(geb.Rechnung!$A$4:$G$1000,MATCH(ROW()-5,geb.Rechnung!$G$4:$G$1000,0),COLUMN()+1)),\"\",INDEX(geb.Rechnung!$A$4:$G$1000,MATCH(ROW()-5,geb.Rechnung!$G$4:$G$1000,0),COLUMN()+1))","v":""},{"$f":"IF(ISNA(INDEX(geb.Rechnung!$A$4:$G$1000,MATCH(ROW()-5,geb.Rechnung!$G$4:$G$1000,0),COLUMN()+1)),\"\",INDEX(geb.Rechnung!$A$4:$G$1000,MATCH(ROW()-5,geb.Rechnung!$G$4:$G$1000,0),COLUMN()+1))","v":""}]
[{"$f":"IF(ISNA(INDEX(geb.Rechnung!$A$4:$G$1000,MATCH(ROW()-5,geb.Rechnung!$G$4:$G$1000,0),COLUMN()-1)),\"\",INDEX(geb.Rechnung!$A$4:$G$1000,MATCH(ROW()-5,geb.Rechnung!$G$4:$G$1000,0),COLUMN()-1))","v":""},{"$f":"IF(ISNA(INDEX(geb.Rechnung!$A$4:$G$1000,MATCH(ROW()-5,geb.Rechnung!$G$4:$G$1000,0),COLUMN()-2)),\"\",INDEX(geb.Rechnung!$A$4:$G$1000,MATCH(ROW()-5,geb.Rechnung!$G$4:$G$1000,0),COLUMN()-2))","v":""},{"$f":"IF(ISNA(INDEX(geb.Rechnung!$A$4:$G$1000,MATCH(ROW()-5,geb.Rechnung!$G$4:$G$1000,0),COLUMN()+1)),\"\",INDEX(geb.Rechnung!$A$4:$G$1000,MATCH(ROW()-5,geb.Rechnung!$G$4:$G$1000,0),COLUMN()+1))","v":""},{"$f":"IF(ISNA(INDEX(geb.Rechnung!$A$4:$G$1000,MATCH(ROW()-5,geb.Rechnung!$G$4:$G$1000,0),COLUMN()+1)),\"\",INDEX(geb.Rechnung!$A$4:$G$1000,MATCH(ROW()-5,geb.Rechnung!$G$4:$G$1000,0),COLUMN()+1))","v":""}]
[{"$f":"IF(ISNA(INDEX(geb.Rechnung!$A$4:$G$1000,MATCH(ROW()-5,geb.Rechnung!$G$4:$G$1000,0),COLUMN()-1)),\"\",INDEX(geb.Rechnung!$A$4:$G$1000,MATCH(ROW()-5,geb.Rechnung!$G$4:$G$1000,0),COLUMN()-1))","v":""},{"$f":"IF(ISNA(INDEX(geb.Rechnung!$A$4:$G$1000,MATCH(ROW()-5,geb.Rechnung!$G$4:$G$1000,0),COLUMN()-2)),\"\",INDEX(geb.Rechnung!$A$4:$G$1000,MATCH(ROW()-5,geb.Rechnung!$G$4:$G$1000,0),COLUMN()-2))","v":""},{"$f":"IF(ISNA(INDEX(geb.Rechnung!$A$4:$G$1000,MATCH(ROW()-5,geb.Rechnung!$G$4:$G$1000,0),COLUMN()+1)),\"\",INDEX(geb.Rechnung!$A$4:$G$1000,MATCH(ROW()-5,geb.Rechnung!$G$4:$G$1000,0),COLUMN()+1))","v":""},{"$f":"IF(ISNA(INDEX(geb.Rechnung!$A$4:$G$1000,MATCH(ROW()-5,geb.Rechnung!$G$4:$G$1000,0),COLUMN()+1)),\"\",INDEX(geb.Rechnung!$A$4:$G$1000,MATCH(ROW()-5,geb.Rechnung!$G$4:$G$1000,0),COLUMN()+1))","v":""}]
[{"$f":"IF(ISNA(INDEX(geb.Rechnung!$A$4:$G$1000,MATCH(ROW()-5,geb.Rechnung!$G$4:$G$1000,0),COLUMN()-1)),\"\",INDEX(geb.Rechnung!$A$4:$G$1000,MATCH(ROW()-5,geb.Rechnung!$G$4:$G$1000,0),COLUMN()-1))","v":""},{"$f":"IF(ISNA(INDEX(geb.Rechnung!$A$4:$G$1000,MATCH(ROW()-5,geb.Rechnung!$G$4:$G$1000,0),COLUMN()-2)),\"\",INDEX(geb.Rechnung!$A$4:$G$1000,MATCH(ROW()-5,geb.Rechnung!$G$4:$G$1000,0),COLUMN()-2))","v":""},{"$f":"IF(ISNA(INDEX(geb.Rechnung!$A$4:$G$1000,MATCH(ROW()-5,geb.Rechnung!$G$4:$G$1000,0),COLUMN()+1)),\"\",INDEX(geb.Rechnung!$A$4:$G$1000,MATCH(ROW()-5,geb.Rechnung!$G$4:$G$1000,0),COLUMN()+1))","v":""},{"$f":"IF(ISNA(INDEX(geb.Rechnung!$A$4:$G$1000,MATCH(ROW()-5,geb.Rechnung!$G$4:$G$1000,0),COLUMN()+1)),\"\",INDEX(geb.Rechnung!$A$4:$G$1000,MATCH(ROW()-5,geb.Rechnung!$G$4:$G$1000,0),COLUMN()+1))","v":""}]
[{"$f":"IF(ISNA(INDEX(geb.Rechnung!$A$4:$G$1000,MATCH(ROW()-5,geb.Rechnung!$G$4:$G$1000,0),COLUMN()-1)),\"\",INDEX(geb.Rechnung!$A$4:$G$1000,MATCH(ROW()-5,geb.Rechnung!$G$4:$G$1000,0),COLUMN()-1))","v":""},{"$f":"IF(ISNA(INDEX(geb.Rechnung!$A$4:$G$1000,MATCH(ROW()-5,geb.Rechnung!$G$4:$G$1000,0),COLUMN()-2)),\"\",INDEX(geb.Rechnung!$A$4:$G$1000,MATCH(ROW()-5,geb.Rechnung!$G$4:$G$1000,0),COLUMN()-2))","v":""},{"$f":"IF(ISNA(INDEX(geb.Rechnung!$A$4:$G$1000,MATCH(ROW()-5,geb.Rechnung!$G$4:$G$1000,0),COLUMN()+1)),\"\",INDEX(geb.Rechnung!$A$4:$G$1000,MATCH(ROW()-5,geb.Rechnung!$G$4:$G$1000,0),COLUMN()+1))","v":""},{"$f":"IF(ISNA(INDEX(geb.Rechnung!$A$4:$G$1000,MATCH(ROW()-5,geb.Rechnung!$G$4:$G$1000,0),COLUMN()+1)),\"\",INDEX(geb.Rechnung!$A$4:$G$1000,MATCH(ROW()-5,geb.Rechnung!$G$4:$G$1000,0),COLUMN()+1))","v":""}]
[{"$f":"IF(ISNA(INDEX(geb.Rechnung!$A$4:$G$1000,MATCH(ROW()-5,geb.Rechnung!$G$4:$G$1000,0),COLUMN()-1)),\"\",INDEX(geb.Rechnung!$A$4:$G$1000,MATCH(ROW()-5,geb.Rechnung!$G$4:$G$1000,0),COLUMN()-1))","v":""},{"$f":"IF(ISNA(INDEX(geb.Rechnung!$A$4:$G$1000,MATCH(ROW()-5,geb.Rechnung!$G$4:$G$1000,0),COLUMN()-2)),\"\",INDEX(geb.Rechnung!$A$4:$G$1000,MATCH(ROW()-5,geb.Rechnung!$G$4:$G$1000,0),COLUMN()-2))","v":""},{"$f":"IF(ISNA(INDEX(geb.Rechnung!$A$4:$G$1000,MATCH(ROW()-5,geb.Rechnung!$G$4:$G$1000,0),COLUMN()+1)),\"\",INDEX(geb.Rechnung!$A$4:$G$1000,MATCH(ROW()-5,geb.Rechnung!$G$4:$G$1000,0),COLUMN()+1))","v":""},{"$f":"IF(ISNA(INDEX(geb.Rechnung!$A$4:$G$1000,MATCH(ROW()-5,geb.Rechnung!$G$4:$G$1000,0),COLUMN()+1)),\"\",INDEX(geb.Rechnung!$A$4:$G$1000,MATCH(ROW()-5,geb.Rechnung!$G$4:$G$1000,0),COLUMN()+1))","v":""}]
[{"$f":"IF(ISNA(INDEX(geb.Rechnung!$A$4:$G$1000,MATCH(ROW()-5,geb.Rechnung!$G$4:$G$1000,0),COLUMN()-1)),\"\",INDEX(geb.Rechnung!$A$4:$G$1000,MATCH(ROW()-5,geb.Rechnung!$G$4:$G$1000,0),COLUMN()-1))","v":""},{"$f":"IF(ISNA(INDEX(geb.Rechnung!$A$4:$G$1000,MATCH(ROW()-5,geb.Rechnung!$G$4:$G$1000,0),COLUMN()-2)),\"\",INDEX(geb.Rechnung!$A$4:$G$1000,MATCH(ROW()-5,geb.Rechnung!$G$4:$G$1000,0),COLUMN()-2))","v":""},{"$f":"IF(ISNA(INDEX(geb.Rechnung!$A$4:$G$1000,MATCH(ROW()-5,geb.Rechnung!$G$4:$G$1000,0),COLUMN()+1)),\"\",INDEX(geb.Rechnung!$A$4:$G$1000,MATCH(ROW()-5,geb.Rechnung!$G$4:$G$1000,0),COLUMN()+1))","v":""},{"$f":"IF(ISNA(INDEX(geb.Rechnung!$A$4:$G$1000,MATCH(ROW()-5,geb.Rechnung!$G$4:$G$1000,0),COLUMN()+1)),\"\",INDEX(geb.Rechnung!$A$4:$G$1000,MATCH(ROW()-5,geb.Rechnung!$G$4:$G$1000,0),COLUMN()+1))","v":""}]
[{"$f":"IF(ISNA(INDEX(geb.Rechnung!$A$4:$G$1000,MATCH(ROW()-5,geb.Rechnung!$G$4:$G$1000,0),COLUMN()-1)),\"\",INDEX(geb.Rechnung!$A$4:$G$1000,MATCH(ROW()-5,geb.Rechnung!$G$4:$G$1000,0),COLUMN()-1))","v":""},{"$f":"IF(ISNA(INDEX(geb.Rechnung!$A$4:$G$1000,MATCH(ROW()-5,geb.Rechnung!$G$4:$G$1000,0),COLUMN()-2)),\"\",INDEX(geb.Rechnung!$A$4:$G$1000,MATCH(ROW()-5,geb.Rechnung!$G$4:$G$1000,0),COLUMN()-2))","v":""},{"$f":"IF(ISNA(INDEX(geb.Rechnung!$A$4:$G$1000,MATCH(ROW()-5,geb.Rechnung!$G$4:$G$1000,0),COLUMN()+1)),\"\",INDEX(geb.Rechnung!$A$4:$G$1000,MATCH(ROW()-5,geb.Rechnung!$G$4:$G$1000,0),COLUMN()+1))","v":""},{"$f":"IF(ISNA(INDEX(geb.Rechnung!$A$4:$G$1000,MATCH(ROW()-5,geb.Rechnung!$G$4:$G$1000,0),COLUMN()+1)),\"\",INDEX(geb.Rechnung!$A$4:$G$1000,MATCH(ROW()-5,geb.Rechnung!$G$4:$G$1000,0),COLUMN()+1))","v":""}]
[{"$f":"IF(ISNA(INDEX(geb.Rechnung!$A$4:$G$1000,MATCH(ROW()-5,geb.Rechnung!$G$4:$G$1000,0),COLUMN()-1)),\"\",INDEX(geb.Rechnung!$A$4:$G$1000,MATCH(ROW()-5,geb.Rechnung!$G$4:$G$1000,0),COLUMN()-1))","v":""},{"$f":"IF(ISNA(INDEX(geb.Rechnung!$A$4:$G$1000,MATCH(ROW()-5,geb.Rechnung!$G$4:$G$1000,0),COLUMN()-2)),\"\",INDEX(geb.Rechnung!$A$4:$G$1000,MATCH(ROW()-5,geb.Rechnung!$G$4:$G$1000,0),COLUMN()-2))","v":""},{"$f":"IF(ISNA(INDEX(geb.Rechnung!$A$4:$G$1000,MATCH(ROW()-5,geb.Rechnung!$G$4:$G$1000,0),COLUMN()+1)),\"\",INDEX(geb.Rechnung!$A$4:$G$1000,MATCH(ROW()-5,geb.Rechnung!$G$4:$G$1000,0),COLUMN()+1))","v":""},{"$f":"IF(ISNA(INDEX(geb.Rechnung!$A$4:$G$1000,MATCH(ROW()-5,geb.Rechnung!$G$4:$G$1000,0),COLUMN()+1)),\"\",INDEX(geb.Rechnung!$A$4:$G$1000,MATCH(ROW()-5,geb.Rechnung!$G$4:$G$1000,0),COLUMN()+1))","v":""}]
[{"$f":"IF(ISNA(INDEX(geb.Rechnung!$A$4:$G$1000,MATCH(ROW()-5,geb.Rechnung!$G$4:$G$1000,0),COLUMN()-1)),\"\",INDEX(geb.Rechnung!$A$4:$G$1000,MATCH(ROW()-5,geb.Rechnung!$G$4:$G$1000,0),COLUMN()-1))","v":""},{"$f":"IF(ISNA(INDEX(geb.Rechnung!$A$4:$G$1000,MATCH(ROW()-5,geb.Rechnung!$G$4:$G$1000,0),COLUMN()-2)),\"\",INDEX(geb.Rechnung!$A$4:$G$1000,MATCH(ROW()-5,geb.Rechnung!$G$4:$G$1000,0),COLUMN()-2))","v":""},{"$f":"IF(ISNA(INDEX(geb.Rechnung!$A$4:$G$1000,MATCH(ROW()-5,geb.Rechnung!$G$4:$G$1000,0),COLUMN()+1)),\"\",INDEX(geb.Rechnung!$A$4:$G$1000,MATCH(ROW()-5,geb.Rechnung!$G$4:$G$1000,0),COLUMN()+1))","v":""},{"$f":"IF(ISNA(INDEX(geb.Rechnung!$A$4:$G$1000,MATCH(ROW()-5,geb.Rechnung!$G$4:$G$1000,0),COLUMN()+1)),\"\",INDEX(geb.Rechnung!$A$4:$G$1000,MATCH(ROW()-5,geb.Rechnung!$G$4:$G$1000,0),COLUMN()+1))","v":""}]
[{"$f":"IF(ISNA(INDEX(geb.Rechnung!$A$4:$G$1000,MATCH(ROW()-5,geb.Rechnung!$G$4:$G$1000,0),COLUMN()-1)),\"\",INDEX(geb.Rechnung!$A$4:$G$1000,MATCH(ROW()-5,geb.Rechnung!$G$4:$G$1000,0),COLUMN()-1))","v":""},{"$f":"IF(ISNA(INDEX(geb.Rechnung!$A$4:$G$1000,MATCH(ROW()-5,geb.Rechnung!$G$4:$G$1000,0),COLUMN()-2)),\"\",INDEX(geb.Rechnung!$A$4:$G$1000,MATCH(ROW()-5,geb.Rechnung!$G$4:$G$1000,0),COLUMN()-2))","v":""},{"$f":"IF(ISNA(INDEX(geb.Rechnung!$A$4:$G$1000,MATCH(ROW()-5,geb.Rechnung!$G$4:$G$1000,0),COLUMN()+1)),\"\",INDEX(geb.Rechnung!$A$4:$G$1000,MATCH(ROW()-5,geb.Rechnung!$G$4:$G$1000,0),COLUMN()+1))","v":""},{"$f":"IF(ISNA(INDEX(geb.Rechnung!$A$4:$G$1000,MATCH(ROW()-5,geb.Rechnung!$G$4:$G$1000,0),COLUMN()+1)),\"\",INDEX(geb.Rechnung!$A$4:$G$1000,MATCH(ROW()-5,geb.Rechnung!$G$4:$G$1000,0),COLUMN()+1))","v":""}]
[{"$f":"IF(ISNA(INDEX(geb.Rechnung!$A$4:$G$1000,MATCH(ROW()-5,geb.Rechnung!$G$4:$G$1000,0),COLUMN()-1)),\"\",INDEX(geb.Rechnung!$A$4:$G$1000,MATCH(ROW()-5,geb.Rechnung!$G$4:$G$1000,0),COLUMN()-1))","v":""},{"$f":"IF(ISNA(INDEX(geb.Rechnung!$A$4:$G$1000,MATCH(ROW()-5,geb.Rechnung!$G$4:$G$1000,0),COLUMN()-2)),\"\",INDEX(geb.Rechnung!$A$4:$G$1000,MATCH(ROW()-5,geb.Rechnung!$G$4:$G$1000,0),COLUMN()-2))","v":""},{"$f":"IF(ISNA(INDEX(geb.Rechnung!$A$4:$G$1000,MATCH(ROW()-5,geb.Rechnung!$G$4:$G$1000,0),COLUMN()+1)),\"\",INDEX(geb.Rechnung!$A$4:$G$1000,MATCH(ROW()-5,geb.Rechnung!$G$4:$G$1000,0),COLUMN()+1))","v":""},{"$f":"IF(ISNA(INDEX(geb.Rechnung!$A$4:$G$1000,MATCH(ROW()-5,geb.Rechnung!$G$4:$G$1000,0),COLUMN()+1)),\"\",INDEX(geb.Rechnung!$A$4:$G$1000,MATCH(ROW()-5,geb.Rechnung!$G$4:$G$1000,0),COLUMN()+1))","v":""}]
[{"$f":"IF(ISNA(INDEX(geb.Rechnung!$A$4:$G$1000,MATCH(ROW()-5,geb.Rechnung!$G$4:$G$1000,0),COLUMN()-1)),\"\",INDEX(geb.Rechnung!$A$4:$G$1000,MATCH(ROW()-5,geb.Rechnung!$G$4:$G$1000,0),COLUMN()-1))","v":""},{"$f":"IF(ISNA(INDEX(geb.Rechnung!$A$4:$G$1000,MATCH(ROW()-5,geb.Rechnung!$G$4:$G$1000,0),COLUMN()-2)),\"\",INDEX(geb.Rechnung!$A$4:$G$1000,MATCH(ROW()-5,geb.Rechnung!$G$4:$G$1000,0),COLUMN()-2))","v":""},{"$f":"IF(ISNA(INDEX(geb.Rechnung!$A$4:$G$1000,MATCH(ROW()-5,geb.Rechnung!$G$4:$G$1000,0),COLUMN()+1)),\"\",INDEX(geb.Rechnung!$A$4:$G$1000,MATCH(ROW()-5,geb.Rechnung!$G$4:$G$1000,0),COLUMN()+1))","v":""},{"$f":"IF(ISNA(INDEX(geb.Rechnung!$A$4:$G$1000,MATCH(ROW()-5,geb.Rechnung!$G$4:$G$1000,0),COLUMN()+1)),\"\",INDEX(geb.Rechnung!$A$4:$G$1000,MATCH(ROW()-5,geb.Rechnung!$G$4:$G$1000,0),COLUMN()+1))","v":""}]
[{"$f":"IF(ISNA(INDEX(geb.Rechnung!$A$4:$G$1000,MATCH(ROW()-5,geb.Rechnung!$G$4:$G$1000,0),COLUMN()-1)),\"\",INDEX(geb.Rechnung!$A$4:$G$1000,MATCH(ROW()-5,geb.Rechnung!$G$4:$G$1000,0),COLUMN()-1))","v":""},{"$f":"IF(ISNA(INDEX(geb.Rechnung!$A$4:$G$1000,MATCH(ROW()-5,geb.Rechnung!$G$4:$G$1000,0),COLUMN()-2)),\"\",INDEX(geb.Rechnung!$A$4:$G$1000,MATCH(ROW()-5,geb.Rechnung!$G$4:$G$1000,0),COLUMN()-2))","v":""},{"$f":"IF(ISNA(INDEX(geb.Rechnung!$A$4:$G$1000,MATCH(ROW()-5,geb.Rechnung!$G$4:$G$1000,0),COLUMN()+1)),\"\",INDEX(geb.Rechnung!$A$4:$G$1000,MATCH(ROW()-5,geb.Rechnung!$G$4:$G$1000,0),COLUMN()+1))","v":""},{"$f":"IF(ISNA(INDEX(geb.Rechnung!$A$4:$G$1000,MATCH(ROW()-5,geb.Rechnung!$G$4:$G$1000,0),COLUMN()+1)),\"\",INDEX(geb.Rechnung!$A$4:$G$1000,MATCH(ROW()-5,geb.Rechnung!$G$4:$G$1000,0),COLUMN()+1))","v":""}]
[{"$f":"IF(ISNA(INDEX(geb.Rechnung!$A$4:$G$1000,MATCH(ROW()-5,geb.Rechnung!$G$4:$G$1000,0),COLUMN()-1)),\"\",INDEX(geb.Rechnung!$A$4:$G$1000,MATCH(ROW()-5,geb.Rechnung!$G$4:$G$1000,0),COLUMN()-1))","v":""},{"$f":"IF(ISNA(INDEX(geb.Rechnung!$A$4:$G$1000,MATCH(ROW()-5,geb.Rechnung!$G$4:$G$1000,0),COLUMN()-2)),\"\",INDEX(geb.Rechnung!$A$4:$G$1000,MATCH(ROW()-5,geb.Rechnung!$G$4:$G$1000,0),COLUMN()-2))","v":""},{"$f":"IF(ISNA(INDEX(geb.Rechnung!$A$4:$G$1000,MATCH(ROW()-5,geb.Rechnung!$G$4:$G$1000,0),COLUMN()+1)),\"\",INDEX(geb.Rechnung!$A$4:$G$1000,MATCH(ROW()-5,geb.Rechnung!$G$4:$G$1000,0),COLUMN()+1))","v":""},{"$f":"IF(ISNA(INDEX(geb.Rechnung!$A$4:$G$1000,MATCH(ROW()-5,geb.Rechnung!$G$4:$G$1000,0),COLUMN()+1)),\"\",INDEX(geb.Rechnung!$A$4:$G$1000,MATCH(ROW()-5,geb.Rechnung!$G$4:$G$1000,0),COLUMN()+1))","v":""}]
[{"$f":"IF(ISNA(INDEX(geb.Rechnung!$A$4:$G$1000,MATCH(ROW()-5,geb.Rechnung!$G$4:$G$1000,0),COLUMN()-1)),\"\",INDEX(geb.Rechnung!$A$4:$G$1000,MATCH(ROW()-5,geb.Rechnung!$G$4:$G$1000,0),COLUMN()-1))","v":""},{"$f":"IF(ISNA(INDEX(geb.Rechnung!$A$4:$G$1000,MATCH(ROW()-5,geb.Rechnung!$G$4:$G$1000,0),COLUMN()-2)),\"\",INDEX(geb.Rechnung!$A$4:$G$1000,MATCH(ROW()-5,geb.Rechnung!$G$4:$G$1000,0),COLUMN()-2))","v":""},{"$f":"IF(ISNA(INDEX(geb.Rechnung!$A$4:$G$1000,MATCH(ROW()-5,geb.Rechnung!$G$4:$G$1000,0),COLUMN()+1)),\"\",INDEX(geb.Rechnung!$A$4:$G$1000,MATCH(ROW()-5,geb.Rechnung!$G$4:$G$1000,0),COLUMN()+1))","v":""},{"$f":"IF(ISNA(INDEX(geb.Rechnung!$A$4:$G$1000,MATCH(ROW()-5,geb.Rechnung!$G$4:$G$1000,0),COLUMN()+1)),\"\",INDEX(geb.Rechnung!$A$4:$G$1000,MATCH(ROW()-5,geb.Rechnung!$G$4:$G$1000,0),COLUMN()+1))","v":""}]
[{"$f":"IF(ISNA(INDEX(geb.Rechnung!$A$4:$G$1000,MATCH(ROW()-5,geb.Rechnung!$G$4:$G$1000,0),COLUMN()-1)),\"\",INDEX(geb.Rechnung!$A$4:$G$1000,MATCH(ROW()-5,geb.Rechnung!$G$4:$G$1000,0),COLUMN()-1))","v":""},{"$f":"IF(ISNA(INDEX(geb.Rechnung!$A$4:$G$1000,MATCH(ROW()-5,geb.Rechnung!$G$4:$G$1000,0),COLUMN()-2)),\"\",INDEX(geb.Rechnung!$A$4:$G$1000,MATCH(ROW()-5,geb.Rechnung!$G$4:$G$1000,0),COLUMN()-2))","v":""},{"$f":"IF(ISNA(INDEX(geb.Rechnung!$A$4:$G$1000,MATCH(ROW()-5,geb.Rechnung!$G$4:$G$1000,0),COLUMN()+1)),\"\",INDEX(geb.Rechnung!$A$4:$G$1000,MATCH(ROW()-5,geb.Rechnung!$G$4:$G$1000,0),COLUMN()+1))","v":""},{"$f":"IF(ISNA(INDEX(geb.Rechnung!$A$4:$G$1000,MATCH(ROW()-5,geb.Rechnung!$G$4:$G$1000,0),COLUMN()+1)),\"\",INDEX(geb.Rechnung!$A$4:$G$1000,MATCH(ROW()-5,geb.Rechnung!$G$4:$G$1000,0),COLUMN()+1))","v":""}]
[{"$f":"IF(ISNA(INDEX(geb.Rechnung!$A$4:$G$1000,MATCH(ROW()-5,geb.Rechnung!$G$4:$G$1000,0),COLUMN()-1)),\"\",INDEX(geb.Rechnung!$A$4:$G$1000,MATCH(ROW()-5,geb.Rechnung!$G$4:$G$1000,0),COLUMN()-1))","v":""},{"$f":"IF(ISNA(INDEX(geb.Rechnung!$A$4:$G$1000,MATCH(ROW()-5,geb.Rechnung!$G$4:$G$1000,0),COLUMN()-2)),\"\",INDEX(geb.Rechnung!$A$4:$G$1000,MATCH(ROW()-5,geb.Rechnung!$G$4:$G$1000,0),COLUMN()-2))","v":""},{"$f":"IF(ISNA(INDEX(geb.Rechnung!$A$4:$G$1000,MATCH(ROW()-5,geb.Rechnung!$G$4:$G$1000,0),COLUMN()+1)),\"\",INDEX(geb.Rechnung!$A$4:$G$1000,MATCH(ROW()-5,geb.Rechnung!$G$4:$G$1000,0),COLUMN()+1))","v":""},{"$f":"IF(ISNA(INDEX(geb.Rechnung!$A$4:$G$1000,MATCH(ROW()-5,geb.Rechnung!$G$4:$G$1000,0),COLUMN()+1)),\"\",INDEX(geb.Rechnung!$A$4:$G$1000,MATCH(ROW()-5,geb.Rechnung!$G$4:$G$1000,0),COLUMN()+1))","v":""}]
[{"$f":"IF(ISNA(INDEX(geb.Rechnung!$A$4:$G$1000,MATCH(ROW()-5,geb.Rechnung!$G$4:$G$1000,0),COLUMN()-1)),\"\",INDEX(geb.Rechnung!$A$4:$G$1000,MATCH(ROW()-5,geb.Rechnung!$G$4:$G$1000,0),COLUMN()-1))","v":""},{"$f":"IF(ISNA(INDEX(geb.Rechnung!$A$4:$G$1000,MATCH(ROW()-5,geb.Rechnung!$G$4:$G$1000,0),COLUMN()-2)),\"\",INDEX(geb.Rechnung!$A$4:$G$1000,MATCH(ROW()-5,geb.Rechnung!$G$4:$G$1000,0),COLUMN()-2))","v":""},{"$f":"IF(ISNA(INDEX(geb.Rechnung!$A$4:$G$1000,MATCH(ROW()-5,geb.Rechnung!$G$4:$G$1000,0),COLUMN()+1)),\"\",INDEX(geb.Rechnung!$A$4:$G$1000,MATCH(ROW()-5,geb.Rechnung!$G$4:$G$1000,0),COLUMN()+1))","v":""},{"$f":"IF(ISNA(INDEX(geb.Rechnung!$A$4:$G$1000,MATCH(ROW()-5,geb.Rechnung!$G$4:$G$1000,0),COLUMN()+1)),\"\",INDEX(geb.Rechnung!$A$4:$G$1000,MATCH(ROW()-5,geb.Rechnung!$G$4:$G$1000,0),COLUMN()+1))","v":""}]
[{"$f":"IF(ISNA(INDEX(geb.Rechnung!$A$4:$G$1000,MATCH(ROW()-5,geb.Rechnung!$G$4:$G$1000,0),COLUMN()-1)),\"\",INDEX(geb.Rechnung!$A$4:$G$1000,MATCH(ROW()-5,geb.Rechnung!$G$4:$G$1000,0),COLUMN()-1))","v":""},{"$f":"IF(ISNA(INDEX(geb.Rechnung!$A$4:$G$1000,MATCH(ROW()-5,geb.Rechnung!$G$4:$G$1000,0),COLUMN()-2)),\"\",INDEX(geb.Rechnung!$A$4:$G$1000,MATCH(ROW()-5,geb.Rechnung!$G$4:$G$1000,0),COLUMN()-2))","v":""},{"$f":"IF(ISNA(INDEX(geb.Rechnung!$A$4:$G$1000,MATCH(ROW()-5,geb.Rechnung!$G$4:$G$1000,0),COLUMN()+1)),\"\",INDEX(geb.Rechnung!$A$4:$G$1000,MATCH(ROW()-5,geb.Rechnung!$G$4:$G$1000,0),COLUMN()+1))","v":""},{"$f":"IF(ISNA(INDEX(geb.Rechnung!$A$4:$G$1000,MATCH(ROW()-5,geb.Rechnung!$G$4:$G$1000,0),COLUMN()+1)),\"\",INDEX(geb.Rechnung!$A$4:$G$1000,MATCH(ROW()-5,geb.Rechnung!$G$4:$G$1000,0),COLUMN()+1))","v":""}]
[{"$f":"IF(ISNA(INDEX(geb.Rechnung!$A$4:$G$1000,MATCH(ROW()-5,geb.Rechnung!$G$4:$G$1000,0),COLUMN()-1)),\"\",INDEX(geb.Rechnung!$A$4:$G$1000,MATCH(ROW()-5,geb.Rechnung!$G$4:$G$1000,0),COLUMN()-1))","v":""},{"$f":"IF(ISNA(INDEX(geb.Rechnung!$A$4:$G$1000,MATCH(ROW()-5,geb.Rechnung!$G$4:$G$1000,0),COLUMN()-2)),\"\",INDEX(geb.Rechnung!$A$4:$G$1000,MATCH(ROW()-5,geb.Rechnung!$G$4:$G$1000,0),COLUMN()-2))","v":""},{"$f":"IF(ISNA(INDEX(geb.Rechnung!$A$4:$G$1000,MATCH(ROW()-5,geb.Rechnung!$G$4:$G$1000,0),COLUMN()+1)),\"\",INDEX(geb.Rechnung!$A$4:$G$1000,MATCH(ROW()-5,geb.Rechnung!$G$4:$G$1000,0),COLUMN()+1))","v":""},{"$f":"IF(ISNA(INDEX(geb.Rechnung!$A$4:$G$1000,MATCH(ROW()-5,geb.Rechnung!$G$4:$G$1000,0),COLUMN()+1)),\"\",INDEX(geb.Rechnung!$A$4:$G$1000,MATCH(ROW()-5,geb.Rechnung!$G$4:$G$1000,0),COLUMN()+1))","v":""}]
[{"$f":"IF(ISNA(INDEX(geb.Rechnung!$A$4:$G$1000,MATCH(ROW()-5,geb.Rechnung!$G$4:$G$1000,0),COLUMN()-1)),\"\",INDEX(geb.Rechnung!$A$4:$G$1000,MATCH(ROW()-5,geb.Rechnung!$G$4:$G$1000,0),COLUMN()-1))","v":""},{"$f":"IF(ISNA(INDEX(geb.Rechnung!$A$4:$G$1000,MATCH(ROW()-5,geb.Rechnung!$G$4:$G$1000,0),COLUMN()-2)),\"\",INDEX(geb.Rechnung!$A$4:$G$1000,MATCH(ROW()-5,geb.Rechnung!$G$4:$G$1000,0),COLUMN()-2))","v":""},{"$f":"IF(ISNA(INDEX(geb.Rechnung!$A$4:$G$1000,MATCH(ROW()-5,geb.Rechnung!$G$4:$G$1000,0),COLUMN()+1)),\"\",INDEX(geb.Rechnung!$A$4:$G$1000,MATCH(ROW()-5,geb.Rechnung!$G$4:$G$1000,0),COLUMN()+1))","v":""},{"$f":"IF(ISNA(INDEX(geb.Rechnung!$A$4:$G$1000,MATCH(ROW()-5,geb.Rechnung!$G$4:$G$1000,0),COLUMN()+1)),\"\",INDEX(geb.Rechnung!$A$4:$G$1000,MATCH(ROW()-5,geb.Rechnung!$G$4:$G$1000,0),COLUMN()+1))","v":""}]
[{"$f":"IF(ISNA(INDEX(geb.Rechnung!$A$4:$G$1000,MATCH(ROW()-5,geb.Rechnung!$G$4:$G$1000,0),COLUMN()-1)),\"\",INDEX(geb.Rechnung!$A$4:$G$1000,MATCH(ROW()-5,geb.Rechnung!$G$4:$G$1000,0),COLUMN()-1))","v":""},{"$f":"IF(ISNA(INDEX(geb.Rechnung!$A$4:$G$1000,MATCH(ROW()-5,geb.Rechnung!$G$4:$G$1000,0),COLUMN()-2)),\"\",INDEX(geb.Rechnung!$A$4:$G$1000,MATCH(ROW()-5,geb.Rechnung!$G$4:$G$1000,0),COLUMN()-2))","v":""},{"$f":"IF(ISNA(INDEX(geb.Rechnung!$A$4:$G$1000,MATCH(ROW()-5,geb.Rechnung!$G$4:$G$1000,0),COLUMN()+1)),\"\",INDEX(geb.Rechnung!$A$4:$G$1000,MATCH(ROW()-5,geb.Rechnung!$G$4:$G$1000,0),COLUMN()+1))","v":""},{"$f":"IF(ISNA(INDEX(geb.Rechnung!$A$4:$G$1000,MATCH(ROW()-5,geb.Rechnung!$G$4:$G$1000,0),COLUMN()+1)),\"\",INDEX(geb.Rechnung!$A$4:$G$1000,MATCH(ROW()-5,geb.Rechnung!$G$4:$G$1000,0),COLUMN()+1))","v":""}]
[{"$f":"IF(ISNA(INDEX(geb.Rechnung!$A$4:$G$1000,MATCH(ROW()-5,geb.Rechnung!$G$4:$G$1000,0),COLUMN()-1)),\"\",INDEX(geb.Rechnung!$A$4:$G$1000,MATCH(ROW()-5,geb.Rechnung!$G$4:$G$1000,0),COLUMN()-1))","v":""},{"$f":"IF(ISNA(INDEX(geb.Rechnung!$A$4:$G$1000,MATCH(ROW()-5,geb.Rechnung!$G$4:$G$1000,0),COLUMN()-2)),\"\",INDEX(geb.Rechnung!$A$4:$G$1000,MATCH(ROW()-5,geb.Rechnung!$G$4:$G$1000,0),COLUMN()-2))","v":""},{"$f":"IF(ISNA(INDEX(geb.Rechnung!$A$4:$G$1000,MATCH(ROW()-5,geb.Rechnung!$G$4:$G$1000,0),COLUMN()+1)),\"\",INDEX(geb.Rechnung!$A$4:$G$1000,MATCH(ROW()-5,geb.Rechnung!$G$4:$G$1000,0),COLUMN()+1))","v":""},{"$f":"IF(ISNA(INDEX(geb.Rechnung!$A$4:$G$1000,MATCH(ROW()-5,geb.Rechnung!$G$4:$G$1000,0),COLUMN()+1)),\"\",INDEX(geb.Rechnung!$A$4:$G$1000,MATCH(ROW()-5,geb.Rechnung!$G$4:$G$1000,0),COLUMN()+1))","v":""}]
[{"$f":"IF(ISNA(INDEX(geb.Rechnung!$A$4:$G$1000,MATCH(ROW()-5,geb.Rechnung!$G$4:$G$1000,0),COLUMN()-1)),\"\",INDEX(geb.Rechnung!$A$4:$G$1000,MATCH(ROW()-5,geb.Rechnung!$G$4:$G$1000,0),COLUMN()-1))","v":""},{"$f":"IF(ISNA(INDEX(geb.Rechnung!$A$4:$G$1000,MATCH(ROW()-5,geb.Rechnung!$G$4:$G$1000,0),COLUMN()-2)),\"\",INDEX(geb.Rechnung!$A$4:$G$1000,MATCH(ROW()-5,geb.Rechnung!$G$4:$G$1000,0),COLUMN()-2))","v":""},{"$f":"IF(ISNA(INDEX(geb.Rechnung!$A$4:$G$1000,MATCH(ROW()-5,geb.Rechnung!$G$4:$G$1000,0),COLUMN()+1)),\"\",INDEX(geb.Rechnung!$A$4:$G$1000,MATCH(ROW()-5,geb.Rechnung!$G$4:$G$1000,0),COLUMN()+1))","v":""},{"$f":"IF(ISNA(INDEX(geb.Rechnung!$A$4:$G$1000,MATCH(ROW()-5,geb.Rechnung!$G$4:$G$1000,0),COLUMN()+1)),\"\",INDEX(geb.Rechnung!$A$4:$G$1000,MATCH(ROW()-5,geb.Rechnung!$G$4:$G$1000,0),COLUMN()+1))","v":""}]
[{"$f":"IF(ISNA(INDEX(geb.Rechnung!$A$4:$G$1000,MATCH(ROW()-5,geb.Rechnung!$G$4:$G$1000,0),COLUMN()-1)),\"\",INDEX(geb.Rechnung!$A$4:$G$1000,MATCH(ROW()-5,geb.Rechnung!$G$4:$G$1000,0),COLUMN()-1))","v":""},{"$f":"IF(ISNA(INDEX(geb.Rechnung!$A$4:$G$1000,MATCH(ROW()-5,geb.Rechnung!$G$4:$G$1000,0),COLUMN()-2)),\"\",INDEX(geb.Rechnung!$A$4:$G$1000,MATCH(ROW()-5,geb.Rechnung!$G$4:$G$1000,0),COLUMN()-2))","v":""},{"$f":"IF(ISNA(INDEX(geb.Rechnung!$A$4:$G$1000,MATCH(ROW()-5,geb.Rechnung!$G$4:$G$1000,0),COLUMN()+1)),\"\",INDEX(geb.Rechnung!$A$4:$G$1000,MATCH(ROW()-5,geb.Rechnung!$G$4:$G$1000,0),COLUMN()+1))","v":""},{"$f":"IF(ISNA(INDEX(geb.Rechnung!$A$4:$G$1000,MATCH(ROW()-5,geb.Rechnung!$G$4:$G$1000,0),COLUMN()+1)),\"\",INDEX(geb.Rechnung!$A$4:$G$1000,MATCH(ROW()-5,geb.Rechnung!$G$4:$G$1000,0),COLUMN()+1))","v":""}]
[{"$f":"IF(ISNA(INDEX(geb.Rechnung!$A$4:$G$1000,MATCH(ROW()-5,geb.Rechnung!$G$4:$G$1000,0),COLUMN()-1)),\"\",INDEX(geb.Rechnung!$A$4:$G$1000,MATCH(ROW()-5,geb.Rechnung!$G$4:$G$1000,0),COLUMN()-1))","v":""},{"$f":"IF(ISNA(INDEX(geb.Rechnung!$A$4:$G$1000,MATCH(ROW()-5,geb.Rechnung!$G$4:$G$1000,0),COLUMN()-2)),\"\",INDEX(geb.Rechnung!$A$4:$G$1000,MATCH(ROW()-5,geb.Rechnung!$G$4:$G$1000,0),COLUMN()-2))","v":""},{"$f":"IF(ISNA(INDEX(geb.Rechnung!$A$4:$G$1000,MATCH(ROW()-5,geb.Rechnung!$G$4:$G$1000,0),COLUMN()+1)),\"\",INDEX(geb.Rechnung!$A$4:$G$1000,MATCH(ROW()-5,geb.Rechnung!$G$4:$G$1000,0),COLUMN()+1))","v":""},{"$f":"IF(ISNA(INDEX(geb.Rechnung!$A$4:$G$1000,MATCH(ROW()-5,geb.Rechnung!$G$4:$G$1000,0),COLUMN()+1)),\"\",INDEX(geb.Rechnung!$A$4:$G$1000,MATCH(ROW()-5,geb.Rechnung!$G$4:$G$1000,0),COLUMN()+1))","v":""}]
[{"$f":"IF(ISNA(INDEX(geb.Rechnung!$A$4:$G$1000,MATCH(ROW()-5,geb.Rechnung!$G$4:$G$1000,0),COLUMN()-1)),\"\",INDEX(geb.Rechnung!$A$4:$G$1000,MATCH(ROW()-5,geb.Rechnung!$G$4:$G$1000,0),COLUMN()-1))","v":""},{"$f":"IF(ISNA(INDEX(geb.Rechnung!$A$4:$G$1000,MATCH(ROW()-5,geb.Rechnung!$G$4:$G$1000,0),COLUMN()-2)),\"\",INDEX(geb.Rechnung!$A$4:$G$1000,MATCH(ROW()-5,geb.Rechnung!$G$4:$G$1000,0),COLUMN()-2))","v":""},{"$f":"IF(ISNA(INDEX(geb.Rechnung!$A$4:$G$1000,MATCH(ROW()-5,geb.Rechnung!$G$4:$G$1000,0),COLUMN()+1)),\"\",INDEX(geb.Rechnung!$A$4:$G$1000,MATCH(ROW()-5,geb.Rechnung!$G$4:$G$1000,0),COLUMN()+1))","v":""},{"$f":"IF(ISNA(INDEX(geb.Rechnung!$A$4:$G$1000,MATCH(ROW()-5,geb.Rechnung!$G$4:$G$1000,0),COLUMN()+1)),\"\",INDEX(geb.Rechnung!$A$4:$G$1000,MATCH(ROW()-5,geb.Rechnung!$G$4:$G$1000,0),COLUMN()+1))","v":""}]
[{"$f":"IF(ISNA(INDEX(geb.Rechnung!$A$4:$G$1000,MATCH(ROW()-5,geb.Rechnung!$G$4:$G$1000,0),COLUMN()-1)),\"\",INDEX(geb.Rechnung!$A$4:$G$1000,MATCH(ROW()-5,geb.Rechnung!$G$4:$G$1000,0),COLUMN()-1))","v":""},{"$f":"IF(ISNA(INDEX(geb.Rechnung!$A$4:$G$1000,MATCH(ROW()-5,geb.Rechnung!$G$4:$G$1000,0),COLUMN()-2)),\"\",INDEX(geb.Rechnung!$A$4:$G$1000,MATCH(ROW()-5,geb.Rechnung!$G$4:$G$1000,0),COLUMN()-2))","v":""},{"$f":"IF(ISNA(INDEX(geb.Rechnung!$A$4:$G$1000,MATCH(ROW()-5,geb.Rechnung!$G$4:$G$1000,0),COLUMN()+1)),\"\",INDEX(geb.Rechnung!$A$4:$G$1000,MATCH(ROW()-5,geb.Rechnung!$G$4:$G$1000,0),COLUMN()+1))","v":""},{"$f":"IF(ISNA(INDEX(geb.Rechnung!$A$4:$G$1000,MATCH(ROW()-5,geb.Rechnung!$G$4:$G$1000,0),COLUMN()+1)),\"\",INDEX(geb.Rechnung!$A$4:$G$1000,MATCH(ROW()-5,geb.Rechnung!$G$4:$G$1000,0),COLUMN()+1))","v":""}]
[{"$f":"IF(ISNA(INDEX(geb.Rechnung!$A$4:$G$1000,MATCH(ROW()-5,geb.Rechnung!$G$4:$G$1000,0),COLUMN()-1)),\"\",INDEX(geb.Rechnung!$A$4:$G$1000,MATCH(ROW()-5,geb.Rechnung!$G$4:$G$1000,0),COLUMN()-1))","v":""},{"$f":"IF(ISNA(INDEX(geb.Rechnung!$A$4:$G$1000,MATCH(ROW()-5,geb.Rechnung!$G$4:$G$1000,0),COLUMN()-2)),\"\",INDEX(geb.Rechnung!$A$4:$G$1000,MATCH(ROW()-5,geb.Rechnung!$G$4:$G$1000,0),COLUMN()-2))","v":""},{"$f":"IF(ISNA(INDEX(geb.Rechnung!$A$4:$G$1000,MATCH(ROW()-5,geb.Rechnung!$G$4:$G$1000,0),COLUMN()+1)),\"\",INDEX(geb.Rechnung!$A$4:$G$1000,MATCH(ROW()-5,geb.Rechnung!$G$4:$G$1000,0),COLUMN()+1))","v":""},{"$f":"IF(ISNA(INDEX(geb.Rechnung!$A$4:$G$1000,MATCH(ROW()-5,geb.Rechnung!$G$4:$G$1000,0),COLUMN()+1)),\"\",INDEX(geb.Rechnung!$A$4:$G$1000,MATCH(ROW()-5,geb.Rechnung!$G$4:$G$1000,0),COLUMN()+1))","v":""}]
[{"$f":"IF(ISNA(INDEX(geb.Rechnung!$A$4:$G$1000,MATCH(ROW()-5,geb.Rechnung!$G$4:$G$1000,0),COLUMN()-1)),\"\",INDEX(geb.Rechnung!$A$4:$G$1000,MATCH(ROW()-5,geb.Rechnung!$G$4:$G$1000,0),COLUMN()-1))","v":""},{"$f":"IF(ISNA(INDEX(geb.Rechnung!$A$4:$G$1000,MATCH(ROW()-5,geb.Rechnung!$G$4:$G$1000,0),COLUMN()-2)),\"\",INDEX(geb.Rechnung!$A$4:$G$1000,MATCH(ROW()-5,geb.Rechnung!$G$4:$G$1000,0),COLUMN()-2))","v":""},{"$f":"IF(ISNA(INDEX(geb.Rechnung!$A$4:$G$1000,MATCH(ROW()-5,geb.Rechnung!$G$4:$G$1000,0),COLUMN()+1)),\"\",INDEX(geb.Rechnung!$A$4:$G$1000,MATCH(ROW()-5,geb.Rechnung!$G$4:$G$1000,0),COLUMN()+1))","v":""},{"$f":"IF(ISNA(INDEX(geb.Rechnung!$A$4:$G$1000,MATCH(ROW()-5,geb.Rechnung!$G$4:$G$1000,0),COLUMN()+1)),\"\",INDEX(geb.Rechnung!$A$4:$G$1000,MATCH(ROW()-5,geb.Rechnung!$G$4:$G$1000,0),COLUMN()+1))","v":""}]
[{"$f":"IF(ISNA(INDEX(geb.Rechnung!$A$4:$G$1000,MATCH(ROW()-5,geb.Rechnung!$G$4:$G$1000,0),COLUMN()-1)),\"\",INDEX(geb.Rechnung!$A$4:$G$1000,MATCH(ROW()-5,geb.Rechnung!$G$4:$G$1000,0),COLUMN()-1))","v":""},{"$f":"IF(ISNA(INDEX(geb.Rechnung!$A$4:$G$1000,MATCH(ROW()-5,geb.Rechnung!$G$4:$G$1000,0),COLUMN()-2)),\"\",INDEX(geb.Rechnung!$A$4:$G$1000,MATCH(ROW()-5,geb.Rechnung!$G$4:$G$1000,0),COLUMN()-2))","v":""},{"$f":"IF(ISNA(INDEX(geb.Rechnung!$A$4:$G$1000,MATCH(ROW()-5,geb.Rechnung!$G$4:$G$1000,0),COLUMN()+1)),\"\",INDEX(geb.Rechnung!$A$4:$G$1000,MATCH(ROW()-5,geb.Rechnung!$G$4:$G$1000,0),COLUMN()+1))","v":""},{"$f":"IF(ISNA(INDEX(geb.Rechnung!$A$4:$G$1000,MATCH(ROW()-5,geb.Rechnung!$G$4:$G$1000,0),COLUMN()+1)),\"\",INDEX(geb.Rechnung!$A$4:$G$1000,MATCH(ROW()-5,geb.Rechnung!$G$4:$G$1000,0),COLUMN()+1))","v":""}]
[{"$f":"IF(ISNA(INDEX(geb.Rechnung!$A$4:$G$1000,MATCH(ROW()-5,geb.Rechnung!$G$4:$G$1000,0),COLUMN()-1)),\"\",INDEX(geb.Rechnung!$A$4:$G$1000,MATCH(ROW()-5,geb.Rechnung!$G$4:$G$1000,0),COLUMN()-1))","v":""},{"$f":"IF(ISNA(INDEX(geb.Rechnung!$A$4:$G$1000,MATCH(ROW()-5,geb.Rechnung!$G$4:$G$1000,0),COLUMN()-2)),\"\",INDEX(geb.Rechnung!$A$4:$G$1000,MATCH(ROW()-5,geb.Rechnung!$G$4:$G$1000,0),COLUMN()-2))","v":""},{"$f":"IF(ISNA(INDEX(geb.Rechnung!$A$4:$G$1000,MATCH(ROW()-5,geb.Rechnung!$G$4:$G$1000,0),COLUMN()+1)),\"\",INDEX(geb.Rechnung!$A$4:$G$1000,MATCH(ROW()-5,geb.Rechnung!$G$4:$G$1000,0),COLUMN()+1))","v":""},{"$f":"IF(ISNA(INDEX(geb.Rechnung!$A$4:$G$1000,MATCH(ROW()-5,geb.Rechnung!$G$4:$G$1000,0),COLUMN()+1)),\"\",INDEX(geb.Rechnung!$A$4:$G$1000,MATCH(ROW()-5,geb.Rechnung!$G$4:$G$1000,0),COLUMN()+1))","v":""}]
[{"$f":"IF(ISNA(INDEX(geb.Rechnung!$A$4:$G$1000,MATCH(ROW()-5,geb.Rechnung!$G$4:$G$1000,0),COLUMN()-1)),\"\",INDEX(geb.Rechnung!$A$4:$G$1000,MATCH(ROW()-5,geb.Rechnung!$G$4:$G$1000,0),COLUMN()-1))","v":""},{"$f":"IF(ISNA(INDEX(geb.Rechnung!$A$4:$G$1000,MATCH(ROW()-5,geb.Rechnung!$G$4:$G$1000,0),COLUMN()-2)),\"\",INDEX(geb.Rechnung!$A$4:$G$1000,MATCH(ROW()-5,geb.Rechnung!$G$4:$G$1000,0),COLUMN()-2))","v":""},{"$f":"IF(ISNA(INDEX(geb.Rechnung!$A$4:$G$1000,MATCH(ROW()-5,geb.Rechnung!$G$4:$G$1000,0),COLUMN()+1)),\"\",INDEX(geb.Rechnung!$A$4:$G$1000,MATCH(ROW()-5,geb.Rechnung!$G$4:$G$1000,0),COLUMN()+1))","v":""},{"$f":"IF(ISNA(INDEX(geb.Rechnung!$A$4:$G$1000,MATCH(ROW()-5,geb.Rechnung!$G$4:$G$1000,0),COLUMN()+1)),\"\",INDEX(geb.Rechnung!$A$4:$G$1000,MATCH(ROW()-5,geb.Rechnung!$G$4:$G$1000,0),COLUMN()+1))","v":""}]
[{"$f":"IF(ISNA(INDEX(geb.Rechnung!$A$4:$G$1000,MATCH(ROW()-5,geb.Rechnung!$G$4:$G$1000,0),COLUMN()-1)),\"\",INDEX(geb.Rechnung!$A$4:$G$1000,MATCH(ROW()-5,geb.Rechnung!$G$4:$G$1000,0),COLUMN()-1))","v":""},{"$f":"IF(ISNA(INDEX(geb.Rechnung!$A$4:$G$1000,MATCH(ROW()-5,geb.Rechnung!$G$4:$G$1000,0),COLUMN()-2)),\"\",INDEX(geb.Rechnung!$A$4:$G$1000,MATCH(ROW()-5,geb.Rechnung!$G$4:$G$1000,0),COLUMN()-2))","v":""},{"$f":"IF(ISNA(INDEX(geb.Rechnung!$A$4:$G$1000,MATCH(ROW()-5,geb.Rechnung!$G$4:$G$1000,0),COLUMN()+1)),\"\",INDEX(geb.Rechnung!$A$4:$G$1000,MATCH(ROW()-5,geb.Rechnung!$G$4:$G$1000,0),COLUMN()+1))","v":""},{"$f":"IF(ISNA(INDEX(geb.Rechnung!$A$4:$G$1000,MATCH(ROW()-5,geb.Rechnung!$G$4:$G$1000,0),COLUMN()+1)),\"\",INDEX(geb.Rechnung!$A$4:$G$1000,MATCH(ROW()-5,geb.Rechnung!$G$4:$G$1000,0),COLUMN()+1))","v":""}]
[{"$f":"IF(ISNA(INDEX(geb.Rechnung!$A$4:$G$1000,MATCH(ROW()-5,geb.Rechnung!$G$4:$G$1000,0),COLUMN()-1)),\"\",INDEX(geb.Rechnung!$A$4:$G$1000,MATCH(ROW()-5,geb.Rechnung!$G$4:$G$1000,0),COLUMN()-1))","v":""},{"$f":"IF(ISNA(INDEX(geb.Rechnung!$A$4:$G$1000,MATCH(ROW()-5,geb.Rechnung!$G$4:$G$1000,0),COLUMN()-2)),\"\",INDEX(geb.Rechnung!$A$4:$G$1000,MATCH(ROW()-5,geb.Rechnung!$G$4:$G$1000,0),COLUMN()-2))","v":""},{"$f":"IF(ISNA(INDEX(geb.Rechnung!$A$4:$G$1000,MATCH(ROW()-5,geb.Rechnung!$G$4:$G$1000,0),COLUMN()+1)),\"\",INDEX(geb.Rechnung!$A$4:$G$1000,MATCH(ROW()-5,geb.Rechnung!$G$4:$G$1000,0),COLUMN()+1))","v":""},{"$f":"IF(ISNA(INDEX(geb.Rechnung!$A$4:$G$1000,MATCH(ROW()-5,geb.Rechnung!$G$4:$G$1000,0),COLUMN()+1)),\"\",INDEX(geb.Rechnung!$A$4:$G$1000,MATCH(ROW()-5,geb.Rechnung!$G$4:$G$1000,0),COLUMN()+1))","v":""}]
[{"$f":"IF(ISNA(INDEX(geb.Rechnung!$A$4:$G$1000,MATCH(ROW()-5,geb.Rechnung!$G$4:$G$1000,0),COLUMN()-1)),\"\",INDEX(geb.Rechnung!$A$4:$G$1000,MATCH(ROW()-5,geb.Rechnung!$G$4:$G$1000,0),COLUMN()-1))","v":""},{"$f":"IF(ISNA(INDEX(geb.Rechnung!$A$4:$G$1000,MATCH(ROW()-5,geb.Rechnung!$G$4:$G$1000,0),COLUMN()-2)),\"\",INDEX(geb.Rechnung!$A$4:$G$1000,MATCH(ROW()-5,geb.Rechnung!$G$4:$G$1000,0),COLUMN()-2))","v":""},{"$f":"IF(ISNA(INDEX(geb.Rechnung!$A$4:$G$1000,MATCH(ROW()-5,geb.Rechnung!$G$4:$G$1000,0),COLUMN()+1)),\"\",INDEX(geb.Rechnung!$A$4:$G$1000,MATCH(ROW()-5,geb.Rechnung!$G$4:$G$1000,0),COLUMN()+1))","v":""},{"$f":"IF(ISNA(INDEX(geb.Rechnung!$A$4:$G$1000,MATCH(ROW()-5,geb.Rechnung!$G$4:$G$1000,0),COLUMN()+1)),\"\",INDEX(geb.Rechnung!$A$4:$G$1000,MATCH(ROW()-5,geb.Rechnung!$G$4:$G$1000,0),COLUMN()+1))","v":""}]
[{"$f":"IF(ISNA(INDEX(geb.Rechnung!$A$4:$G$1000,MATCH(ROW()-5,geb.Rechnung!$G$4:$G$1000,0),COLUMN()-1)),\"\",INDEX(geb.Rechnung!$A$4:$G$1000,MATCH(ROW()-5,geb.Rechnung!$G$4:$G$1000,0),COLUMN()-1))","v":""},{"$f":"IF(ISNA(INDEX(geb.Rechnung!$A$4:$G$1000,MATCH(ROW()-5,geb.Rechnung!$G$4:$G$1000,0),COLUMN()-2)),\"\",INDEX(geb.Rechnung!$A$4:$G$1000,MATCH(ROW()-5,geb.Rechnung!$G$4:$G$1000,0),COLUMN()-2))","v":""},{"$f":"IF(ISNA(INDEX(geb.Rechnung!$A$4:$G$1000,MATCH(ROW()-5,geb.Rechnung!$G$4:$G$1000,0),COLUMN()+1)),\"\",INDEX(geb.Rechnung!$A$4:$G$1000,MATCH(ROW()-5,geb.Rechnung!$G$4:$G$1000,0),COLUMN()+1))","v":""},{"$f":"IF(ISNA(INDEX(geb.Rechnung!$A$4:$G$1000,MATCH(ROW()-5,geb.Rechnung!$G$4:$G$1000,0),COLUMN()+1)),\"\",INDEX(geb.Rechnung!$A$4:$G$1000,MATCH(ROW()-5,geb.Rechnung!$G$4:$G$1000,0),COLUMN()+1))","v":""}]
[{"$f":"IF(ISNA(INDEX(geb.Rechnung!$A$4:$G$1000,MATCH(ROW()-5,geb.Rechnung!$G$4:$G$1000,0),COLUMN()-1)),\"\",INDEX(geb.Rechnung!$A$4:$G$1000,MATCH(ROW()-5,geb.Rechnung!$G$4:$G$1000,0),COLUMN()-1))","v":""},{"$f":"IF(ISNA(INDEX(geb.Rechnung!$A$4:$G$1000,MATCH(ROW()-5,geb.Rechnung!$G$4:$G$1000,0),COLUMN()-2)),\"\",INDEX(geb.Rechnung!$A$4:$G$1000,MATCH(ROW()-5,geb.Rechnung!$G$4:$G$1000,0),COLUMN()-2))","v":""},{"$f":"IF(ISNA(INDEX(geb.Rechnung!$A$4:$G$1000,MATCH(ROW()-5,geb.Rechnung!$G$4:$G$1000,0),COLUMN()+1)),\"\",INDEX(geb.Rechnung!$A$4:$G$1000,MATCH(ROW()-5,geb.Rechnung!$G$4:$G$1000,0),COLUMN()+1))","v":""},{"$f":"IF(ISNA(INDEX(geb.Rechnung!$A$4:$G$1000,MATCH(ROW()-5,geb.Rechnung!$G$4:$G$1000,0),COLUMN()+1)),\"\",INDEX(geb.Rechnung!$A$4:$G$1000,MATCH(ROW()-5,geb.Rechnung!$G$4:$G$1000,0),COLUMN()+1))","v":""}]
[{"$f":"IF(ISNA(INDEX(geb.Rechnung!$A$4:$G$1000,MATCH(ROW()-5,geb.Rechnung!$G$4:$G$1000,0),COLUMN()-1)),\"\",INDEX(geb.Rechnung!$A$4:$G$1000,MATCH(ROW()-5,geb.Rechnung!$G$4:$G$1000,0),COLUMN()-1))","v":""},{"$f":"IF(ISNA(INDEX(geb.Rechnung!$A$4:$G$1000,MATCH(ROW()-5,geb.Rechnung!$G$4:$G$1000,0),COLUMN()-2)),\"\",INDEX(geb.Rechnung!$A$4:$G$1000,MATCH(ROW()-5,geb.Rechnung!$G$4:$G$1000,0),COLUMN()-2))","v":""},{"$f":"IF(ISNA(INDEX(geb.Rechnung!$A$4:$G$1000,MATCH(ROW()-5,geb.Rechnung!$G$4:$G$1000,0),COLUMN()+1)),\"\",INDEX(geb.Rechnung!$A$4:$G$1000,MATCH(ROW()-5,geb.Rechnung!$G$4:$G$1000,0),COLUMN()+1))","v":""},{"$f":"IF(ISNA(INDEX(geb.Rechnung!$A$4:$G$1000,MATCH(ROW()-5,geb.Rechnung!$G$4:$G$1000,0),COLUMN()+1)),\"\",INDEX(geb.Rechnung!$A$4:$G$1000,MATCH(ROW()-5,geb.Rechnung!$G$4:$G$1000,0),COLUMN()+1))","v":""}]
[{"$f":"IF(ISNA(INDEX(geb.Rechnung!$A$4:$G$1000,MATCH(ROW()-5,geb.Rechnung!$G$4:$G$1000,0),COLUMN()-1)),\"\",INDEX(geb.Rechnung!$A$4:$G$1000,MATCH(ROW()-5,geb.Rechnung!$G$4:$G$1000,0),COLUMN()-1))","v":""},{"$f":"IF(ISNA(INDEX(geb.Rechnung!$A$4:$G$1000,MATCH(ROW()-5,geb.Rechnung!$G$4:$G$1000,0),COLUMN()-2)),\"\",INDEX(geb.Rechnung!$A$4:$G$1000,MATCH(ROW()-5,geb.Rechnung!$G$4:$G$1000,0),COLUMN()-2))","v":""},{"$f":"IF(ISNA(INDEX(geb.Rechnung!$A$4:$G$1000,MATCH(ROW()-5,geb.Rechnung!$G$4:$G$1000,0),COLUMN()+1)),\"\",INDEX(geb.Rechnung!$A$4:$G$1000,MATCH(ROW()-5,geb.Rechnung!$G$4:$G$1000,0),COLUMN()+1))","v":""},{"$f":"IF(ISNA(INDEX(geb.Rechnung!$A$4:$G$1000,MATCH(ROW()-5,geb.Rechnung!$G$4:$G$1000,0),COLUMN()+1)),\"\",INDEX(geb.Rechnung!$A$4:$G$1000,MATCH(ROW()-5,geb.Rechnung!$G$4:$G$1000,0),COLUMN()+1))","v":""}]
[{"$f":"IF(ISNA(INDEX(geb.Rechnung!$A$4:$G$1000,MATCH(ROW()-5,geb.Rechnung!$G$4:$G$1000,0),COLUMN()-1)),\"\",INDEX(geb.Rechnung!$A$4:$G$1000,MATCH(ROW()-5,geb.Rechnung!$G$4:$G$1000,0),COLUMN()-1))","v":""},{"$f":"IF(ISNA(INDEX(geb.Rechnung!$A$4:$G$1000,MATCH(ROW()-5,geb.Rechnung!$G$4:$G$1000,0),COLUMN()-2)),\"\",INDEX(geb.Rechnung!$A$4:$G$1000,MATCH(ROW()-5,geb.Rechnung!$G$4:$G$1000,0),COLUMN()-2))","v":""},{"$f":"IF(ISNA(INDEX(geb.Rechnung!$A$4:$G$1000,MATCH(ROW()-5,geb.Rechnung!$G$4:$G$1000,0),COLUMN()+1)),\"\",INDEX(geb.Rechnung!$A$4:$G$1000,MATCH(ROW()-5,geb.Rechnung!$G$4:$G$1000,0),COLUMN()+1))","v":""},{"$f":"IF(ISNA(INDEX(geb.Rechnung!$A$4:$G$1000,MATCH(ROW()-5,geb.Rechnung!$G$4:$G$1000,0),COLUMN()+1)),\"\",INDEX(geb.Rechnung!$A$4:$G$1000,MATCH(ROW()-5,geb.Rechnung!$G$4:$G$1000,0),COLUMN()+1))","v":""}]
[{"$f":"IF(ISNA(INDEX(geb.Rechnung!$A$4:$G$1000,MATCH(ROW()-5,geb.Rechnung!$G$4:$G$1000,0),COLUMN()-1)),\"\",INDEX(geb.Rechnung!$A$4:$G$1000,MATCH(ROW()-5,geb.Rechnung!$G$4:$G$1000,0),COLUMN()-1))","v":""},{"$f":"IF(ISNA(INDEX(geb.Rechnung!$A$4:$G$1000,MATCH(ROW()-5,geb.Rechnung!$G$4:$G$1000,0),COLUMN()-2)),\"\",INDEX(geb.Rechnung!$A$4:$G$1000,MATCH(ROW()-5,geb.Rechnung!$G$4:$G$1000,0),COLUMN()-2))","v":""},{"$f":"IF(ISNA(INDEX(geb.Rechnung!$A$4:$G$1000,MATCH(ROW()-5,geb.Rechnung!$G$4:$G$1000,0),COLUMN()+1)),\"\",INDEX(geb.Rechnung!$A$4:$G$1000,MATCH(ROW()-5,geb.Rechnung!$G$4:$G$1000,0),COLUMN()+1))","v":""},{"$f":"IF(ISNA(INDEX(geb.Rechnung!$A$4:$G$1000,MATCH(ROW()-5,geb.Rechnung!$G$4:$G$1000,0),COLUMN()+1)),\"\",INDEX(geb.Rechnung!$A$4:$G$1000,MATCH(ROW()-5,geb.Rechnung!$G$4:$G$1000,0),COLUMN()+1))","v":""}]
[{"$f":"IF(ISNA(INDEX(geb.Rechnung!$A$4:$G$1000,MATCH(ROW()-5,geb.Rechnung!$G$4:$G$1000,0),COLUMN()-1)),\"\",INDEX(geb.Rechnung!$A$4:$G$1000,MATCH(ROW()-5,geb.Rechnung!$G$4:$G$1000,0),COLUMN()-1))","v":""},{"$f":"IF(ISNA(INDEX(geb.Rechnung!$A$4:$G$1000,MATCH(ROW()-5,geb.Rechnung!$G$4:$G$1000,0),COLUMN()-2)),\"\",INDEX(geb.Rechnung!$A$4:$G$1000,MATCH(ROW()-5,geb.Rechnung!$G$4:$G$1000,0),COLUMN()-2))","v":""},{"$f":"IF(ISNA(INDEX(geb.Rechnung!$A$4:$G$1000,MATCH(ROW()-5,geb.Rechnung!$G$4:$G$1000,0),COLUMN()+1)),\"\",INDEX(geb.Rechnung!$A$4:$G$1000,MATCH(ROW()-5,geb.Rechnung!$G$4:$G$1000,0),COLUMN()+1))","v":""},{"$f":"IF(ISNA(INDEX(geb.Rechnung!$A$4:$G$1000,MATCH(ROW()-5,geb.Rechnung!$G$4:$G$1000,0),COLUMN()+1)),\"\",INDEX(geb.Rechnung!$A$4:$G$1000,MATCH(ROW()-5,geb.Rechnung!$G$4:$G$1000,0),COLUMN()+1))","v":""}]
[{"$f":"IF(ISNA(INDEX(geb.Rechnung!$A$4:$G$1000,MATCH(ROW()-5,geb.Rechnung!$G$4:$G$1000,0),COLUMN()-1)),\"\",INDEX(geb.Rechnung!$A$4:$G$1000,MATCH(ROW()-5,geb.Rechnung!$G$4:$G$1000,0),COLUMN()-1))","v":""},{"$f":"IF(ISNA(INDEX(geb.Rechnung!$A$4:$G$1000,MATCH(ROW()-5,geb.Rechnung!$G$4:$G$1000,0),COLUMN()-2)),\"\",INDEX(geb.Rechnung!$A$4:$G$1000,MATCH(ROW()-5,geb.Rechnung!$G$4:$G$1000,0),COLUMN()-2))","v":""},{"$f":"IF(ISNA(INDEX(geb.Rechnung!$A$4:$G$1000,MATCH(ROW()-5,geb.Rechnung!$G$4:$G$1000,0),COLUMN()+1)),\"\",INDEX(geb.Rechnung!$A$4:$G$1000,MATCH(ROW()-5,geb.Rechnung!$G$4:$G$1000,0),COLUMN()+1))","v":""},{"$f":"IF(ISNA(INDEX(geb.Rechnung!$A$4:$G$1000,MATCH(ROW()-5,geb.Rechnung!$G$4:$G$1000,0),COLUMN()+1)),\"\",INDEX(geb.Rechnung!$A$4:$G$1000,MATCH(ROW()-5,geb.Rechnung!$G$4:$G$1000,0),COLUMN()+1))","v":""}]
[{"$f":"IF(ISNA(INDEX(geb.Rechnung!$A$4:$G$1000,MATCH(ROW()-5,geb.Rechnung!$G$4:$G$1000,0),COLUMN()-1)),\"\",INDEX(geb.Rechnung!$A$4:$G$1000,MATCH(ROW()-5,geb.Rechnung!$G$4:$G$1000,0),COLUMN()-1))","v":""},{"$f":"IF(ISNA(INDEX(geb.Rechnung!$A$4:$G$1000,MATCH(ROW()-5,geb.Rechnung!$G$4:$G$1000,0),COLUMN()-2)),\"\",INDEX(geb.Rechnung!$A$4:$G$1000,MATCH(ROW()-5,geb.Rechnung!$G$4:$G$1000,0),COLUMN()-2))","v":""},{"$f":"IF(ISNA(INDEX(geb.Rechnung!$A$4:$G$1000,MATCH(ROW()-5,geb.Rechnung!$G$4:$G$1000,0),COLUMN()+1)),\"\",INDEX(geb.Rechnung!$A$4:$G$1000,MATCH(ROW()-5,geb.Rechnung!$G$4:$G$1000,0),COLUMN()+1))","v":""},{"$f":"IF(ISNA(INDEX(geb.Rechnung!$A$4:$G$1000,MATCH(ROW()-5,geb.Rechnung!$G$4:$G$1000,0),COLUMN()+1)),\"\",INDEX(geb.Rechnung!$A$4:$G$1000,MATCH(ROW()-5,geb.Rechnung!$G$4:$G$1000,0),COLUMN()+1))","v":""}]
[{"$f":"IF(ISNA(INDEX(geb.Rechnung!$A$4:$G$1000,MATCH(ROW()-5,geb.Rechnung!$G$4:$G$1000,0),COLUMN()-1)),\"\",INDEX(geb.Rechnung!$A$4:$G$1000,MATCH(ROW()-5,geb.Rechnung!$G$4:$G$1000,0),COLUMN()-1))","v":""},{"$f":"IF(ISNA(INDEX(geb.Rechnung!$A$4:$G$1000,MATCH(ROW()-5,geb.Rechnung!$G$4:$G$1000,0),COLUMN()-2)),\"\",INDEX(geb.Rechnung!$A$4:$G$1000,MATCH(ROW()-5,geb.Rechnung!$G$4:$G$1000,0),COLUMN()-2))","v":""},{"$f":"IF(ISNA(INDEX(geb.Rechnung!$A$4:$G$1000,MATCH(ROW()-5,geb.Rechnung!$G$4:$G$1000,0),COLUMN()+1)),\"\",INDEX(geb.Rechnung!$A$4:$G$1000,MATCH(ROW()-5,geb.Rechnung!$G$4:$G$1000,0),COLUMN()+1))","v":""},{"$f":"IF(ISNA(INDEX(geb.Rechnung!$A$4:$G$1000,MATCH(ROW()-5,geb.Rechnung!$G$4:$G$1000,0),COLUMN()+1)),\"\",INDEX(geb.Rechnung!$A$4:$G$1000,MATCH(ROW()-5,geb.Rechnung!$G$4:$G$1000,0),COLUMN()+1))","v":""}]
[{"$f":"IF(ISNA(INDEX(geb.Rechnung!$A$4:$G$1000,MATCH(ROW()-5,geb.Rechnung!$G$4:$G$1000,0),COLUMN()-1)),\"\",INDEX(geb.Rechnung!$A$4:$G$1000,MATCH(ROW()-5,geb.Rechnung!$G$4:$G$1000,0),COLUMN()-1))","v":""},{"$f":"IF(ISNA(INDEX(geb.Rechnung!$A$4:$G$1000,MATCH(ROW()-5,geb.Rechnung!$G$4:$G$1000,0),COLUMN()-2)),\"\",INDEX(geb.Rechnung!$A$4:$G$1000,MATCH(ROW()-5,geb.Rechnung!$G$4:$G$1000,0),COLUMN()-2))","v":""},{"$f":"IF(ISNA(INDEX(geb.Rechnung!$A$4:$G$1000,MATCH(ROW()-5,geb.Rechnung!$G$4:$G$1000,0),COLUMN()+1)),\"\",INDEX(geb.Rechnung!$A$4:$G$1000,MATCH(ROW()-5,geb.Rechnung!$G$4:$G$1000,0),COLUMN()+1))","v":""},{"$f":"IF(ISNA(INDEX(geb.Rechnung!$A$4:$G$1000,MATCH(ROW()-5,geb.Rechnung!$G$4:$G$1000,0),COLUMN()+1)),\"\",INDEX(geb.Rechnung!$A$4:$G$1000,MATCH(ROW()-5,geb.Rechnung!$G$4:$G$1000,0),COLUMN()+1))","v":""}]
[{"$f":"IF(ISNA(INDEX(geb.Rechnung!$A$4:$G$1000,MATCH(ROW()-5,geb.Rechnung!$G$4:$G$1000,0),COLUMN()-1)),\"\",INDEX(geb.Rechnung!$A$4:$G$1000,MATCH(ROW()-5,geb.Rechnung!$G$4:$G$1000,0),COLUMN()-1))","v":""},{"$f":"IF(ISNA(INDEX(geb.Rechnung!$A$4:$G$1000,MATCH(ROW()-5,geb.Rechnung!$G$4:$G$1000,0),COLUMN()-2)),\"\",INDEX(geb.Rechnung!$A$4:$G$1000,MATCH(ROW()-5,geb.Rechnung!$G$4:$G$1000,0),COLUMN()-2))","v":""},{"$f":"IF(ISNA(INDEX(geb.Rechnung!$A$4:$G$1000,MATCH(ROW()-5,geb.Rechnung!$G$4:$G$1000,0),COLUMN()+1)),\"\",INDEX(geb.Rechnung!$A$4:$G$1000,MATCH(ROW()-5,geb.Rechnung!$G$4:$G$1000,0),COLUMN()+1))","v":""},{"$f":"IF(ISNA(INDEX(geb.Rechnung!$A$4:$G$1000,MATCH(ROW()-5,geb.Rechnung!$G$4:$G$1000,0),COLUMN()+1)),\"\",INDEX(geb.Rechnung!$A$4:$G$1000,MATCH(ROW()-5,geb.Rechnung!$G$4:$G$1000,0),COLUMN()+1))","v":""}]
[{"$f":"IF(ISNA(INDEX(geb.Rechnung!$A$4:$G$1000,MATCH(ROW()-5,geb.Rechnung!$G$4:$G$1000,0),COLUMN()-1)),\"\",INDEX(geb.Rechnung!$A$4:$G$1000,MATCH(ROW()-5,geb.Rechnung!$G$4:$G$1000,0),COLUMN()-1))","v":""},{"$f":"IF(ISNA(INDEX(geb.Rechnung!$A$4:$G$1000,MATCH(ROW()-5,geb.Rechnung!$G$4:$G$1000,0),COLUMN()-2)),\"\",INDEX(geb.Rechnung!$A$4:$G$1000,MATCH(ROW()-5,geb.Rechnung!$G$4:$G$1000,0),COLUMN()-2))","v":""},{"$f":"IF(ISNA(INDEX(geb.Rechnung!$A$4:$G$1000,MATCH(ROW()-5,geb.Rechnung!$G$4:$G$1000,0),COLUMN()+1)),\"\",INDEX(geb.Rechnung!$A$4:$G$1000,MATCH(ROW()-5,geb.Rechnung!$G$4:$G$1000,0),COLUMN()+1))","v":""},{"$f":"IF(ISNA(INDEX(geb.Rechnung!$A$4:$G$1000,MATCH(ROW()-5,geb.Rechnung!$G$4:$G$1000,0),COLUMN()+1)),\"\",INDEX(geb.Rechnung!$A$4:$G$1000,MATCH(ROW()-5,geb.Rechnung!$G$4:$G$1000,0),COLUMN()+1))","v":""}]
[{"$f":"IF(ISNA(INDEX(geb.Rechnung!$A$4:$G$1000,MATCH(ROW()-5,geb.Rechnung!$G$4:$G$1000,0),COLUMN()-1)),\"\",INDEX(geb.Rechnung!$A$4:$G$1000,MATCH(ROW()-5,geb.Rechnung!$G$4:$G$1000,0),COLUMN()-1))","v":""},{"$f":"IF(ISNA(INDEX(geb.Rechnung!$A$4:$G$1000,MATCH(ROW()-5,geb.Rechnung!$G$4:$G$1000,0),COLUMN()-2)),\"\",INDEX(geb.Rechnung!$A$4:$G$1000,MATCH(ROW()-5,geb.Rechnung!$G$4:$G$1000,0),COLUMN()-2))","v":""},{"$f":"IF(ISNA(INDEX(geb.Rechnung!$A$4:$G$1000,MATCH(ROW()-5,geb.Rechnung!$G$4:$G$1000,0),COLUMN()+1)),\"\",INDEX(geb.Rechnung!$A$4:$G$1000,MATCH(ROW()-5,geb.Rechnung!$G$4:$G$1000,0),COLUMN()+1))","v":""},{"$f":"IF(ISNA(INDEX(geb.Rechnung!$A$4:$G$1000,MATCH(ROW()-5,geb.Rechnung!$G$4:$G$1000,0),COLUMN()+1)),\"\",INDEX(geb.Rechnung!$A$4:$G$1000,MATCH(ROW()-5,geb.Rechnung!$G$4:$G$1000,0),COLUMN()+1))","v":""}]
[{"$f":"IF(ISNA(INDEX(geb.Rechnung!$A$4:$G$1000,MATCH(ROW()-5,geb.Rechnung!$G$4:$G$1000,0),COLUMN()-1)),\"\",INDEX(geb.Rechnung!$A$4:$G$1000,MATCH(ROW()-5,geb.Rechnung!$G$4:$G$1000,0),COLUMN()-1))","v":""},{"$f":"IF(ISNA(INDEX(geb.Rechnung!$A$4:$G$1000,MATCH(ROW()-5,geb.Rechnung!$G$4:$G$1000,0),COLUMN()-2)),\"\",INDEX(geb.Rechnung!$A$4:$G$1000,MATCH(ROW()-5,geb.Rechnung!$G$4:$G$1000,0),COLUMN()-2))","v":""},{"$f":"IF(ISNA(INDEX(geb.Rechnung!$A$4:$G$1000,MATCH(ROW()-5,geb.Rechnung!$G$4:$G$1000,0),COLUMN()+1)),\"\",INDEX(geb.Rechnung!$A$4:$G$1000,MATCH(ROW()-5,geb.Rechnung!$G$4:$G$1000,0),COLUMN()+1))","v":""},{"$f":"IF(ISNA(INDEX(geb.Rechnung!$A$4:$G$1000,MATCH(ROW()-5,geb.Rechnung!$G$4:$G$1000,0),COLUMN()+1)),\"\",INDEX(geb.Rechnung!$A$4:$G$1000,MATCH(ROW()-5,geb.Rechnung!$G$4:$G$1000,0),COLUMN()+1))","v":""}]
[{"$f":"IF(ISNA(INDEX(geb.Rechnung!$A$4:$G$1000,MATCH(ROW()-5,geb.Rechnung!$G$4:$G$1000,0),COLUMN()-1)),\"\",INDEX(geb.Rechnung!$A$4:$G$1000,MATCH(ROW()-5,geb.Rechnung!$G$4:$G$1000,0),COLUMN()-1))","v":""},{"$f":"IF(ISNA(INDEX(geb.Rechnung!$A$4:$G$1000,MATCH(ROW()-5,geb.Rechnung!$G$4:$G$1000,0),COLUMN()-2)),\"\",INDEX(geb.Rechnung!$A$4:$G$1000,MATCH(ROW()-5,geb.Rechnung!$G$4:$G$1000,0),COLUMN()-2))","v":""},{"$f":"IF(ISNA(INDEX(geb.Rechnung!$A$4:$G$1000,MATCH(ROW()-5,geb.Rechnung!$G$4:$G$1000,0),COLUMN()+1)),\"\",INDEX(geb.Rechnung!$A$4:$G$1000,MATCH(ROW()-5,geb.Rechnung!$G$4:$G$1000,0),COLUMN()+1))","v":""},{"$f":"IF(ISNA(INDEX(geb.Rechnung!$A$4:$G$1000,MATCH(ROW()-5,geb.Rechnung!$G$4:$G$1000,0),COLUMN()+1)),\"\",INDEX(geb.Rechnung!$A$4:$G$1000,MATCH(ROW()-5,geb.Rechnung!$G$4:$G$1000,0),COLUMN()+1))","v":""}]
[{"$f":"IF(ISNA(INDEX(geb.Rechnung!$A$4:$G$1000,MATCH(ROW()-5,geb.Rechnung!$G$4:$G$1000,0),COLUMN()-1)),\"\",INDEX(geb.Rechnung!$A$4:$G$1000,MATCH(ROW()-5,geb.Rechnung!$G$4:$G$1000,0),COLUMN()-1))","v":""},{"$f":"IF(ISNA(INDEX(geb.Rechnung!$A$4:$G$1000,MATCH(ROW()-5,geb.Rechnung!$G$4:$G$1000,0),COLUMN()-2)),\"\",INDEX(geb.Rechnung!$A$4:$G$1000,MATCH(ROW()-5,geb.Rechnung!$G$4:$G$1000,0),COLUMN()-2))","v":""},{"$f":"IF(ISNA(INDEX(geb.Rechnung!$A$4:$G$1000,MATCH(ROW()-5,geb.Rechnung!$G$4:$G$1000,0),COLUMN()+1)),\"\",INDEX(geb.Rechnung!$A$4:$G$1000,MATCH(ROW()-5,geb.Rechnung!$G$4:$G$1000,0),COLUMN()+1))","v":""},{"$f":"IF(ISNA(INDEX(geb.Rechnung!$A$4:$G$1000,MATCH(ROW()-5,geb.Rechnung!$G$4:$G$1000,0),COLUMN()+1)),\"\",INDEX(geb.Rechnung!$A$4:$G$1000,MATCH(ROW()-5,geb.Rechnung!$G$4:$G$1000,0),COLUMN()+1))","v":""}]
[{"$f":"IF(ISNA(INDEX(geb.Rechnung!$A$4:$G$1000,MATCH(ROW()-5,geb.Rechnung!$G$4:$G$1000,0),COLUMN()-1)),\"\",INDEX(geb.Rechnung!$A$4:$G$1000,MATCH(ROW()-5,geb.Rechnung!$G$4:$G$1000,0),COLUMN()-1))","v":""},{"$f":"IF(ISNA(INDEX(geb.Rechnung!$A$4:$G$1000,MATCH(ROW()-5,geb.Rechnung!$G$4:$G$1000,0),COLUMN()-2)),\"\",INDEX(geb.Rechnung!$A$4:$G$1000,MATCH(ROW()-5,geb.Rechnung!$G$4:$G$1000,0),COLUMN()-2))","v":""},{"$f":"IF(ISNA(INDEX(geb.Rechnung!$A$4:$G$1000,MATCH(ROW()-5,geb.Rechnung!$G$4:$G$1000,0),COLUMN()+1)),\"\",INDEX(geb.Rechnung!$A$4:$G$1000,MATCH(ROW()-5,geb.Rechnung!$G$4:$G$1000,0),COLUMN()+1))","v":""},{"$f":"IF(ISNA(INDEX(geb.Rechnung!$A$4:$G$1000,MATCH(ROW()-5,geb.Rechnung!$G$4:$G$1000,0),COLUMN()+1)),\"\",INDEX(geb.Rechnung!$A$4:$G$1000,MATCH(ROW()-5,geb.Rechnung!$G$4:$G$1000,0),COLUMN()+1))","v":""}]
[{"$f":"IF(ISNA(INDEX(geb.Rechnung!$A$4:$G$1000,MATCH(ROW()-5,geb.Rechnung!$G$4:$G$1000,0),COLUMN()-1)),\"\",INDEX(geb.Rechnung!$A$4:$G$1000,MATCH(ROW()-5,geb.Rechnung!$G$4:$G$1000,0),COLUMN()-1))","v":""},{"$f":"IF(ISNA(INDEX(geb.Rechnung!$A$4:$G$1000,MATCH(ROW()-5,geb.Rechnung!$G$4:$G$1000,0),COLUMN()-2)),\"\",INDEX(geb.Rechnung!$A$4:$G$1000,MATCH(ROW()-5,geb.Rechnung!$G$4:$G$1000,0),COLUMN()-2))","v":""},{"$f":"IF(ISNA(INDEX(geb.Rechnung!$A$4:$G$1000,MATCH(ROW()-5,geb.Rechnung!$G$4:$G$1000,0),COLUMN()+1)),\"\",INDEX(geb.Rechnung!$A$4:$G$1000,MATCH(ROW()-5,geb.Rechnung!$G$4:$G$1000,0),COLUMN()+1))","v":""},{"$f":"IF(ISNA(INDEX(geb.Rechnung!$A$4:$G$1000,MATCH(ROW()-5,geb.Rechnung!$G$4:$G$1000,0),COLUMN()+1)),\"\",INDEX(geb.Rechnung!$A$4:$G$1000,MATCH(ROW()-5,geb.Rechnung!$G$4:$G$1000,0),COLUMN()+1))","v":""}]
[{"$f":"IF(ISNA(INDEX(geb.Rechnung!$A$4:$G$1000,MATCH(ROW()-5,geb.Rechnung!$G$4:$G$1000,0),COLUMN()-1)),\"\",INDEX(geb.Rechnung!$A$4:$G$1000,MATCH(ROW()-5,geb.Rechnung!$G$4:$G$1000,0),COLUMN()-1))","v":""},{"$f":"IF(ISNA(INDEX(geb.Rechnung!$A$4:$G$1000,MATCH(ROW()-5,geb.Rechnung!$G$4:$G$1000,0),COLUMN()-2)),\"\",INDEX(geb.Rechnung!$A$4:$G$1000,MATCH(ROW()-5,geb.Rechnung!$G$4:$G$1000,0),COLUMN()-2))","v":""},{"$f":"IF(ISNA(INDEX(geb.Rechnung!$A$4:$G$1000,MATCH(ROW()-5,geb.Rechnung!$G$4:$G$1000,0),COLUMN()+1)),\"\",INDEX(geb.Rechnung!$A$4:$G$1000,MATCH(ROW()-5,geb.Rechnung!$G$4:$G$1000,0),COLUMN()+1))","v":""},{"$f":"IF(ISNA(INDEX(geb.Rechnung!$A$4:$G$1000,MATCH(ROW()-5,geb.Rechnung!$G$4:$G$1000,0),COLUMN()+1)),\"\",INDEX(geb.Rechnung!$A$4:$G$1000,MATCH(ROW()-5,geb.Rechnung!$G$4:$G$1000,0),COLUMN()+1))","v":""}]
[{"$f":"IF(ISNA(INDEX(geb.Rechnung!$A$4:$G$1000,MATCH(ROW()-5,geb.Rechnung!$G$4:$G$1000,0),COLUMN()-1)),\"\",INDEX(geb.Rechnung!$A$4:$G$1000,MATCH(ROW()-5,geb.Rechnung!$G$4:$G$1000,0),COLUMN()-1))","v":""},{"$f":"IF(ISNA(INDEX(geb.Rechnung!$A$4:$G$1000,MATCH(ROW()-5,geb.Rechnung!$G$4:$G$1000,0),COLUMN()-2)),\"\",INDEX(geb.Rechnung!$A$4:$G$1000,MATCH(ROW()-5,geb.Rechnung!$G$4:$G$1000,0),COLUMN()-2))","v":""},{"$f":"IF(ISNA(INDEX(geb.Rechnung!$A$4:$G$1000,MATCH(ROW()-5,geb.Rechnung!$G$4:$G$1000,0),COLUMN()+1)),\"\",INDEX(geb.Rechnung!$A$4:$G$1000,MATCH(ROW()-5,geb.Rechnung!$G$4:$G$1000,0),COLUMN()+1))","v":""},{"$f":"IF(ISNA(INDEX(geb.Rechnung!$A$4:$G$1000,MATCH(ROW()-5,geb.Rechnung!$G$4:$G$1000,0),COLUMN()+1)),\"\",INDEX(geb.Rechnung!$A$4:$G$1000,MATCH(ROW()-5,geb.Rechnung!$G$4:$G$1000,0),COLUMN()+1))","v":""}]
[{"$f":"IF(ISNA(INDEX(geb.Rechnung!$A$4:$G$1000,MATCH(ROW()-5,geb.Rechnung!$G$4:$G$1000,0),COLUMN()-1)),\"\",INDEX(geb.Rechnung!$A$4:$G$1000,MATCH(ROW()-5,geb.Rechnung!$G$4:$G$1000,0),COLUMN()-1))","v":""},{"$f":"IF(ISNA(INDEX(geb.Rechnung!$A$4:$G$1000,MATCH(ROW()-5,geb.Rechnung!$G$4:$G$1000,0),COLUMN()-2)),\"\",INDEX(geb.Rechnung!$A$4:$G$1000,MATCH(ROW()-5,geb.Rechnung!$G$4:$G$1000,0),COLUMN()-2))","v":""},{"$f":"IF(ISNA(INDEX(geb.Rechnung!$A$4:$G$1000,MATCH(ROW()-5,geb.Rechnung!$G$4:$G$1000,0),COLUMN()+1)),\"\",INDEX(geb.Rechnung!$A$4:$G$1000,MATCH(ROW()-5,geb.Rechnung!$G$4:$G$1000,0),COLUMN()+1))","v":""},{"$f":"IF(ISNA(INDEX(geb.Rechnung!$A$4:$G$1000,MATCH(ROW()-5,geb.Rechnung!$G$4:$G$1000,0),COLUMN()+1)),\"\",INDEX(geb.Rechnung!$A$4:$G$1000,MATCH(ROW()-5,geb.Rechnung!$G$4:$G$1000,0),COLUMN()+1))","v":""}]
[{"$f":"IF(ISNA(INDEX(geb.Rechnung!$A$4:$G$1000,MATCH(ROW()-5,geb.Rechnung!$G$4:$G$1000,0),COLUMN()-1)),\"\",INDEX(geb.Rechnung!$A$4:$G$1000,MATCH(ROW()-5,geb.Rechnung!$G$4:$G$1000,0),COLUMN()-1))","v":""},{"$f":"IF(ISNA(INDEX(geb.Rechnung!$A$4:$G$1000,MATCH(ROW()-5,geb.Rechnung!$G$4:$G$1000,0),COLUMN()-2)),\"\",INDEX(geb.Rechnung!$A$4:$G$1000,MATCH(ROW()-5,geb.Rechnung!$G$4:$G$1000,0),COLUMN()-2))","v":""},{"$f":"IF(ISNA(INDEX(geb.Rechnung!$A$4:$G$1000,MATCH(ROW()-5,geb.Rechnung!$G$4:$G$1000,0),COLUMN()+1)),\"\",INDEX(geb.Rechnung!$A$4:$G$1000,MATCH(ROW()-5,geb.Rechnung!$G$4:$G$1000,0),COLUMN()+1))","v":""},{"$f":"IF(ISNA(INDEX(geb.Rechnung!$A$4:$G$1000,MATCH(ROW()-5,geb.Rechnung!$G$4:$G$1000,0),COLUMN()+1)),\"\",INDEX(geb.Rechnung!$A$4:$G$1000,MATCH(ROW()-5,geb.Rechnung!$G$4:$G$1000,0),COLUMN()+1))","v":""}]
[{"$f":"IF(ISNA(INDEX(geb.Rechnung!$A$4:$G$1000,MATCH(ROW()-5,geb.Rechnung!$G$4:$G$1000,0),COLUMN()-1)),\"\",INDEX(geb.Rechnung!$A$4:$G$1000,MATCH(ROW()-5,geb.Rechnung!$G$4:$G$1000,0),COLUMN()-1))","v":""},{"$f":"IF(ISNA(INDEX(geb.Rechnung!$A$4:$G$1000,MATCH(ROW()-5,geb.Rechnung!$G$4:$G$1000,0),COLUMN()-2)),\"\",INDEX(geb.Rechnung!$A$4:$G$1000,MATCH(ROW()-5,geb.Rechnung!$G$4:$G$1000,0),COLUMN()-2))","v":""},{"$f":"IF(ISNA(INDEX(geb.Rechnung!$A$4:$G$1000,MATCH(ROW()-5,geb.Rechnung!$G$4:$G$1000,0),COLUMN()+1)),\"\",INDEX(geb.Rechnung!$A$4:$G$1000,MATCH(ROW()-5,geb.Rechnung!$G$4:$G$1000,0),COLUMN()+1))","v":""},{"$f":"IF(ISNA(INDEX(geb.Rechnung!$A$4:$G$1000,MATCH(ROW()-5,geb.Rechnung!$G$4:$G$1000,0),COLUMN()+1)),\"\",INDEX(geb.Rechnung!$A$4:$G$1000,MATCH(ROW()-5,geb.Rechnung!$G$4:$G$1000,0),COLUMN()+1))","v":""}]
[{"$f":"IF(ISNA(INDEX(geb.Rechnung!$A$4:$G$1000,MATCH(ROW()-5,geb.Rechnung!$G$4:$G$1000,0),COLUMN()-1)),\"\",INDEX(geb.Rechnung!$A$4:$G$1000,MATCH(ROW()-5,geb.Rechnung!$G$4:$G$1000,0),COLUMN()-1))","v":""},{"$f":"IF(ISNA(INDEX(geb.Rechnung!$A$4:$G$1000,MATCH(ROW()-5,geb.Rechnung!$G$4:$G$1000,0),COLUMN()-2)),\"\",INDEX(geb.Rechnung!$A$4:$G$1000,MATCH(ROW()-5,geb.Rechnung!$G$4:$G$1000,0),COLUMN()-2))","v":""},{"$f":"IF(ISNA(INDEX(geb.Rechnung!$A$4:$G$1000,MATCH(ROW()-5,geb.Rechnung!$G$4:$G$1000,0),COLUMN()+1)),\"\",INDEX(geb.Rechnung!$A$4:$G$1000,MATCH(ROW()-5,geb.Rechnung!$G$4:$G$1000,0),COLUMN()+1))","v":""},{"$f":"IF(ISNA(INDEX(geb.Rechnung!$A$4:$G$1000,MATCH(ROW()-5,geb.Rechnung!$G$4:$G$1000,0),COLUMN()+1)),\"\",INDEX(geb.Rechnung!$A$4:$G$1000,MATCH(ROW()-5,geb.Rechnung!$G$4:$G$1000,0),COLUMN()+1))","v":""}]
[{"$f":"IF(ISNA(INDEX(geb.Rechnung!$A$4:$G$1000,MATCH(ROW()-5,geb.Rechnung!$G$4:$G$1000,0),COLUMN()-1)),\"\",INDEX(geb.Rechnung!$A$4:$G$1000,MATCH(ROW()-5,geb.Rechnung!$G$4:$G$1000,0),COLUMN()-1))","v":""},{"$f":"IF(ISNA(INDEX(geb.Rechnung!$A$4:$G$1000,MATCH(ROW()-5,geb.Rechnung!$G$4:$G$1000,0),COLUMN()-2)),\"\",INDEX(geb.Rechnung!$A$4:$G$1000,MATCH(ROW()-5,geb.Rechnung!$G$4:$G$1000,0),COLUMN()-2))","v":""},{"$f":"IF(ISNA(INDEX(geb.Rechnung!$A$4:$G$1000,MATCH(ROW()-5,geb.Rechnung!$G$4:$G$1000,0),COLUMN()+1)),\"\",INDEX(geb.Rechnung!$A$4:$G$1000,MATCH(ROW()-5,geb.Rechnung!$G$4:$G$1000,0),COLUMN()+1))","v":""},{"$f":"IF(ISNA(INDEX(geb.Rechnung!$A$4:$G$1000,MATCH(ROW()-5,geb.Rechnung!$G$4:$G$1000,0),COLUMN()+1)),\"\",INDEX(geb.Rechnung!$A$4:$G$1000,MATCH(ROW()-5,geb.Rechnung!$G$4:$G$1000,0),COLUMN()+1))","v":""}]
[{"$f":"IF(ISNA(INDEX(geb.Rechnung!$A$4:$G$1000,MATCH(ROW()-5,geb.Rechnung!$G$4:$G$1000,0),COLUMN()-1)),\"\",INDEX(geb.Rechnung!$A$4:$G$1000,MATCH(ROW()-5,geb.Rechnung!$G$4:$G$1000,0),COLUMN()-1))","v":""},{"$f":"IF(ISNA(INDEX(geb.Rechnung!$A$4:$G$1000,MATCH(ROW()-5,geb.Rechnung!$G$4:$G$1000,0),COLUMN()-2)),\"\",INDEX(geb.Rechnung!$A$4:$G$1000,MATCH(ROW()-5,geb.Rechnung!$G$4:$G$1000,0),COLUMN()-2))","v":""},{"$f":"IF(ISNA(INDEX(geb.Rechnung!$A$4:$G$1000,MATCH(ROW()-5,geb.Rechnung!$G$4:$G$1000,0),COLUMN()+1)),\"\",INDEX(geb.Rechnung!$A$4:$G$1000,MATCH(ROW()-5,geb.Rechnung!$G$4:$G$1000,0),COLUMN()+1))","v":""},{"$f":"IF(ISNA(INDEX(geb.Rechnung!$A$4:$G$1000,MATCH(ROW()-5,geb.Rechnung!$G$4:$G$1000,0),COLUMN()+1)),\"\",INDEX(geb.Rechnung!$A$4:$G$1000,MATCH(ROW()-5,geb.Rechnung!$G$4:$G$1000,0),COLUMN()+1))","v":""}]
[{"$f":"IF(ISNA(INDEX(geb.Rechnung!$A$4:$G$1000,MATCH(ROW()-5,geb.Rechnung!$G$4:$G$1000,0),COLUMN()-1)),\"\",INDEX(geb.Rechnung!$A$4:$G$1000,MATCH(ROW()-5,geb.Rechnung!$G$4:$G$1000,0),COLUMN()-1))","v":""},{"$f":"IF(ISNA(INDEX(geb.Rechnung!$A$4:$G$1000,MATCH(ROW()-5,geb.Rechnung!$G$4:$G$1000,0),COLUMN()-2)),\"\",INDEX(geb.Rechnung!$A$4:$G$1000,MATCH(ROW()-5,geb.Rechnung!$G$4:$G$1000,0),COLUMN()-2))","v":""},{"$f":"IF(ISNA(INDEX(geb.Rechnung!$A$4:$G$1000,MATCH(ROW()-5,geb.Rechnung!$G$4:$G$1000,0),COLUMN()+1)),\"\",INDEX(geb.Rechnung!$A$4:$G$1000,MATCH(ROW()-5,geb.Rechnung!$G$4:$G$1000,0),COLUMN()+1))","v":""},{"$f":"IF(ISNA(INDEX(geb.Rechnung!$A$4:$G$1000,MATCH(ROW()-5,geb.Rechnung!$G$4:$G$1000,0),COLUMN()+1)),\"\",INDEX(geb.Rechnung!$A$4:$G$1000,MATCH(ROW()-5,geb.Rechnung!$G$4:$G$1000,0),COLUMN()+1))","v":""}]
[{"$f":"IF(ISNA(INDEX(geb.Rechnung!$A$4:$G$1000,MATCH(ROW()-5,geb.Rechnung!$G$4:$G$1000,0),COLUMN()-1)),\"\",INDEX(geb.Rechnung!$A$4:$G$1000,MATCH(ROW()-5,geb.Rechnung!$G$4:$G$1000,0),COLUMN()-1))","v":""},{"$f":"IF(ISNA(INDEX(geb.Rechnung!$A$4:$G$1000,MATCH(ROW()-5,geb.Rechnung!$G$4:$G$1000,0),COLUMN()-2)),\"\",INDEX(geb.Rechnung!$A$4:$G$1000,MATCH(ROW()-5,geb.Rechnung!$G$4:$G$1000,0),COLUMN()-2))","v":""},{"$f":"IF(ISNA(INDEX(geb.Rechnung!$A$4:$G$1000,MATCH(ROW()-5,geb.Rechnung!$G$4:$G$1000,0),COLUMN()+1)),\"\",INDEX(geb.Rechnung!$A$4:$G$1000,MATCH(ROW()-5,geb.Rechnung!$G$4:$G$1000,0),COLUMN()+1))","v":""},{"$f":"IF(ISNA(INDEX(geb.Rechnung!$A$4:$G$1000,MATCH(ROW()-5,geb.Rechnung!$G$4:$G$1000,0),COLUMN()+1)),\"\",INDEX(geb.Rechnung!$A$4:$G$1000,MATCH(ROW()-5,geb.Rechnung!$G$4:$G$1000,0),COLUMN()+1))","v":""}]
[{"$f":"IF(ISNA(INDEX(geb.Rechnung!$A$4:$G$1000,MATCH(ROW()-5,geb.Rechnung!$G$4:$G$1000,0),COLUMN()-1)),\"\",INDEX(geb.Rechnung!$A$4:$G$1000,MATCH(ROW()-5,geb.Rechnung!$G$4:$G$1000,0),COLUMN()-1))","v":""},{"$f":"IF(ISNA(INDEX(geb.Rechnung!$A$4:$G$1000,MATCH(ROW()-5,geb.Rechnung!$G$4:$G$1000,0),COLUMN()-2)),\"\",INDEX(geb.Rechnung!$A$4:$G$1000,MATCH(ROW()-5,geb.Rechnung!$G$4:$G$1000,0),COLUMN()-2))","v":""},{"$f":"IF(ISNA(INDEX(geb.Rechnung!$A$4:$G$1000,MATCH(ROW()-5,geb.Rechnung!$G$4:$G$1000,0),COLUMN()+1)),\"\",INDEX(geb.Rechnung!$A$4:$G$1000,MATCH(ROW()-5,geb.Rechnung!$G$4:$G$1000,0),COLUMN()+1))","v":""},{"$f":"IF(ISNA(INDEX(geb.Rechnung!$A$4:$G$1000,MATCH(ROW()-5,geb.Rechnung!$G$4:$G$1000,0),COLUMN()+1)),\"\",INDEX(geb.Rechnung!$A$4:$G$1000,MATCH(ROW()-5,geb.Rechnung!$G$4:$G$1000,0),COLUMN()+1))","v":""}]
[{"$f":"IF(ISNA(INDEX(geb.Rechnung!$A$4:$G$1000,MATCH(ROW()-5,geb.Rechnung!$G$4:$G$1000,0),COLUMN()-1)),\"\",INDEX(geb.Rechnung!$A$4:$G$1000,MATCH(ROW()-5,geb.Rechnung!$G$4:$G$1000,0),COLUMN()-1))","v":""},{"$f":"IF(ISNA(INDEX(geb.Rechnung!$A$4:$G$1000,MATCH(ROW()-5,geb.Rechnung!$G$4:$G$1000,0),COLUMN()-2)),\"\",INDEX(geb.Rechnung!$A$4:$G$1000,MATCH(ROW()-5,geb.Rechnung!$G$4:$G$1000,0),COLUMN()-2))","v":""},{"$f":"IF(ISNA(INDEX(geb.Rechnung!$A$4:$G$1000,MATCH(ROW()-5,geb.Rechnung!$G$4:$G$1000,0),COLUMN()+1)),\"\",INDEX(geb.Rechnung!$A$4:$G$1000,MATCH(ROW()-5,geb.Rechnung!$G$4:$G$1000,0),COLUMN()+1))","v":""},{"$f":"IF(ISNA(INDEX(geb.Rechnung!$A$4:$G$1000,MATCH(ROW()-5,geb.Rechnung!$G$4:$G$1000,0),COLUMN()+1)),\"\",INDEX(geb.Rechnung!$A$4:$G$1000,MATCH(ROW()-5,geb.Rechnung!$G$4:$G$1000,0),COLUMN()+1))","v":""}]
[{"$f":"IF(ISNA(INDEX(geb.Rechnung!$A$4:$G$1000,MATCH(ROW()-5,geb.Rechnung!$G$4:$G$1000,0),COLUMN()-1)),\"\",INDEX(geb.Rechnung!$A$4:$G$1000,MATCH(ROW()-5,geb.Rechnung!$G$4:$G$1000,0),COLUMN()-1))","v":""},{"$f":"IF(ISNA(INDEX(geb.Rechnung!$A$4:$G$1000,MATCH(ROW()-5,geb.Rechnung!$G$4:$G$1000,0),COLUMN()-2)),\"\",INDEX(geb.Rechnung!$A$4:$G$1000,MATCH(ROW()-5,geb.Rechnung!$G$4:$G$1000,0),COLUMN()-2))","v":""},{"$f":"IF(ISNA(INDEX(geb.Rechnung!$A$4:$G$1000,MATCH(ROW()-5,geb.Rechnung!$G$4:$G$1000,0),COLUMN()+1)),\"\",INDEX(geb.Rechnung!$A$4:$G$1000,MATCH(ROW()-5,geb.Rechnung!$G$4:$G$1000,0),COLUMN()+1))","v":""},{"$f":"IF(ISNA(INDEX(geb.Rechnung!$A$4:$G$1000,MATCH(ROW()-5,geb.Rechnung!$G$4:$G$1000,0),COLUMN()+1)),\"\",INDEX(geb.Rechnung!$A$4:$G$1000,MATCH(ROW()-5,geb.Rechnung!$G$4:$G$1000,0),COLUMN()+1))","v":""}]
[{"$f":"IF(ISNA(INDEX(geb.Rechnung!$A$4:$G$1000,MATCH(ROW()-5,geb.Rechnung!$G$4:$G$1000,0),COLUMN()-1)),\"\",INDEX(geb.Rechnung!$A$4:$G$1000,MATCH(ROW()-5,geb.Rechnung!$G$4:$G$1000,0),COLUMN()-1))","v":""},{"$f":"IF(ISNA(INDEX(geb.Rechnung!$A$4:$G$1000,MATCH(ROW()-5,geb.Rechnung!$G$4:$G$1000,0),COLUMN()-2)),\"\",INDEX(geb.Rechnung!$A$4:$G$1000,MATCH(ROW()-5,geb.Rechnung!$G$4:$G$1000,0),COLUMN()-2))","v":""},{"$f":"IF(ISNA(INDEX(geb.Rechnung!$A$4:$G$1000,MATCH(ROW()-5,geb.Rechnung!$G$4:$G$1000,0),COLUMN()+1)),\"\",INDEX(geb.Rechnung!$A$4:$G$1000,MATCH(ROW()-5,geb.Rechnung!$G$4:$G$1000,0),COLUMN()+1))","v":""},{"$f":"IF(ISNA(INDEX(geb.Rechnung!$A$4:$G$1000,MATCH(ROW()-5,geb.Rechnung!$G$4:$G$1000,0),COLUMN()+1)),\"\",INDEX(geb.Rechnung!$A$4:$G$1000,MATCH(ROW()-5,geb.Rechnung!$G$4:$G$1000,0),COLUMN()+1))","v":""}]
[{"$f":"IF(ISNA(INDEX(geb.Rechnung!$A$4:$G$1000,MATCH(ROW()-5,geb.Rechnung!$G$4:$G$1000,0),COLUMN()-1)),\"\",INDEX(geb.Rechnung!$A$4:$G$1000,MATCH(ROW()-5,geb.Rechnung!$G$4:$G$1000,0),COLUMN()-1))","v":""},{"$f":"IF(ISNA(INDEX(geb.Rechnung!$A$4:$G$1000,MATCH(ROW()-5,geb.Rechnung!$G$4:$G$1000,0),COLUMN()-2)),\"\",INDEX(geb.Rechnung!$A$4:$G$1000,MATCH(ROW()-5,geb.Rechnung!$G$4:$G$1000,0),COLUMN()-2))","v":""},{"$f":"IF(ISNA(INDEX(geb.Rechnung!$A$4:$G$1000,MATCH(ROW()-5,geb.Rechnung!$G$4:$G$1000,0),COLUMN()+1)),\"\",INDEX(geb.Rechnung!$A$4:$G$1000,MATCH(ROW()-5,geb.Rechnung!$G$4:$G$1000,0),COLUMN()+1))","v":""},{"$f":"IF(ISNA(INDEX(geb.Rechnung!$A$4:$G$1000,MATCH(ROW()-5,geb.Rechnung!$G$4:$G$1000,0),COLUMN()+1)),\"\",INDEX(geb.Rechnung!$A$4:$G$1000,MATCH(ROW()-5,geb.Rechnung!$G$4:$G$1000,0),COLUMN()+1))","v":""}]
[{"$f":"IF(ISNA(INDEX(geb.Rechnung!$A$4:$G$1000,MATCH(ROW()-5,geb.Rechnung!$G$4:$G$1000,0),COLUMN()-1)),\"\",INDEX(geb.Rechnung!$A$4:$G$1000,MATCH(ROW()-5,geb.Rechnung!$G$4:$G$1000,0),COLUMN()-1))","v":""},{"$f":"IF(ISNA(INDEX(geb.Rechnung!$A$4:$G$1000,MATCH(ROW()-5,geb.Rechnung!$G$4:$G$1000,0),COLUMN()-2)),\"\",INDEX(geb.Rechnung!$A$4:$G$1000,MATCH(ROW()-5,geb.Rechnung!$G$4:$G$1000,0),COLUMN()-2))","v":""},{"$f":"IF(ISNA(INDEX(geb.Rechnung!$A$4:$G$1000,MATCH(ROW()-5,geb.Rechnung!$G$4:$G$1000,0),COLUMN()+1)),\"\",INDEX(geb.Rechnung!$A$4:$G$1000,MATCH(ROW()-5,geb.Rechnung!$G$4:$G$1000,0),COLUMN()+1))","v":""},{"$f":"IF(ISNA(INDEX(geb.Rechnung!$A$4:$G$1000,MATCH(ROW()-5,geb.Rechnung!$G$4:$G$1000,0),COLUMN()+1)),\"\",INDEX(geb.Rechnung!$A$4:$G$1000,MATCH(ROW()-5,geb.Rechnung!$G$4:$G$1000,0),COLUMN()+1))","v":""}]
[{"$f":"IF(ISNA(INDEX(geb.Rechnung!$A$4:$G$1000,MATCH(ROW()-5,geb.Rechnung!$G$4:$G$1000,0),COLUMN()-1)),\"\",INDEX(geb.Rechnung!$A$4:$G$1000,MATCH(ROW()-5,geb.Rechnung!$G$4:$G$1000,0),COLUMN()-1))","v":""},{"$f":"IF(ISNA(INDEX(geb.Rechnung!$A$4:$G$1000,MATCH(ROW()-5,geb.Rechnung!$G$4:$G$1000,0),COLUMN()-2)),\"\",INDEX(geb.Rechnung!$A$4:$G$1000,MATCH(ROW()-5,geb.Rechnung!$G$4:$G$1000,0),COLUMN()-2))","v":""},{"$f":"IF(ISNA(INDEX(geb.Rechnung!$A$4:$G$1000,MATCH(ROW()-5,geb.Rechnung!$G$4:$G$1000,0),COLUMN()+1)),\"\",INDEX(geb.Rechnung!$A$4:$G$1000,MATCH(ROW()-5,geb.Rechnung!$G$4:$G$1000,0),COLUMN()+1))","v":""},{"$f":"IF(ISNA(INDEX(geb.Rechnung!$A$4:$G$1000,MATCH(ROW()-5,geb.Rechnung!$G$4:$G$1000,0),COLUMN()+1)),\"\",INDEX(geb.Rechnung!$A$4:$G$1000,MATCH(ROW()-5,geb.Rechnung!$G$4:$G$1000,0),COLUMN()+1))","v":""}]
[{"$f":"IF(ISNA(INDEX(geb.Rechnung!$A$4:$G$1000,MATCH(ROW()-5,geb.Rechnung!$G$4:$G$1000,0),COLUMN()-1)),\"\",INDEX(geb.Rechnung!$A$4:$G$1000,MATCH(ROW()-5,geb.Rechnung!$G$4:$G$1000,0),COLUMN()-1))","v":""},{"$f":"IF(ISNA(INDEX(geb.Rechnung!$A$4:$G$1000,MATCH(ROW()-5,geb.Rechnung!$G$4:$G$1000,0),COLUMN()-2)),\"\",INDEX(geb.Rechnung!$A$4:$G$1000,MATCH(ROW()-5,geb.Rechnung!$G$4:$G$1000,0),COLUMN()-2))","v":""},{"$f":"IF(ISNA(INDEX(geb.Rechnung!$A$4:$G$1000,MATCH(ROW()-5,geb.Rechnung!$G$4:$G$1000,0),COLUMN()+1)),\"\",INDEX(geb.Rechnung!$A$4:$G$1000,MATCH(ROW()-5,geb.Rechnung!$G$4:$G$1000,0),COLUMN()+1))","v":""},{"$f":"IF(ISNA(INDEX(geb.Rechnung!$A$4:$G$1000,MATCH(ROW()-5,geb.Rechnung!$G$4:$G$1000,0),COLUMN()+1)),\"\",INDEX(geb.Rechnung!$A$4:$G$1000,MATCH(ROW()-5,geb.Rechnung!$G$4:$G$1000,0),COLUMN()+1))","v":""}]
[{"$f":"IF(ISNA(INDEX(geb.Rechnung!$A$4:$G$1000,MATCH(ROW()-5,geb.Rechnung!$G$4:$G$1000,0),COLUMN()-1)),\"\",INDEX(geb.Rechnung!$A$4:$G$1000,MATCH(ROW()-5,geb.Rechnung!$G$4:$G$1000,0),COLUMN()-1))","v":""},{"$f":"IF(ISNA(INDEX(geb.Rechnung!$A$4:$G$1000,MATCH(ROW()-5,geb.Rechnung!$G$4:$G$1000,0),COLUMN()-2)),\"\",INDEX(geb.Rechnung!$A$4:$G$1000,MATCH(ROW()-5,geb.Rechnung!$G$4:$G$1000,0),COLUMN()-2))","v":""},{"$f":"IF(ISNA(INDEX(geb.Rechnung!$A$4:$G$1000,MATCH(ROW()-5,geb.Rechnung!$G$4:$G$1000,0),COLUMN()+1)),\"\",INDEX(geb.Rechnung!$A$4:$G$1000,MATCH(ROW()-5,geb.Rechnung!$G$4:$G$1000,0),COLUMN()+1))","v":""},{"$f":"IF(ISNA(INDEX(geb.Rechnung!$A$4:$G$1000,MATCH(ROW()-5,geb.Rechnung!$G$4:$G$1000,0),COLUMN()+1)),\"\",INDEX(geb.Rechnung!$A$4:$G$1000,MATCH(ROW()-5,geb.Rechnung!$G$4:$G$1000,0),COLUMN()+1))","v":""}]
[{"$f":"IF(ISNA(INDEX(geb.Rechnung!$A$4:$G$1000,MATCH(ROW()-5,geb.Rechnung!$G$4:$G$1000,0),COLUMN()-1)),\"\",INDEX(geb.Rechnung!$A$4:$G$1000,MATCH(ROW()-5,geb.Rechnung!$G$4:$G$1000,0),COLUMN()-1))","v":""},{"$f":"IF(ISNA(INDEX(geb.Rechnung!$A$4:$G$1000,MATCH(ROW()-5,geb.Rechnung!$G$4:$G$1000,0),COLUMN()-2)),\"\",INDEX(geb.Rechnung!$A$4:$G$1000,MATCH(ROW()-5,geb.Rechnung!$G$4:$G$1000,0),COLUMN()-2))","v":""},{"$f":"IF(ISNA(INDEX(geb.Rechnung!$A$4:$G$1000,MATCH(ROW()-5,geb.Rechnung!$G$4:$G$1000,0),COLUMN()+1)),\"\",INDEX(geb.Rechnung!$A$4:$G$1000,MATCH(ROW()-5,geb.Rechnung!$G$4:$G$1000,0),COLUMN()+1))","v":""},{"$f":"IF(ISNA(INDEX(geb.Rechnung!$A$4:$G$1000,MATCH(ROW()-5,geb.Rechnung!$G$4:$G$1000,0),COLUMN()+1)),\"\",INDEX(geb.Rechnung!$A$4:$G$1000,MATCH(ROW()-5,geb.Rechnung!$G$4:$G$1000,0),COLUMN()+1))","v":""}]
[{"$f":"IF(ISNA(INDEX(geb.Rechnung!$A$4:$G$1000,MATCH(ROW()-5,geb.Rechnung!$G$4:$G$1000,0),COLUMN()-1)),\"\",INDEX(geb.Rechnung!$A$4:$G$1000,MATCH(ROW()-5,geb.Rechnung!$G$4:$G$1000,0),COLUMN()-1))","v":""},{"$f":"IF(ISNA(INDEX(geb.Rechnung!$A$4:$G$1000,MATCH(ROW()-5,geb.Rechnung!$G$4:$G$1000,0),COLUMN()-2)),\"\",INDEX(geb.Rechnung!$A$4:$G$1000,MATCH(ROW()-5,geb.Rechnung!$G$4:$G$1000,0),COLUMN()-2))","v":""},{"$f":"IF(ISNA(INDEX(geb.Rechnung!$A$4:$G$1000,MATCH(ROW()-5,geb.Rechnung!$G$4:$G$1000,0),COLUMN()+1)),\"\",INDEX(geb.Rechnung!$A$4:$G$1000,MATCH(ROW()-5,geb.Rechnung!$G$4:$G$1000,0),COLUMN()+1))","v":""},{"$f":"IF(ISNA(INDEX(geb.Rechnung!$A$4:$G$1000,MATCH(ROW()-5,geb.Rechnung!$G$4:$G$1000,0),COLUMN()+1)),\"\",INDEX(geb.Rechnung!$A$4:$G$1000,MATCH(ROW()-5,geb.Rechnung!$G$4:$G$1000,0),COLUMN()+1))","v":""}]
[{"$f":"IF(ISNA(INDEX(geb.Rechnung!$A$4:$G$1000,MATCH(ROW()-5,geb.Rechnung!$G$4:$G$1000,0),COLUMN()-1)),\"\",INDEX(geb.Rechnung!$A$4:$G$1000,MATCH(ROW()-5,geb.Rechnung!$G$4:$G$1000,0),COLUMN()-1))","v":""},{"$f":"IF(ISNA(INDEX(geb.Rechnung!$A$4:$G$1000,MATCH(ROW()-5,geb.Rechnung!$G$4:$G$1000,0),COLUMN()-2)),\"\",INDEX(geb.Rechnung!$A$4:$G$1000,MATCH(ROW()-5,geb.Rechnung!$G$4:$G$1000,0),COLUMN()-2))","v":""},{"$f":"IF(ISNA(INDEX(geb.Rechnung!$A$4:$G$1000,MATCH(ROW()-5,geb.Rechnung!$G$4:$G$1000,0),COLUMN()+1)),\"\",INDEX(geb.Rechnung!$A$4:$G$1000,MATCH(ROW()-5,geb.Rechnung!$G$4:$G$1000,0),COLUMN()+1))","v":""},{"$f":"IF(ISNA(INDEX(geb.Rechnung!$A$4:$G$1000,MATCH(ROW()-5,geb.Rechnung!$G$4:$G$1000,0),COLUMN()+1)),\"\",INDEX(geb.Rechnung!$A$4:$G$1000,MATCH(ROW()-5,geb.Rechnung!$G$4:$G$1000,0),COLUMN()+1))","v":""}]
[{"$f":"IF(ISNA(INDEX(geb.Rechnung!$A$4:$G$1000,MATCH(ROW()-5,geb.Rechnung!$G$4:$G$1000,0),COLUMN()-1)),\"\",INDEX(geb.Rechnung!$A$4:$G$1000,MATCH(ROW()-5,geb.Rechnung!$G$4:$G$1000,0),COLUMN()-1))","v":""},{"$f":"IF(ISNA(INDEX(geb.Rechnung!$A$4:$G$1000,MATCH(ROW()-5,geb.Rechnung!$G$4:$G$1000,0),COLUMN()-2)),\"\",INDEX(geb.Rechnung!$A$4:$G$1000,MATCH(ROW()-5,geb.Rechnung!$G$4:$G$1000,0),COLUMN()-2))","v":""},{"$f":"IF(ISNA(INDEX(geb.Rechnung!$A$4:$G$1000,MATCH(ROW()-5,geb.Rechnung!$G$4:$G$1000,0),COLUMN()+1)),\"\",INDEX(geb.Rechnung!$A$4:$G$1000,MATCH(ROW()-5,geb.Rechnung!$G$4:$G$1000,0),COLUMN()+1))","v":""},{"$f":"IF(ISNA(INDEX(geb.Rechnung!$A$4:$G$1000,MATCH(ROW()-5,geb.Rechnung!$G$4:$G$1000,0),COLUMN()+1)),\"\",INDEX(geb.Rechnung!$A$4:$G$1000,MATCH(ROW()-5,geb.Rechnung!$G$4:$G$1000,0),COLUMN()+1))","v":""}]
[{"$f":"IF(ISNA(INDEX(geb.Rechnung!$A$4:$G$1000,MATCH(ROW()-5,geb.Rechnung!$G$4:$G$1000,0),COLUMN()-1)),\"\",INDEX(geb.Rechnung!$A$4:$G$1000,MATCH(ROW()-5,geb.Rechnung!$G$4:$G$1000,0),COLUMN()-1))","v":""},{"$f":"IF(ISNA(INDEX(geb.Rechnung!$A$4:$G$1000,MATCH(ROW()-5,geb.Rechnung!$G$4:$G$1000,0),COLUMN()-2)),\"\",INDEX(geb.Rechnung!$A$4:$G$1000,MATCH(ROW()-5,geb.Rechnung!$G$4:$G$1000,0),COLUMN()-2))","v":""},{"$f":"IF(ISNA(INDEX(geb.Rechnung!$A$4:$G$1000,MATCH(ROW()-5,geb.Rechnung!$G$4:$G$1000,0),COLUMN()+1)),\"\",INDEX(geb.Rechnung!$A$4:$G$1000,MATCH(ROW()-5,geb.Rechnung!$G$4:$G$1000,0),COLUMN()+1))","v":""},{"$f":"IF(ISNA(INDEX(geb.Rechnung!$A$4:$G$1000,MATCH(ROW()-5,geb.Rechnung!$G$4:$G$1000,0),COLUMN()+1)),\"\",INDEX(geb.Rechnung!$A$4:$G$1000,MATCH(ROW()-5,geb.Rechnung!$G$4:$G$1000,0),COLUMN()+1))","v":""}]
[{"$f":"IF(ISNA(INDEX(geb.Rechnung!$A$4:$G$1000,MATCH(ROW()-5,geb.Rechnung!$G$4:$G$1000,0),COLUMN()-1)),\"\",INDEX(geb.Rechnung!$A$4:$G$1000,MATCH(ROW()-5,geb.Rechnung!$G$4:$G$1000,0),COLUMN()-1))","v":""},{"$f":"IF(ISNA(INDEX(geb.Rechnung!$A$4:$G$1000,MATCH(ROW()-5,geb.Rechnung!$G$4:$G$1000,0),COLUMN()-2)),\"\",INDEX(geb.Rechnung!$A$4:$G$1000,MATCH(ROW()-5,geb.Rechnung!$G$4:$G$1000,0),COLUMN()-2))","v":""},{"$f":"IF(ISNA(INDEX(geb.Rechnung!$A$4:$G$1000,MATCH(ROW()-5,geb.Rechnung!$G$4:$G$1000,0),COLUMN()+1)),\"\",INDEX(geb.Rechnung!$A$4:$G$1000,MATCH(ROW()-5,geb.Rechnung!$G$4:$G$1000,0),COLUMN()+1))","v":""},{"$f":"IF(ISNA(INDEX(geb.Rechnung!$A$4:$G$1000,MATCH(ROW()-5,geb.Rechnung!$G$4:$G$1000,0),COLUMN()+1)),\"\",INDEX(geb.Rechnung!$A$4:$G$1000,MATCH(ROW()-5,geb.Rechnung!$G$4:$G$1000,0),COLUMN()+1))","v":""}]
[{"$f":"IF(ISNA(INDEX(geb.Rechnung!$A$4:$G$1000,MATCH(ROW()-5,geb.Rechnung!$G$4:$G$1000,0),COLUMN()-1)),\"\",INDEX(geb.Rechnung!$A$4:$G$1000,MATCH(ROW()-5,geb.Rechnung!$G$4:$G$1000,0),COLUMN()-1))","v":""},{"$f":"IF(ISNA(INDEX(geb.Rechnung!$A$4:$G$1000,MATCH(ROW()-5,geb.Rechnung!$G$4:$G$1000,0),COLUMN()-2)),\"\",INDEX(geb.Rechnung!$A$4:$G$1000,MATCH(ROW()-5,geb.Rechnung!$G$4:$G$1000,0),COLUMN()-2))","v":""},{"$f":"IF(ISNA(INDEX(geb.Rechnung!$A$4:$G$1000,MATCH(ROW()-5,geb.Rechnung!$G$4:$G$1000,0),COLUMN()+1)),\"\",INDEX(geb.Rechnung!$A$4:$G$1000,MATCH(ROW()-5,geb.Rechnung!$G$4:$G$1000,0),COLUMN()+1))","v":""},{"$f":"IF(ISNA(INDEX(geb.Rechnung!$A$4:$G$1000,MATCH(ROW()-5,geb.Rechnung!$G$4:$G$1000,0),COLUMN()+1)),\"\",INDEX(geb.Rechnung!$A$4:$G$1000,MATCH(ROW()-5,geb.Rechnung!$G$4:$G$1000,0),COLUMN()+1))","v":""}]
[{"$f":"IF(ISNA(INDEX(geb.Rechnung!$A$4:$G$1000,MATCH(ROW()-5,geb.Rechnung!$G$4:$G$1000,0),COLUMN()-1)),\"\",INDEX(geb.Rechnung!$A$4:$G$1000,MATCH(ROW()-5,geb.Rechnung!$G$4:$G$1000,0),COLUMN()-1))","v":""},{"$f":"IF(ISNA(INDEX(geb.Rechnung!$A$4:$G$1000,MATCH(ROW()-5,geb.Rechnung!$G$4:$G$1000,0),COLUMN()-2)),\"\",INDEX(geb.Rechnung!$A$4:$G$1000,MATCH(ROW()-5,geb.Rechnung!$G$4:$G$1000,0),COLUMN()-2))","v":""},{"$f":"IF(ISNA(INDEX(geb.Rechnung!$A$4:$G$1000,MATCH(ROW()-5,geb.Rechnung!$G$4:$G$1000,0),COLUMN()+1)),\"\",INDEX(geb.Rechnung!$A$4:$G$1000,MATCH(ROW()-5,geb.Rechnung!$G$4:$G$1000,0),COLUMN()+1))","v":""},{"$f":"IF(ISNA(INDEX(geb.Rechnung!$A$4:$G$1000,MATCH(ROW()-5,geb.Rechnung!$G$4:$G$1000,0),COLUMN()+1)),\"\",INDEX(geb.Rechnung!$A$4:$G$1000,MATCH(ROW()-5,geb.Rechnung!$G$4:$G$1000,0),COLUMN()+1))","v":""}]
[{"$f":"IF(ISNA(INDEX(geb.Rechnung!$A$4:$G$1000,MATCH(ROW()-5,geb.Rechnung!$G$4:$G$1000,0),COLUMN()-1)),\"\",INDEX(geb.Rechnung!$A$4:$G$1000,MATCH(ROW()-5,geb.Rechnung!$G$4:$G$1000,0),COLUMN()-1))","v":""},{"$f":"IF(ISNA(INDEX(geb.Rechnung!$A$4:$G$1000,MATCH(ROW()-5,geb.Rechnung!$G$4:$G$1000,0),COLUMN()-2)),\"\",INDEX(geb.Rechnung!$A$4:$G$1000,MATCH(ROW()-5,geb.Rechnung!$G$4:$G$1000,0),COLUMN()-2))","v":""},{"$f":"IF(ISNA(INDEX(geb.Rechnung!$A$4:$G$1000,MATCH(ROW()-5,geb.Rechnung!$G$4:$G$1000,0),COLUMN()+1)),\"\",INDEX(geb.Rechnung!$A$4:$G$1000,MATCH(ROW()-5,geb.Rechnung!$G$4:$G$1000,0),COLUMN()+1))","v":""},{"$f":"IF(ISNA(INDEX(geb.Rechnung!$A$4:$G$1000,MATCH(ROW()-5,geb.Rechnung!$G$4:$G$1000,0),COLUMN()+1)),\"\",INDEX(geb.Rechnung!$A$4:$G$1000,MATCH(ROW()-5,geb.Rechnung!$G$4:$G$1000,0),COLUMN()+1))","v":""}]
[{"$f":"IF(ISNA(INDEX(geb.Rechnung!$A$4:$G$1000,MATCH(ROW()-5,geb.Rechnung!$G$4:$G$1000,0),COLUMN()-1)),\"\",INDEX(geb.Rechnung!$A$4:$G$1000,MATCH(ROW()-5,geb.Rechnung!$G$4:$G$1000,0),COLUMN()-1))","v":""},{"$f":"IF(ISNA(INDEX(geb.Rechnung!$A$4:$G$1000,MATCH(ROW()-5,geb.Rechnung!$G$4:$G$1000,0),COLUMN()-2)),\"\",INDEX(geb.Rechnung!$A$4:$G$1000,MATCH(ROW()-5,geb.Rechnung!$G$4:$G$1000,0),COLUMN()-2))","v":""},{"$f":"IF(ISNA(INDEX(geb.Rechnung!$A$4:$G$1000,MATCH(ROW()-5,geb.Rechnung!$G$4:$G$1000,0),COLUMN()+1)),\"\",INDEX(geb.Rechnung!$A$4:$G$1000,MATCH(ROW()-5,geb.Rechnung!$G$4:$G$1000,0),COLUMN()+1))","v":""},{"$f":"IF(ISNA(INDEX(geb.Rechnung!$A$4:$G$1000,MATCH(ROW()-5,geb.Rechnung!$G$4:$G$1000,0),COLUMN()+1)),\"\",INDEX(geb.Rechnung!$A$4:$G$1000,MATCH(ROW()-5,geb.Rechnung!$G$4:$G$1000,0),COLUMN()+1))","v":""}]
[{"$f":"IF(ISNA(INDEX(geb.Rechnung!$A$4:$G$1000,MATCH(ROW()-5,geb.Rechnung!$G$4:$G$1000,0),COLUMN()-1)),\"\",INDEX(geb.Rechnung!$A$4:$G$1000,MATCH(ROW()-5,geb.Rechnung!$G$4:$G$1000,0),COLUMN()-1))","v":""},{"$f":"IF(ISNA(INDEX(geb.Rechnung!$A$4:$G$1000,MATCH(ROW()-5,geb.Rechnung!$G$4:$G$1000,0),COLUMN()-2)),\"\",INDEX(geb.Rechnung!$A$4:$G$1000,MATCH(ROW()-5,geb.Rechnung!$G$4:$G$1000,0),COLUMN()-2))","v":""},{"$f":"IF(ISNA(INDEX(geb.Rechnung!$A$4:$G$1000,MATCH(ROW()-5,geb.Rechnung!$G$4:$G$1000,0),COLUMN()+1)),\"\",INDEX(geb.Rechnung!$A$4:$G$1000,MATCH(ROW()-5,geb.Rechnung!$G$4:$G$1000,0),COLUMN()+1))","v":""},{"$f":"IF(ISNA(INDEX(geb.Rechnung!$A$4:$G$1000,MATCH(ROW()-5,geb.Rechnung!$G$4:$G$1000,0),COLUMN()+1)),\"\",INDEX(geb.Rechnung!$A$4:$G$1000,MATCH(ROW()-5,geb.Rechnung!$G$4:$G$1000,0),COLUMN()+1))","v":""}]
[{"$f":"IF(ISNA(INDEX(geb.Rechnung!$A$4:$G$1000,MATCH(ROW()-5,geb.Rechnung!$G$4:$G$1000,0),COLUMN()-1)),\"\",INDEX(geb.Rechnung!$A$4:$G$1000,MATCH(ROW()-5,geb.Rechnung!$G$4:$G$1000,0),COLUMN()-1))","v":""},{"$f":"IF(ISNA(INDEX(geb.Rechnung!$A$4:$G$1000,MATCH(ROW()-5,geb.Rechnung!$G$4:$G$1000,0),COLUMN()-2)),\"\",INDEX(geb.Rechnung!$A$4:$G$1000,MATCH(ROW()-5,geb.Rechnung!$G$4:$G$1000,0),COLUMN()-2))","v":""},{"$f":"IF(ISNA(INDEX(geb.Rechnung!$A$4:$G$1000,MATCH(ROW()-5,geb.Rechnung!$G$4:$G$1000,0),COLUMN()+1)),\"\",INDEX(geb.Rechnung!$A$4:$G$1000,MATCH(ROW()-5,geb.Rechnung!$G$4:$G$1000,0),COLUMN()+1))","v":""},{"$f":"IF(ISNA(INDEX(geb.Rechnung!$A$4:$G$1000,MATCH(ROW()-5,geb.Rechnung!$G$4:$G$1000,0),COLUMN()+1)),\"\",INDEX(geb.Rechnung!$A$4:$G$1000,MATCH(ROW()-5,geb.Rechnung!$G$4:$G$1000,0),COLUMN()+1))","v":""}]
[{"$f":"IF(ISNA(INDEX(geb.Rechnung!$A$4:$G$1000,MATCH(ROW()-5,geb.Rechnung!$G$4:$G$1000,0),COLUMN()-1)),\"\",INDEX(geb.Rechnung!$A$4:$G$1000,MATCH(ROW()-5,geb.Rechnung!$G$4:$G$1000,0),COLUMN()-1))","v":""},{"$f":"IF(ISNA(INDEX(geb.Rechnung!$A$4:$G$1000,MATCH(ROW()-5,geb.Rechnung!$G$4:$G$1000,0),COLUMN()-2)),\"\",INDEX(geb.Rechnung!$A$4:$G$1000,MATCH(ROW()-5,geb.Rechnung!$G$4:$G$1000,0),COLUMN()-2))","v":""},{"$f":"IF(ISNA(INDEX(geb.Rechnung!$A$4:$G$1000,MATCH(ROW()-5,geb.Rechnung!$G$4:$G$1000,0),COLUMN()+1)),\"\",INDEX(geb.Rechnung!$A$4:$G$1000,MATCH(ROW()-5,geb.Rechnung!$G$4:$G$1000,0),COLUMN()+1))","v":""},{"$f":"IF(ISNA(INDEX(geb.Rechnung!$A$4:$G$1000,MATCH(ROW()-5,geb.Rechnung!$G$4:$G$1000,0),COLUMN()+1)),\"\",INDEX(geb.Rechnung!$A$4:$G$1000,MATCH(ROW()-5,geb.Rechnung!$G$4:$G$1000,0),COLUMN()+1))","v":""}]
[{"$f":"IF(ISNA(INDEX(geb.Rechnung!$A$4:$G$1000,MATCH(ROW()-5,geb.Rechnung!$G$4:$G$1000,0),COLUMN()-1)),\"\",INDEX(geb.Rechnung!$A$4:$G$1000,MATCH(ROW()-5,geb.Rechnung!$G$4:$G$1000,0),COLUMN()-1))","v":""},{"$f":"IF(ISNA(INDEX(geb.Rechnung!$A$4:$G$1000,MATCH(ROW()-5,geb.Rechnung!$G$4:$G$1000,0),COLUMN()-2)),\"\",INDEX(geb.Rechnung!$A$4:$G$1000,MATCH(ROW()-5,geb.Rechnung!$G$4:$G$1000,0),COLUMN()-2))","v":""},{"$f":"IF(ISNA(INDEX(geb.Rechnung!$A$4:$G$1000,MATCH(ROW()-5,geb.Rechnung!$G$4:$G$1000,0),COLUMN()+1)),\"\",INDEX(geb.Rechnung!$A$4:$G$1000,MATCH(ROW()-5,geb.Rechnung!$G$4:$G$1000,0),COLUMN()+1))","v":""},{"$f":"IF(ISNA(INDEX(geb.Rechnung!$A$4:$G$1000,MATCH(ROW()-5,geb.Rechnung!$G$4:$G$1000,0),COLUMN()+1)),\"\",INDEX(geb.Rechnung!$A$4:$G$1000,MATCH(ROW()-5,geb.Rechnung!$G$4:$G$1000,0),COLUMN()+1))","v":""}]
[{"$f":"IF(ISNA(INDEX(geb.Rechnung!$A$4:$G$1000,MATCH(ROW()-5,geb.Rechnung!$G$4:$G$1000,0),COLUMN()-1)),\"\",INDEX(geb.Rechnung!$A$4:$G$1000,MATCH(ROW()-5,geb.Rechnung!$G$4:$G$1000,0),COLUMN()-1))","v":""},{"$f":"IF(ISNA(INDEX(geb.Rechnung!$A$4:$G$1000,MATCH(ROW()-5,geb.Rechnung!$G$4:$G$1000,0),COLUMN()-2)),\"\",INDEX(geb.Rechnung!$A$4:$G$1000,MATCH(ROW()-5,geb.Rechnung!$G$4:$G$1000,0),COLUMN()-2))","v":""},{"$f":"IF(ISNA(INDEX(geb.Rechnung!$A$4:$G$1000,MATCH(ROW()-5,geb.Rechnung!$G$4:$G$1000,0),COLUMN()+1)),\"\",INDEX(geb.Rechnung!$A$4:$G$1000,MATCH(ROW()-5,geb.Rechnung!$G$4:$G$1000,0),COLUMN()+1))","v":""},{"$f":"IF(ISNA(INDEX(geb.Rechnung!$A$4:$G$1000,MATCH(ROW()-5,geb.Rechnung!$G$4:$G$1000,0),COLUMN()+1)),\"\",INDEX(geb.Rechnung!$A$4:$G$1000,MATCH(ROW()-5,geb.Rechnung!$G$4:$G$1000,0),COLUMN()+1))","v":""}]
[{"$f":"IF(ISNA(INDEX(geb.Rechnung!$A$4:$G$1000,MATCH(ROW()-5,geb.Rechnung!$G$4:$G$1000,0),COLUMN()-1)),\"\",INDEX(geb.Rechnung!$A$4:$G$1000,MATCH(ROW()-5,geb.Rechnung!$G$4:$G$1000,0),COLUMN()-1))","v":""},{"$f":"IF(ISNA(INDEX(geb.Rechnung!$A$4:$G$1000,MATCH(ROW()-5,geb.Rechnung!$G$4:$G$1000,0),COLUMN()-2)),\"\",INDEX(geb.Rechnung!$A$4:$G$1000,MATCH(ROW()-5,geb.Rechnung!$G$4:$G$1000,0),COLUMN()-2))","v":""},{"$f":"IF(ISNA(INDEX(geb.Rechnung!$A$4:$G$1000,MATCH(ROW()-5,geb.Rechnung!$G$4:$G$1000,0),COLUMN()+1)),\"\",INDEX(geb.Rechnung!$A$4:$G$1000,MATCH(ROW()-5,geb.Rechnung!$G$4:$G$1000,0),COLUMN()+1))","v":""},{"$f":"IF(ISNA(INDEX(geb.Rechnung!$A$4:$G$1000,MATCH(ROW()-5,geb.Rechnung!$G$4:$G$1000,0),COLUMN()+1)),\"\",INDEX(geb.Rechnung!$A$4:$G$1000,MATCH(ROW()-5,geb.Rechnung!$G$4:$G$1000,0),COLUMN()+1))","v":""}]
[{"$f":"IF(ISNA(INDEX(geb.Rechnung!$A$4:$G$1000,MATCH(ROW()-5,geb.Rechnung!$G$4:$G$1000,0),COLUMN()-1)),\"\",INDEX(geb.Rechnung!$A$4:$G$1000,MATCH(ROW()-5,geb.Rechnung!$G$4:$G$1000,0),COLUMN()-1))","v":""},{"$f":"IF(ISNA(INDEX(geb.Rechnung!$A$4:$G$1000,MATCH(ROW()-5,geb.Rechnung!$G$4:$G$1000,0),COLUMN()-2)),\"\",INDEX(geb.Rechnung!$A$4:$G$1000,MATCH(ROW()-5,geb.Rechnung!$G$4:$G$1000,0),COLUMN()-2))","v":""},{"$f":"IF(ISNA(INDEX(geb.Rechnung!$A$4:$G$1000,MATCH(ROW()-5,geb.Rechnung!$G$4:$G$1000,0),COLUMN()+1)),\"\",INDEX(geb.Rechnung!$A$4:$G$1000,MATCH(ROW()-5,geb.Rechnung!$G$4:$G$1000,0),COLUMN()+1))","v":""},{"$f":"IF(ISNA(INDEX(geb.Rechnung!$A$4:$G$1000,MATCH(ROW()-5,geb.Rechnung!$G$4:$G$1000,0),COLUMN()+1)),\"\",INDEX(geb.Rechnung!$A$4:$G$1000,MATCH(ROW()-5,geb.Rechnung!$G$4:$G$1000,0),COLUMN()+1))","v":""}]
[{"$f":"IF(ISNA(INDEX(geb.Rechnung!$A$4:$G$1000,MATCH(ROW()-5,geb.Rechnung!$G$4:$G$1000,0),COLUMN()-1)),\"\",INDEX(geb.Rechnung!$A$4:$G$1000,MATCH(ROW()-5,geb.Rechnung!$G$4:$G$1000,0),COLUMN()-1))","v":""},{"$f":"IF(ISNA(INDEX(geb.Rechnung!$A$4:$G$1000,MATCH(ROW()-5,geb.Rechnung!$G$4:$G$1000,0),COLUMN()-2)),\"\",INDEX(geb.Rechnung!$A$4:$G$1000,MATCH(ROW()-5,geb.Rechnung!$G$4:$G$1000,0),COLUMN()-2))","v":""},{"$f":"IF(ISNA(INDEX(geb.Rechnung!$A$4:$G$1000,MATCH(ROW()-5,geb.Rechnung!$G$4:$G$1000,0),COLUMN()+1)),\"\",INDEX(geb.Rechnung!$A$4:$G$1000,MATCH(ROW()-5,geb.Rechnung!$G$4:$G$1000,0),COLUMN()+1))","v":""},{"$f":"IF(ISNA(INDEX(geb.Rechnung!$A$4:$G$1000,MATCH(ROW()-5,geb.Rechnung!$G$4:$G$1000,0),COLUMN()+1)),\"\",INDEX(geb.Rechnung!$A$4:$G$1000,MATCH(ROW()-5,geb.Rechnung!$G$4:$G$1000,0),COLUMN()+1))","v":""}]
[{"$f":"IF(ISNA(INDEX(geb.Rechnung!$A$4:$G$1000,MATCH(ROW()-5,geb.Rechnung!$G$4:$G$1000,0),COLUMN()-1)),\"\",INDEX(geb.Rechnung!$A$4:$G$1000,MATCH(ROW()-5,geb.Rechnung!$G$4:$G$1000,0),COLUMN()-1))","v":""},{"$f":"IF(ISNA(INDEX(geb.Rechnung!$A$4:$G$1000,MATCH(ROW()-5,geb.Rechnung!$G$4:$G$1000,0),COLUMN()-2)),\"\",INDEX(geb.Rechnung!$A$4:$G$1000,MATCH(ROW()-5,geb.Rechnung!$G$4:$G$1000,0),COLUMN()-2))","v":""},{"$f":"IF(ISNA(INDEX(geb.Rechnung!$A$4:$G$1000,MATCH(ROW()-5,geb.Rechnung!$G$4:$G$1000,0),COLUMN()+1)),\"\",INDEX(geb.Rechnung!$A$4:$G$1000,MATCH(ROW()-5,geb.Rechnung!$G$4:$G$1000,0),COLUMN()+1))","v":""},{"$f":"IF(ISNA(INDEX(geb.Rechnung!$A$4:$G$1000,MATCH(ROW()-5,geb.Rechnung!$G$4:$G$1000,0),COLUMN()+1)),\"\",INDEX(geb.Rechnung!$A$4:$G$1000,MATCH(ROW()-5,geb.Rechnung!$G$4:$G$1000,0),COLUMN()+1))","v":""}]
[{"$f":"IF(ISNA(INDEX(geb.Rechnung!$A$4:$G$1000,MATCH(ROW()-5,geb.Rechnung!$G$4:$G$1000,0),COLUMN()-1)),\"\",INDEX(geb.Rechnung!$A$4:$G$1000,MATCH(ROW()-5,geb.Rechnung!$G$4:$G$1000,0),COLUMN()-1))","v":""},{"$f":"IF(ISNA(INDEX(geb.Rechnung!$A$4:$G$1000,MATCH(ROW()-5,geb.Rechnung!$G$4:$G$1000,0),COLUMN()-2)),\"\",INDEX(geb.Rechnung!$A$4:$G$1000,MATCH(ROW()-5,geb.Rechnung!$G$4:$G$1000,0),COLUMN()-2))","v":""},{"$f":"IF(ISNA(INDEX(geb.Rechnung!$A$4:$G$1000,MATCH(ROW()-5,geb.Rechnung!$G$4:$G$1000,0),COLUMN()+1)),\"\",INDEX(geb.Rechnung!$A$4:$G$1000,MATCH(ROW()-5,geb.Rechnung!$G$4:$G$1000,0),COLUMN()+1))","v":""},{"$f":"IF(ISNA(INDEX(geb.Rechnung!$A$4:$G$1000,MATCH(ROW()-5,geb.Rechnung!$G$4:$G$1000,0),COLUMN()+1)),\"\",INDEX(geb.Rechnung!$A$4:$G$1000,MATCH(ROW()-5,geb.Rechnung!$G$4:$G$1000,0),COLUMN()+1))","v":""}]
[{"$f":"IF(ISNA(INDEX(geb.Rechnung!$A$4:$G$1000,MATCH(ROW()-5,geb.Rechnung!$G$4:$G$1000,0),COLUMN()-1)),\"\",INDEX(geb.Rechnung!$A$4:$G$1000,MATCH(ROW()-5,geb.Rechnung!$G$4:$G$1000,0),COLUMN()-1))","v":""},{"$f":"IF(ISNA(INDEX(geb.Rechnung!$A$4:$G$1000,MATCH(ROW()-5,geb.Rechnung!$G$4:$G$1000,0),COLUMN()-2)),\"\",INDEX(geb.Rechnung!$A$4:$G$1000,MATCH(ROW()-5,geb.Rechnung!$G$4:$G$1000,0),COLUMN()-2))","v":""},{"$f":"IF(ISNA(INDEX(geb.Rechnung!$A$4:$G$1000,MATCH(ROW()-5,geb.Rechnung!$G$4:$G$1000,0),COLUMN()+1)),\"\",INDEX(geb.Rechnung!$A$4:$G$1000,MATCH(ROW()-5,geb.Rechnung!$G$4:$G$1000,0),COLUMN()+1))","v":""},{"$f":"IF(ISNA(INDEX(geb.Rechnung!$A$4:$G$1000,MATCH(ROW()-5,geb.Rechnung!$G$4:$G$1000,0),COLUMN()+1)),\"\",INDEX(geb.Rechnung!$A$4:$G$1000,MATCH(ROW()-5,geb.Rechnung!$G$4:$G$1000,0),COLUMN()+1))","v":""}]
[{"$f":"IF(ISNA(INDEX(geb.Rechnung!$A$4:$G$1000,MATCH(ROW()-5,geb.Rechnung!$G$4:$G$1000,0),COLUMN()-1)),\"\",INDEX(geb.Rechnung!$A$4:$G$1000,MATCH(ROW()-5,geb.Rechnung!$G$4:$G$1000,0),COLUMN()-1))","v":""},{"$f":"IF(ISNA(INDEX(geb.Rechnung!$A$4:$G$1000,MATCH(ROW()-5,geb.Rechnung!$G$4:$G$1000,0),COLUMN()-2)),\"\",INDEX(geb.Rechnung!$A$4:$G$1000,MATCH(ROW()-5,geb.Rechnung!$G$4:$G$1000,0),COLUMN()-2))","v":""},{"$f":"IF(ISNA(INDEX(geb.Rechnung!$A$4:$G$1000,MATCH(ROW()-5,geb.Rechnung!$G$4:$G$1000,0),COLUMN()+1)),\"\",INDEX(geb.Rechnung!$A$4:$G$1000,MATCH(ROW()-5,geb.Rechnung!$G$4:$G$1000,0),COLUMN()+1))","v":""},{"$f":"IF(ISNA(INDEX(geb.Rechnung!$A$4:$G$1000,MATCH(ROW()-5,geb.Rechnung!$G$4:$G$1000,0),COLUMN()+1)),\"\",INDEX(geb.Rechnung!$A$4:$G$1000,MATCH(ROW()-5,geb.Rechnung!$G$4:$G$1000,0),COLUMN()+1))","v":""}]
[{"$f":"IF(ISNA(INDEX(geb.Rechnung!$A$4:$G$1000,MATCH(ROW()-5,geb.Rechnung!$G$4:$G$1000,0),COLUMN()-1)),\"\",INDEX(geb.Rechnung!$A$4:$G$1000,MATCH(ROW()-5,geb.Rechnung!$G$4:$G$1000,0),COLUMN()-1))","v":""},{"$f":"IF(ISNA(INDEX(geb.Rechnung!$A$4:$G$1000,MATCH(ROW()-5,geb.Rechnung!$G$4:$G$1000,0),COLUMN()-2)),\"\",INDEX(geb.Rechnung!$A$4:$G$1000,MATCH(ROW()-5,geb.Rechnung!$G$4:$G$1000,0),COLUMN()-2))","v":""},{"$f":"IF(ISNA(INDEX(geb.Rechnung!$A$4:$G$1000,MATCH(ROW()-5,geb.Rechnung!$G$4:$G$1000,0),COLUMN()+1)),\"\",INDEX(geb.Rechnung!$A$4:$G$1000,MATCH(ROW()-5,geb.Rechnung!$G$4:$G$1000,0),COLUMN()+1))","v":""},{"$f":"IF(ISNA(INDEX(geb.Rechnung!$A$4:$G$1000,MATCH(ROW()-5,geb.Rechnung!$G$4:$G$1000,0),COLUMN()+1)),\"\",INDEX(geb.Rechnung!$A$4:$G$1000,MATCH(ROW()-5,geb.Rechnung!$G$4:$G$1000,0),COLUMN()+1))","v":""}]
[{"$f":"IF(ISNA(INDEX(geb.Rechnung!$A$4:$G$1000,MATCH(ROW()-5,geb.Rechnung!$G$4:$G$1000,0),COLUMN()-1)),\"\",INDEX(geb.Rechnung!$A$4:$G$1000,MATCH(ROW()-5,geb.Rechnung!$G$4:$G$1000,0),COLUMN()-1))","v":""},{"$f":"IF(ISNA(INDEX(geb.Rechnung!$A$4:$G$1000,MATCH(ROW()-5,geb.Rechnung!$G$4:$G$1000,0),COLUMN()-2)),\"\",INDEX(geb.Rechnung!$A$4:$G$1000,MATCH(ROW()-5,geb.Rechnung!$G$4:$G$1000,0),COLUMN()-2))","v":""},{"$f":"IF(ISNA(INDEX(geb.Rechnung!$A$4:$G$1000,MATCH(ROW()-5,geb.Rechnung!$G$4:$G$1000,0),COLUMN()+1)),\"\",INDEX(geb.Rechnung!$A$4:$G$1000,MATCH(ROW()-5,geb.Rechnung!$G$4:$G$1000,0),COLUMN()+1))","v":""},{"$f":"IF(ISNA(INDEX(geb.Rechnung!$A$4:$G$1000,MATCH(ROW()-5,geb.Rechnung!$G$4:$G$1000,0),COLUMN()+1)),\"\",INDEX(geb.Rechnung!$A$4:$G$1000,MATCH(ROW()-5,geb.Rechnung!$G$4:$G$1000,0),COLUMN()+1))","v":""}]
[{"$f":"IF(ISNA(INDEX(geb.Rechnung!$A$4:$G$1000,MATCH(ROW()-5,geb.Rechnung!$G$4:$G$1000,0),COLUMN()-1)),\"\",INDEX(geb.Rechnung!$A$4:$G$1000,MATCH(ROW()-5,geb.Rechnung!$G$4:$G$1000,0),COLUMN()-1))","v":""},{"$f":"IF(ISNA(INDEX(geb.Rechnung!$A$4:$G$1000,MATCH(ROW()-5,geb.Rechnung!$G$4:$G$1000,0),COLUMN()-2)),\"\",INDEX(geb.Rechnung!$A$4:$G$1000,MATCH(ROW()-5,geb.Rechnung!$G$4:$G$1000,0),COLUMN()-2))","v":""},{"$f":"IF(ISNA(INDEX(geb.Rechnung!$A$4:$G$1000,MATCH(ROW()-5,geb.Rechnung!$G$4:$G$1000,0),COLUMN()+1)),\"\",INDEX(geb.Rechnung!$A$4:$G$1000,MATCH(ROW()-5,geb.Rechnung!$G$4:$G$1000,0),COLUMN()+1))","v":""},{"$f":"IF(ISNA(INDEX(geb.Rechnung!$A$4:$G$1000,MATCH(ROW()-5,geb.Rechnung!$G$4:$G$1000,0),COLUMN()+1)),\"\",INDEX(geb.Rechnung!$A$4:$G$1000,MATCH(ROW()-5,geb.Rechnung!$G$4:$G$1000,0),COLUMN()+1))","v":""}]
[{"$f":"IF(ISNA(INDEX(geb.Rechnung!$A$4:$G$1000,MATCH(ROW()-5,geb.Rechnung!$G$4:$G$1000,0),COLUMN()-1)),\"\",INDEX(geb.Rechnung!$A$4:$G$1000,MATCH(ROW()-5,geb.Rechnung!$G$4:$G$1000,0),COLUMN()-1))","v":""},{"$f":"IF(ISNA(INDEX(geb.Rechnung!$A$4:$G$1000,MATCH(ROW()-5,geb.Rechnung!$G$4:$G$1000,0),COLUMN()-2)),\"\",INDEX(geb.Rechnung!$A$4:$G$1000,MATCH(ROW()-5,geb.Rechnung!$G$4:$G$1000,0),COLUMN()-2))","v":""},{"$f":"IF(ISNA(INDEX(geb.Rechnung!$A$4:$G$1000,MATCH(ROW()-5,geb.Rechnung!$G$4:$G$1000,0),COLUMN()+1)),\"\",INDEX(geb.Rechnung!$A$4:$G$1000,MATCH(ROW()-5,geb.Rechnung!$G$4:$G$1000,0),COLUMN()+1))","v":""},{"$f":"IF(ISNA(INDEX(geb.Rechnung!$A$4:$G$1000,MATCH(ROW()-5,geb.Rechnung!$G$4:$G$1000,0),COLUMN()+1)),\"\",INDEX(geb.Rechnung!$A$4:$G$1000,MATCH(ROW()-5,geb.Rechnung!$G$4:$G$1000,0),COLUMN()+1))","v":""}]
[{"$f":"IF(ISNA(INDEX(geb.Rechnung!$A$4:$G$1000,MATCH(ROW()-5,geb.Rechnung!$G$4:$G$1000,0),COLUMN()-1)),\"\",INDEX(geb.Rechnung!$A$4:$G$1000,MATCH(ROW()-5,geb.Rechnung!$G$4:$G$1000,0),COLUMN()-1))","v":""},{"$f":"IF(ISNA(INDEX(geb.Rechnung!$A$4:$G$1000,MATCH(ROW()-5,geb.Rechnung!$G$4:$G$1000,0),COLUMN()-2)),\"\",INDEX(geb.Rechnung!$A$4:$G$1000,MATCH(ROW()-5,geb.Rechnung!$G$4:$G$1000,0),COLUMN()-2))","v":""},{"$f":"IF(ISNA(INDEX(geb.Rechnung!$A$4:$G$1000,MATCH(ROW()-5,geb.Rechnung!$G$4:$G$1000,0),COLUMN()+1)),\"\",INDEX(geb.Rechnung!$A$4:$G$1000,MATCH(ROW()-5,geb.Rechnung!$G$4:$G$1000,0),COLUMN()+1))","v":""},{"$f":"IF(ISNA(INDEX(geb.Rechnung!$A$4:$G$1000,MATCH(ROW()-5,geb.Rechnung!$G$4:$G$1000,0),COLUMN()+1)),\"\",INDEX(geb.Rechnung!$A$4:$G$1000,MATCH(ROW()-5,geb.Rechnung!$G$4:$G$1000,0),COLUMN()+1))","v":""}]
[{"$f":"IF(ISNA(INDEX(geb.Rechnung!$A$4:$G$1000,MATCH(ROW()-5,geb.Rechnung!$G$4:$G$1000,0),COLUMN()-1)),\"\",INDEX(geb.Rechnung!$A$4:$G$1000,MATCH(ROW()-5,geb.Rechnung!$G$4:$G$1000,0),COLUMN()-1))","v":""},{"$f":"IF(ISNA(INDEX(geb.Rechnung!$A$4:$G$1000,MATCH(ROW()-5,geb.Rechnung!$G$4:$G$1000,0),COLUMN()-2)),\"\",INDEX(geb.Rechnung!$A$4:$G$1000,MATCH(ROW()-5,geb.Rechnung!$G$4:$G$1000,0),COLUMN()-2))","v":""},{"$f":"IF(ISNA(INDEX(geb.Rechnung!$A$4:$G$1000,MATCH(ROW()-5,geb.Rechnung!$G$4:$G$1000,0),COLUMN()+1)),\"\",INDEX(geb.Rechnung!$A$4:$G$1000,MATCH(ROW()-5,geb.Rechnung!$G$4:$G$1000,0),COLUMN()+1))","v":""},{"$f":"IF(ISNA(INDEX(geb.Rechnung!$A$4:$G$1000,MATCH(ROW()-5,geb.Rechnung!$G$4:$G$1000,0),COLUMN()+1)),\"\",INDEX(geb.Rechnung!$A$4:$G$1000,MATCH(ROW()-5,geb.Rechnung!$G$4:$G$1000,0),COLUMN()+1))","v":""}]
[{"$f":"IF(ISNA(INDEX(geb.Rechnung!$A$4:$G$1000,MATCH(ROW()-5,geb.Rechnung!$G$4:$G$1000,0),COLUMN()-1)),\"\",INDEX(geb.Rechnung!$A$4:$G$1000,MATCH(ROW()-5,geb.Rechnung!$G$4:$G$1000,0),COLUMN()-1))","v":""},{"$f":"IF(ISNA(INDEX(geb.Rechnung!$A$4:$G$1000,MATCH(ROW()-5,geb.Rechnung!$G$4:$G$1000,0),COLUMN()-2)),\"\",INDEX(geb.Rechnung!$A$4:$G$1000,MATCH(ROW()-5,geb.Rechnung!$G$4:$G$1000,0),COLUMN()-2))","v":""},{"$f":"IF(ISNA(INDEX(geb.Rechnung!$A$4:$G$1000,MATCH(ROW()-5,geb.Rechnung!$G$4:$G$1000,0),COLUMN()+1)),\"\",INDEX(geb.Rechnung!$A$4:$G$1000,MATCH(ROW()-5,geb.Rechnung!$G$4:$G$1000,0),COLUMN()+1))","v":""},{"$f":"IF(ISNA(INDEX(geb.Rechnung!$A$4:$G$1000,MATCH(ROW()-5,geb.Rechnung!$G$4:$G$1000,0),COLUMN()+1)),\"\",INDEX(geb.Rechnung!$A$4:$G$1000,MATCH(ROW()-5,geb.Rechnung!$G$4:$G$1000,0),COLUMN()+1))","v":""}]
[{"$f":"IF(ISNA(INDEX(geb.Rechnung!$A$4:$G$1000,MATCH(ROW()-5,geb.Rechnung!$G$4:$G$1000,0),COLUMN()-1)),\"\",INDEX(geb.Rechnung!$A$4:$G$1000,MATCH(ROW()-5,geb.Rechnung!$G$4:$G$1000,0),COLUMN()-1))","v":""},{"$f":"IF(ISNA(INDEX(geb.Rechnung!$A$4:$G$1000,MATCH(ROW()-5,geb.Rechnung!$G$4:$G$1000,0),COLUMN()-2)),\"\",INDEX(geb.Rechnung!$A$4:$G$1000,MATCH(ROW()-5,geb.Rechnung!$G$4:$G$1000,0),COLUMN()-2))","v":""},{"$f":"IF(ISNA(INDEX(geb.Rechnung!$A$4:$G$1000,MATCH(ROW()-5,geb.Rechnung!$G$4:$G$1000,0),COLUMN()+1)),\"\",INDEX(geb.Rechnung!$A$4:$G$1000,MATCH(ROW()-5,geb.Rechnung!$G$4:$G$1000,0),COLUMN()+1))","v":""},{"$f":"IF(ISNA(INDEX(geb.Rechnung!$A$4:$G$1000,MATCH(ROW()-5,geb.Rechnung!$G$4:$G$1000,0),COLUMN()+1)),\"\",INDEX(geb.Rechnung!$A$4:$G$1000,MATCH(ROW()-5,geb.Rechnung!$G$4:$G$1000,0),COLUMN()+1))","v":""}]
[{"$f":"IF(ISNA(INDEX(geb.Rechnung!$A$4:$G$1000,MATCH(ROW()-5,geb.Rechnung!$G$4:$G$1000,0),COLUMN()-1)),\"\",INDEX(geb.Rechnung!$A$4:$G$1000,MATCH(ROW()-5,geb.Rechnung!$G$4:$G$1000,0),COLUMN()-1))","v":""},{"$f":"IF(ISNA(INDEX(geb.Rechnung!$A$4:$G$1000,MATCH(ROW()-5,geb.Rechnung!$G$4:$G$1000,0),COLUMN()-2)),\"\",INDEX(geb.Rechnung!$A$4:$G$1000,MATCH(ROW()-5,geb.Rechnung!$G$4:$G$1000,0),COLUMN()-2))","v":""},{"$f":"IF(ISNA(INDEX(geb.Rechnung!$A$4:$G$1000,MATCH(ROW()-5,geb.Rechnung!$G$4:$G$1000,0),COLUMN()+1)),\"\",INDEX(geb.Rechnung!$A$4:$G$1000,MATCH(ROW()-5,geb.Rechnung!$G$4:$G$1000,0),COLUMN()+1))","v":""},{"$f":"IF(ISNA(INDEX(geb.Rechnung!$A$4:$G$1000,MATCH(ROW()-5,geb.Rechnung!$G$4:$G$1000,0),COLUMN()+1)),\"\",INDEX(geb.Rechnung!$A$4:$G$1000,MATCH(ROW()-5,geb.Rechnung!$G$4:$G$1000,0),COLUMN()+1))","v":""}]
[{"$f":"IF(ISNA(INDEX(geb.Rechnung!$A$4:$G$1000,MATCH(ROW()-5,geb.Rechnung!$G$4:$G$1000,0),COLUMN()-1)),\"\",INDEX(geb.Rechnung!$A$4:$G$1000,MATCH(ROW()-5,geb.Rechnung!$G$4:$G$1000,0),COLUMN()-1))","v":""},{"$f":"IF(ISNA(INDEX(geb.Rechnung!$A$4:$G$1000,MATCH(ROW()-5,geb.Rechnung!$G$4:$G$1000,0),COLUMN()-2)),\"\",INDEX(geb.Rechnung!$A$4:$G$1000,MATCH(ROW()-5,geb.Rechnung!$G$4:$G$1000,0),COLUMN()-2))","v":""},{"$f":"IF(ISNA(INDEX(geb.Rechnung!$A$4:$G$1000,MATCH(ROW()-5,geb.Rechnung!$G$4:$G$1000,0),COLUMN()+1)),\"\",INDEX(geb.Rechnung!$A$4:$G$1000,MATCH(ROW()-5,geb.Rechnung!$G$4:$G$1000,0),COLUMN()+1))","v":""},{"$f":"IF(ISNA(INDEX(geb.Rechnung!$A$4:$G$1000,MATCH(ROW()-5,geb.Rechnung!$G$4:$G$1000,0),COLUMN()+1)),\"\",INDEX(geb.Rechnung!$A$4:$G$1000,MATCH(ROW()-5,geb.Rechnung!$G$4:$G$1000,0),COLUMN()+1))","v":""}]
[{"$f":"IF(ISNA(INDEX(geb.Rechnung!$A$4:$G$1000,MATCH(ROW()-5,geb.Rechnung!$G$4:$G$1000,0),COLUMN()-1)),\"\",INDEX(geb.Rechnung!$A$4:$G$1000,MATCH(ROW()-5,geb.Rechnung!$G$4:$G$1000,0),COLUMN()-1))","v":""},{"$f":"IF(ISNA(INDEX(geb.Rechnung!$A$4:$G$1000,MATCH(ROW()-5,geb.Rechnung!$G$4:$G$1000,0),COLUMN()-2)),\"\",INDEX(geb.Rechnung!$A$4:$G$1000,MATCH(ROW()-5,geb.Rechnung!$G$4:$G$1000,0),COLUMN()-2))","v":""},{"$f":"IF(ISNA(INDEX(geb.Rechnung!$A$4:$G$1000,MATCH(ROW()-5,geb.Rechnung!$G$4:$G$1000,0),COLUMN()+1)),\"\",INDEX(geb.Rechnung!$A$4:$G$1000,MATCH(ROW()-5,geb.Rechnung!$G$4:$G$1000,0),COLUMN()+1))","v":""},{"$f":"IF(ISNA(INDEX(geb.Rechnung!$A$4:$G$1000,MATCH(ROW()-5,geb.Rechnung!$G$4:$G$1000,0),COLUMN()+1)),\"\",INDEX(geb.Rechnung!$A$4:$G$1000,MATCH(ROW()-5,geb.Rechnung!$G$4:$G$1000,0),COLUMN()+1))","v":""}]
[{"$f":"IF(ISNA(INDEX(geb.Rechnung!$A$4:$G$1000,MATCH(ROW()-5,geb.Rechnung!$G$4:$G$1000,0),COLUMN()-1)),\"\",INDEX(geb.Rechnung!$A$4:$G$1000,MATCH(ROW()-5,geb.Rechnung!$G$4:$G$1000,0),COLUMN()-1))","v":""},{"$f":"IF(ISNA(INDEX(geb.Rechnung!$A$4:$G$1000,MATCH(ROW()-5,geb.Rechnung!$G$4:$G$1000,0),COLUMN()-2)),\"\",INDEX(geb.Rechnung!$A$4:$G$1000,MATCH(ROW()-5,geb.Rechnung!$G$4:$G$1000,0),COLUMN()-2))","v":""},{"$f":"IF(ISNA(INDEX(geb.Rechnung!$A$4:$G$1000,MATCH(ROW()-5,geb.Rechnung!$G$4:$G$1000,0),COLUMN()+1)),\"\",INDEX(geb.Rechnung!$A$4:$G$1000,MATCH(ROW()-5,geb.Rechnung!$G$4:$G$1000,0),COLUMN()+1))","v":""},{"$f":"IF(ISNA(INDEX(geb.Rechnung!$A$4:$G$1000,MATCH(ROW()-5,geb.Rechnung!$G$4:$G$1000,0),COLUMN()+1)),\"\",INDEX(geb.Rechnung!$A$4:$G$1000,MATCH(ROW()-5,geb.Rechnung!$G$4:$G$1000,0),COLUMN()+1))","v":""}]
[{"$f":"IF(ISNA(INDEX(geb.Rechnung!$A$4:$G$1000,MATCH(ROW()-5,geb.Rechnung!$G$4:$G$1000,0),COLUMN()-1)),\"\",INDEX(geb.Rechnung!$A$4:$G$1000,MATCH(ROW()-5,geb.Rechnung!$G$4:$G$1000,0),COLUMN()-1))","v":""},{"$f":"IF(ISNA(INDEX(geb.Rechnung!$A$4:$G$1000,MATCH(ROW()-5,geb.Rechnung!$G$4:$G$1000,0),COLUMN()-2)),\"\",INDEX(geb.Rechnung!$A$4:$G$1000,MATCH(ROW()-5,geb.Rechnung!$G$4:$G$1000,0),COLUMN()-2))","v":""},{"$f":"IF(ISNA(INDEX(geb.Rechnung!$A$4:$G$1000,MATCH(ROW()-5,geb.Rechnung!$G$4:$G$1000,0),COLUMN()+1)),\"\",INDEX(geb.Rechnung!$A$4:$G$1000,MATCH(ROW()-5,geb.Rechnung!$G$4:$G$1000,0),COLUMN()+1))","v":""},{"$f":"IF(ISNA(INDEX(geb.Rechnung!$A$4:$G$1000,MATCH(ROW()-5,geb.Rechnung!$G$4:$G$1000,0),COLUMN()+1)),\"\",INDEX(geb.Rechnung!$A$4:$G$1000,MATCH(ROW()-5,geb.Rechnung!$G$4:$G$1000,0),COLUMN()+1))","v":""}]
[{"$f":"IF(ISNA(INDEX(geb.Rechnung!$A$4:$G$1000,MATCH(ROW()-5,geb.Rechnung!$G$4:$G$1000,0),COLUMN()-1)),\"\",INDEX(geb.Rechnung!$A$4:$G$1000,MATCH(ROW()-5,geb.Rechnung!$G$4:$G$1000,0),COLUMN()-1))","v":""},{"$f":"IF(ISNA(INDEX(geb.Rechnung!$A$4:$G$1000,MATCH(ROW()-5,geb.Rechnung!$G$4:$G$1000,0),COLUMN()-2)),\"\",INDEX(geb.Rechnung!$A$4:$G$1000,MATCH(ROW()-5,geb.Rechnung!$G$4:$G$1000,0),COLUMN()-2))","v":""},{"$f":"IF(ISNA(INDEX(geb.Rechnung!$A$4:$G$1000,MATCH(ROW()-5,geb.Rechnung!$G$4:$G$1000,0),COLUMN()+1)),\"\",INDEX(geb.Rechnung!$A$4:$G$1000,MATCH(ROW()-5,geb.Rechnung!$G$4:$G$1000,0),COLUMN()+1))","v":""},{"$f":"IF(ISNA(INDEX(geb.Rechnung!$A$4:$G$1000,MATCH(ROW()-5,geb.Rechnung!$G$4:$G$1000,0),COLUMN()+1)),\"\",INDEX(geb.Rechnung!$A$4:$G$1000,MATCH(ROW()-5,geb.Rechnung!$G$4:$G$1000,0),COLUMN()+1))","v":""}]
[{"$f":"IF(ISNA(INDEX(geb.Rechnung!$A$4:$G$1000,MATCH(ROW()-5,geb.Rechnung!$G$4:$G$1000,0),COLUMN()-1)),\"\",INDEX(geb.Rechnung!$A$4:$G$1000,MATCH(ROW()-5,geb.Rechnung!$G$4:$G$1000,0),COLUMN()-1))","v":""},{"$f":"IF(ISNA(INDEX(geb.Rechnung!$A$4:$G$1000,MATCH(ROW()-5,geb.Rechnung!$G$4:$G$1000,0),COLUMN()-2)),\"\",INDEX(geb.Rechnung!$A$4:$G$1000,MATCH(ROW()-5,geb.Rechnung!$G$4:$G$1000,0),COLUMN()-2))","v":""},{"$f":"IF(ISNA(INDEX(geb.Rechnung!$A$4:$G$1000,MATCH(ROW()-5,geb.Rechnung!$G$4:$G$1000,0),COLUMN()+1)),\"\",INDEX(geb.Rechnung!$A$4:$G$1000,MATCH(ROW()-5,geb.Rechnung!$G$4:$G$1000,0),COLUMN()+1))","v":""},{"$f":"IF(ISNA(INDEX(geb.Rechnung!$A$4:$G$1000,MATCH(ROW()-5,geb.Rechnung!$G$4:$G$1000,0),COLUMN()+1)),\"\",INDEX(geb.Rechnung!$A$4:$G$1000,MATCH(ROW()-5,geb.Rechnung!$G$4:$G$1000,0),COLUMN()+1))","v":""}]
[{"$f":"IF(ISNA(INDEX(geb.Rechnung!$A$4:$G$1000,MATCH(ROW()-5,geb.Rechnung!$G$4:$G$1000,0),COLUMN()-1)),\"\",INDEX(geb.Rechnung!$A$4:$G$1000,MATCH(ROW()-5,geb.Rechnung!$G$4:$G$1000,0),COLUMN()-1))","v":""},{"$f":"IF(ISNA(INDEX(geb.Rechnung!$A$4:$G$1000,MATCH(ROW()-5,geb.Rechnung!$G$4:$G$1000,0),COLUMN()-2)),\"\",INDEX(geb.Rechnung!$A$4:$G$1000,MATCH(ROW()-5,geb.Rechnung!$G$4:$G$1000,0),COLUMN()-2))","v":""},{"$f":"IF(ISNA(INDEX(geb.Rechnung!$A$4:$G$1000,MATCH(ROW()-5,geb.Rechnung!$G$4:$G$1000,0),COLUMN()+1)),\"\",INDEX(geb.Rechnung!$A$4:$G$1000,MATCH(ROW()-5,geb.Rechnung!$G$4:$G$1000,0),COLUMN()+1))","v":""},{"$f":"IF(ISNA(INDEX(geb.Rechnung!$A$4:$G$1000,MATCH(ROW()-5,geb.Rechnung!$G$4:$G$1000,0),COLUMN()+1)),\"\",INDEX(geb.Rechnung!$A$4:$G$1000,MATCH(ROW()-5,geb.Rechnung!$G$4:$G$1000,0),COLUMN()+1))","v":""}]
[{"$f":"IF(ISNA(INDEX(geb.Rechnung!$A$4:$G$1000,MATCH(ROW()-5,geb.Rechnung!$G$4:$G$1000,0),COLUMN()-1)),\"\",INDEX(geb.Rechnung!$A$4:$G$1000,MATCH(ROW()-5,geb.Rechnung!$G$4:$G$1000,0),COLUMN()-1))","v":""},{"$f":"IF(ISNA(INDEX(geb.Rechnung!$A$4:$G$1000,MATCH(ROW()-5,geb.Rechnung!$G$4:$G$1000,0),COLUMN()-2)),\"\",INDEX(geb.Rechnung!$A$4:$G$1000,MATCH(ROW()-5,geb.Rechnung!$G$4:$G$1000,0),COLUMN()-2))","v":""},{"$f":"IF(ISNA(INDEX(geb.Rechnung!$A$4:$G$1000,MATCH(ROW()-5,geb.Rechnung!$G$4:$G$1000,0),COLUMN()+1)),\"\",INDEX(geb.Rechnung!$A$4:$G$1000,MATCH(ROW()-5,geb.Rechnung!$G$4:$G$1000,0),COLUMN()+1))","v":""},{"$f":"IF(ISNA(INDEX(geb.Rechnung!$A$4:$G$1000,MATCH(ROW()-5,geb.Rechnung!$G$4:$G$1000,0),COLUMN()+1)),\"\",INDEX(geb.Rechnung!$A$4:$G$1000,MATCH(ROW()-5,geb.Rechnung!$G$4:$G$1000,0),COLUMN()+1))","v":""}]
[{"$f":"IF(ISNA(INDEX(geb.Rechnung!$A$4:$G$1000,MATCH(ROW()-5,geb.Rechnung!$G$4:$G$1000,0),COLUMN()-1)),\"\",INDEX(geb.Rechnung!$A$4:$G$1000,MATCH(ROW()-5,geb.Rechnung!$G$4:$G$1000,0),COLUMN()-1))","v":""},{"$f":"IF(ISNA(INDEX(geb.Rechnung!$A$4:$G$1000,MATCH(ROW()-5,geb.Rechnung!$G$4:$G$1000,0),COLUMN()-2)),\"\",INDEX(geb.Rechnung!$A$4:$G$1000,MATCH(ROW()-5,geb.Rechnung!$G$4:$G$1000,0),COLUMN()-2))","v":""},{"$f":"IF(ISNA(INDEX(geb.Rechnung!$A$4:$G$1000,MATCH(ROW()-5,geb.Rechnung!$G$4:$G$1000,0),COLUMN()+1)),\"\",INDEX(geb.Rechnung!$A$4:$G$1000,MATCH(ROW()-5,geb.Rechnung!$G$4:$G$1000,0),COLUMN()+1))","v":""},{"$f":"IF(ISNA(INDEX(geb.Rechnung!$A$4:$G$1000,MATCH(ROW()-5,geb.Rechnung!$G$4:$G$1000,0),COLUMN()+1)),\"\",INDEX(geb.Rechnung!$A$4:$G$1000,MATCH(ROW()-5,geb.Rechnung!$G$4:$G$1000,0),COLUMN()+1))","v":""}]
[{"$f":"IF(ISNA(INDEX(geb.Rechnung!$A$4:$G$1000,MATCH(ROW()-5,geb.Rechnung!$G$4:$G$1000,0),COLUMN()-1)),\"\",INDEX(geb.Rechnung!$A$4:$G$1000,MATCH(ROW()-5,geb.Rechnung!$G$4:$G$1000,0),COLUMN()-1))","v":""},{"$f":"IF(ISNA(INDEX(geb.Rechnung!$A$4:$G$1000,MATCH(ROW()-5,geb.Rechnung!$G$4:$G$1000,0),COLUMN()-2)),\"\",INDEX(geb.Rechnung!$A$4:$G$1000,MATCH(ROW()-5,geb.Rechnung!$G$4:$G$1000,0),COLUMN()-2))","v":""},{"$f":"IF(ISNA(INDEX(geb.Rechnung!$A$4:$G$1000,MATCH(ROW()-5,geb.Rechnung!$G$4:$G$1000,0),COLUMN()+1)),\"\",INDEX(geb.Rechnung!$A$4:$G$1000,MATCH(ROW()-5,geb.Rechnung!$G$4:$G$1000,0),COLUMN()+1))","v":""},{"$f":"IF(ISNA(INDEX(geb.Rechnung!$A$4:$G$1000,MATCH(ROW()-5,geb.Rechnung!$G$4:$G$1000,0),COLUMN()+1)),\"\",INDEX(geb.Rechnung!$A$4:$G$1000,MATCH(ROW()-5,geb.Rechnung!$G$4:$G$1000,0),COLUMN()+1))","v":""}]
[{"$f":"IF(ISNA(INDEX(geb.Rechnung!$A$4:$G$1000,MATCH(ROW()-5,geb.Rechnung!$G$4:$G$1000,0),COLUMN()-1)),\"\",INDEX(geb.Rechnung!$A$4:$G$1000,MATCH(ROW()-5,geb.Rechnung!$G$4:$G$1000,0),COLUMN()-1))","v":""},{"$f":"IF(ISNA(INDEX(geb.Rechnung!$A$4:$G$1000,MATCH(ROW()-5,geb.Rechnung!$G$4:$G$1000,0),COLUMN()-2)),\"\",INDEX(geb.Rechnung!$A$4:$G$1000,MATCH(ROW()-5,geb.Rechnung!$G$4:$G$1000,0),COLUMN()-2))","v":""},{"$f":"IF(ISNA(INDEX(geb.Rechnung!$A$4:$G$1000,MATCH(ROW()-5,geb.Rechnung!$G$4:$G$1000,0),COLUMN()+1)),\"\",INDEX(geb.Rechnung!$A$4:$G$1000,MATCH(ROW()-5,geb.Rechnung!$G$4:$G$1000,0),COLUMN()+1))","v":""},{"$f":"IF(ISNA(INDEX(geb.Rechnung!$A$4:$G$1000,MATCH(ROW()-5,geb.Rechnung!$G$4:$G$1000,0),COLUMN()+1)),\"\",INDEX(geb.Rechnung!$A$4:$G$1000,MATCH(ROW()-5,geb.Rechnung!$G$4:$G$1000,0),COLUMN()+1))","v":""}]
[{"$f":"IF(ISNA(INDEX(geb.Rechnung!$A$4:$G$1000,MATCH(ROW()-5,geb.Rechnung!$G$4:$G$1000,0),COLUMN()-1)),\"\",INDEX(geb.Rechnung!$A$4:$G$1000,MATCH(ROW()-5,geb.Rechnung!$G$4:$G$1000,0),COLUMN()-1))","v":""},{"$f":"IF(ISNA(INDEX(geb.Rechnung!$A$4:$G$1000,MATCH(ROW()-5,geb.Rechnung!$G$4:$G$1000,0),COLUMN()-2)),\"\",INDEX(geb.Rechnung!$A$4:$G$1000,MATCH(ROW()-5,geb.Rechnung!$G$4:$G$1000,0),COLUMN()-2))","v":""},{"$f":"IF(ISNA(INDEX(geb.Rechnung!$A$4:$G$1000,MATCH(ROW()-5,geb.Rechnung!$G$4:$G$1000,0),COLUMN()+1)),\"\",INDEX(geb.Rechnung!$A$4:$G$1000,MATCH(ROW()-5,geb.Rechnung!$G$4:$G$1000,0),COLUMN()+1))","v":""},{"$f":"IF(ISNA(INDEX(geb.Rechnung!$A$4:$G$1000,MATCH(ROW()-5,geb.Rechnung!$G$4:$G$1000,0),COLUMN()+1)),\"\",INDEX(geb.Rechnung!$A$4:$G$1000,MATCH(ROW()-5,geb.Rechnung!$G$4:$G$1000,0),COLUMN()+1))","v":""}]
[{"$f":"IF(ISNA(INDEX(geb.Rechnung!$A$4:$G$1000,MATCH(ROW()-5,geb.Rechnung!$G$4:$G$1000,0),COLUMN()-1)),\"\",INDEX(geb.Rechnung!$A$4:$G$1000,MATCH(ROW()-5,geb.Rechnung!$G$4:$G$1000,0),COLUMN()-1))","v":""},{"$f":"IF(ISNA(INDEX(geb.Rechnung!$A$4:$G$1000,MATCH(ROW()-5,geb.Rechnung!$G$4:$G$1000,0),COLUMN()-2)),\"\",INDEX(geb.Rechnung!$A$4:$G$1000,MATCH(ROW()-5,geb.Rechnung!$G$4:$G$1000,0),COLUMN()-2))","v":""},{"$f":"IF(ISNA(INDEX(geb.Rechnung!$A$4:$G$1000,MATCH(ROW()-5,geb.Rechnung!$G$4:$G$1000,0),COLUMN()+1)),\"\",INDEX(geb.Rechnung!$A$4:$G$1000,MATCH(ROW()-5,geb.Rechnung!$G$4:$G$1000,0),COLUMN()+1))","v":""},{"$f":"IF(ISNA(INDEX(geb.Rechnung!$A$4:$G$1000,MATCH(ROW()-5,geb.Rechnung!$G$4:$G$1000,0),COLUMN()+1)),\"\",INDEX(geb.Rechnung!$A$4:$G$1000,MATCH(ROW()-5,geb.Rechnung!$G$4:$G$1000,0),COLUMN()+1))","v":""}]
[{"$f":"IF(ISNA(INDEX(geb.Rechnung!$A$4:$G$1000,MATCH(ROW()-5,geb.Rechnung!$G$4:$G$1000,0),COLUMN()-1)),\"\",INDEX(geb.Rechnung!$A$4:$G$1000,MATCH(ROW()-5,geb.Rechnung!$G$4:$G$1000,0),COLUMN()-1))","v":""},{"$f":"IF(ISNA(INDEX(geb.Rechnung!$A$4:$G$1000,MATCH(ROW()-5,geb.Rechnung!$G$4:$G$1000,0),COLUMN()-2)),\"\",INDEX(geb.Rechnung!$A$4:$G$1000,MATCH(ROW()-5,geb.Rechnung!$G$4:$G$1000,0),COLUMN()-2))","v":""},{"$f":"IF(ISNA(INDEX(geb.Rechnung!$A$4:$G$1000,MATCH(ROW()-5,geb.Rechnung!$G$4:$G$1000,0),COLUMN()+1)),\"\",INDEX(geb.Rechnung!$A$4:$G$1000,MATCH(ROW()-5,geb.Rechnung!$G$4:$G$1000,0),COLUMN()+1))","v":""},{"$f":"IF(ISNA(INDEX(geb.Rechnung!$A$4:$G$1000,MATCH(ROW()-5,geb.Rechnung!$G$4:$G$1000,0),COLUMN()+1)),\"\",INDEX(geb.Rechnung!$A$4:$G$1000,MATCH(ROW()-5,geb.Rechnung!$G$4:$G$1000,0),COLUMN()+1))","v":""}]
[{"$f":"IF(ISNA(INDEX(geb.Rechnung!$A$4:$G$1000,MATCH(ROW()-5,geb.Rechnung!$G$4:$G$1000,0),COLUMN()-1)),\"\",INDEX(geb.Rechnung!$A$4:$G$1000,MATCH(ROW()-5,geb.Rechnung!$G$4:$G$1000,0),COLUMN()-1))","v":""},{"$f":"IF(ISNA(INDEX(geb.Rechnung!$A$4:$G$1000,MATCH(ROW()-5,geb.Rechnung!$G$4:$G$1000,0),COLUMN()-2)),\"\",INDEX(geb.Rechnung!$A$4:$G$1000,MATCH(ROW()-5,geb.Rechnung!$G$4:$G$1000,0),COLUMN()-2))","v":""},{"$f":"IF(ISNA(INDEX(geb.Rechnung!$A$4:$G$1000,MATCH(ROW()-5,geb.Rechnung!$G$4:$G$1000,0),COLUMN()+1)),\"\",INDEX(geb.Rechnung!$A$4:$G$1000,MATCH(ROW()-5,geb.Rechnung!$G$4:$G$1000,0),COLUMN()+1))","v":""},{"$f":"IF(ISNA(INDEX(geb.Rechnung!$A$4:$G$1000,MATCH(ROW()-5,geb.Rechnung!$G$4:$G$1000,0),COLUMN()+1)),\"\",INDEX(geb.Rechnung!$A$4:$G$1000,MATCH(ROW()-5,geb.Rechnung!$G$4:$G$1000,0),COLUMN()+1))","v":""}]
[{"$f":"IF(ISNA(INDEX(geb.Rechnung!$A$4:$G$1000,MATCH(ROW()-5,geb.Rechnung!$G$4:$G$1000,0),COLUMN()-1)),\"\",INDEX(geb.Rechnung!$A$4:$G$1000,MATCH(ROW()-5,geb.Rechnung!$G$4:$G$1000,0),COLUMN()-1))","v":""},{"$f":"IF(ISNA(INDEX(geb.Rechnung!$A$4:$G$1000,MATCH(ROW()-5,geb.Rechnung!$G$4:$G$1000,0),COLUMN()-2)),\"\",INDEX(geb.Rechnung!$A$4:$G$1000,MATCH(ROW()-5,geb.Rechnung!$G$4:$G$1000,0),COLUMN()-2))","v":""},{"$f":"IF(ISNA(INDEX(geb.Rechnung!$A$4:$G$1000,MATCH(ROW()-5,geb.Rechnung!$G$4:$G$1000,0),COLUMN()+1)),\"\",INDEX(geb.Rechnung!$A$4:$G$1000,MATCH(ROW()-5,geb.Rechnung!$G$4:$G$1000,0),COLUMN()+1))","v":""},{"$f":"IF(ISNA(INDEX(geb.Rechnung!$A$4:$G$1000,MATCH(ROW()-5,geb.Rechnung!$G$4:$G$1000,0),COLUMN()+1)),\"\",INDEX(geb.Rechnung!$A$4:$G$1000,MATCH(ROW()-5,geb.Rechnung!$G$4:$G$1000,0),COLUMN()+1))","v":""}]
[{"$f":"IF(ISNA(INDEX(geb.Rechnung!$A$4:$G$1000,MATCH(ROW()-5,geb.Rechnung!$G$4:$G$1000,0),COLUMN()-1)),\"\",INDEX(geb.Rechnung!$A$4:$G$1000,MATCH(ROW()-5,geb.Rechnung!$G$4:$G$1000,0),COLUMN()-1))","v":""},{"$f":"IF(ISNA(INDEX(geb.Rechnung!$A$4:$G$1000,MATCH(ROW()-5,geb.Rechnung!$G$4:$G$1000,0),COLUMN()-2)),\"\",INDEX(geb.Rechnung!$A$4:$G$1000,MATCH(ROW()-5,geb.Rechnung!$G$4:$G$1000,0),COLUMN()-2))","v":""},{"$f":"IF(ISNA(INDEX(geb.Rechnung!$A$4:$G$1000,MATCH(ROW()-5,geb.Rechnung!$G$4:$G$1000,0),COLUMN()+1)),\"\",INDEX(geb.Rechnung!$A$4:$G$1000,MATCH(ROW()-5,geb.Rechnung!$G$4:$G$1000,0),COLUMN()+1))","v":""},{"$f":"IF(ISNA(INDEX(geb.Rechnung!$A$4:$G$1000,MATCH(ROW()-5,geb.Rechnung!$G$4:$G$1000,0),COLUMN()+1)),\"\",INDEX(geb.Rechnung!$A$4:$G$1000,MATCH(ROW()-5,geb.Rechnung!$G$4:$G$1000,0),COLUMN()+1))","v":""}]
[{"$f":"IF(ISNA(INDEX(geb.Rechnung!$A$4:$G$1000,MATCH(ROW()-5,geb.Rechnung!$G$4:$G$1000,0),COLUMN()-1)),\"\",INDEX(geb.Rechnung!$A$4:$G$1000,MATCH(ROW()-5,geb.Rechnung!$G$4:$G$1000,0),COLUMN()-1))","v":""},{"$f":"IF(ISNA(INDEX(geb.Rechnung!$A$4:$G$1000,MATCH(ROW()-5,geb.Rechnung!$G$4:$G$1000,0),COLUMN()-2)),\"\",INDEX(geb.Rechnung!$A$4:$G$1000,MATCH(ROW()-5,geb.Rechnung!$G$4:$G$1000,0),COLUMN()-2))","v":""},{"$f":"IF(ISNA(INDEX(geb.Rechnung!$A$4:$G$1000,MATCH(ROW()-5,geb.Rechnung!$G$4:$G$1000,0),COLUMN()+1)),\"\",INDEX(geb.Rechnung!$A$4:$G$1000,MATCH(ROW()-5,geb.Rechnung!$G$4:$G$1000,0),COLUMN()+1))","v":""},{"$f":"IF(ISNA(INDEX(geb.Rechnung!$A$4:$G$1000,MATCH(ROW()-5,geb.Rechnung!$G$4:$G$1000,0),COLUMN()+1)),\"\",INDEX(geb.Rechnung!$A$4:$G$1000,MATCH(ROW()-5,geb.Rechnung!$G$4:$G$1000,0),COLUMN()+1))","v":""}]
[{"$f":"IF(ISNA(INDEX(geb.Rechnung!$A$4:$G$1000,MATCH(ROW()-5,geb.Rechnung!$G$4:$G$1000,0),COLUMN()-1)),\"\",INDEX(geb.Rechnung!$A$4:$G$1000,MATCH(ROW()-5,geb.Rechnung!$G$4:$G$1000,0),COLUMN()-1))","v":""},{"$f":"IF(ISNA(INDEX(geb.Rechnung!$A$4:$G$1000,MATCH(ROW()-5,geb.Rechnung!$G$4:$G$1000,0),COLUMN()-2)),\"\",INDEX(geb.Rechnung!$A$4:$G$1000,MATCH(ROW()-5,geb.Rechnung!$G$4:$G$1000,0),COLUMN()-2))","v":""},{"$f":"IF(ISNA(INDEX(geb.Rechnung!$A$4:$G$1000,MATCH(ROW()-5,geb.Rechnung!$G$4:$G$1000,0),COLUMN()+1)),\"\",INDEX(geb.Rechnung!$A$4:$G$1000,MATCH(ROW()-5,geb.Rechnung!$G$4:$G$1000,0),COLUMN()+1))","v":""},{"$f":"IF(ISNA(INDEX(geb.Rechnung!$A$4:$G$1000,MATCH(ROW()-5,geb.Rechnung!$G$4:$G$1000,0),COLUMN()+1)),\"\",INDEX(geb.Rechnung!$A$4:$G$1000,MATCH(ROW()-5,geb.Rechnung!$G$4:$G$1000,0),COLUMN()+1))","v":""}]
[{"$f":"IF(ISNA(INDEX(geb.Rechnung!$A$4:$G$1000,MATCH(ROW()-5,geb.Rechnung!$G$4:$G$1000,0),COLUMN()-1)),\"\",INDEX(geb.Rechnung!$A$4:$G$1000,MATCH(ROW()-5,geb.Rechnung!$G$4:$G$1000,0),COLUMN()-1))","v":""},{"$f":"IF(ISNA(INDEX(geb.Rechnung!$A$4:$G$1000,MATCH(ROW()-5,geb.Rechnung!$G$4:$G$1000,0),COLUMN()-2)),\"\",INDEX(geb.Rechnung!$A$4:$G$1000,MATCH(ROW()-5,geb.Rechnung!$G$4:$G$1000,0),COLUMN()-2))","v":""},{"$f":"IF(ISNA(INDEX(geb.Rechnung!$A$4:$G$1000,MATCH(ROW()-5,geb.Rechnung!$G$4:$G$1000,0),COLUMN()+1)),\"\",INDEX(geb.Rechnung!$A$4:$G$1000,MATCH(ROW()-5,geb.Rechnung!$G$4:$G$1000,0),COLUMN()+1))","v":""},{"$f":"IF(ISNA(INDEX(geb.Rechnung!$A$4:$G$1000,MATCH(ROW()-5,geb.Rechnung!$G$4:$G$1000,0),COLUMN()+1)),\"\",INDEX(geb.Rechnung!$A$4:$G$1000,MATCH(ROW()-5,geb.Rechnung!$G$4:$G$1000,0),COLUMN()+1))","v":""}]
[{"$f":"IF(ISNA(INDEX(geb.Rechnung!$A$4:$G$1000,MATCH(ROW()-5,geb.Rechnung!$G$4:$G$1000,0),COLUMN()-1)),\"\",INDEX(geb.Rechnung!$A$4:$G$1000,MATCH(ROW()-5,geb.Rechnung!$G$4:$G$1000,0),COLUMN()-1))","v":""},{"$f":"IF(ISNA(INDEX(geb.Rechnung!$A$4:$G$1000,MATCH(ROW()-5,geb.Rechnung!$G$4:$G$1000,0),COLUMN()-2)),\"\",INDEX(geb.Rechnung!$A$4:$G$1000,MATCH(ROW()-5,geb.Rechnung!$G$4:$G$1000,0),COLUMN()-2))","v":""},{"$f":"IF(ISNA(INDEX(geb.Rechnung!$A$4:$G$1000,MATCH(ROW()-5,geb.Rechnung!$G$4:$G$1000,0),COLUMN()+1)),\"\",INDEX(geb.Rechnung!$A$4:$G$1000,MATCH(ROW()-5,geb.Rechnung!$G$4:$G$1000,0),COLUMN()+1))","v":""},{"$f":"IF(ISNA(INDEX(geb.Rechnung!$A$4:$G$1000,MATCH(ROW()-5,geb.Rechnung!$G$4:$G$1000,0),COLUMN()+1)),\"\",INDEX(geb.Rechnung!$A$4:$G$1000,MATCH(ROW()-5,geb.Rechnung!$G$4:$G$1000,0),COLUMN()+1))","v":""}]
[{"$f":"IF(ISNA(INDEX(geb.Rechnung!$A$4:$G$1000,MATCH(ROW()-5,geb.Rechnung!$G$4:$G$1000,0),COLUMN()-1)),\"\",INDEX(geb.Rechnung!$A$4:$G$1000,MATCH(ROW()-5,geb.Rechnung!$G$4:$G$1000,0),COLUMN()-1))","v":""},{"$f":"IF(ISNA(INDEX(geb.Rechnung!$A$4:$G$1000,MATCH(ROW()-5,geb.Rechnung!$G$4:$G$1000,0),COLUMN()-2)),\"\",INDEX(geb.Rechnung!$A$4:$G$1000,MATCH(ROW()-5,geb.Rechnung!$G$4:$G$1000,0),COLUMN()-2))","v":""},{"$f":"IF(ISNA(INDEX(geb.Rechnung!$A$4:$G$1000,MATCH(ROW()-5,geb.Rechnung!$G$4:$G$1000,0),COLUMN()+1)),\"\",INDEX(geb.Rechnung!$A$4:$G$1000,MATCH(ROW()-5,geb.Rechnung!$G$4:$G$1000,0),COLUMN()+1))","v":""},{"$f":"IF(ISNA(INDEX(geb.Rechnung!$A$4:$G$1000,MATCH(ROW()-5,geb.Rechnung!$G$4:$G$1000,0),COLUMN()+1)),\"\",INDEX(geb.Rechnung!$A$4:$G$1000,MATCH(ROW()-5,geb.Rechnung!$G$4:$G$1000,0),COLUMN()+1))","v":""}]
[{"$f":"IF(ISNA(INDEX(geb.Rechnung!$A$4:$G$1000,MATCH(ROW()-5,geb.Rechnung!$G$4:$G$1000,0),COLUMN()-1)),\"\",INDEX(geb.Rechnung!$A$4:$G$1000,MATCH(ROW()-5,geb.Rechnung!$G$4:$G$1000,0),COLUMN()-1))","v":""},{"$f":"IF(ISNA(INDEX(geb.Rechnung!$A$4:$G$1000,MATCH(ROW()-5,geb.Rechnung!$G$4:$G$1000,0),COLUMN()-2)),\"\",INDEX(geb.Rechnung!$A$4:$G$1000,MATCH(ROW()-5,geb.Rechnung!$G$4:$G$1000,0),COLUMN()-2))","v":""},{"$f":"IF(ISNA(INDEX(geb.Rechnung!$A$4:$G$1000,MATCH(ROW()-5,geb.Rechnung!$G$4:$G$1000,0),COLUMN()+1)),\"\",INDEX(geb.Rechnung!$A$4:$G$1000,MATCH(ROW()-5,geb.Rechnung!$G$4:$G$1000,0),COLUMN()+1))","v":""},{"$f":"IF(ISNA(INDEX(geb.Rechnung!$A$4:$G$1000,MATCH(ROW()-5,geb.Rechnung!$G$4:$G$1000,0),COLUMN()+1)),\"\",INDEX(geb.Rechnung!$A$4:$G$1000,MATCH(ROW()-5,geb.Rechnung!$G$4:$G$1000,0),COLUMN()+1))","v":""}]
[{"$f":"IF(ISNA(INDEX(geb.Rechnung!$A$4:$G$1000,MATCH(ROW()-5,geb.Rechnung!$G$4:$G$1000,0),COLUMN()-1)),\"\",INDEX(geb.Rechnung!$A$4:$G$1000,MATCH(ROW()-5,geb.Rechnung!$G$4:$G$1000,0),COLUMN()-1))","v":""},{"$f":"IF(ISNA(INDEX(geb.Rechnung!$A$4:$G$1000,MATCH(ROW()-5,geb.Rechnung!$G$4:$G$1000,0),COLUMN()-2)),\"\",INDEX(geb.Rechnung!$A$4:$G$1000,MATCH(ROW()-5,geb.Rechnung!$G$4:$G$1000,0),COLUMN()-2))","v":""},{"$f":"IF(ISNA(INDEX(geb.Rechnung!$A$4:$G$1000,MATCH(ROW()-5,geb.Rechnung!$G$4:$G$1000,0),COLUMN()+1)),\"\",INDEX(geb.Rechnung!$A$4:$G$1000,MATCH(ROW()-5,geb.Rechnung!$G$4:$G$1000,0),COLUMN()+1))","v":""},{"$f":"IF(ISNA(INDEX(geb.Rechnung!$A$4:$G$1000,MATCH(ROW()-5,geb.Rechnung!$G$4:$G$1000,0),COLUMN()+1)),\"\",INDEX(geb.Rechnung!$A$4:$G$1000,MATCH(ROW()-5,geb.Rechnung!$G$4:$G$1000,0),COLUMN()+1))","v":""}]
[{"$f":"IF(ISNA(INDEX(geb.Rechnung!$A$4:$G$1000,MATCH(ROW()-5,geb.Rechnung!$G$4:$G$1000,0),COLUMN()-1)),\"\",INDEX(geb.Rechnung!$A$4:$G$1000,MATCH(ROW()-5,geb.Rechnung!$G$4:$G$1000,0),COLUMN()-1))","v":""},{"$f":"IF(ISNA(INDEX(geb.Rechnung!$A$4:$G$1000,MATCH(ROW()-5,geb.Rechnung!$G$4:$G$1000,0),COLUMN()-2)),\"\",INDEX(geb.Rechnung!$A$4:$G$1000,MATCH(ROW()-5,geb.Rechnung!$G$4:$G$1000,0),COLUMN()-2))","v":""},{"$f":"IF(ISNA(INDEX(geb.Rechnung!$A$4:$G$1000,MATCH(ROW()-5,geb.Rechnung!$G$4:$G$1000,0),COLUMN()+1)),\"\",INDEX(geb.Rechnung!$A$4:$G$1000,MATCH(ROW()-5,geb.Rechnung!$G$4:$G$1000,0),COLUMN()+1))","v":""},{"$f":"IF(ISNA(INDEX(geb.Rechnung!$A$4:$G$1000,MATCH(ROW()-5,geb.Rechnung!$G$4:$G$1000,0),COLUMN()+1)),\"\",INDEX(geb.Rechnung!$A$4:$G$1000,MATCH(ROW()-5,geb.Rechnung!$G$4:$G$1000,0),COLUMN()+1))","v":""}]
[{"$f":"IF(ISNA(INDEX(geb.Rechnung!$A$4:$G$1000,MATCH(ROW()-5,geb.Rechnung!$G$4:$G$1000,0),COLUMN()-1)),\"\",INDEX(geb.Rechnung!$A$4:$G$1000,MATCH(ROW()-5,geb.Rechnung!$G$4:$G$1000,0),COLUMN()-1))","v":""},{"$f":"IF(ISNA(INDEX(geb.Rechnung!$A$4:$G$1000,MATCH(ROW()-5,geb.Rechnung!$G$4:$G$1000,0),COLUMN()-2)),\"\",INDEX(geb.Rechnung!$A$4:$G$1000,MATCH(ROW()-5,geb.Rechnung!$G$4:$G$1000,0),COLUMN()-2))","v":""},{"$f":"IF(ISNA(INDEX(geb.Rechnung!$A$4:$G$1000,MATCH(ROW()-5,geb.Rechnung!$G$4:$G$1000,0),COLUMN()+1)),\"\",INDEX(geb.Rechnung!$A$4:$G$1000,MATCH(ROW()-5,geb.Rechnung!$G$4:$G$1000,0),COLUMN()+1))","v":""},{"$f":"IF(ISNA(INDEX(geb.Rechnung!$A$4:$G$1000,MATCH(ROW()-5,geb.Rechnung!$G$4:$G$1000,0),COLUMN()+1)),\"\",INDEX(geb.Rechnung!$A$4:$G$1000,MATCH(ROW()-5,geb.Rechnung!$G$4:$G$1000,0),COLUMN()+1))","v":""}]
[{"$f":"IF(ISNA(INDEX(geb.Rechnung!$A$4:$G$1000,MATCH(ROW()-5,geb.Rechnung!$G$4:$G$1000,0),COLUMN()-1)),\"\",INDEX(geb.Rechnung!$A$4:$G$1000,MATCH(ROW()-5,geb.Rechnung!$G$4:$G$1000,0),COLUMN()-1))","v":""},{"$f":"IF(ISNA(INDEX(geb.Rechnung!$A$4:$G$1000,MATCH(ROW()-5,geb.Rechnung!$G$4:$G$1000,0),COLUMN()-2)),\"\",INDEX(geb.Rechnung!$A$4:$G$1000,MATCH(ROW()-5,geb.Rechnung!$G$4:$G$1000,0),COLUMN()-2))","v":""},{"$f":"IF(ISNA(INDEX(geb.Rechnung!$A$4:$G$1000,MATCH(ROW()-5,geb.Rechnung!$G$4:$G$1000,0),COLUMN()+1)),\"\",INDEX(geb.Rechnung!$A$4:$G$1000,MATCH(ROW()-5,geb.Rechnung!$G$4:$G$1000,0),COLUMN()+1))","v":""},{"$f":"IF(ISNA(INDEX(geb.Rechnung!$A$4:$G$1000,MATCH(ROW()-5,geb.Rechnung!$G$4:$G$1000,0),COLUMN()+1)),\"\",INDEX(geb.Rechnung!$A$4:$G$1000,MATCH(ROW()-5,geb.Rechnung!$G$4:$G$1000,0),COLUMN()+1))","v":""}]
[{"$f":"IF(ISNA(INDEX(geb.Rechnung!$A$4:$G$1000,MATCH(ROW()-5,geb.Rechnung!$G$4:$G$1000,0),COLUMN()-1)),\"\",INDEX(geb.Rechnung!$A$4:$G$1000,MATCH(ROW()-5,geb.Rechnung!$G$4:$G$1000,0),COLUMN()-1))","v":""},{"$f":"IF(ISNA(INDEX(geb.Rechnung!$A$4:$G$1000,MATCH(ROW()-5,geb.Rechnung!$G$4:$G$1000,0),COLUMN()-2)),\"\",INDEX(geb.Rechnung!$A$4:$G$1000,MATCH(ROW()-5,geb.Rechnung!$G$4:$G$1000,0),COLUMN()-2))","v":""},{"$f":"IF(ISNA(INDEX(geb.Rechnung!$A$4:$G$1000,MATCH(ROW()-5,geb.Rechnung!$G$4:$G$1000,0),COLUMN()+1)),\"\",INDEX(geb.Rechnung!$A$4:$G$1000,MATCH(ROW()-5,geb.Rechnung!$G$4:$G$1000,0),COLUMN()+1))","v":""},{"$f":"IF(ISNA(INDEX(geb.Rechnung!$A$4:$G$1000,MATCH(ROW()-5,geb.Rechnung!$G$4:$G$1000,0),COLUMN()+1)),\"\",INDEX(geb.Rechnung!$A$4:$G$1000,MATCH(ROW()-5,geb.Rechnung!$G$4:$G$1000,0),COLUMN()+1))","v":""}]
[{"$f":"IF(ISNA(INDEX(geb.Rechnung!$A$4:$G$1000,MATCH(ROW()-5,geb.Rechnung!$G$4:$G$1000,0),COLUMN()-1)),\"\",INDEX(geb.Rechnung!$A$4:$G$1000,MATCH(ROW()-5,geb.Rechnung!$G$4:$G$1000,0),COLUMN()-1))","v":""},{"$f":"IF(ISNA(INDEX(geb.Rechnung!$A$4:$G$1000,MATCH(ROW()-5,geb.Rechnung!$G$4:$G$1000,0),COLUMN()-2)),\"\",INDEX(geb.Rechnung!$A$4:$G$1000,MATCH(ROW()-5,geb.Rechnung!$G$4:$G$1000,0),COLUMN()-2))","v":""},{"$f":"IF(ISNA(INDEX(geb.Rechnung!$A$4:$G$1000,MATCH(ROW()-5,geb.Rechnung!$G$4:$G$1000,0),COLUMN()+1)),\"\",INDEX(geb.Rechnung!$A$4:$G$1000,MATCH(ROW()-5,geb.Rechnung!$G$4:$G$1000,0),COLUMN()+1))","v":""},{"$f":"IF(ISNA(INDEX(geb.Rechnung!$A$4:$G$1000,MATCH(ROW()-5,geb.Rechnung!$G$4:$G$1000,0),COLUMN()+1)),\"\",INDEX(geb.Rechnung!$A$4:$G$1000,MATCH(ROW()-5,geb.Rechnung!$G$4:$G$1000,0),COLUMN()+1))","v":""}]
[{"$f":"IF(ISNA(INDEX(geb.Rechnung!$A$4:$G$1000,MATCH(ROW()-5,geb.Rechnung!$G$4:$G$1000,0),COLUMN()-1)),\"\",INDEX(geb.Rechnung!$A$4:$G$1000,MATCH(ROW()-5,geb.Rechnung!$G$4:$G$1000,0),COLUMN()-1))","v":""},{"$f":"IF(ISNA(INDEX(geb.Rechnung!$A$4:$G$1000,MATCH(ROW()-5,geb.Rechnung!$G$4:$G$1000,0),COLUMN()-2)),\"\",INDEX(geb.Rechnung!$A$4:$G$1000,MATCH(ROW()-5,geb.Rechnung!$G$4:$G$1000,0),COLUMN()-2))","v":""},{"$f":"IF(ISNA(INDEX(geb.Rechnung!$A$4:$G$1000,MATCH(ROW()-5,geb.Rechnung!$G$4:$G$1000,0),COLUMN()+1)),\"\",INDEX(geb.Rechnung!$A$4:$G$1000,MATCH(ROW()-5,geb.Rechnung!$G$4:$G$1000,0),COLUMN()+1))","v":""},{"$f":"IF(ISNA(INDEX(geb.Rechnung!$A$4:$G$1000,MATCH(ROW()-5,geb.Rechnung!$G$4:$G$1000,0),COLUMN()+1)),\"\",INDEX(geb.Rechnung!$A$4:$G$1000,MATCH(ROW()-5,geb.Rechnung!$G$4:$G$1000,0),COLUMN()+1))","v":""}]
[{"$f":"IF(ISNA(INDEX(geb.Rechnung!$A$4:$G$1000,MATCH(ROW()-5,geb.Rechnung!$G$4:$G$1000,0),COLUMN()-1)),\"\",INDEX(geb.Rechnung!$A$4:$G$1000,MATCH(ROW()-5,geb.Rechnung!$G$4:$G$1000,0),COLUMN()-1))","v":""},{"$f":"IF(ISNA(INDEX(geb.Rechnung!$A$4:$G$1000,MATCH(ROW()-5,geb.Rechnung!$G$4:$G$1000,0),COLUMN()-2)),\"\",INDEX(geb.Rechnung!$A$4:$G$1000,MATCH(ROW()-5,geb.Rechnung!$G$4:$G$1000,0),COLUMN()-2))","v":""},{"$f":"IF(ISNA(INDEX(geb.Rechnung!$A$4:$G$1000,MATCH(ROW()-5,geb.Rechnung!$G$4:$G$1000,0),COLUMN()+1)),\"\",INDEX(geb.Rechnung!$A$4:$G$1000,MATCH(ROW()-5,geb.Rechnung!$G$4:$G$1000,0),COLUMN()+1))","v":""},{"$f":"IF(ISNA(INDEX(geb.Rechnung!$A$4:$G$1000,MATCH(ROW()-5,geb.Rechnung!$G$4:$G$1000,0),COLUMN()+1)),\"\",INDEX(geb.Rechnung!$A$4:$G$1000,MATCH(ROW()-5,geb.Rechnung!$G$4:$G$1000,0),COLUMN()+1))","v":""}]
[{"$f":"IF(ISNA(INDEX(geb.Rechnung!$A$4:$G$1000,MATCH(ROW()-5,geb.Rechnung!$G$4:$G$1000,0),COLUMN()-1)),\"\",INDEX(geb.Rechnung!$A$4:$G$1000,MATCH(ROW()-5,geb.Rechnung!$G$4:$G$1000,0),COLUMN()-1))","v":""},{"$f":"IF(ISNA(INDEX(geb.Rechnung!$A$4:$G$1000,MATCH(ROW()-5,geb.Rechnung!$G$4:$G$1000,0),COLUMN()-2)),\"\",INDEX(geb.Rechnung!$A$4:$G$1000,MATCH(ROW()-5,geb.Rechnung!$G$4:$G$1000,0),COLUMN()-2))","v":""},{"$f":"IF(ISNA(INDEX(geb.Rechnung!$A$4:$G$1000,MATCH(ROW()-5,geb.Rechnung!$G$4:$G$1000,0),COLUMN()+1)),\"\",INDEX(geb.Rechnung!$A$4:$G$1000,MATCH(ROW()-5,geb.Rechnung!$G$4:$G$1000,0),COLUMN()+1))","v":""},{"$f":"IF(ISNA(INDEX(geb.Rechnung!$A$4:$G$1000,MATCH(ROW()-5,geb.Rechnung!$G$4:$G$1000,0),COLUMN()+1)),\"\",INDEX(geb.Rechnung!$A$4:$G$1000,MATCH(ROW()-5,geb.Rechnung!$G$4:$G$1000,0),COLUMN()+1))","v":""}]
[{"$f":"IF(ISNA(INDEX(geb.Rechnung!$A$4:$G$1000,MATCH(ROW()-5,geb.Rechnung!$G$4:$G$1000,0),COLUMN()-1)),\"\",INDEX(geb.Rechnung!$A$4:$G$1000,MATCH(ROW()-5,geb.Rechnung!$G$4:$G$1000,0),COLUMN()-1))","v":""},{"$f":"IF(ISNA(INDEX(geb.Rechnung!$A$4:$G$1000,MATCH(ROW()-5,geb.Rechnung!$G$4:$G$1000,0),COLUMN()-2)),\"\",INDEX(geb.Rechnung!$A$4:$G$1000,MATCH(ROW()-5,geb.Rechnung!$G$4:$G$1000,0),COLUMN()-2))","v":""},{"$f":"IF(ISNA(INDEX(geb.Rechnung!$A$4:$G$1000,MATCH(ROW()-5,geb.Rechnung!$G$4:$G$1000,0),COLUMN()+1)),\"\",INDEX(geb.Rechnung!$A$4:$G$1000,MATCH(ROW()-5,geb.Rechnung!$G$4:$G$1000,0),COLUMN()+1))","v":""},{"$f":"IF(ISNA(INDEX(geb.Rechnung!$A$4:$G$1000,MATCH(ROW()-5,geb.Rechnung!$G$4:$G$1000,0),COLUMN()+1)),\"\",INDEX(geb.Rechnung!$A$4:$G$1000,MATCH(ROW()-5,geb.Rechnung!$G$4:$G$1000,0),COLUMN()+1))","v":""}]
[{"$f":"IF(ISNA(INDEX(geb.Rechnung!$A$4:$G$1000,MATCH(ROW()-5,geb.Rechnung!$G$4:$G$1000,0),COLUMN()-1)),\"\",INDEX(geb.Rechnung!$A$4:$G$1000,MATCH(ROW()-5,geb.Rechnung!$G$4:$G$1000,0),COLUMN()-1))","v":""},{"$f":"IF(ISNA(INDEX(geb.Rechnung!$A$4:$G$1000,MATCH(ROW()-5,geb.Rechnung!$G$4:$G$1000,0),COLUMN()-2)),\"\",INDEX(geb.Rechnung!$A$4:$G$1000,MATCH(ROW()-5,geb.Rechnung!$G$4:$G$1000,0),COLUMN()-2))","v":""},{"$f":"IF(ISNA(INDEX(geb.Rechnung!$A$4:$G$1000,MATCH(ROW()-5,geb.Rechnung!$G$4:$G$1000,0),COLUMN()+1)),\"\",INDEX(geb.Rechnung!$A$4:$G$1000,MATCH(ROW()-5,geb.Rechnung!$G$4:$G$1000,0),COLUMN()+1))","v":""},{"$f":"IF(ISNA(INDEX(geb.Rechnung!$A$4:$G$1000,MATCH(ROW()-5,geb.Rechnung!$G$4:$G$1000,0),COLUMN()+1)),\"\",INDEX(geb.Rechnung!$A$4:$G$1000,MATCH(ROW()-5,geb.Rechnung!$G$4:$G$1000,0),COLUMN()+1))","v":""}]
[{"$f":"IF(ISNA(INDEX(geb.Rechnung!$A$4:$G$1000,MATCH(ROW()-5,geb.Rechnung!$G$4:$G$1000,0),COLUMN()-1)),\"\",INDEX(geb.Rechnung!$A$4:$G$1000,MATCH(ROW()-5,geb.Rechnung!$G$4:$G$1000,0),COLUMN()-1))","v":""},{"$f":"IF(ISNA(INDEX(geb.Rechnung!$A$4:$G$1000,MATCH(ROW()-5,geb.Rechnung!$G$4:$G$1000,0),COLUMN()-2)),\"\",INDEX(geb.Rechnung!$A$4:$G$1000,MATCH(ROW()-5,geb.Rechnung!$G$4:$G$1000,0),COLUMN()-2))","v":""},{"$f":"IF(ISNA(INDEX(geb.Rechnung!$A$4:$G$1000,MATCH(ROW()-5,geb.Rechnung!$G$4:$G$1000,0),COLUMN()+1)),\"\",INDEX(geb.Rechnung!$A$4:$G$1000,MATCH(ROW()-5,geb.Rechnung!$G$4:$G$1000,0),COLUMN()+1))","v":""},{"$f":"IF(ISNA(INDEX(geb.Rechnung!$A$4:$G$1000,MATCH(ROW()-5,geb.Rechnung!$G$4:$G$1000,0),COLUMN()+1)),\"\",INDEX(geb.Rechnung!$A$4:$G$1000,MATCH(ROW()-5,geb.Rechnung!$G$4:$G$1000,0),COLUMN()+1))","v":""}]
[{"$f":"IF(ISNA(INDEX(geb.Rechnung!$A$4:$G$1000,MATCH(ROW()-5,geb.Rechnung!$G$4:$G$1000,0),COLUMN()-1)),\"\",INDEX(geb.Rechnung!$A$4:$G$1000,MATCH(ROW()-5,geb.Rechnung!$G$4:$G$1000,0),COLUMN()-1))","v":""},{"$f":"IF(ISNA(INDEX(geb.Rechnung!$A$4:$G$1000,MATCH(ROW()-5,geb.Rechnung!$G$4:$G$1000,0),COLUMN()-2)),\"\",INDEX(geb.Rechnung!$A$4:$G$1000,MATCH(ROW()-5,geb.Rechnung!$G$4:$G$1000,0),COLUMN()-2))","v":""},{"$f":"IF(ISNA(INDEX(geb.Rechnung!$A$4:$G$1000,MATCH(ROW()-5,geb.Rechnung!$G$4:$G$1000,0),COLUMN()+1)),\"\",INDEX(geb.Rechnung!$A$4:$G$1000,MATCH(ROW()-5,geb.Rechnung!$G$4:$G$1000,0),COLUMN()+1))","v":""},{"$f":"IF(ISNA(INDEX(geb.Rechnung!$A$4:$G$1000,MATCH(ROW()-5,geb.Rechnung!$G$4:$G$1000,0),COLUMN()+1)),\"\",INDEX(geb.Rechnung!$A$4:$G$1000,MATCH(ROW()-5,geb.Rechnung!$G$4:$G$1000,0),COLUMN()+1))","v":""}]
[{"$f":"IF(ISNA(INDEX(geb.Rechnung!$A$4:$G$1000,MATCH(ROW()-5,geb.Rechnung!$G$4:$G$1000,0),COLUMN()-1)),\"\",INDEX(geb.Rechnung!$A$4:$G$1000,MATCH(ROW()-5,geb.Rechnung!$G$4:$G$1000,0),COLUMN()-1))","v":""},{"$f":"IF(ISNA(INDEX(geb.Rechnung!$A$4:$G$1000,MATCH(ROW()-5,geb.Rechnung!$G$4:$G$1000,0),COLUMN()-2)),\"\",INDEX(geb.Rechnung!$A$4:$G$1000,MATCH(ROW()-5,geb.Rechnung!$G$4:$G$1000,0),COLUMN()-2))","v":""},{"$f":"IF(ISNA(INDEX(geb.Rechnung!$A$4:$G$1000,MATCH(ROW()-5,geb.Rechnung!$G$4:$G$1000,0),COLUMN()+1)),\"\",INDEX(geb.Rechnung!$A$4:$G$1000,MATCH(ROW()-5,geb.Rechnung!$G$4:$G$1000,0),COLUMN()+1))","v":""},{"$f":"IF(ISNA(INDEX(geb.Rechnung!$A$4:$G$1000,MATCH(ROW()-5,geb.Rechnung!$G$4:$G$1000,0),COLUMN()+1)),\"\",INDEX(geb.Rechnung!$A$4:$G$1000,MATCH(ROW()-5,geb.Rechnung!$G$4:$G$1000,0),COLUMN()+1))","v":""}]
[{"$f":"IF(ISNA(INDEX(geb.Rechnung!$A$4:$G$1000,MATCH(ROW()-5,geb.Rechnung!$G$4:$G$1000,0),COLUMN()-1)),\"\",INDEX(geb.Rechnung!$A$4:$G$1000,MATCH(ROW()-5,geb.Rechnung!$G$4:$G$1000,0),COLUMN()-1))","v":""},{"$f":"IF(ISNA(INDEX(geb.Rechnung!$A$4:$G$1000,MATCH(ROW()-5,geb.Rechnung!$G$4:$G$1000,0),COLUMN()-2)),\"\",INDEX(geb.Rechnung!$A$4:$G$1000,MATCH(ROW()-5,geb.Rechnung!$G$4:$G$1000,0),COLUMN()-2))","v":""},{"$f":"IF(ISNA(INDEX(geb.Rechnung!$A$4:$G$1000,MATCH(ROW()-5,geb.Rechnung!$G$4:$G$1000,0),COLUMN()+1)),\"\",INDEX(geb.Rechnung!$A$4:$G$1000,MATCH(ROW()-5,geb.Rechnung!$G$4:$G$1000,0),COLUMN()+1))","v":""},{"$f":"IF(ISNA(INDEX(geb.Rechnung!$A$4:$G$1000,MATCH(ROW()-5,geb.Rechnung!$G$4:$G$1000,0),COLUMN()+1)),\"\",INDEX(geb.Rechnung!$A$4:$G$1000,MATCH(ROW()-5,geb.Rechnung!$G$4:$G$1000,0),COLUMN()+1))","v":""}]
[{"$f":"IF(ISNA(INDEX(geb.Rechnung!$A$4:$G$1000,MATCH(ROW()-5,geb.Rechnung!$G$4:$G$1000,0),COLUMN()-1)),\"\",INDEX(geb.Rechnung!$A$4:$G$1000,MATCH(ROW()-5,geb.Rechnung!$G$4:$G$1000,0),COLUMN()-1))","v":""},{"$f":"IF(ISNA(INDEX(geb.Rechnung!$A$4:$G$1000,MATCH(ROW()-5,geb.Rechnung!$G$4:$G$1000,0),COLUMN()-2)),\"\",INDEX(geb.Rechnung!$A$4:$G$1000,MATCH(ROW()-5,geb.Rechnung!$G$4:$G$1000,0),COLUMN()-2))","v":""},{"$f":"IF(ISNA(INDEX(geb.Rechnung!$A$4:$G$1000,MATCH(ROW()-5,geb.Rechnung!$G$4:$G$1000,0),COLUMN()+1)),\"\",INDEX(geb.Rechnung!$A$4:$G$1000,MATCH(ROW()-5,geb.Rechnung!$G$4:$G$1000,0),COLUMN()+1))","v":""},{"$f":"IF(ISNA(INDEX(geb.Rechnung!$A$4:$G$1000,MATCH(ROW()-5,geb.Rechnung!$G$4:$G$1000,0),COLUMN()+1)),\"\",INDEX(geb.Rechnung!$A$4:$G$1000,MATCH(ROW()-5,geb.Rechnung!$G$4:$G$1000,0),COLUMN()+1))","v":""}]
[{"$f":"IF(ISNA(INDEX(geb.Rechnung!$A$4:$G$1000,MATCH(ROW()-5,geb.Rechnung!$G$4:$G$1000,0),COLUMN()-1)),\"\",INDEX(geb.Rechnung!$A$4:$G$1000,MATCH(ROW()-5,geb.Rechnung!$G$4:$G$1000,0),COLUMN()-1))","v":""},{"$f":"IF(ISNA(INDEX(geb.Rechnung!$A$4:$G$1000,MATCH(ROW()-5,geb.Rechnung!$G$4:$G$1000,0),COLUMN()-2)),\"\",INDEX(geb.Rechnung!$A$4:$G$1000,MATCH(ROW()-5,geb.Rechnung!$G$4:$G$1000,0),COLUMN()-2))","v":""},{"$f":"IF(ISNA(INDEX(geb.Rechnung!$A$4:$G$1000,MATCH(ROW()-5,geb.Rechnung!$G$4:$G$1000,0),COLUMN()+1)),\"\",INDEX(geb.Rechnung!$A$4:$G$1000,MATCH(ROW()-5,geb.Rechnung!$G$4:$G$1000,0),COLUMN()+1))","v":""},{"$f":"IF(ISNA(INDEX(geb.Rechnung!$A$4:$G$1000,MATCH(ROW()-5,geb.Rechnung!$G$4:$G$1000,0),COLUMN()+1)),\"\",INDEX(geb.Rechnung!$A$4:$G$1000,MATCH(ROW()-5,geb.Rechnung!$G$4:$G$1000,0),COLUMN()+1))","v":""}]
[{"$f":"IF(ISNA(INDEX(geb.Rechnung!$A$4:$G$1000,MATCH(ROW()-5,geb.Rechnung!$G$4:$G$1000,0),COLUMN()-1)),\"\",INDEX(geb.Rechnung!$A$4:$G$1000,MATCH(ROW()-5,geb.Rechnung!$G$4:$G$1000,0),COLUMN()-1))","v":""},{"$f":"IF(ISNA(INDEX(geb.Rechnung!$A$4:$G$1000,MATCH(ROW()-5,geb.Rechnung!$G$4:$G$1000,0),COLUMN()-2)),\"\",INDEX(geb.Rechnung!$A$4:$G$1000,MATCH(ROW()-5,geb.Rechnung!$G$4:$G$1000,0),COLUMN()-2))","v":""},{"$f":"IF(ISNA(INDEX(geb.Rechnung!$A$4:$G$1000,MATCH(ROW()-5,geb.Rechnung!$G$4:$G$1000,0),COLUMN()+1)),\"\",INDEX(geb.Rechnung!$A$4:$G$1000,MATCH(ROW()-5,geb.Rechnung!$G$4:$G$1000,0),COLUMN()+1))","v":""},{"$f":"IF(ISNA(INDEX(geb.Rechnung!$A$4:$G$1000,MATCH(ROW()-5,geb.Rechnung!$G$4:$G$1000,0),COLUMN()+1)),\"\",INDEX(geb.Rechnung!$A$4:$G$1000,MATCH(ROW()-5,geb.Rechnung!$G$4:$G$1000,0),COLUMN()+1))","v":""}]
[{"$f":"IF(ISNA(INDEX(geb.Rechnung!$A$4:$G$1000,MATCH(ROW()-5,geb.Rechnung!$G$4:$G$1000,0),COLUMN()-1)),\"\",INDEX(geb.Rechnung!$A$4:$G$1000,MATCH(ROW()-5,geb.Rechnung!$G$4:$G$1000,0),COLUMN()-1))","v":""},{"$f":"IF(ISNA(INDEX(geb.Rechnung!$A$4:$G$1000,MATCH(ROW()-5,geb.Rechnung!$G$4:$G$1000,0),COLUMN()-2)),\"\",INDEX(geb.Rechnung!$A$4:$G$1000,MATCH(ROW()-5,geb.Rechnung!$G$4:$G$1000,0),COLUMN()-2))","v":""},{"$f":"IF(ISNA(INDEX(geb.Rechnung!$A$4:$G$1000,MATCH(ROW()-5,geb.Rechnung!$G$4:$G$1000,0),COLUMN()+1)),\"\",INDEX(geb.Rechnung!$A$4:$G$1000,MATCH(ROW()-5,geb.Rechnung!$G$4:$G$1000,0),COLUMN()+1))","v":""},{"$f":"IF(ISNA(INDEX(geb.Rechnung!$A$4:$G$1000,MATCH(ROW()-5,geb.Rechnung!$G$4:$G$1000,0),COLUMN()+1)),\"\",INDEX(geb.Rechnung!$A$4:$G$1000,MATCH(ROW()-5,geb.Rechnung!$G$4:$G$1000,0),COLUMN()+1))","v":""}]
[{"$f":"IF(ISNA(INDEX(geb.Rechnung!$A$4:$G$1000,MATCH(ROW()-5,geb.Rechnung!$G$4:$G$1000,0),COLUMN()-1)),\"\",INDEX(geb.Rechnung!$A$4:$G$1000,MATCH(ROW()-5,geb.Rechnung!$G$4:$G$1000,0),COLUMN()-1))","v":""},{"$f":"IF(ISNA(INDEX(geb.Rechnung!$A$4:$G$1000,MATCH(ROW()-5,geb.Rechnung!$G$4:$G$1000,0),COLUMN()-2)),\"\",INDEX(geb.Rechnung!$A$4:$G$1000,MATCH(ROW()-5,geb.Rechnung!$G$4:$G$1000,0),COLUMN()-2))","v":""},{"$f":"IF(ISNA(INDEX(geb.Rechnung!$A$4:$G$1000,MATCH(ROW()-5,geb.Rechnung!$G$4:$G$1000,0),COLUMN()+1)),\"\",INDEX(geb.Rechnung!$A$4:$G$1000,MATCH(ROW()-5,geb.Rechnung!$G$4:$G$1000,0),COLUMN()+1))","v":""},{"$f":"IF(ISNA(INDEX(geb.Rechnung!$A$4:$G$1000,MATCH(ROW()-5,geb.Rechnung!$G$4:$G$1000,0),COLUMN()+1)),\"\",INDEX(geb.Rechnung!$A$4:$G$1000,MATCH(ROW()-5,geb.Rechnung!$G$4:$G$1000,0),COLUMN()+1))","v":""}]
[{"$f":"IF(ISNA(INDEX(geb.Rechnung!$A$4:$G$1000,MATCH(ROW()-5,geb.Rechnung!$G$4:$G$1000,0),COLUMN()-1)),\"\",INDEX(geb.Rechnung!$A$4:$G$1000,MATCH(ROW()-5,geb.Rechnung!$G$4:$G$1000,0),COLUMN()-1))","v":""},{"$f":"IF(ISNA(INDEX(geb.Rechnung!$A$4:$G$1000,MATCH(ROW()-5,geb.Rechnung!$G$4:$G$1000,0),COLUMN()-2)),\"\",INDEX(geb.Rechnung!$A$4:$G$1000,MATCH(ROW()-5,geb.Rechnung!$G$4:$G$1000,0),COLUMN()-2))","v":""},{"$f":"IF(ISNA(INDEX(geb.Rechnung!$A$4:$G$1000,MATCH(ROW()-5,geb.Rechnung!$G$4:$G$1000,0),COLUMN()+1)),\"\",INDEX(geb.Rechnung!$A$4:$G$1000,MATCH(ROW()-5,geb.Rechnung!$G$4:$G$1000,0),COLUMN()+1))","v":""},{"$f":"IF(ISNA(INDEX(geb.Rechnung!$A$4:$G$1000,MATCH(ROW()-5,geb.Rechnung!$G$4:$G$1000,0),COLUMN()+1)),\"\",INDEX(geb.Rechnung!$A$4:$G$1000,MATCH(ROW()-5,geb.Rechnung!$G$4:$G$1000,0),COLUMN()+1))","v":""}]
[{"$f":"IF(ISNA(INDEX(geb.Rechnung!$A$4:$G$1000,MATCH(ROW()-5,geb.Rechnung!$G$4:$G$1000,0),COLUMN()-1)),\"\",INDEX(geb.Rechnung!$A$4:$G$1000,MATCH(ROW()-5,geb.Rechnung!$G$4:$G$1000,0),COLUMN()-1))","v":""},{"$f":"IF(ISNA(INDEX(geb.Rechnung!$A$4:$G$1000,MATCH(ROW()-5,geb.Rechnung!$G$4:$G$1000,0),COLUMN()-2)),\"\",INDEX(geb.Rechnung!$A$4:$G$1000,MATCH(ROW()-5,geb.Rechnung!$G$4:$G$1000,0),COLUMN()-2))","v":""},{"$f":"IF(ISNA(INDEX(geb.Rechnung!$A$4:$G$1000,MATCH(ROW()-5,geb.Rechnung!$G$4:$G$1000,0),COLUMN()+1)),\"\",INDEX(geb.Rechnung!$A$4:$G$1000,MATCH(ROW()-5,geb.Rechnung!$G$4:$G$1000,0),COLUMN()+1))","v":""},{"$f":"IF(ISNA(INDEX(geb.Rechnung!$A$4:$G$1000,MATCH(ROW()-5,geb.Rechnung!$G$4:$G$1000,0),COLUMN()+1)),\"\",INDEX(geb.Rechnung!$A$4:$G$1000,MATCH(ROW()-5,geb.Rechnung!$G$4:$G$1000,0),COLUMN()+1))","v":""}]
[{"$f":"IF(ISNA(INDEX(geb.Rechnung!$A$4:$G$1000,MATCH(ROW()-5,geb.Rechnung!$G$4:$G$1000,0),COLUMN()-1)),\"\",INDEX(geb.Rechnung!$A$4:$G$1000,MATCH(ROW()-5,geb.Rechnung!$G$4:$G$1000,0),COLUMN()-1))","v":""},{"$f":"IF(ISNA(INDEX(geb.Rechnung!$A$4:$G$1000,MATCH(ROW()-5,geb.Rechnung!$G$4:$G$1000,0),COLUMN()-2)),\"\",INDEX(geb.Rechnung!$A$4:$G$1000,MATCH(ROW()-5,geb.Rechnung!$G$4:$G$1000,0),COLUMN()-2))","v":""},{"$f":"IF(ISNA(INDEX(geb.Rechnung!$A$4:$G$1000,MATCH(ROW()-5,geb.Rechnung!$G$4:$G$1000,0),COLUMN()+1)),\"\",INDEX(geb.Rechnung!$A$4:$G$1000,MATCH(ROW()-5,geb.Rechnung!$G$4:$G$1000,0),COLUMN()+1))","v":""},{"$f":"IF(ISNA(INDEX(geb.Rechnung!$A$4:$G$1000,MATCH(ROW()-5,geb.Rechnung!$G$4:$G$1000,0),COLUMN()+1)),\"\",INDEX(geb.Rechnung!$A$4:$G$1000,MATCH(ROW()-5,geb.Rechnung!$G$4:$G$1000,0),COLUMN()+1))","v":""}]
[{"$f":"IF(ISNA(INDEX(geb.Rechnung!$A$4:$G$1000,MATCH(ROW()-5,geb.Rechnung!$G$4:$G$1000,0),COLUMN()-1)),\"\",INDEX(geb.Rechnung!$A$4:$G$1000,MATCH(ROW()-5,geb.Rechnung!$G$4:$G$1000,0),COLUMN()-1))","v":""},{"$f":"IF(ISNA(INDEX(geb.Rechnung!$A$4:$G$1000,MATCH(ROW()-5,geb.Rechnung!$G$4:$G$1000,0),COLUMN()-2)),\"\",INDEX(geb.Rechnung!$A$4:$G$1000,MATCH(ROW()-5,geb.Rechnung!$G$4:$G$1000,0),COLUMN()-2))","v":""},{"$f":"IF(ISNA(INDEX(geb.Rechnung!$A$4:$G$1000,MATCH(ROW()-5,geb.Rechnung!$G$4:$G$1000,0),COLUMN()+1)),\"\",INDEX(geb.Rechnung!$A$4:$G$1000,MATCH(ROW()-5,geb.Rechnung!$G$4:$G$1000,0),COLUMN()+1))","v":""},{"$f":"IF(ISNA(INDEX(geb.Rechnung!$A$4:$G$1000,MATCH(ROW()-5,geb.Rechnung!$G$4:$G$1000,0),COLUMN()+1)),\"\",INDEX(geb.Rechnung!$A$4:$G$1000,MATCH(ROW()-5,geb.Rechnung!$G$4:$G$1000,0),COLUMN()+1))","v":""}]
[{"$f":"IF(ISNA(INDEX(geb.Rechnung!$A$4:$G$1000,MATCH(ROW()-5,geb.Rechnung!$G$4:$G$1000,0),COLUMN()-1)),\"\",INDEX(geb.Rechnung!$A$4:$G$1000,MATCH(ROW()-5,geb.Rechnung!$G$4:$G$1000,0),COLUMN()-1))","v":""},{"$f":"IF(ISNA(INDEX(geb.Rechnung!$A$4:$G$1000,MATCH(ROW()-5,geb.Rechnung!$G$4:$G$1000,0),COLUMN()-2)),\"\",INDEX(geb.Rechnung!$A$4:$G$1000,MATCH(ROW()-5,geb.Rechnung!$G$4:$G$1000,0),COLUMN()-2))","v":""},{"$f":"IF(ISNA(INDEX(geb.Rechnung!$A$4:$G$1000,MATCH(ROW()-5,geb.Rechnung!$G$4:$G$1000,0),COLUMN()+1)),\"\",INDEX(geb.Rechnung!$A$4:$G$1000,MATCH(ROW()-5,geb.Rechnung!$G$4:$G$1000,0),COLUMN()+1))","v":""},{"$f":"IF(ISNA(INDEX(geb.Rechnung!$A$4:$G$1000,MATCH(ROW()-5,geb.Rechnung!$G$4:$G$1000,0),COLUMN()+1)),\"\",INDEX(geb.Rechnung!$A$4:$G$1000,MATCH(ROW()-5,geb.Rechnung!$G$4:$G$1000,0),COLUMN()+1))","v":""}]
[{"$f":"IF(ISNA(INDEX(geb.Rechnung!$A$4:$G$1000,MATCH(ROW()-5,geb.Rechnung!$G$4:$G$1000,0),COLUMN()-1)),\"\",INDEX(geb.Rechnung!$A$4:$G$1000,MATCH(ROW()-5,geb.Rechnung!$G$4:$G$1000,0),COLUMN()-1))","v":""},{"$f":"IF(ISNA(INDEX(geb.Rechnung!$A$4:$G$1000,MATCH(ROW()-5,geb.Rechnung!$G$4:$G$1000,0),COLUMN()-2)),\"\",INDEX(geb.Rechnung!$A$4:$G$1000,MATCH(ROW()-5,geb.Rechnung!$G$4:$G$1000,0),COLUMN()-2))","v":""},{"$f":"IF(ISNA(INDEX(geb.Rechnung!$A$4:$G$1000,MATCH(ROW()-5,geb.Rechnung!$G$4:$G$1000,0),COLUMN()+1)),\"\",INDEX(geb.Rechnung!$A$4:$G$1000,MATCH(ROW()-5,geb.Rechnung!$G$4:$G$1000,0),COLUMN()+1))","v":""},{"$f":"IF(ISNA(INDEX(geb.Rechnung!$A$4:$G$1000,MATCH(ROW()-5,geb.Rechnung!$G$4:$G$1000,0),COLUMN()+1)),\"\",INDEX(geb.Rechnung!$A$4:$G$1000,MATCH(ROW()-5,geb.Rechnung!$G$4:$G$1000,0),COLUMN()+1))","v":""}]
[{"$f":"IF(ISNA(INDEX(geb.Rechnung!$A$4:$G$1000,MATCH(ROW()-5,geb.Rechnung!$G$4:$G$1000,0),COLUMN()-1)),\"\",INDEX(geb.Rechnung!$A$4:$G$1000,MATCH(ROW()-5,geb.Rechnung!$G$4:$G$1000,0),COLUMN()-1))","v":""},{"$f":"IF(ISNA(INDEX(geb.Rechnung!$A$4:$G$1000,MATCH(ROW()-5,geb.Rechnung!$G$4:$G$1000,0),COLUMN()-2)),\"\",INDEX(geb.Rechnung!$A$4:$G$1000,MATCH(ROW()-5,geb.Rechnung!$G$4:$G$1000,0),COLUMN()-2))","v":""},{"$f":"IF(ISNA(INDEX(geb.Rechnung!$A$4:$G$1000,MATCH(ROW()-5,geb.Rechnung!$G$4:$G$1000,0),COLUMN()+1)),\"\",INDEX(geb.Rechnung!$A$4:$G$1000,MATCH(ROW()-5,geb.Rechnung!$G$4:$G$1000,0),COLUMN()+1))","v":""},{"$f":"IF(ISNA(INDEX(geb.Rechnung!$A$4:$G$1000,MATCH(ROW()-5,geb.Rechnung!$G$4:$G$1000,0),COLUMN()+1)),\"\",INDEX(geb.Rechnung!$A$4:$G$1000,MATCH(ROW()-5,geb.Rechnung!$G$4:$G$1000,0),COLUMN()+1))","v":""}]
[{"$f":"IF(ISNA(INDEX(geb.Rechnung!$A$4:$G$1000,MATCH(ROW()-5,geb.Rechnung!$G$4:$G$1000,0),COLUMN()-1)),\"\",INDEX(geb.Rechnung!$A$4:$G$1000,MATCH(ROW()-5,geb.Rechnung!$G$4:$G$1000,0),COLUMN()-1))","v":""},{"$f":"IF(ISNA(INDEX(geb.Rechnung!$A$4:$G$1000,MATCH(ROW()-5,geb.Rechnung!$G$4:$G$1000,0),COLUMN()-2)),\"\",INDEX(geb.Rechnung!$A$4:$G$1000,MATCH(ROW()-5,geb.Rechnung!$G$4:$G$1000,0),COLUMN()-2))","v":""},{"$f":"IF(ISNA(INDEX(geb.Rechnung!$A$4:$G$1000,MATCH(ROW()-5,geb.Rechnung!$G$4:$G$1000,0),COLUMN()+1)),\"\",INDEX(geb.Rechnung!$A$4:$G$1000,MATCH(ROW()-5,geb.Rechnung!$G$4:$G$1000,0),COLUMN()+1))","v":""},{"$f":"IF(ISNA(INDEX(geb.Rechnung!$A$4:$G$1000,MATCH(ROW()-5,geb.Rechnung!$G$4:$G$1000,0),COLUMN()+1)),\"\",INDEX(geb.Rechnung!$A$4:$G$1000,MATCH(ROW()-5,geb.Rechnung!$G$4:$G$1000,0),COLUMN()+1))","v":""}]
[{"$f":"IF(ISNA(INDEX(geb.Rechnung!$A$4:$G$1000,MATCH(ROW()-5,geb.Rechnung!$G$4:$G$1000,0),COLUMN()-1)),\"\",INDEX(geb.Rechnung!$A$4:$G$1000,MATCH(ROW()-5,geb.Rechnung!$G$4:$G$1000,0),COLUMN()-1))","v":""},{"$f":"IF(ISNA(INDEX(geb.Rechnung!$A$4:$G$1000,MATCH(ROW()-5,geb.Rechnung!$G$4:$G$1000,0),COLUMN()-2)),\"\",INDEX(geb.Rechnung!$A$4:$G$1000,MATCH(ROW()-5,geb.Rechnung!$G$4:$G$1000,0),COLUMN()-2))","v":""},{"$f":"IF(ISNA(INDEX(geb.Rechnung!$A$4:$G$1000,MATCH(ROW()-5,geb.Rechnung!$G$4:$G$1000,0),COLUMN()+1)),\"\",INDEX(geb.Rechnung!$A$4:$G$1000,MATCH(ROW()-5,geb.Rechnung!$G$4:$G$1000,0),COLUMN()+1))","v":""},{"$f":"IF(ISNA(INDEX(geb.Rechnung!$A$4:$G$1000,MATCH(ROW()-5,geb.Rechnung!$G$4:$G$1000,0),COLUMN()+1)),\"\",INDEX(geb.Rechnung!$A$4:$G$1000,MATCH(ROW()-5,geb.Rechnung!$G$4:$G$1000,0),COLUMN()+1))","v":""}]
[{"$f":"IF(ISNA(INDEX(geb.Rechnung!$A$4:$G$1000,MATCH(ROW()-5,geb.Rechnung!$G$4:$G$1000,0),COLUMN()-1)),\"\",INDEX(geb.Rechnung!$A$4:$G$1000,MATCH(ROW()-5,geb.Rechnung!$G$4:$G$1000,0),COLUMN()-1))","v":""},{"$f":"IF(ISNA(INDEX(geb.Rechnung!$A$4:$G$1000,MATCH(ROW()-5,geb.Rechnung!$G$4:$G$1000,0),COLUMN()-2)),\"\",INDEX(geb.Rechnung!$A$4:$G$1000,MATCH(ROW()-5,geb.Rechnung!$G$4:$G$1000,0),COLUMN()-2))","v":""},{"$f":"IF(ISNA(INDEX(geb.Rechnung!$A$4:$G$1000,MATCH(ROW()-5,geb.Rechnung!$G$4:$G$1000,0),COLUMN()+1)),\"\",INDEX(geb.Rechnung!$A$4:$G$1000,MATCH(ROW()-5,geb.Rechnung!$G$4:$G$1000,0),COLUMN()+1))","v":""},{"$f":"IF(ISNA(INDEX(geb.Rechnung!$A$4:$G$1000,MATCH(ROW()-5,geb.Rechnung!$G$4:$G$1000,0),COLUMN()+1)),\"\",INDEX(geb.Rechnung!$A$4:$G$1000,MATCH(ROW()-5,geb.Rechnung!$G$4:$G$1000,0),COLUMN()+1))","v":""}]
[{"$f":"IF(ISNA(INDEX(geb.Rechnung!$A$4:$G$1000,MATCH(ROW()-5,geb.Rechnung!$G$4:$G$1000,0),COLUMN()-1)),\"\",INDEX(geb.Rechnung!$A$4:$G$1000,MATCH(ROW()-5,geb.Rechnung!$G$4:$G$1000,0),COLUMN()-1))","v":""},{"$f":"IF(ISNA(INDEX(geb.Rechnung!$A$4:$G$1000,MATCH(ROW()-5,geb.Rechnung!$G$4:$G$1000,0),COLUMN()-2)),\"\",INDEX(geb.Rechnung!$A$4:$G$1000,MATCH(ROW()-5,geb.Rechnung!$G$4:$G$1000,0),COLUMN()-2))","v":""},{"$f":"IF(ISNA(INDEX(geb.Rechnung!$A$4:$G$1000,MATCH(ROW()-5,geb.Rechnung!$G$4:$G$1000,0),COLUMN()+1)),\"\",INDEX(geb.Rechnung!$A$4:$G$1000,MATCH(ROW()-5,geb.Rechnung!$G$4:$G$1000,0),COLUMN()+1))","v":""},{"$f":"IF(ISNA(INDEX(geb.Rechnung!$A$4:$G$1000,MATCH(ROW()-5,geb.Rechnung!$G$4:$G$1000,0),COLUMN()+1)),\"\",INDEX(geb.Rechnung!$A$4:$G$1000,MATCH(ROW()-5,geb.Rechnung!$G$4:$G$1000,0),COLUMN()+1))","v":""}]
[{"$f":"IF(ISNA(INDEX(geb.Rechnung!$A$4:$G$1000,MATCH(ROW()-5,geb.Rechnung!$G$4:$G$1000,0),COLUMN()-1)),\"\",INDEX(geb.Rechnung!$A$4:$G$1000,MATCH(ROW()-5,geb.Rechnung!$G$4:$G$1000,0),COLUMN()-1))","v":""},{"$f":"IF(ISNA(INDEX(geb.Rechnung!$A$4:$G$1000,MATCH(ROW()-5,geb.Rechnung!$G$4:$G$1000,0),COLUMN()-2)),\"\",INDEX(geb.Rechnung!$A$4:$G$1000,MATCH(ROW()-5,geb.Rechnung!$G$4:$G$1000,0),COLUMN()-2))","v":""},{"$f":"IF(ISNA(INDEX(geb.Rechnung!$A$4:$G$1000,MATCH(ROW()-5,geb.Rechnung!$G$4:$G$1000,0),COLUMN()+1)),\"\",INDEX(geb.Rechnung!$A$4:$G$1000,MATCH(ROW()-5,geb.Rechnung!$G$4:$G$1000,0),COLUMN()+1))","v":""},{"$f":"IF(ISNA(INDEX(geb.Rechnung!$A$4:$G$1000,MATCH(ROW()-5,geb.Rechnung!$G$4:$G$1000,0),COLUMN()+1)),\"\",INDEX(geb.Rechnung!$A$4:$G$1000,MATCH(ROW()-5,geb.Rechnung!$G$4:$G$1000,0),COLUMN()+1))","v":""}]
[{"$f":"IF(ISNA(INDEX(geb.Rechnung!$A$4:$G$1000,MATCH(ROW()-5,geb.Rechnung!$G$4:$G$1000,0),COLUMN()-1)),\"\",INDEX(geb.Rechnung!$A$4:$G$1000,MATCH(ROW()-5,geb.Rechnung!$G$4:$G$1000,0),COLUMN()-1))","v":""},{"$f":"IF(ISNA(INDEX(geb.Rechnung!$A$4:$G$1000,MATCH(ROW()-5,geb.Rechnung!$G$4:$G$1000,0),COLUMN()-2)),\"\",INDEX(geb.Rechnung!$A$4:$G$1000,MATCH(ROW()-5,geb.Rechnung!$G$4:$G$1000,0),COLUMN()-2))","v":""},{"$f":"IF(ISNA(INDEX(geb.Rechnung!$A$4:$G$1000,MATCH(ROW()-5,geb.Rechnung!$G$4:$G$1000,0),COLUMN()+1)),\"\",INDEX(geb.Rechnung!$A$4:$G$1000,MATCH(ROW()-5,geb.Rechnung!$G$4:$G$1000,0),COLUMN()+1))","v":""},{"$f":"IF(ISNA(INDEX(geb.Rechnung!$A$4:$G$1000,MATCH(ROW()-5,geb.Rechnung!$G$4:$G$1000,0),COLUMN()+1)),\"\",INDEX(geb.Rechnung!$A$4:$G$1000,MATCH(ROW()-5,geb.Rechnung!$G$4:$G$1000,0),COLUMN()+1))","v":""}]
[{"$f":"IF(ISNA(INDEX(geb.Rechnung!$A$4:$G$1000,MATCH(ROW()-5,geb.Rechnung!$G$4:$G$1000,0),COLUMN()-1)),\"\",INDEX(geb.Rechnung!$A$4:$G$1000,MATCH(ROW()-5,geb.Rechnung!$G$4:$G$1000,0),COLUMN()-1))","v":""},{"$f":"IF(ISNA(INDEX(geb.Rechnung!$A$4:$G$1000,MATCH(ROW()-5,geb.Rechnung!$G$4:$G$1000,0),COLUMN()-2)),\"\",INDEX(geb.Rechnung!$A$4:$G$1000,MATCH(ROW()-5,geb.Rechnung!$G$4:$G$1000,0),COLUMN()-2))","v":""},{"$f":"IF(ISNA(INDEX(geb.Rechnung!$A$4:$G$1000,MATCH(ROW()-5,geb.Rechnung!$G$4:$G$1000,0),COLUMN()+1)),\"\",INDEX(geb.Rechnung!$A$4:$G$1000,MATCH(ROW()-5,geb.Rechnung!$G$4:$G$1000,0),COLUMN()+1))","v":""},{"$f":"IF(ISNA(INDEX(geb.Rechnung!$A$4:$G$1000,MATCH(ROW()-5,geb.Rechnung!$G$4:$G$1000,0),COLUMN()+1)),\"\",INDEX(geb.Rechnung!$A$4:$G$1000,MATCH(ROW()-5,geb.Rechnung!$G$4:$G$1000,0),COLUMN()+1))","v":""}]
[{"$f":"IF(ISNA(INDEX(geb.Rechnung!$A$4:$G$1000,MATCH(ROW()-5,geb.Rechnung!$G$4:$G$1000,0),COLUMN()-1)),\"\",INDEX(geb.Rechnung!$A$4:$G$1000,MATCH(ROW()-5,geb.Rechnung!$G$4:$G$1000,0),COLUMN()-1))","v":""},{"$f":"IF(ISNA(INDEX(geb.Rechnung!$A$4:$G$1000,MATCH(ROW()-5,geb.Rechnung!$G$4:$G$1000,0),COLUMN()-2)),\"\",INDEX(geb.Rechnung!$A$4:$G$1000,MATCH(ROW()-5,geb.Rechnung!$G$4:$G$1000,0),COLUMN()-2))","v":""},{"$f":"IF(ISNA(INDEX(geb.Rechnung!$A$4:$G$1000,MATCH(ROW()-5,geb.Rechnung!$G$4:$G$1000,0),COLUMN()+1)),\"\",INDEX(geb.Rechnung!$A$4:$G$1000,MATCH(ROW()-5,geb.Rechnung!$G$4:$G$1000,0),COLUMN()+1))","v":""},{"$f":"IF(ISNA(INDEX(geb.Rechnung!$A$4:$G$1000,MATCH(ROW()-5,geb.Rechnung!$G$4:$G$1000,0),COLUMN()+1)),\"\",INDEX(geb.Rechnung!$A$4:$G$1000,MATCH(ROW()-5,geb.Rechnung!$G$4:$G$1000,0),COLUMN()+1))","v":""}]
[{"$f":"IF(ISNA(INDEX(geb.Rechnung!$A$4:$G$1000,MATCH(ROW()-5,geb.Rechnung!$G$4:$G$1000,0),COLUMN()-1)),\"\",INDEX(geb.Rechnung!$A$4:$G$1000,MATCH(ROW()-5,geb.Rechnung!$G$4:$G$1000,0),COLUMN()-1))","v":""},{"$f":"IF(ISNA(INDEX(geb.Rechnung!$A$4:$G$1000,MATCH(ROW()-5,geb.Rechnung!$G$4:$G$1000,0),COLUMN()-2)),\"\",INDEX(geb.Rechnung!$A$4:$G$1000,MATCH(ROW()-5,geb.Rechnung!$G$4:$G$1000,0),COLUMN()-2))","v":""},{"$f":"IF(ISNA(INDEX(geb.Rechnung!$A$4:$G$1000,MATCH(ROW()-5,geb.Rechnung!$G$4:$G$1000,0),COLUMN()+1)),\"\",INDEX(geb.Rechnung!$A$4:$G$1000,MATCH(ROW()-5,geb.Rechnung!$G$4:$G$1000,0),COLUMN()+1))","v":""},{"$f":"IF(ISNA(INDEX(geb.Rechnung!$A$4:$G$1000,MATCH(ROW()-5,geb.Rechnung!$G$4:$G$1000,0),COLUMN()+1)),\"\",INDEX(geb.Rechnung!$A$4:$G$1000,MATCH(ROW()-5,geb.Rechnung!$G$4:$G$1000,0),COLUMN()+1))","v":""}]
[{"$f":"IF(ISNA(INDEX(geb.Rechnung!$A$4:$G$1000,MATCH(ROW()-5,geb.Rechnung!$G$4:$G$1000,0),COLUMN()-1)),\"\",INDEX(geb.Rechnung!$A$4:$G$1000,MATCH(ROW()-5,geb.Rechnung!$G$4:$G$1000,0),COLUMN()-1))","v":""},{"$f":"IF(ISNA(INDEX(geb.Rechnung!$A$4:$G$1000,MATCH(ROW()-5,geb.Rechnung!$G$4:$G$1000,0),COLUMN()-2)),\"\",INDEX(geb.Rechnung!$A$4:$G$1000,MATCH(ROW()-5,geb.Rechnung!$G$4:$G$1000,0),COLUMN()-2))","v":""},{"$f":"IF(ISNA(INDEX(geb.Rechnung!$A$4:$G$1000,MATCH(ROW()-5,geb.Rechnung!$G$4:$G$1000,0),COLUMN()+1)),\"\",INDEX(geb.Rechnung!$A$4:$G$1000,MATCH(ROW()-5,geb.Rechnung!$G$4:$G$1000,0),COLUMN()+1))","v":""},{"$f":"IF(ISNA(INDEX(geb.Rechnung!$A$4:$G$1000,MATCH(ROW()-5,geb.Rechnung!$G$4:$G$1000,0),COLUMN()+1)),\"\",INDEX(geb.Rechnung!$A$4:$G$1000,MATCH(ROW()-5,geb.Rechnung!$G$4:$G$1000,0),COLUMN()+1))","v":""}]
[{"$f":"IF(ISNA(INDEX(geb.Rechnung!$A$4:$G$1000,MATCH(ROW()-5,geb.Rechnung!$G$4:$G$1000,0),COLUMN()-1)),\"\",INDEX(geb.Rechnung!$A$4:$G$1000,MATCH(ROW()-5,geb.Rechnung!$G$4:$G$1000,0),COLUMN()-1))","v":""},{"$f":"IF(ISNA(INDEX(geb.Rechnung!$A$4:$G$1000,MATCH(ROW()-5,geb.Rechnung!$G$4:$G$1000,0),COLUMN()-2)),\"\",INDEX(geb.Rechnung!$A$4:$G$1000,MATCH(ROW()-5,geb.Rechnung!$G$4:$G$1000,0),COLUMN()-2))","v":""},{"$f":"IF(ISNA(INDEX(geb.Rechnung!$A$4:$G$1000,MATCH(ROW()-5,geb.Rechnung!$G$4:$G$1000,0),COLUMN()+1)),\"\",INDEX(geb.Rechnung!$A$4:$G$1000,MATCH(ROW()-5,geb.Rechnung!$G$4:$G$1000,0),COLUMN()+1))","v":""},{"$f":"IF(ISNA(INDEX(geb.Rechnung!$A$4:$G$1000,MATCH(ROW()-5,geb.Rechnung!$G$4:$G$1000,0),COLUMN()+1)),\"\",INDEX(geb.Rechnung!$A$4:$G$1000,MATCH(ROW()-5,geb.Rechnung!$G$4:$G$1000,0),COLUMN()+1))","v":""}]
[{"$f":"IF(ISNA(INDEX(geb.Rechnung!$A$4:$G$1000,MATCH(ROW()-5,geb.Rechnung!$G$4:$G$1000,0),COLUMN()-1)),\"\",INDEX(geb.Rechnung!$A$4:$G$1000,MATCH(ROW()-5,geb.Rechnung!$G$4:$G$1000,0),COLUMN()-1))","v":""},{"$f":"IF(ISNA(INDEX(geb.Rechnung!$A$4:$G$1000,MATCH(ROW()-5,geb.Rechnung!$G$4:$G$1000,0),COLUMN()-2)),\"\",INDEX(geb.Rechnung!$A$4:$G$1000,MATCH(ROW()-5,geb.Rechnung!$G$4:$G$1000,0),COLUMN()-2))","v":""},{"$f":"IF(ISNA(INDEX(geb.Rechnung!$A$4:$G$1000,MATCH(ROW()-5,geb.Rechnung!$G$4:$G$1000,0),COLUMN()+1)),\"\",INDEX(geb.Rechnung!$A$4:$G$1000,MATCH(ROW()-5,geb.Rechnung!$G$4:$G$1000,0),COLUMN()+1))","v":""},{"$f":"IF(ISNA(INDEX(geb.Rechnung!$A$4:$G$1000,MATCH(ROW()-5,geb.Rechnung!$G$4:$G$1000,0),COLUMN()+1)),\"\",INDEX(geb.Rechnung!$A$4:$G$1000,MATCH(ROW()-5,geb.Rechnung!$G$4:$G$1000,0),COLUMN()+1))","v":""}]
[{"$f":"IF(ISNA(INDEX(geb.Rechnung!$A$4:$G$1000,MATCH(ROW()-5,geb.Rechnung!$G$4:$G$1000,0),COLUMN()-1)),\"\",INDEX(geb.Rechnung!$A$4:$G$1000,MATCH(ROW()-5,geb.Rechnung!$G$4:$G$1000,0),COLUMN()-1))","v":""},{"$f":"IF(ISNA(INDEX(geb.Rechnung!$A$4:$G$1000,MATCH(ROW()-5,geb.Rechnung!$G$4:$G$1000,0),COLUMN()-2)),\"\",INDEX(geb.Rechnung!$A$4:$G$1000,MATCH(ROW()-5,geb.Rechnung!$G$4:$G$1000,0),COLUMN()-2))","v":""},{"$f":"IF(ISNA(INDEX(geb.Rechnung!$A$4:$G$1000,MATCH(ROW()-5,geb.Rechnung!$G$4:$G$1000,0),COLUMN()+1)),\"\",INDEX(geb.Rechnung!$A$4:$G$1000,MATCH(ROW()-5,geb.Rechnung!$G$4:$G$1000,0),COLUMN()+1))","v":""},{"$f":"IF(ISNA(INDEX(geb.Rechnung!$A$4:$G$1000,MATCH(ROW()-5,geb.Rechnung!$G$4:$G$1000,0),COLUMN()+1)),\"\",INDEX(geb.Rechnung!$A$4:$G$1000,MATCH(ROW()-5,geb.Rechnung!$G$4:$G$1000,0),COLUMN()+1))","v":""}]
[{"$f":"IF(ISNA(INDEX(geb.Rechnung!$A$4:$G$1000,MATCH(ROW()-5,geb.Rechnung!$G$4:$G$1000,0),COLUMN()-1)),\"\",INDEX(geb.Rechnung!$A$4:$G$1000,MATCH(ROW()-5,geb.Rechnung!$G$4:$G$1000,0),COLUMN()-1))","v":""},{"$f":"IF(ISNA(INDEX(geb.Rechnung!$A$4:$G$1000,MATCH(ROW()-5,geb.Rechnung!$G$4:$G$1000,0),COLUMN()-2)),\"\",INDEX(geb.Rechnung!$A$4:$G$1000,MATCH(ROW()-5,geb.Rechnung!$G$4:$G$1000,0),COLUMN()-2))","v":""},{"$f":"IF(ISNA(INDEX(geb.Rechnung!$A$4:$G$1000,MATCH(ROW()-5,geb.Rechnung!$G$4:$G$1000,0),COLUMN()+1)),\"\",INDEX(geb.Rechnung!$A$4:$G$1000,MATCH(ROW()-5,geb.Rechnung!$G$4:$G$1000,0),COLUMN()+1))","v":""},{"$f":"IF(ISNA(INDEX(geb.Rechnung!$A$4:$G$1000,MATCH(ROW()-5,geb.Rechnung!$G$4:$G$1000,0),COLUMN()+1)),\"\",INDEX(geb.Rechnung!$A$4:$G$1000,MATCH(ROW()-5,geb.Rechnung!$G$4:$G$1000,0),COLUMN()+1))","v":""}]
[{"$f":"IF(ISNA(INDEX(geb.Rechnung!$A$4:$G$1000,MATCH(ROW()-5,geb.Rechnung!$G$4:$G$1000,0),COLUMN()-1)),\"\",INDEX(geb.Rechnung!$A$4:$G$1000,MATCH(ROW()-5,geb.Rechnung!$G$4:$G$1000,0),COLUMN()-1))","v":""},{"$f":"IF(ISNA(INDEX(geb.Rechnung!$A$4:$G$1000,MATCH(ROW()-5,geb.Rechnung!$G$4:$G$1000,0),COLUMN()-2)),\"\",INDEX(geb.Rechnung!$A$4:$G$1000,MATCH(ROW()-5,geb.Rechnung!$G$4:$G$1000,0),COLUMN()-2))","v":""},{"$f":"IF(ISNA(INDEX(geb.Rechnung!$A$4:$G$1000,MATCH(ROW()-5,geb.Rechnung!$G$4:$G$1000,0),COLUMN()+1)),\"\",INDEX(geb.Rechnung!$A$4:$G$1000,MATCH(ROW()-5,geb.Rechnung!$G$4:$G$1000,0),COLUMN()+1))","v":""},{"$f":"IF(ISNA(INDEX(geb.Rechnung!$A$4:$G$1000,MATCH(ROW()-5,geb.Rechnung!$G$4:$G$1000,0),COLUMN()+1)),\"\",INDEX(geb.Rechnung!$A$4:$G$1000,MATCH(ROW()-5,geb.Rechnung!$G$4:$G$1000,0),COLUMN()+1))","v":""}]
[{"$f":"IF(ISNA(INDEX(geb.Rechnung!$A$4:$G$1000,MATCH(ROW()-5,geb.Rechnung!$G$4:$G$1000,0),COLUMN()-1)),\"\",INDEX(geb.Rechnung!$A$4:$G$1000,MATCH(ROW()-5,geb.Rechnung!$G$4:$G$1000,0),COLUMN()-1))","v":""},{"$f":"IF(ISNA(INDEX(geb.Rechnung!$A$4:$G$1000,MATCH(ROW()-5,geb.Rechnung!$G$4:$G$1000,0),COLUMN()-2)),\"\",INDEX(geb.Rechnung!$A$4:$G$1000,MATCH(ROW()-5,geb.Rechnung!$G$4:$G$1000,0),COLUMN()-2))","v":""},{"$f":"IF(ISNA(INDEX(geb.Rechnung!$A$4:$G$1000,MATCH(ROW()-5,geb.Rechnung!$G$4:$G$1000,0),COLUMN()+1)),\"\",INDEX(geb.Rechnung!$A$4:$G$1000,MATCH(ROW()-5,geb.Rechnung!$G$4:$G$1000,0),COLUMN()+1))","v":""},{"$f":"IF(ISNA(INDEX(geb.Rechnung!$A$4:$G$1000,MATCH(ROW()-5,geb.Rechnung!$G$4:$G$1000,0),COLUMN()+1)),\"\",INDEX(geb.Rechnung!$A$4:$G$1000,MATCH(ROW()-5,geb.Rechnung!$G$4:$G$1000,0),COLUMN()+1))","v":""}]
[{"$f":"IF(ISNA(INDEX(geb.Rechnung!$A$4:$G$1000,MATCH(ROW()-5,geb.Rechnung!$G$4:$G$1000,0),COLUMN()-1)),\"\",INDEX(geb.Rechnung!$A$4:$G$1000,MATCH(ROW()-5,geb.Rechnung!$G$4:$G$1000,0),COLUMN()-1))","v":""},{"$f":"IF(ISNA(INDEX(geb.Rechnung!$A$4:$G$1000,MATCH(ROW()-5,geb.Rechnung!$G$4:$G$1000,0),COLUMN()-2)),\"\",INDEX(geb.Rechnung!$A$4:$G$1000,MATCH(ROW()-5,geb.Rechnung!$G$4:$G$1000,0),COLUMN()-2))","v":""},{"$f":"IF(ISNA(INDEX(geb.Rechnung!$A$4:$G$1000,MATCH(ROW()-5,geb.Rechnung!$G$4:$G$1000,0),COLUMN()+1)),\"\",INDEX(geb.Rechnung!$A$4:$G$1000,MATCH(ROW()-5,geb.Rechnung!$G$4:$G$1000,0),COLUMN()+1))","v":""},{"$f":"IF(ISNA(INDEX(geb.Rechnung!$A$4:$G$1000,MATCH(ROW()-5,geb.Rechnung!$G$4:$G$1000,0),COLUMN()+1)),\"\",INDEX(geb.Rechnung!$A$4:$G$1000,MATCH(ROW()-5,geb.Rechnung!$G$4:$G$1000,0),COLUMN()+1))","v":""}]
[{"$f":"IF(ISNA(INDEX(geb.Rechnung!$A$4:$G$1000,MATCH(ROW()-5,geb.Rechnung!$G$4:$G$1000,0),COLUMN()-1)),\"\",INDEX(geb.Rechnung!$A$4:$G$1000,MATCH(ROW()-5,geb.Rechnung!$G$4:$G$1000,0),COLUMN()-1))","v":""},{"$f":"IF(ISNA(INDEX(geb.Rechnung!$A$4:$G$1000,MATCH(ROW()-5,geb.Rechnung!$G$4:$G$1000,0),COLUMN()-2)),\"\",INDEX(geb.Rechnung!$A$4:$G$1000,MATCH(ROW()-5,geb.Rechnung!$G$4:$G$1000,0),COLUMN()-2))","v":""},{"$f":"IF(ISNA(INDEX(geb.Rechnung!$A$4:$G$1000,MATCH(ROW()-5,geb.Rechnung!$G$4:$G$1000,0),COLUMN()+1)),\"\",INDEX(geb.Rechnung!$A$4:$G$1000,MATCH(ROW()-5,geb.Rechnung!$G$4:$G$1000,0),COLUMN()+1))","v":""},{"$f":"IF(ISNA(INDEX(geb.Rechnung!$A$4:$G$1000,MATCH(ROW()-5,geb.Rechnung!$G$4:$G$1000,0),COLUMN()+1)),\"\",INDEX(geb.Rechnung!$A$4:$G$1000,MATCH(ROW()-5,geb.Rechnung!$G$4:$G$1000,0),COLUMN()+1))","v":""}]
[{"$f":"IF(ISNA(INDEX(geb.Rechnung!$A$4:$G$1000,MATCH(ROW()-5,geb.Rechnung!$G$4:$G$1000,0),COLUMN()-1)),\"\",INDEX(geb.Rechnung!$A$4:$G$1000,MATCH(ROW()-5,geb.Rechnung!$G$4:$G$1000,0),COLUMN()-1))","v":""},{"$f":"IF(ISNA(INDEX(geb.Rechnung!$A$4:$G$1000,MATCH(ROW()-5,geb.Rechnung!$G$4:$G$1000,0),COLUMN()-2)),\"\",INDEX(geb.Rechnung!$A$4:$G$1000,MATCH(ROW()-5,geb.Rechnung!$G$4:$G$1000,0),COLUMN()-2))","v":""},{"$f":"IF(ISNA(INDEX(geb.Rechnung!$A$4:$G$1000,MATCH(ROW()-5,geb.Rechnung!$G$4:$G$1000,0),COLUMN()+1)),\"\",INDEX(geb.Rechnung!$A$4:$G$1000,MATCH(ROW()-5,geb.Rechnung!$G$4:$G$1000,0),COLUMN()+1))","v":""},{"$f":"IF(ISNA(INDEX(geb.Rechnung!$A$4:$G$1000,MATCH(ROW()-5,geb.Rechnung!$G$4:$G$1000,0),COLUMN()+1)),\"\",INDEX(geb.Rechnung!$A$4:$G$1000,MATCH(ROW()-5,geb.Rechnung!$G$4:$G$1000,0),COLUMN()+1))","v":""}]
[{"$f":"IF(ISNA(INDEX(geb.Rechnung!$A$4:$G$1000,MATCH(ROW()-5,geb.Rechnung!$G$4:$G$1000,0),COLUMN()-1)),\"\",INDEX(geb.Rechnung!$A$4:$G$1000,MATCH(ROW()-5,geb.Rechnung!$G$4:$G$1000,0),COLUMN()-1))","v":""},{"$f":"IF(ISNA(INDEX(geb.Rechnung!$A$4:$G$1000,MATCH(ROW()-5,geb.Rechnung!$G$4:$G$1000,0),COLUMN()-2)),\"\",INDEX(geb.Rechnung!$A$4:$G$1000,MATCH(ROW()-5,geb.Rechnung!$G$4:$G$1000,0),COLUMN()-2))","v":""},{"$f":"IF(ISNA(INDEX(geb.Rechnung!$A$4:$G$1000,MATCH(ROW()-5,geb.Rechnung!$G$4:$G$1000,0),COLUMN()+1)),\"\",INDEX(geb.Rechnung!$A$4:$G$1000,MATCH(ROW()-5,geb.Rechnung!$G$4:$G$1000,0),COLUMN()+1))","v":""},{"$f":"IF(ISNA(INDEX(geb.Rechnung!$A$4:$G$1000,MATCH(ROW()-5,geb.Rechnung!$G$4:$G$1000,0),COLUMN()+1)),\"\",INDEX(geb.Rechnung!$A$4:$G$1000,MATCH(ROW()-5,geb.Rechnung!$G$4:$G$1000,0),COLUMN()+1))","v":""}]
[{"$f":"IF(ISNA(INDEX(geb.Rechnung!$A$4:$G$1000,MATCH(ROW()-5,geb.Rechnung!$G$4:$G$1000,0),COLUMN()-1)),\"\",INDEX(geb.Rechnung!$A$4:$G$1000,MATCH(ROW()-5,geb.Rechnung!$G$4:$G$1000,0),COLUMN()-1))","v":""},{"$f":"IF(ISNA(INDEX(geb.Rechnung!$A$4:$G$1000,MATCH(ROW()-5,geb.Rechnung!$G$4:$G$1000,0),COLUMN()-2)),\"\",INDEX(geb.Rechnung!$A$4:$G$1000,MATCH(ROW()-5,geb.Rechnung!$G$4:$G$1000,0),COLUMN()-2))","v":""},{"$f":"IF(ISNA(INDEX(geb.Rechnung!$A$4:$G$1000,MATCH(ROW()-5,geb.Rechnung!$G$4:$G$1000,0),COLUMN()+1)),\"\",INDEX(geb.Rechnung!$A$4:$G$1000,MATCH(ROW()-5,geb.Rechnung!$G$4:$G$1000,0),COLUMN()+1))","v":""},{"$f":"IF(ISNA(INDEX(geb.Rechnung!$A$4:$G$1000,MATCH(ROW()-5,geb.Rechnung!$G$4:$G$1000,0),COLUMN()+1)),\"\",INDEX(geb.Rechnung!$A$4:$G$1000,MATCH(ROW()-5,geb.Rechnung!$G$4:$G$1000,0),COLUMN()+1))","v":""}]
[{"$f":"IF(ISNA(INDEX(geb.Rechnung!$A$4:$G$1000,MATCH(ROW()-5,geb.Rechnung!$G$4:$G$1000,0),COLUMN()-1)),\"\",INDEX(geb.Rechnung!$A$4:$G$1000,MATCH(ROW()-5,geb.Rechnung!$G$4:$G$1000,0),COLUMN()-1))","v":""},{"$f":"IF(ISNA(INDEX(geb.Rechnung!$A$4:$G$1000,MATCH(ROW()-5,geb.Rechnung!$G$4:$G$1000,0),COLUMN()-2)),\"\",INDEX(geb.Rechnung!$A$4:$G$1000,MATCH(ROW()-5,geb.Rechnung!$G$4:$G$1000,0),COLUMN()-2))","v":""},{"$f":"IF(ISNA(INDEX(geb.Rechnung!$A$4:$G$1000,MATCH(ROW()-5,geb.Rechnung!$G$4:$G$1000,0),COLUMN()+1)),\"\",INDEX(geb.Rechnung!$A$4:$G$1000,MATCH(ROW()-5,geb.Rechnung!$G$4:$G$1000,0),COLUMN()+1))","v":""},{"$f":"IF(ISNA(INDEX(geb.Rechnung!$A$4:$G$1000,MATCH(ROW()-5,geb.Rechnung!$G$4:$G$1000,0),COLUMN()+1)),\"\",INDEX(geb.Rechnung!$A$4:$G$1000,MATCH(ROW()-5,geb.Rechnung!$G$4:$G$1000,0),COLUMN()+1))","v":""}]
[{"$f":"IF(ISNA(INDEX(geb.Rechnung!$A$4:$G$1000,MATCH(ROW()-5,geb.Rechnung!$G$4:$G$1000,0),COLUMN()-1)),\"\",INDEX(geb.Rechnung!$A$4:$G$1000,MATCH(ROW()-5,geb.Rechnung!$G$4:$G$1000,0),COLUMN()-1))","v":""},{"$f":"IF(ISNA(INDEX(geb.Rechnung!$A$4:$G$1000,MATCH(ROW()-5,geb.Rechnung!$G$4:$G$1000,0),COLUMN()-2)),\"\",INDEX(geb.Rechnung!$A$4:$G$1000,MATCH(ROW()-5,geb.Rechnung!$G$4:$G$1000,0),COLUMN()-2))","v":""},{"$f":"IF(ISNA(INDEX(geb.Rechnung!$A$4:$G$1000,MATCH(ROW()-5,geb.Rechnung!$G$4:$G$1000,0),COLUMN()+1)),\"\",INDEX(geb.Rechnung!$A$4:$G$1000,MATCH(ROW()-5,geb.Rechnung!$G$4:$G$1000,0),COLUMN()+1))","v":""},{"$f":"IF(ISNA(INDEX(geb.Rechnung!$A$4:$G$1000,MATCH(ROW()-5,geb.Rechnung!$G$4:$G$1000,0),COLUMN()+1)),\"\",INDEX(geb.Rechnung!$A$4:$G$1000,MATCH(ROW()-5,geb.Rechnung!$G$4:$G$1000,0),COLUMN()+1))","v":""}]
[{"$f":"IF(ISNA(INDEX(geb.Rechnung!$A$4:$G$1000,MATCH(ROW()-5,geb.Rechnung!$G$4:$G$1000,0),COLUMN()-1)),\"\",INDEX(geb.Rechnung!$A$4:$G$1000,MATCH(ROW()-5,geb.Rechnung!$G$4:$G$1000,0),COLUMN()-1))","v":""},{"$f":"IF(ISNA(INDEX(geb.Rechnung!$A$4:$G$1000,MATCH(ROW()-5,geb.Rechnung!$G$4:$G$1000,0),COLUMN()-2)),\"\",INDEX(geb.Rechnung!$A$4:$G$1000,MATCH(ROW()-5,geb.Rechnung!$G$4:$G$1000,0),COLUMN()-2))","v":""},{"$f":"IF(ISNA(INDEX(geb.Rechnung!$A$4:$G$1000,MATCH(ROW()-5,geb.Rechnung!$G$4:$G$1000,0),COLUMN()+1)),\"\",INDEX(geb.Rechnung!$A$4:$G$1000,MATCH(ROW()-5,geb.Rechnung!$G$4:$G$1000,0),COLUMN()+1))","v":""},{"$f":"IF(ISNA(INDEX(geb.Rechnung!$A$4:$G$1000,MATCH(ROW()-5,geb.Rechnung!$G$4:$G$1000,0),COLUMN()+1)),\"\",INDEX(geb.Rechnung!$A$4:$G$1000,MATCH(ROW()-5,geb.Rechnung!$G$4:$G$1000,0),COLUMN()+1))","v":""}]
[{"$f":"IF(ISNA(INDEX(geb.Rechnung!$A$4:$G$1000,MATCH(ROW()-5,geb.Rechnung!$G$4:$G$1000,0),COLUMN()-1)),\"\",INDEX(geb.Rechnung!$A$4:$G$1000,MATCH(ROW()-5,geb.Rechnung!$G$4:$G$1000,0),COLUMN()-1))","v":""},{"$f":"IF(ISNA(INDEX(geb.Rechnung!$A$4:$G$1000,MATCH(ROW()-5,geb.Rechnung!$G$4:$G$1000,0),COLUMN()-2)),\"\",INDEX(geb.Rechnung!$A$4:$G$1000,MATCH(ROW()-5,geb.Rechnung!$G$4:$G$1000,0),COLUMN()-2))","v":""},{"$f":"IF(ISNA(INDEX(geb.Rechnung!$A$4:$G$1000,MATCH(ROW()-5,geb.Rechnung!$G$4:$G$1000,0),COLUMN()+1)),\"\",INDEX(geb.Rechnung!$A$4:$G$1000,MATCH(ROW()-5,geb.Rechnung!$G$4:$G$1000,0),COLUMN()+1))","v":""},{"$f":"IF(ISNA(INDEX(geb.Rechnung!$A$4:$G$1000,MATCH(ROW()-5,geb.Rechnung!$G$4:$G$1000,0),COLUMN()+1)),\"\",INDEX(geb.Rechnung!$A$4:$G$1000,MATCH(ROW()-5,geb.Rechnung!$G$4:$G$1000,0),COLUMN()+1))","v":""}]
[{"$f":"IF(ISNA(INDEX(geb.Rechnung!$A$4:$G$1000,MATCH(ROW()-5,geb.Rechnung!$G$4:$G$1000,0),COLUMN()-1)),\"\",INDEX(geb.Rechnung!$A$4:$G$1000,MATCH(ROW()-5,geb.Rechnung!$G$4:$G$1000,0),COLUMN()-1))","v":""},{"$f":"IF(ISNA(INDEX(geb.Rechnung!$A$4:$G$1000,MATCH(ROW()-5,geb.Rechnung!$G$4:$G$1000,0),COLUMN()-2)),\"\",INDEX(geb.Rechnung!$A$4:$G$1000,MATCH(ROW()-5,geb.Rechnung!$G$4:$G$1000,0),COLUMN()-2))","v":""},{"$f":"IF(ISNA(INDEX(geb.Rechnung!$A$4:$G$1000,MATCH(ROW()-5,geb.Rechnung!$G$4:$G$1000,0),COLUMN()+1)),\"\",INDEX(geb.Rechnung!$A$4:$G$1000,MATCH(ROW()-5,geb.Rechnung!$G$4:$G$1000,0),COLUMN()+1))","v":""},{"$f":"IF(ISNA(INDEX(geb.Rechnung!$A$4:$G$1000,MATCH(ROW()-5,geb.Rechnung!$G$4:$G$1000,0),COLUMN()+1)),\"\",INDEX(geb.Rechnung!$A$4:$G$1000,MATCH(ROW()-5,geb.Rechnung!$G$4:$G$1000,0),COLUMN()+1))","v":""}]
[{"$f":"IF(ISNA(INDEX(geb.Rechnung!$A$4:$G$1000,MATCH(ROW()-5,geb.Rechnung!$G$4:$G$1000,0),COLUMN()-1)),\"\",INDEX(geb.Rechnung!$A$4:$G$1000,MATCH(ROW()-5,geb.Rechnung!$G$4:$G$1000,0),COLUMN()-1))","v":""},{"$f":"IF(ISNA(INDEX(geb.Rechnung!$A$4:$G$1000,MATCH(ROW()-5,geb.Rechnung!$G$4:$G$1000,0),COLUMN()-2)),\"\",INDEX(geb.Rechnung!$A$4:$G$1000,MATCH(ROW()-5,geb.Rechnung!$G$4:$G$1000,0),COLUMN()-2))","v":""},{"$f":"IF(ISNA(INDEX(geb.Rechnung!$A$4:$G$1000,MATCH(ROW()-5,geb.Rechnung!$G$4:$G$1000,0),COLUMN()+1)),\"\",INDEX(geb.Rechnung!$A$4:$G$1000,MATCH(ROW()-5,geb.Rechnung!$G$4:$G$1000,0),COLUMN()+1))","v":""},{"$f":"IF(ISNA(INDEX(geb.Rechnung!$A$4:$G$1000,MATCH(ROW()-5,geb.Rechnung!$G$4:$G$1000,0),COLUMN()+1)),\"\",INDEX(geb.Rechnung!$A$4:$G$1000,MATCH(ROW()-5,geb.Rechnung!$G$4:$G$1000,0),COLUMN()+1))","v":""}]
[{"$f":"IF(ISNA(INDEX(geb.Rechnung!$A$4:$G$1000,MATCH(ROW()-5,geb.Rechnung!$G$4:$G$1000,0),COLUMN()-1)),\"\",INDEX(geb.Rechnung!$A$4:$G$1000,MATCH(ROW()-5,geb.Rechnung!$G$4:$G$1000,0),COLUMN()-1))","v":""},{"$f":"IF(ISNA(INDEX(geb.Rechnung!$A$4:$G$1000,MATCH(ROW()-5,geb.Rechnung!$G$4:$G$1000,0),COLUMN()-2)),\"\",INDEX(geb.Rechnung!$A$4:$G$1000,MATCH(ROW()-5,geb.Rechnung!$G$4:$G$1000,0),COLUMN()-2))","v":""},{"$f":"IF(ISNA(INDEX(geb.Rechnung!$A$4:$G$1000,MATCH(ROW()-5,geb.Rechnung!$G$4:$G$1000,0),COLUMN()+1)),\"\",INDEX(geb.Rechnung!$A$4:$G$1000,MATCH(ROW()-5,geb.Rechnung!$G$4:$G$1000,0),COLUMN()+1))","v":""},{"$f":"IF(ISNA(INDEX(geb.Rechnung!$A$4:$G$1000,MATCH(ROW()-5,geb.Rechnung!$G$4:$G$1000,0),COLUMN()+1)),\"\",INDEX(geb.Rechnung!$A$4:$G$1000,MATCH(ROW()-5,geb.Rechnung!$G$4:$G$1000,0),COLUMN()+1))","v":""}]
[{"$f":"IF(ISNA(INDEX(geb.Rechnung!$A$4:$G$1000,MATCH(ROW()-5,geb.Rechnung!$G$4:$G$1000,0),COLUMN()-1)),\"\",INDEX(geb.Rechnung!$A$4:$G$1000,MATCH(ROW()-5,geb.Rechnung!$G$4:$G$1000,0),COLUMN()-1))","v":""},{"$f":"IF(ISNA(INDEX(geb.Rechnung!$A$4:$G$1000,MATCH(ROW()-5,geb.Rechnung!$G$4:$G$1000,0),COLUMN()-2)),\"\",INDEX(geb.Rechnung!$A$4:$G$1000,MATCH(ROW()-5,geb.Rechnung!$G$4:$G$1000,0),COLUMN()-2))","v":""},{"$f":"IF(ISNA(INDEX(geb.Rechnung!$A$4:$G$1000,MATCH(ROW()-5,geb.Rechnung!$G$4:$G$1000,0),COLUMN()+1)),\"\",INDEX(geb.Rechnung!$A$4:$G$1000,MATCH(ROW()-5,geb.Rechnung!$G$4:$G$1000,0),COLUMN()+1))","v":""},{"$f":"IF(ISNA(INDEX(geb.Rechnung!$A$4:$G$1000,MATCH(ROW()-5,geb.Rechnung!$G$4:$G$1000,0),COLUMN()+1)),\"\",INDEX(geb.Rechnung!$A$4:$G$1000,MATCH(ROW()-5,geb.Rechnung!$G$4:$G$1000,0),COLUMN()+1))","v":""}]
[{"$f":"IF(ISNA(INDEX(geb.Rechnung!$A$4:$G$1000,MATCH(ROW()-5,geb.Rechnung!$G$4:$G$1000,0),COLUMN()-1)),\"\",INDEX(geb.Rechnung!$A$4:$G$1000,MATCH(ROW()-5,geb.Rechnung!$G$4:$G$1000,0),COLUMN()-1))","v":""},{"$f":"IF(ISNA(INDEX(geb.Rechnung!$A$4:$G$1000,MATCH(ROW()-5,geb.Rechnung!$G$4:$G$1000,0),COLUMN()-2)),\"\",INDEX(geb.Rechnung!$A$4:$G$1000,MATCH(ROW()-5,geb.Rechnung!$G$4:$G$1000,0),COLUMN()-2))","v":""},{"$f":"IF(ISNA(INDEX(geb.Rechnung!$A$4:$G$1000,MATCH(ROW()-5,geb.Rechnung!$G$4:$G$1000,0),COLUMN()+1)),\"\",INDEX(geb.Rechnung!$A$4:$G$1000,MATCH(ROW()-5,geb.Rechnung!$G$4:$G$1000,0),COLUMN()+1))","v":""},{"$f":"IF(ISNA(INDEX(geb.Rechnung!$A$4:$G$1000,MATCH(ROW()-5,geb.Rechnung!$G$4:$G$1000,0),COLUMN()+1)),\"\",INDEX(geb.Rechnung!$A$4:$G$1000,MATCH(ROW()-5,geb.Rechnung!$G$4:$G$1000,0),COLUMN()+1))","v":""}]
[{"$f":"IF(ISNA(INDEX(geb.Rechnung!$A$4:$G$1000,MATCH(ROW()-5,geb.Rechnung!$G$4:$G$1000,0),COLUMN()-1)),\"\",INDEX(geb.Rechnung!$A$4:$G$1000,MATCH(ROW()-5,geb.Rechnung!$G$4:$G$1000,0),COLUMN()-1))","v":""},{"$f":"IF(ISNA(INDEX(geb.Rechnung!$A$4:$G$1000,MATCH(ROW()-5,geb.Rechnung!$G$4:$G$1000,0),COLUMN()-2)),\"\",INDEX(geb.Rechnung!$A$4:$G$1000,MATCH(ROW()-5,geb.Rechnung!$G$4:$G$1000,0),COLUMN()-2))","v":""},{"$f":"IF(ISNA(INDEX(geb.Rechnung!$A$4:$G$1000,MATCH(ROW()-5,geb.Rechnung!$G$4:$G$1000,0),COLUMN()+1)),\"\",INDEX(geb.Rechnung!$A$4:$G$1000,MATCH(ROW()-5,geb.Rechnung!$G$4:$G$1000,0),COLUMN()+1))","v":""},{"$f":"IF(ISNA(INDEX(geb.Rechnung!$A$4:$G$1000,MATCH(ROW()-5,geb.Rechnung!$G$4:$G$1000,0),COLUMN()+1)),\"\",INDEX(geb.Rechnung!$A$4:$G$1000,MATCH(ROW()-5,geb.Rechnung!$G$4:$G$1000,0),COLUMN()+1))","v":""}]
[{"$f":"IF(ISNA(INDEX(geb.Rechnung!$A$4:$G$1000,MATCH(ROW()-5,geb.Rechnung!$G$4:$G$1000,0),COLUMN()-1)),\"\",INDEX(geb.Rechnung!$A$4:$G$1000,MATCH(ROW()-5,geb.Rechnung!$G$4:$G$1000,0),COLUMN()-1))","v":""},{"$f":"IF(ISNA(INDEX(geb.Rechnung!$A$4:$G$1000,MATCH(ROW()-5,geb.Rechnung!$G$4:$G$1000,0),COLUMN()-2)),\"\",INDEX(geb.Rechnung!$A$4:$G$1000,MATCH(ROW()-5,geb.Rechnung!$G$4:$G$1000,0),COLUMN()-2))","v":""},{"$f":"IF(ISNA(INDEX(geb.Rechnung!$A$4:$G$1000,MATCH(ROW()-5,geb.Rechnung!$G$4:$G$1000,0),COLUMN()+1)),\"\",INDEX(geb.Rechnung!$A$4:$G$1000,MATCH(ROW()-5,geb.Rechnung!$G$4:$G$1000,0),COLUMN()+1))","v":""},{"$f":"IF(ISNA(INDEX(geb.Rechnung!$A$4:$G$1000,MATCH(ROW()-5,geb.Rechnung!$G$4:$G$1000,0),COLUMN()+1)),\"\",INDEX(geb.Rechnung!$A$4:$G$1000,MATCH(ROW()-5,geb.Rechnung!$G$4:$G$1000,0),COLUMN()+1))","v":""}]
[{"$f":"IF(ISNA(INDEX(geb.Rechnung!$A$4:$G$1000,MATCH(ROW()-5,geb.Rechnung!$G$4:$G$1000,0),COLUMN()-1)),\"\",INDEX(geb.Rechnung!$A$4:$G$1000,MATCH(ROW()-5,geb.Rechnung!$G$4:$G$1000,0),COLUMN()-1))","v":""},{"$f":"IF(ISNA(INDEX(geb.Rechnung!$A$4:$G$1000,MATCH(ROW()-5,geb.Rechnung!$G$4:$G$1000,0),COLUMN()-2)),\"\",INDEX(geb.Rechnung!$A$4:$G$1000,MATCH(ROW()-5,geb.Rechnung!$G$4:$G$1000,0),COLUMN()-2))","v":""},{"$f":"IF(ISNA(INDEX(geb.Rechnung!$A$4:$G$1000,MATCH(ROW()-5,geb.Rechnung!$G$4:$G$1000,0),COLUMN()+1)),\"\",INDEX(geb.Rechnung!$A$4:$G$1000,MATCH(ROW()-5,geb.Rechnung!$G$4:$G$1000,0),COLUMN()+1))","v":""},{"$f":"IF(ISNA(INDEX(geb.Rechnung!$A$4:$G$1000,MATCH(ROW()-5,geb.Rechnung!$G$4:$G$1000,0),COLUMN()+1)),\"\",INDEX(geb.Rechnung!$A$4:$G$1000,MATCH(ROW()-5,geb.Rechnung!$G$4:$G$1000,0),COLUMN()+1))","v":""}]
[{"$f":"IF(ISNA(INDEX(geb.Rechnung!$A$4:$G$1000,MATCH(ROW()-5,geb.Rechnung!$G$4:$G$1000,0),COLUMN()-1)),\"\",INDEX(geb.Rechnung!$A$4:$G$1000,MATCH(ROW()-5,geb.Rechnung!$G$4:$G$1000,0),COLUMN()-1))","v":""},{"$f":"IF(ISNA(INDEX(geb.Rechnung!$A$4:$G$1000,MATCH(ROW()-5,geb.Rechnung!$G$4:$G$1000,0),COLUMN()-2)),\"\",INDEX(geb.Rechnung!$A$4:$G$1000,MATCH(ROW()-5,geb.Rechnung!$G$4:$G$1000,0),COLUMN()-2))","v":""},{"$f":"IF(ISNA(INDEX(geb.Rechnung!$A$4:$G$1000,MATCH(ROW()-5,geb.Rechnung!$G$4:$G$1000,0),COLUMN()+1)),\"\",INDEX(geb.Rechnung!$A$4:$G$1000,MATCH(ROW()-5,geb.Rechnung!$G$4:$G$1000,0),COLUMN()+1))","v":""},{"$f":"IF(ISNA(INDEX(geb.Rechnung!$A$4:$G$1000,MATCH(ROW()-5,geb.Rechnung!$G$4:$G$1000,0),COLUMN()+1)),\"\",INDEX(geb.Rechnung!$A$4:$G$1000,MATCH(ROW()-5,geb.Rechnung!$G$4:$G$1000,0),COLUMN()+1))","v":""}]
[{"$f":"IF(ISNA(INDEX(geb.Rechnung!$A$4:$G$1000,MATCH(ROW()-5,geb.Rechnung!$G$4:$G$1000,0),COLUMN()-1)),\"\",INDEX(geb.Rechnung!$A$4:$G$1000,MATCH(ROW()-5,geb.Rechnung!$G$4:$G$1000,0),COLUMN()-1))","v":""},{"$f":"IF(ISNA(INDEX(geb.Rechnung!$A$4:$G$1000,MATCH(ROW()-5,geb.Rechnung!$G$4:$G$1000,0),COLUMN()-2)),\"\",INDEX(geb.Rechnung!$A$4:$G$1000,MATCH(ROW()-5,geb.Rechnung!$G$4:$G$1000,0),COLUMN()-2))","v":""},{"$f":"IF(ISNA(INDEX(geb.Rechnung!$A$4:$G$1000,MATCH(ROW()-5,geb.Rechnung!$G$4:$G$1000,0),COLUMN()+1)),\"\",INDEX(geb.Rechnung!$A$4:$G$1000,MATCH(ROW()-5,geb.Rechnung!$G$4:$G$1000,0),COLUMN()+1))","v":""},{"$f":"IF(ISNA(INDEX(geb.Rechnung!$A$4:$G$1000,MATCH(ROW()-5,geb.Rechnung!$G$4:$G$1000,0),COLUMN()+1)),\"\",INDEX(geb.Rechnung!$A$4:$G$1000,MATCH(ROW()-5,geb.Rechnung!$G$4:$G$1000,0),COLUMN()+1))","v":""}]
[{"$f":"IF(ISNA(INDEX(geb.Rechnung!$A$4:$G$1000,MATCH(ROW()-5,geb.Rechnung!$G$4:$G$1000,0),COLUMN()-1)),\"\",INDEX(geb.Rechnung!$A$4:$G$1000,MATCH(ROW()-5,geb.Rechnung!$G$4:$G$1000,0),COLUMN()-1))","v":""},{"$f":"IF(ISNA(INDEX(geb.Rechnung!$A$4:$G$1000,MATCH(ROW()-5,geb.Rechnung!$G$4:$G$1000,0),COLUMN()-2)),\"\",INDEX(geb.Rechnung!$A$4:$G$1000,MATCH(ROW()-5,geb.Rechnung!$G$4:$G$1000,0),COLUMN()-2))","v":""},{"$f":"IF(ISNA(INDEX(geb.Rechnung!$A$4:$G$1000,MATCH(ROW()-5,geb.Rechnung!$G$4:$G$1000,0),COLUMN()+1)),\"\",INDEX(geb.Rechnung!$A$4:$G$1000,MATCH(ROW()-5,geb.Rechnung!$G$4:$G$1000,0),COLUMN()+1))","v":""},{"$f":"IF(ISNA(INDEX(geb.Rechnung!$A$4:$G$1000,MATCH(ROW()-5,geb.Rechnung!$G$4:$G$1000,0),COLUMN()+1)),\"\",INDEX(geb.Rechnung!$A$4:$G$1000,MATCH(ROW()-5,geb.Rechnung!$G$4:$G$1000,0),COLUMN()+1))","v":""}]
[{"$f":"IF(ISNA(INDEX(geb.Rechnung!$A$4:$G$1000,MATCH(ROW()-5,geb.Rechnung!$G$4:$G$1000,0),COLUMN()-1)),\"\",INDEX(geb.Rechnung!$A$4:$G$1000,MATCH(ROW()-5,geb.Rechnung!$G$4:$G$1000,0),COLUMN()-1))","v":""},{"$f":"IF(ISNA(INDEX(geb.Rechnung!$A$4:$G$1000,MATCH(ROW()-5,geb.Rechnung!$G$4:$G$1000,0),COLUMN()-2)),\"\",INDEX(geb.Rechnung!$A$4:$G$1000,MATCH(ROW()-5,geb.Rechnung!$G$4:$G$1000,0),COLUMN()-2))","v":""},{"$f":"IF(ISNA(INDEX(geb.Rechnung!$A$4:$G$1000,MATCH(ROW()-5,geb.Rechnung!$G$4:$G$1000,0),COLUMN()+1)),\"\",INDEX(geb.Rechnung!$A$4:$G$1000,MATCH(ROW()-5,geb.Rechnung!$G$4:$G$1000,0),COLUMN()+1))","v":""},{"$f":"IF(ISNA(INDEX(geb.Rechnung!$A$4:$G$1000,MATCH(ROW()-5,geb.Rechnung!$G$4:$G$1000,0),COLUMN()+1)),\"\",INDEX(geb.Rechnung!$A$4:$G$1000,MATCH(ROW()-5,geb.Rechnung!$G$4:$G$1000,0),COLUMN()+1))","v":""}]
[{"$f":"IF(ISNA(INDEX(geb.Rechnung!$A$4:$G$1000,MATCH(ROW()-5,geb.Rechnung!$G$4:$G$1000,0),COLUMN()-1)),\"\",INDEX(geb.Rechnung!$A$4:$G$1000,MATCH(ROW()-5,geb.Rechnung!$G$4:$G$1000,0),COLUMN()-1))","v":""},{"$f":"IF(ISNA(INDEX(geb.Rechnung!$A$4:$G$1000,MATCH(ROW()-5,geb.Rechnung!$G$4:$G$1000,0),COLUMN()-2)),\"\",INDEX(geb.Rechnung!$A$4:$G$1000,MATCH(ROW()-5,geb.Rechnung!$G$4:$G$1000,0),COLUMN()-2))","v":""},{"$f":"IF(ISNA(INDEX(geb.Rechnung!$A$4:$G$1000,MATCH(ROW()-5,geb.Rechnung!$G$4:$G$1000,0),COLUMN()+1)),\"\",INDEX(geb.Rechnung!$A$4:$G$1000,MATCH(ROW()-5,geb.Rechnung!$G$4:$G$1000,0),COLUMN()+1))","v":""},{"$f":"IF(ISNA(INDEX(geb.Rechnung!$A$4:$G$1000,MATCH(ROW()-5,geb.Rechnung!$G$4:$G$1000,0),COLUMN()+1)),\"\",INDEX(geb.Rechnung!$A$4:$G$1000,MATCH(ROW()-5,geb.Rechnung!$G$4:$G$1000,0),COLUMN()+1))","v":""}]
[{"$f":"IF(ISNA(INDEX(geb.Rechnung!$A$4:$G$1000,MATCH(ROW()-5,geb.Rechnung!$G$4:$G$1000,0),COLUMN()-1)),\"\",INDEX(geb.Rechnung!$A$4:$G$1000,MATCH(ROW()-5,geb.Rechnung!$G$4:$G$1000,0),COLUMN()-1))","v":""},{"$f":"IF(ISNA(INDEX(geb.Rechnung!$A$4:$G$1000,MATCH(ROW()-5,geb.Rechnung!$G$4:$G$1000,0),COLUMN()-2)),\"\",INDEX(geb.Rechnung!$A$4:$G$1000,MATCH(ROW()-5,geb.Rechnung!$G$4:$G$1000,0),COLUMN()-2))","v":""},{"$f":"IF(ISNA(INDEX(geb.Rechnung!$A$4:$G$1000,MATCH(ROW()-5,geb.Rechnung!$G$4:$G$1000,0),COLUMN()+1)),\"\",INDEX(geb.Rechnung!$A$4:$G$1000,MATCH(ROW()-5,geb.Rechnung!$G$4:$G$1000,0),COLUMN()+1))","v":""},{"$f":"IF(ISNA(INDEX(geb.Rechnung!$A$4:$G$1000,MATCH(ROW()-5,geb.Rechnung!$G$4:$G$1000,0),COLUMN()+1)),\"\",INDEX(geb.Rechnung!$A$4:$G$1000,MATCH(ROW()-5,geb.Rechnung!$G$4:$G$1000,0),COLUMN()+1))","v":""}]
[{"$f":"IF(ISNA(INDEX(geb.Rechnung!$A$4:$G$1000,MATCH(ROW()-5,geb.Rechnung!$G$4:$G$1000,0),COLUMN()-1)),\"\",INDEX(geb.Rechnung!$A$4:$G$1000,MATCH(ROW()-5,geb.Rechnung!$G$4:$G$1000,0),COLUMN()-1))","v":""},{"$f":"IF(ISNA(INDEX(geb.Rechnung!$A$4:$G$1000,MATCH(ROW()-5,geb.Rechnung!$G$4:$G$1000,0),COLUMN()-2)),\"\",INDEX(geb.Rechnung!$A$4:$G$1000,MATCH(ROW()-5,geb.Rechnung!$G$4:$G$1000,0),COLUMN()-2))","v":""},{"$f":"IF(ISNA(INDEX(geb.Rechnung!$A$4:$G$1000,MATCH(ROW()-5,geb.Rechnung!$G$4:$G$1000,0),COLUMN()+1)),\"\",INDEX(geb.Rechnung!$A$4:$G$1000,MATCH(ROW()-5,geb.Rechnung!$G$4:$G$1000,0),COLUMN()+1))","v":""},{"$f":"IF(ISNA(INDEX(geb.Rechnung!$A$4:$G$1000,MATCH(ROW()-5,geb.Rechnung!$G$4:$G$1000,0),COLUMN()+1)),\"\",INDEX(geb.Rechnung!$A$4:$G$1000,MATCH(ROW()-5,geb.Rechnung!$G$4:$G$1000,0),COLUMN()+1))","v":""}]
[{"$f":"IF(ISNA(INDEX(geb.Rechnung!$A$4:$G$1000,MATCH(ROW()-5,geb.Rechnung!$G$4:$G$1000,0),COLUMN()-1)),\"\",INDEX(geb.Rechnung!$A$4:$G$1000,MATCH(ROW()-5,geb.Rechnung!$G$4:$G$1000,0),COLUMN()-1))","v":""},{"$f":"IF(ISNA(INDEX(geb.Rechnung!$A$4:$G$1000,MATCH(ROW()-5,geb.Rechnung!$G$4:$G$1000,0),COLUMN()-2)),\"\",INDEX(geb.Rechnung!$A$4:$G$1000,MATCH(ROW()-5,geb.Rechnung!$G$4:$G$1000,0),COLUMN()-2))","v":""},{"$f":"IF(ISNA(INDEX(geb.Rechnung!$A$4:$G$1000,MATCH(ROW()-5,geb.Rechnung!$G$4:$G$1000,0),COLUMN()+1)),\"\",INDEX(geb.Rechnung!$A$4:$G$1000,MATCH(ROW()-5,geb.Rechnung!$G$4:$G$1000,0),COLUMN()+1))","v":""},{"$f":"IF(ISNA(INDEX(geb.Rechnung!$A$4:$G$1000,MATCH(ROW()-5,geb.Rechnung!$G$4:$G$1000,0),COLUMN()+1)),\"\",INDEX(geb.Rechnung!$A$4:$G$1000,MATCH(ROW()-5,geb.Rechnung!$G$4:$G$1000,0),COLUMN()+1))","v":""}]
[{"$f":"IF(ISNA(INDEX(geb.Rechnung!$A$4:$G$1000,MATCH(ROW()-5,geb.Rechnung!$G$4:$G$1000,0),COLUMN()-1)),\"\",INDEX(geb.Rechnung!$A$4:$G$1000,MATCH(ROW()-5,geb.Rechnung!$G$4:$G$1000,0),COLUMN()-1))","v":""},{"$f":"IF(ISNA(INDEX(geb.Rechnung!$A$4:$G$1000,MATCH(ROW()-5,geb.Rechnung!$G$4:$G$1000,0),COLUMN()-2)),\"\",INDEX(geb.Rechnung!$A$4:$G$1000,MATCH(ROW()-5,geb.Rechnung!$G$4:$G$1000,0),COLUMN()-2))","v":""},{"$f":"IF(ISNA(INDEX(geb.Rechnung!$A$4:$G$1000,MATCH(ROW()-5,geb.Rechnung!$G$4:$G$1000,0),COLUMN()+1)),\"\",INDEX(geb.Rechnung!$A$4:$G$1000,MATCH(ROW()-5,geb.Rechnung!$G$4:$G$1000,0),COLUMN()+1))","v":""},{"$f":"IF(ISNA(INDEX(geb.Rechnung!$A$4:$G$1000,MATCH(ROW()-5,geb.Rechnung!$G$4:$G$1000,0),COLUMN()+1)),\"\",INDEX(geb.Rechnung!$A$4:$G$1000,MATCH(ROW()-5,geb.Rechnung!$G$4:$G$1000,0),COLUMN()+1))","v":""}]
[{"$f":"IF(ISNA(INDEX(geb.Rechnung!$A$4:$G$1000,MATCH(ROW()-5,geb.Rechnung!$G$4:$G$1000,0),COLUMN()-1)),\"\",INDEX(geb.Rechnung!$A$4:$G$1000,MATCH(ROW()-5,geb.Rechnung!$G$4:$G$1000,0),COLUMN()-1))","v":""},{"$f":"IF(ISNA(INDEX(geb.Rechnung!$A$4:$G$1000,MATCH(ROW()-5,geb.Rechnung!$G$4:$G$1000,0),COLUMN()-2)),\"\",INDEX(geb.Rechnung!$A$4:$G$1000,MATCH(ROW()-5,geb.Rechnung!$G$4:$G$1000,0),COLUMN()-2))","v":""},{"$f":"IF(ISNA(INDEX(geb.Rechnung!$A$4:$G$1000,MATCH(ROW()-5,geb.Rechnung!$G$4:$G$1000,0),COLUMN()+1)),\"\",INDEX(geb.Rechnung!$A$4:$G$1000,MATCH(ROW()-5,geb.Rechnung!$G$4:$G$1000,0),COLUMN()+1))","v":""},{"$f":"IF(ISNA(INDEX(geb.Rechnung!$A$4:$G$1000,MATCH(ROW()-5,geb.Rechnung!$G$4:$G$1000,0),COLUMN()+1)),\"\",INDEX(geb.Rechnung!$A$4:$G$1000,MATCH(ROW()-5,geb.Rechnung!$G$4:$G$1000,0),COLUMN()+1))","v":""}]
[{"$f":"IF(ISNA(INDEX(geb.Rechnung!$A$4:$G$1000,MATCH(ROW()-5,geb.Rechnung!$G$4:$G$1000,0),COLUMN()-1)),\"\",INDEX(geb.Rechnung!$A$4:$G$1000,MATCH(ROW()-5,geb.Rechnung!$G$4:$G$1000,0),COLUMN()-1))","v":""},{"$f":"IF(ISNA(INDEX(geb.Rechnung!$A$4:$G$1000,MATCH(ROW()-5,geb.Rechnung!$G$4:$G$1000,0),COLUMN()-2)),\"\",INDEX(geb.Rechnung!$A$4:$G$1000,MATCH(ROW()-5,geb.Rechnung!$G$4:$G$1000,0),COLUMN()-2))","v":""},{"$f":"IF(ISNA(INDEX(geb.Rechnung!$A$4:$G$1000,MATCH(ROW()-5,geb.Rechnung!$G$4:$G$1000,0),COLUMN()+1)),\"\",INDEX(geb.Rechnung!$A$4:$G$1000,MATCH(ROW()-5,geb.Rechnung!$G$4:$G$1000,0),COLUMN()+1))","v":""},{"$f":"IF(ISNA(INDEX(geb.Rechnung!$A$4:$G$1000,MATCH(ROW()-5,geb.Rechnung!$G$4:$G$1000,0),COLUMN()+1)),\"\",INDEX(geb.Rechnung!$A$4:$G$1000,MATCH(ROW()-5,geb.Rechnung!$G$4:$G$1000,0),COLUMN()+1))","v":""}]
[{"$f":"IF(ISNA(INDEX(geb.Rechnung!$A$4:$G$1000,MATCH(ROW()-5,geb.Rechnung!$G$4:$G$1000,0),COLUMN()-1)),\"\",INDEX(geb.Rechnung!$A$4:$G$1000,MATCH(ROW()-5,geb.Rechnung!$G$4:$G$1000,0),COLUMN()-1))","v":""},{"$f":"IF(ISNA(INDEX(geb.Rechnung!$A$4:$G$1000,MATCH(ROW()-5,geb.Rechnung!$G$4:$G$1000,0),COLUMN()-2)),\"\",INDEX(geb.Rechnung!$A$4:$G$1000,MATCH(ROW()-5,geb.Rechnung!$G$4:$G$1000,0),COLUMN()-2))","v":""},{"$f":"IF(ISNA(INDEX(geb.Rechnung!$A$4:$G$1000,MATCH(ROW()-5,geb.Rechnung!$G$4:$G$1000,0),COLUMN()+1)),\"\",INDEX(geb.Rechnung!$A$4:$G$1000,MATCH(ROW()-5,geb.Rechnung!$G$4:$G$1000,0),COLUMN()+1))","v":""},{"$f":"IF(ISNA(INDEX(geb.Rechnung!$A$4:$G$1000,MATCH(ROW()-5,geb.Rechnung!$G$4:$G$1000,0),COLUMN()+1)),\"\",INDEX(geb.Rechnung!$A$4:$G$1000,MATCH(ROW()-5,geb.Rechnung!$G$4:$G$1000,0),COLUMN()+1))","v":""}]
[{"$f":"IF(ISNA(INDEX(geb.Rechnung!$A$4:$G$1000,MATCH(ROW()-5,geb.Rechnung!$G$4:$G$1000,0),COLUMN()-1)),\"\",INDEX(geb.Rechnung!$A$4:$G$1000,MATCH(ROW()-5,geb.Rechnung!$G$4:$G$1000,0),COLUMN()-1))","v":""},{"$f":"IF(ISNA(INDEX(geb.Rechnung!$A$4:$G$1000,MATCH(ROW()-5,geb.Rechnung!$G$4:$G$1000,0),COLUMN()-2)),\"\",INDEX(geb.Rechnung!$A$4:$G$1000,MATCH(ROW()-5,geb.Rechnung!$G$4:$G$1000,0),COLUMN()-2))","v":""},{"$f":"IF(ISNA(INDEX(geb.Rechnung!$A$4:$G$1000,MATCH(ROW()-5,geb.Rechnung!$G$4:$G$1000,0),COLUMN()+1)),\"\",INDEX(geb.Rechnung!$A$4:$G$1000,MATCH(ROW()-5,geb.Rechnung!$G$4:$G$1000,0),COLUMN()+1))","v":""},{"$f":"IF(ISNA(INDEX(geb.Rechnung!$A$4:$G$1000,MATCH(ROW()-5,geb.Rechnung!$G$4:$G$1000,0),COLUMN()+1)),\"\",INDEX(geb.Rechnung!$A$4:$G$1000,MATCH(ROW()-5,geb.Rechnung!$G$4:$G$1000,0),COLUMN()+1))","v":""}]
[{"$f":"IF(ISNA(INDEX(geb.Rechnung!$A$4:$G$1000,MATCH(ROW()-5,geb.Rechnung!$G$4:$G$1000,0),COLUMN()-1)),\"\",INDEX(geb.Rechnung!$A$4:$G$1000,MATCH(ROW()-5,geb.Rechnung!$G$4:$G$1000,0),COLUMN()-1))","v":""},{"$f":"IF(ISNA(INDEX(geb.Rechnung!$A$4:$G$1000,MATCH(ROW()-5,geb.Rechnung!$G$4:$G$1000,0),COLUMN()-2)),\"\",INDEX(geb.Rechnung!$A$4:$G$1000,MATCH(ROW()-5,geb.Rechnung!$G$4:$G$1000,0),COLUMN()-2))","v":""},{"$f":"IF(ISNA(INDEX(geb.Rechnung!$A$4:$G$1000,MATCH(ROW()-5,geb.Rechnung!$G$4:$G$1000,0),COLUMN()+1)),\"\",INDEX(geb.Rechnung!$A$4:$G$1000,MATCH(ROW()-5,geb.Rechnung!$G$4:$G$1000,0),COLUMN()+1))","v":""},{"$f":"IF(ISNA(INDEX(geb.Rechnung!$A$4:$G$1000,MATCH(ROW()-5,geb.Rechnung!$G$4:$G$1000,0),COLUMN()+1)),\"\",INDEX(geb.Rechnung!$A$4:$G$1000,MATCH(ROW()-5,geb.Rechnung!$G$4:$G$1000,0),COLUMN()+1))","v":""}]
[{"$f":"IF(ISNA(INDEX(geb.Rechnung!$A$4:$G$1000,MATCH(ROW()-5,geb.Rechnung!$G$4:$G$1000,0),COLUMN()-1)),\"\",INDEX(geb.Rechnung!$A$4:$G$1000,MATCH(ROW()-5,geb.Rechnung!$G$4:$G$1000,0),COLUMN()-1))","v":""},{"$f":"IF(ISNA(INDEX(geb.Rechnung!$A$4:$G$1000,MATCH(ROW()-5,geb.Rechnung!$G$4:$G$1000,0),COLUMN()-2)),\"\",INDEX(geb.Rechnung!$A$4:$G$1000,MATCH(ROW()-5,geb.Rechnung!$G$4:$G$1000,0),COLUMN()-2))","v":""},{"$f":"IF(ISNA(INDEX(geb.Rechnung!$A$4:$G$1000,MATCH(ROW()-5,geb.Rechnung!$G$4:$G$1000,0),COLUMN()+1)),\"\",INDEX(geb.Rechnung!$A$4:$G$1000,MATCH(ROW()-5,geb.Rechnung!$G$4:$G$1000,0),COLUMN()+1))","v":""},{"$f":"IF(ISNA(INDEX(geb.Rechnung!$A$4:$G$1000,MATCH(ROW()-5,geb.Rechnung!$G$4:$G$1000,0),COLUMN()+1)),\"\",INDEX(geb.Rechnung!$A$4:$G$1000,MATCH(ROW()-5,geb.Rechnung!$G$4:$G$1000,0),COLUMN()+1))","v":""}]
[{"$f":"IF(ISNA(INDEX(geb.Rechnung!$A$4:$G$1000,MATCH(ROW()-5,geb.Rechnung!$G$4:$G$1000,0),COLUMN()-1)),\"\",INDEX(geb.Rechnung!$A$4:$G$1000,MATCH(ROW()-5,geb.Rechnung!$G$4:$G$1000,0),COLUMN()-1))","v":""},{"$f":"IF(ISNA(INDEX(geb.Rechnung!$A$4:$G$1000,MATCH(ROW()-5,geb.Rechnung!$G$4:$G$1000,0),COLUMN()-2)),\"\",INDEX(geb.Rechnung!$A$4:$G$1000,MATCH(ROW()-5,geb.Rechnung!$G$4:$G$1000,0),COLUMN()-2))","v":""},{"$f":"IF(ISNA(INDEX(geb.Rechnung!$A$4:$G$1000,MATCH(ROW()-5,geb.Rechnung!$G$4:$G$1000,0),COLUMN()+1)),\"\",INDEX(geb.Rechnung!$A$4:$G$1000,MATCH(ROW()-5,geb.Rechnung!$G$4:$G$1000,0),COLUMN()+1))","v":""},{"$f":"IF(ISNA(INDEX(geb.Rechnung!$A$4:$G$1000,MATCH(ROW()-5,geb.Rechnung!$G$4:$G$1000,0),COLUMN()+1)),\"\",INDEX(geb.Rechnung!$A$4:$G$1000,MATCH(ROW()-5,geb.Rechnung!$G$4:$G$1000,0),COLUMN()+1))","v":""}]
[{"$f":"IF(ISNA(INDEX(geb.Rechnung!$A$4:$G$1000,MATCH(ROW()-5,geb.Rechnung!$G$4:$G$1000,0),COLUMN()-1)),\"\",INDEX(geb.Rechnung!$A$4:$G$1000,MATCH(ROW()-5,geb.Rechnung!$G$4:$G$1000,0),COLUMN()-1))","v":""},{"$f":"IF(ISNA(INDEX(geb.Rechnung!$A$4:$G$1000,MATCH(ROW()-5,geb.Rechnung!$G$4:$G$1000,0),COLUMN()-2)),\"\",INDEX(geb.Rechnung!$A$4:$G$1000,MATCH(ROW()-5,geb.Rechnung!$G$4:$G$1000,0),COLUMN()-2))","v":""},{"$f":"IF(ISNA(INDEX(geb.Rechnung!$A$4:$G$1000,MATCH(ROW()-5,geb.Rechnung!$G$4:$G$1000,0),COLUMN()+1)),\"\",INDEX(geb.Rechnung!$A$4:$G$1000,MATCH(ROW()-5,geb.Rechnung!$G$4:$G$1000,0),COLUMN()+1))","v":""},{"$f":"IF(ISNA(INDEX(geb.Rechnung!$A$4:$G$1000,MATCH(ROW()-5,geb.Rechnung!$G$4:$G$1000,0),COLUMN()+1)),\"\",INDEX(geb.Rechnung!$A$4:$G$1000,MATCH(ROW()-5,geb.Rechnung!$G$4:$G$1000,0),COLUMN()+1))","v":""}]
[{"$f":"IF(ISNA(INDEX(geb.Rechnung!$A$4:$G$1000,MATCH(ROW()-5,geb.Rechnung!$G$4:$G$1000,0),COLUMN()-1)),\"\",INDEX(geb.Rechnung!$A$4:$G$1000,MATCH(ROW()-5,geb.Rechnung!$G$4:$G$1000,0),COLUMN()-1))","v":""},{"$f":"IF(ISNA(INDEX(geb.Rechnung!$A$4:$G$1000,MATCH(ROW()-5,geb.Rechnung!$G$4:$G$1000,0),COLUMN()-2)),\"\",INDEX(geb.Rechnung!$A$4:$G$1000,MATCH(ROW()-5,geb.Rechnung!$G$4:$G$1000,0),COLUMN()-2))","v":""},{"$f":"IF(ISNA(INDEX(geb.Rechnung!$A$4:$G$1000,MATCH(ROW()-5,geb.Rechnung!$G$4:$G$1000,0),COLUMN()+1)),\"\",INDEX(geb.Rechnung!$A$4:$G$1000,MATCH(ROW()-5,geb.Rechnung!$G$4:$G$1000,0),COLUMN()+1))","v":""},{"$f":"IF(ISNA(INDEX(geb.Rechnung!$A$4:$G$1000,MATCH(ROW()-5,geb.Rechnung!$G$4:$G$1000,0),COLUMN()+1)),\"\",INDEX(geb.Rechnung!$A$4:$G$1000,MATCH(ROW()-5,geb.Rechnung!$G$4:$G$1000,0),COLUMN()+1))","v":""}]
[{"$f":"IF(ISNA(INDEX(geb.Rechnung!$A$4:$G$1000,MATCH(ROW()-5,geb.Rechnung!$G$4:$G$1000,0),COLUMN()-1)),\"\",INDEX(geb.Rechnung!$A$4:$G$1000,MATCH(ROW()-5,geb.Rechnung!$G$4:$G$1000,0),COLUMN()-1))","v":""},{"$f":"IF(ISNA(INDEX(geb.Rechnung!$A$4:$G$1000,MATCH(ROW()-5,geb.Rechnung!$G$4:$G$1000,0),COLUMN()-2)),\"\",INDEX(geb.Rechnung!$A$4:$G$1000,MATCH(ROW()-5,geb.Rechnung!$G$4:$G$1000,0),COLUMN()-2))","v":""},{"$f":"IF(ISNA(INDEX(geb.Rechnung!$A$4:$G$1000,MATCH(ROW()-5,geb.Rechnung!$G$4:$G$1000,0),COLUMN()+1)),\"\",INDEX(geb.Rechnung!$A$4:$G$1000,MATCH(ROW()-5,geb.Rechnung!$G$4:$G$1000,0),COLUMN()+1))","v":""},{"$f":"IF(ISNA(INDEX(geb.Rechnung!$A$4:$G$1000,MATCH(ROW()-5,geb.Rechnung!$G$4:$G$1000,0),COLUMN()+1)),\"\",INDEX(geb.Rechnung!$A$4:$G$1000,MATCH(ROW()-5,geb.Rechnung!$G$4:$G$1000,0),COLUMN()+1))","v":""}]
[{"$f":"IF(ISNA(INDEX(geb.Rechnung!$A$4:$G$1000,MATCH(ROW()-5,geb.Rechnung!$G$4:$G$1000,0),COLUMN()-1)),\"\",INDEX(geb.Rechnung!$A$4:$G$1000,MATCH(ROW()-5,geb.Rechnung!$G$4:$G$1000,0),COLUMN()-1))","v":""},{"$f":"IF(ISNA(INDEX(geb.Rechnung!$A$4:$G$1000,MATCH(ROW()-5,geb.Rechnung!$G$4:$G$1000,0),COLUMN()-2)),\"\",INDEX(geb.Rechnung!$A$4:$G$1000,MATCH(ROW()-5,geb.Rechnung!$G$4:$G$1000,0),COLUMN()-2))","v":""},{"$f":"IF(ISNA(INDEX(geb.Rechnung!$A$4:$G$1000,MATCH(ROW()-5,geb.Rechnung!$G$4:$G$1000,0),COLUMN()+1)),\"\",INDEX(geb.Rechnung!$A$4:$G$1000,MATCH(ROW()-5,geb.Rechnung!$G$4:$G$1000,0),COLUMN()+1))","v":""},{"$f":"IF(ISNA(INDEX(geb.Rechnung!$A$4:$G$1000,MATCH(ROW()-5,geb.Rechnung!$G$4:$G$1000,0),COLUMN()+1)),\"\",INDEX(geb.Rechnung!$A$4:$G$1000,MATCH(ROW()-5,geb.Rechnung!$G$4:$G$1000,0),COLUMN()+1))","v":""}]
[{"$f":"IF(ISNA(INDEX(geb.Rechnung!$A$4:$G$1000,MATCH(ROW()-5,geb.Rechnung!$G$4:$G$1000,0),COLUMN()-1)),\"\",INDEX(geb.Rechnung!$A$4:$G$1000,MATCH(ROW()-5,geb.Rechnung!$G$4:$G$1000,0),COLUMN()-1))","v":""},{"$f":"IF(ISNA(INDEX(geb.Rechnung!$A$4:$G$1000,MATCH(ROW()-5,geb.Rechnung!$G$4:$G$1000,0),COLUMN()-2)),\"\",INDEX(geb.Rechnung!$A$4:$G$1000,MATCH(ROW()-5,geb.Rechnung!$G$4:$G$1000,0),COLUMN()-2))","v":""},{"$f":"IF(ISNA(INDEX(geb.Rechnung!$A$4:$G$1000,MATCH(ROW()-5,geb.Rechnung!$G$4:$G$1000,0),COLUMN()+1)),\"\",INDEX(geb.Rechnung!$A$4:$G$1000,MATCH(ROW()-5,geb.Rechnung!$G$4:$G$1000,0),COLUMN()+1))","v":""},{"$f":"IF(ISNA(INDEX(geb.Rechnung!$A$4:$G$1000,MATCH(ROW()-5,geb.Rechnung!$G$4:$G$1000,0),COLUMN()+1)),\"\",INDEX(geb.Rechnung!$A$4:$G$1000,MATCH(ROW()-5,geb.Rechnung!$G$4:$G$1000,0),COLUMN()+1))","v":""}]
[{"$f":"IF(ISNA(INDEX(geb.Rechnung!$A$4:$G$1000,MATCH(ROW()-5,geb.Rechnung!$G$4:$G$1000,0),COLUMN()-1)),\"\",INDEX(geb.Rechnung!$A$4:$G$1000,MATCH(ROW()-5,geb.Rechnung!$G$4:$G$1000,0),COLUMN()-1))","v":""},{"$f":"IF(ISNA(INDEX(geb.Rechnung!$A$4:$G$1000,MATCH(ROW()-5,geb.Rechnung!$G$4:$G$1000,0),COLUMN()-2)),\"\",INDEX(geb.Rechnung!$A$4:$G$1000,MATCH(ROW()-5,geb.Rechnung!$G$4:$G$1000,0),COLUMN()-2))","v":""},{"$f":"IF(ISNA(INDEX(geb.Rechnung!$A$4:$G$1000,MATCH(ROW()-5,geb.Rechnung!$G$4:$G$1000,0),COLUMN()+1)),\"\",INDEX(geb.Rechnung!$A$4:$G$1000,MATCH(ROW()-5,geb.Rechnung!$G$4:$G$1000,0),COLUMN()+1))","v":""},{"$f":"IF(ISNA(INDEX(geb.Rechnung!$A$4:$G$1000,MATCH(ROW()-5,geb.Rechnung!$G$4:$G$1000,0),COLUMN()+1)),\"\",INDEX(geb.Rechnung!$A$4:$G$1000,MATCH(ROW()-5,geb.Rechnung!$G$4:$G$1000,0),COLUMN()+1))","v":""}]
[{"$f":"IF(ISNA(INDEX(geb.Rechnung!$A$4:$G$1000,MATCH(ROW()-5,geb.Rechnung!$G$4:$G$1000,0),COLUMN()-1)),\"\",INDEX(geb.Rechnung!$A$4:$G$1000,MATCH(ROW()-5,geb.Rechnung!$G$4:$G$1000,0),COLUMN()-1))","v":""},{"$f":"IF(ISNA(INDEX(geb.Rechnung!$A$4:$G$1000,MATCH(ROW()-5,geb.Rechnung!$G$4:$G$1000,0),COLUMN()-2)),\"\",INDEX(geb.Rechnung!$A$4:$G$1000,MATCH(ROW()-5,geb.Rechnung!$G$4:$G$1000,0),COLUMN()-2))","v":""},{"$f":"IF(ISNA(INDEX(geb.Rechnung!$A$4:$G$1000,MATCH(ROW()-5,geb.Rechnung!$G$4:$G$1000,0),COLUMN()+1)),\"\",INDEX(geb.Rechnung!$A$4:$G$1000,MATCH(ROW()-5,geb.Rechnung!$G$4:$G$1000,0),COLUMN()+1))","v":""},{"$f":"IF(ISNA(INDEX(geb.Rechnung!$A$4:$G$1000,MATCH(ROW()-5,geb.Rechnung!$G$4:$G$1000,0),COLUMN()+1)),\"\",INDEX(geb.Rechnung!$A$4:$G$1000,MATCH(ROW()-5,geb.Rechnung!$G$4:$G$1000,0),COLUMN()+1))","v":""}]
[{"$f":"IF(ISNA(INDEX(geb.Rechnung!$A$4:$G$1000,MATCH(ROW()-5,geb.Rechnung!$G$4:$G$1000,0),COLUMN()-1)),\"\",INDEX(geb.Rechnung!$A$4:$G$1000,MATCH(ROW()-5,geb.Rechnung!$G$4:$G$1000,0),COLUMN()-1))","v":""},{"$f":"IF(ISNA(INDEX(geb.Rechnung!$A$4:$G$1000,MATCH(ROW()-5,geb.Rechnung!$G$4:$G$1000,0),COLUMN()-2)),\"\",INDEX(geb.Rechnung!$A$4:$G$1000,MATCH(ROW()-5,geb.Rechnung!$G$4:$G$1000,0),COLUMN()-2))","v":""},{"$f":"IF(ISNA(INDEX(geb.Rechnung!$A$4:$G$1000,MATCH(ROW()-5,geb.Rechnung!$G$4:$G$1000,0),COLUMN()+1)),\"\",INDEX(geb.Rechnung!$A$4:$G$1000,MATCH(ROW()-5,geb.Rechnung!$G$4:$G$1000,0),COLUMN()+1))","v":""},{"$f":"IF(ISNA(INDEX(geb.Rechnung!$A$4:$G$1000,MATCH(ROW()-5,geb.Rechnung!$G$4:$G$1000,0),COLUMN()+1)),\"\",INDEX(geb.Rechnung!$A$4:$G$1000,MATCH(ROW()-5,geb.Rechnung!$G$4:$G$1000,0),COLUMN()+1))","v":""}]
[{"$f":"IF(ISNA(INDEX(geb.Rechnung!$A$4:$G$1000,MATCH(ROW()-5,geb.Rechnung!$G$4:$G$1000,0),COLUMN()-1)),\"\",INDEX(geb.Rechnung!$A$4:$G$1000,MATCH(ROW()-5,geb.Rechnung!$G$4:$G$1000,0),COLUMN()-1))","v":""},{"$f":"IF(ISNA(INDEX(geb.Rechnung!$A$4:$G$1000,MATCH(ROW()-5,geb.Rechnung!$G$4:$G$1000,0),COLUMN()-2)),\"\",INDEX(geb.Rechnung!$A$4:$G$1000,MATCH(ROW()-5,geb.Rechnung!$G$4:$G$1000,0),COLUMN()-2))","v":""},{"$f":"IF(ISNA(INDEX(geb.Rechnung!$A$4:$G$1000,MATCH(ROW()-5,geb.Rechnung!$G$4:$G$1000,0),COLUMN()+1)),\"\",INDEX(geb.Rechnung!$A$4:$G$1000,MATCH(ROW()-5,geb.Rechnung!$G$4:$G$1000,0),COLUMN()+1))","v":""},{"$f":"IF(ISNA(INDEX(geb.Rechnung!$A$4:$G$1000,MATCH(ROW()-5,geb.Rechnung!$G$4:$G$1000,0),COLUMN()+1)),\"\",INDEX(geb.Rechnung!$A$4:$G$1000,MATCH(ROW()-5,geb.Rechnung!$G$4:$G$1000,0),COLUMN()+1))","v":""}]
[{"$f":"IF(ISNA(INDEX(geb.Rechnung!$A$4:$G$1000,MATCH(ROW()-5,geb.Rechnung!$G$4:$G$1000,0),COLUMN()-1)),\"\",INDEX(geb.Rechnung!$A$4:$G$1000,MATCH(ROW()-5,geb.Rechnung!$G$4:$G$1000,0),COLUMN()-1))","v":""},{"$f":"IF(ISNA(INDEX(geb.Rechnung!$A$4:$G$1000,MATCH(ROW()-5,geb.Rechnung!$G$4:$G$1000,0),COLUMN()-2)),\"\",INDEX(geb.Rechnung!$A$4:$G$1000,MATCH(ROW()-5,geb.Rechnung!$G$4:$G$1000,0),COLUMN()-2))","v":""},{"$f":"IF(ISNA(INDEX(geb.Rechnung!$A$4:$G$1000,MATCH(ROW()-5,geb.Rechnung!$G$4:$G$1000,0),COLUMN()+1)),\"\",INDEX(geb.Rechnung!$A$4:$G$1000,MATCH(ROW()-5,geb.Rechnung!$G$4:$G$1000,0),COLUMN()+1))","v":""},{"$f":"IF(ISNA(INDEX(geb.Rechnung!$A$4:$G$1000,MATCH(ROW()-5,geb.Rechnung!$G$4:$G$1000,0),COLUMN()+1)),\"\",INDEX(geb.Rechnung!$A$4:$G$1000,MATCH(ROW()-5,geb.Rechnung!$G$4:$G$1000,0),COLUMN()+1))","v":""}]
[{"$f":"IF(ISNA(INDEX(geb.Rechnung!$A$4:$G$1000,MATCH(ROW()-5,geb.Rechnung!$G$4:$G$1000,0),COLUMN()-1)),\"\",INDEX(geb.Rechnung!$A$4:$G$1000,MATCH(ROW()-5,geb.Rechnung!$G$4:$G$1000,0),COLUMN()-1))","v":""},{"$f":"IF(ISNA(INDEX(geb.Rechnung!$A$4:$G$1000,MATCH(ROW()-5,geb.Rechnung!$G$4:$G$1000,0),COLUMN()-2)),\"\",INDEX(geb.Rechnung!$A$4:$G$1000,MATCH(ROW()-5,geb.Rechnung!$G$4:$G$1000,0),COLUMN()-2))","v":""},{"$f":"IF(ISNA(INDEX(geb.Rechnung!$A$4:$G$1000,MATCH(ROW()-5,geb.Rechnung!$G$4:$G$1000,0),COLUMN()+1)),\"\",INDEX(geb.Rechnung!$A$4:$G$1000,MATCH(ROW()-5,geb.Rechnung!$G$4:$G$1000,0),COLUMN()+1))","v":""},{"$f":"IF(ISNA(INDEX(geb.Rechnung!$A$4:$G$1000,MATCH(ROW()-5,geb.Rechnung!$G$4:$G$1000,0),COLUMN()+1)),\"\",INDEX(geb.Rechnung!$A$4:$G$1000,MATCH(ROW()-5,geb.Rechnung!$G$4:$G$1000,0),COLUMN()+1))","v":""}]
[{"$f":"IF(ISNA(INDEX(geb.Rechnung!$A$4:$G$1000,MATCH(ROW()-5,geb.Rechnung!$G$4:$G$1000,0),COLUMN()-1)),\"\",INDEX(geb.Rechnung!$A$4:$G$1000,MATCH(ROW()-5,geb.Rechnung!$G$4:$G$1000,0),COLUMN()-1))","v":""},{"$f":"IF(ISNA(INDEX(geb.Rechnung!$A$4:$G$1000,MATCH(ROW()-5,geb.Rechnung!$G$4:$G$1000,0),COLUMN()-2)),\"\",INDEX(geb.Rechnung!$A$4:$G$1000,MATCH(ROW()-5,geb.Rechnung!$G$4:$G$1000,0),COLUMN()-2))","v":""},{"$f":"IF(ISNA(INDEX(geb.Rechnung!$A$4:$G$1000,MATCH(ROW()-5,geb.Rechnung!$G$4:$G$1000,0),COLUMN()+1)),\"\",INDEX(geb.Rechnung!$A$4:$G$1000,MATCH(ROW()-5,geb.Rechnung!$G$4:$G$1000,0),COLUMN()+1))","v":""},{"$f":"IF(ISNA(INDEX(geb.Rechnung!$A$4:$G$1000,MATCH(ROW()-5,geb.Rechnung!$G$4:$G$1000,0),COLUMN()+1)),\"\",INDEX(geb.Rechnung!$A$4:$G$1000,MATCH(ROW()-5,geb.Rechnung!$G$4:$G$1000,0),COLUMN()+1))","v":""}]
[{"$f":"IF(ISNA(INDEX(geb.Rechnung!$A$4:$G$1000,MATCH(ROW()-5,geb.Rechnung!$G$4:$G$1000,0),COLUMN()-1)),\"\",INDEX(geb.Rechnung!$A$4:$G$1000,MATCH(ROW()-5,geb.Rechnung!$G$4:$G$1000,0),COLUMN()-1))","v":""},{"$f":"IF(ISNA(INDEX(geb.Rechnung!$A$4:$G$1000,MATCH(ROW()-5,geb.Rechnung!$G$4:$G$1000,0),COLUMN()-2)),\"\",INDEX(geb.Rechnung!$A$4:$G$1000,MATCH(ROW()-5,geb.Rechnung!$G$4:$G$1000,0),COLUMN()-2))","v":""},{"$f":"IF(ISNA(INDEX(geb.Rechnung!$A$4:$G$1000,MATCH(ROW()-5,geb.Rechnung!$G$4:$G$1000,0),COLUMN()+1)),\"\",INDEX(geb.Rechnung!$A$4:$G$1000,MATCH(ROW()-5,geb.Rechnung!$G$4:$G$1000,0),COLUMN()+1))","v":""},{"$f":"IF(ISNA(INDEX(geb.Rechnung!$A$4:$G$1000,MATCH(ROW()-5,geb.Rechnung!$G$4:$G$1000,0),COLUMN()+1)),\"\",INDEX(geb.Rechnung!$A$4:$G$1000,MATCH(ROW()-5,geb.Rechnung!$G$4:$G$1000,0),COLUMN()+1))","v":""}]
[{"$f":"IF(ISNA(INDEX(geb.Rechnung!$A$4:$G$1000,MATCH(ROW()-5,geb.Rechnung!$G$4:$G$1000,0),COLUMN()-1)),\"\",INDEX(geb.Rechnung!$A$4:$G$1000,MATCH(ROW()-5,geb.Rechnung!$G$4:$G$1000,0),COLUMN()-1))","v":""},{"$f":"IF(ISNA(INDEX(geb.Rechnung!$A$4:$G$1000,MATCH(ROW()-5,geb.Rechnung!$G$4:$G$1000,0),COLUMN()-2)),\"\",INDEX(geb.Rechnung!$A$4:$G$1000,MATCH(ROW()-5,geb.Rechnung!$G$4:$G$1000,0),COLUMN()-2))","v":""},{"$f":"IF(ISNA(INDEX(geb.Rechnung!$A$4:$G$1000,MATCH(ROW()-5,geb.Rechnung!$G$4:$G$1000,0),COLUMN()+1)),\"\",INDEX(geb.Rechnung!$A$4:$G$1000,MATCH(ROW()-5,geb.Rechnung!$G$4:$G$1000,0),COLUMN()+1))","v":""},{"$f":"IF(ISNA(INDEX(geb.Rechnung!$A$4:$G$1000,MATCH(ROW()-5,geb.Rechnung!$G$4:$G$1000,0),COLUMN()+1)),\"\",INDEX(geb.Rechnung!$A$4:$G$1000,MATCH(ROW()-5,geb.Rechnung!$G$4:$G$1000,0),COLUMN()+1))","v":""}]
[{"$f":"IF(ISNA(INDEX(geb.Rechnung!$A$4:$G$1000,MATCH(ROW()-5,geb.Rechnung!$G$4:$G$1000,0),COLUMN()-1)),\"\",INDEX(geb.Rechnung!$A$4:$G$1000,MATCH(ROW()-5,geb.Rechnung!$G$4:$G$1000,0),COLUMN()-1))","v":""},{"$f":"IF(ISNA(INDEX(geb.Rechnung!$A$4:$G$1000,MATCH(ROW()-5,geb.Rechnung!$G$4:$G$1000,0),COLUMN()-2)),\"\",INDEX(geb.Rechnung!$A$4:$G$1000,MATCH(ROW()-5,geb.Rechnung!$G$4:$G$1000,0),COLUMN()-2))","v":""},{"$f":"IF(ISNA(INDEX(geb.Rechnung!$A$4:$G$1000,MATCH(ROW()-5,geb.Rechnung!$G$4:$G$1000,0),COLUMN()+1)),\"\",INDEX(geb.Rechnung!$A$4:$G$1000,MATCH(ROW()-5,geb.Rechnung!$G$4:$G$1000,0),COLUMN()+1))","v":""},{"$f":"IF(ISNA(INDEX(geb.Rechnung!$A$4:$G$1000,MATCH(ROW()-5,geb.Rechnung!$G$4:$G$1000,0),COLUMN()+1)),\"\",INDEX(geb.Rechnung!$A$4:$G$1000,MATCH(ROW()-5,geb.Rechnung!$G$4:$G$1000,0),COLUMN()+1))","v":""}]
[{"$f":"IF(ISNA(INDEX(geb.Rechnung!$A$4:$G$1000,MATCH(ROW()-5,geb.Rechnung!$G$4:$G$1000,0),COLUMN()-1)),\"\",INDEX(geb.Rechnung!$A$4:$G$1000,MATCH(ROW()-5,geb.Rechnung!$G$4:$G$1000,0),COLUMN()-1))","v":""},{"$f":"IF(ISNA(INDEX(geb.Rechnung!$A$4:$G$1000,MATCH(ROW()-5,geb.Rechnung!$G$4:$G$1000,0),COLUMN()-2)),\"\",INDEX(geb.Rechnung!$A$4:$G$1000,MATCH(ROW()-5,geb.Rechnung!$G$4:$G$1000,0),COLUMN()-2))","v":""},{"$f":"IF(ISNA(INDEX(geb.Rechnung!$A$4:$G$1000,MATCH(ROW()-5,geb.Rechnung!$G$4:$G$1000,0),COLUMN()+1)),\"\",INDEX(geb.Rechnung!$A$4:$G$1000,MATCH(ROW()-5,geb.Rechnung!$G$4:$G$1000,0),COLUMN()+1))","v":""},{"$f":"IF(ISNA(INDEX(geb.Rechnung!$A$4:$G$1000,MATCH(ROW()-5,geb.Rechnung!$G$4:$G$1000,0),COLUMN()+1)),\"\",INDEX(geb.Rechnung!$A$4:$G$1000,MATCH(ROW()-5,geb.Rechnung!$G$4:$G$1000,0),COLUMN()+1))","v":""}]
[{"$f":"IF(ISNA(INDEX(geb.Rechnung!$A$4:$G$1000,MATCH(ROW()-5,geb.Rechnung!$G$4:$G$1000,0),COLUMN()-1)),\"\",INDEX(geb.Rechnung!$A$4:$G$1000,MATCH(ROW()-5,geb.Rechnung!$G$4:$G$1000,0),COLUMN()-1))","v":""},{"$f":"IF(ISNA(INDEX(geb.Rechnung!$A$4:$G$1000,MATCH(ROW()-5,geb.Rechnung!$G$4:$G$1000,0),COLUMN()-2)),\"\",INDEX(geb.Rechnung!$A$4:$G$1000,MATCH(ROW()-5,geb.Rechnung!$G$4:$G$1000,0),COLUMN()-2))","v":""},{"$f":"IF(ISNA(INDEX(geb.Rechnung!$A$4:$G$1000,MATCH(ROW()-5,geb.Rechnung!$G$4:$G$1000,0),COLUMN()+1)),\"\",INDEX(geb.Rechnung!$A$4:$G$1000,MATCH(ROW()-5,geb.Rechnung!$G$4:$G$1000,0),COLUMN()+1))","v":""},{"$f":"IF(ISNA(INDEX(geb.Rechnung!$A$4:$G$1000,MATCH(ROW()-5,geb.Rechnung!$G$4:$G$1000,0),COLUMN()+1)),\"\",INDEX(geb.Rechnung!$A$4:$G$1000,MATCH(ROW()-5,geb.Rechnung!$G$4:$G$1000,0),COLUMN()+1))","v":""}]
[{"$f":"IF(ISNA(INDEX(geb.Rechnung!$A$4:$G$1000,MATCH(ROW()-5,geb.Rechnung!$G$4:$G$1000,0),COLUMN()-1)),\"\",INDEX(geb.Rechnung!$A$4:$G$1000,MATCH(ROW()-5,geb.Rechnung!$G$4:$G$1000,0),COLUMN()-1))","v":""},{"$f":"IF(ISNA(INDEX(geb.Rechnung!$A$4:$G$1000,MATCH(ROW()-5,geb.Rechnung!$G$4:$G$1000,0),COLUMN()-2)),\"\",INDEX(geb.Rechnung!$A$4:$G$1000,MATCH(ROW()-5,geb.Rechnung!$G$4:$G$1000,0),COLUMN()-2))","v":""},{"$f":"IF(ISNA(INDEX(geb.Rechnung!$A$4:$G$1000,MATCH(ROW()-5,geb.Rechnung!$G$4:$G$1000,0),COLUMN()+1)),\"\",INDEX(geb.Rechnung!$A$4:$G$1000,MATCH(ROW()-5,geb.Rechnung!$G$4:$G$1000,0),COLUMN()+1))","v":""},{"$f":"IF(ISNA(INDEX(geb.Rechnung!$A$4:$G$1000,MATCH(ROW()-5,geb.Rechnung!$G$4:$G$1000,0),COLUMN()+1)),\"\",INDEX(geb.Rechnung!$A$4:$G$1000,MATCH(ROW()-5,geb.Rechnung!$G$4:$G$1000,0),COLUMN()+1))","v":""}]
[{"$f":"IF(ISNA(INDEX(geb.Rechnung!$A$4:$G$1000,MATCH(ROW()-5,geb.Rechnung!$G$4:$G$1000,0),COLUMN()-1)),\"\",INDEX(geb.Rechnung!$A$4:$G$1000,MATCH(ROW()-5,geb.Rechnung!$G$4:$G$1000,0),COLUMN()-1))","v":""},{"$f":"IF(ISNA(INDEX(geb.Rechnung!$A$4:$G$1000,MATCH(ROW()-5,geb.Rechnung!$G$4:$G$1000,0),COLUMN()-2)),\"\",INDEX(geb.Rechnung!$A$4:$G$1000,MATCH(ROW()-5,geb.Rechnung!$G$4:$G$1000,0),COLUMN()-2))","v":""},{"$f":"IF(ISNA(INDEX(geb.Rechnung!$A$4:$G$1000,MATCH(ROW()-5,geb.Rechnung!$G$4:$G$1000,0),COLUMN()+1)),\"\",INDEX(geb.Rechnung!$A$4:$G$1000,MATCH(ROW()-5,geb.Rechnung!$G$4:$G$1000,0),COLUMN()+1))","v":""},{"$f":"IF(ISNA(INDEX(geb.Rechnung!$A$4:$G$1000,MATCH(ROW()-5,geb.Rechnung!$G$4:$G$1000,0),COLUMN()+1)),\"\",INDEX(geb.Rechnung!$A$4:$G$1000,MATCH(ROW()-5,geb.Rechnung!$G$4:$G$1000,0),COLUMN()+1))","v":""}]
[{"$f":"IF(ISNA(INDEX(geb.Rechnung!$A$4:$G$1000,MATCH(ROW()-5,geb.Rechnung!$G$4:$G$1000,0),COLUMN()-1)),\"\",INDEX(geb.Rechnung!$A$4:$G$1000,MATCH(ROW()-5,geb.Rechnung!$G$4:$G$1000,0),COLUMN()-1))","v":""},{"$f":"IF(ISNA(INDEX(geb.Rechnung!$A$4:$G$1000,MATCH(ROW()-5,geb.Rechnung!$G$4:$G$1000,0),COLUMN()-2)),\"\",INDEX(geb.Rechnung!$A$4:$G$1000,MATCH(ROW()-5,geb.Rechnung!$G$4:$G$1000,0),COLUMN()-2))","v":""},{"$f":"IF(ISNA(INDEX(geb.Rechnung!$A$4:$G$1000,MATCH(ROW()-5,geb.Rechnung!$G$4:$G$1000,0),COLUMN()+1)),\"\",INDEX(geb.Rechnung!$A$4:$G$1000,MATCH(ROW()-5,geb.Rechnung!$G$4:$G$1000,0),COLUMN()+1))","v":""},{"$f":"IF(ISNA(INDEX(geb.Rechnung!$A$4:$G$1000,MATCH(ROW()-5,geb.Rechnung!$G$4:$G$1000,0),COLUMN()+1)),\"\",INDEX(geb.Rechnung!$A$4:$G$1000,MATCH(ROW()-5,geb.Rechnung!$G$4:$G$1000,0),COLUMN()+1))","v":""}]
[{"$f":"IF(ISNA(INDEX(geb.Rechnung!$A$4:$G$1000,MATCH(ROW()-5,geb.Rechnung!$G$4:$G$1000,0),COLUMN()-1)),\"\",INDEX(geb.Rechnung!$A$4:$G$1000,MATCH(ROW()-5,geb.Rechnung!$G$4:$G$1000,0),COLUMN()-1))","v":""},{"$f":"IF(ISNA(INDEX(geb.Rechnung!$A$4:$G$1000,MATCH(ROW()-5,geb.Rechnung!$G$4:$G$1000,0),COLUMN()-2)),\"\",INDEX(geb.Rechnung!$A$4:$G$1000,MATCH(ROW()-5,geb.Rechnung!$G$4:$G$1000,0),COLUMN()-2))","v":""},{"$f":"IF(ISNA(INDEX(geb.Rechnung!$A$4:$G$1000,MATCH(ROW()-5,geb.Rechnung!$G$4:$G$1000,0),COLUMN()+1)),\"\",INDEX(geb.Rechnung!$A$4:$G$1000,MATCH(ROW()-5,geb.Rechnung!$G$4:$G$1000,0),COLUMN()+1))","v":""},{"$f":"IF(ISNA(INDEX(geb.Rechnung!$A$4:$G$1000,MATCH(ROW()-5,geb.Rechnung!$G$4:$G$1000,0),COLUMN()+1)),\"\",INDEX(geb.Rechnung!$A$4:$G$1000,MATCH(ROW()-5,geb.Rechnung!$G$4:$G$1000,0),COLUMN()+1))","v":""}]
[{"$f":"IF(ISNA(INDEX(geb.Rechnung!$A$4:$G$1000,MATCH(ROW()-5,geb.Rechnung!$G$4:$G$1000,0),COLUMN()-1)),\"\",INDEX(geb.Rechnung!$A$4:$G$1000,MATCH(ROW()-5,geb.Rechnung!$G$4:$G$1000,0),COLUMN()-1))","v":""},{"$f":"IF(ISNA(INDEX(geb.Rechnung!$A$4:$G$1000,MATCH(ROW()-5,geb.Rechnung!$G$4:$G$1000,0),COLUMN()-2)),\"\",INDEX(geb.Rechnung!$A$4:$G$1000,MATCH(ROW()-5,geb.Rechnung!$G$4:$G$1000,0),COLUMN()-2))","v":""},{"$f":"IF(ISNA(INDEX(geb.Rechnung!$A$4:$G$1000,MATCH(ROW()-5,geb.Rechnung!$G$4:$G$1000,0),COLUMN()+1)),\"\",INDEX(geb.Rechnung!$A$4:$G$1000,MATCH(ROW()-5,geb.Rechnung!$G$4:$G$1000,0),COLUMN()+1))","v":""},{"$f":"IF(ISNA(INDEX(geb.Rechnung!$A$4:$G$1000,MATCH(ROW()-5,geb.Rechnung!$G$4:$G$1000,0),COLUMN()+1)),\"\",INDEX(geb.Rechnung!$A$4:$G$1000,MATCH(ROW()-5,geb.Rechnung!$G$4:$G$1000,0),COLUMN()+1))","v":""}]
[{"$f":"IF(ISNA(INDEX(geb.Rechnung!$A$4:$G$1000,MATCH(ROW()-5,geb.Rechnung!$G$4:$G$1000,0),COLUMN()-1)),\"\",INDEX(geb.Rechnung!$A$4:$G$1000,MATCH(ROW()-5,geb.Rechnung!$G$4:$G$1000,0),COLUMN()-1))","v":""},{"$f":"IF(ISNA(INDEX(geb.Rechnung!$A$4:$G$1000,MATCH(ROW()-5,geb.Rechnung!$G$4:$G$1000,0),COLUMN()-2)),\"\",INDEX(geb.Rechnung!$A$4:$G$1000,MATCH(ROW()-5,geb.Rechnung!$G$4:$G$1000,0),COLUMN()-2))","v":""},{"$f":"IF(ISNA(INDEX(geb.Rechnung!$A$4:$G$1000,MATCH(ROW()-5,geb.Rechnung!$G$4:$G$1000,0),COLUMN()+1)),\"\",INDEX(geb.Rechnung!$A$4:$G$1000,MATCH(ROW()-5,geb.Rechnung!$G$4:$G$1000,0),COLUMN()+1))","v":""},{"$f":"IF(ISNA(INDEX(geb.Rechnung!$A$4:$G$1000,MATCH(ROW()-5,geb.Rechnung!$G$4:$G$1000,0),COLUMN()+1)),\"\",INDEX(geb.Rechnung!$A$4:$G$1000,MATCH(ROW()-5,geb.Rechnung!$G$4:$G$1000,0),COLUMN()+1))","v":""}]
[{"$f":"IF(ISNA(INDEX(geb.Rechnung!$A$4:$G$1000,MATCH(ROW()-5,geb.Rechnung!$G$4:$G$1000,0),COLUMN()-1)),\"\",INDEX(geb.Rechnung!$A$4:$G$1000,MATCH(ROW()-5,geb.Rechnung!$G$4:$G$1000,0),COLUMN()-1))","v":""},{"$f":"IF(ISNA(INDEX(geb.Rechnung!$A$4:$G$1000,MATCH(ROW()-5,geb.Rechnung!$G$4:$G$1000,0),COLUMN()-2)),\"\",INDEX(geb.Rechnung!$A$4:$G$1000,MATCH(ROW()-5,geb.Rechnung!$G$4:$G$1000,0),COLUMN()-2))","v":""},{"$f":"IF(ISNA(INDEX(geb.Rechnung!$A$4:$G$1000,MATCH(ROW()-5,geb.Rechnung!$G$4:$G$1000,0),COLUMN()+1)),\"\",INDEX(geb.Rechnung!$A$4:$G$1000,MATCH(ROW()-5,geb.Rechnung!$G$4:$G$1000,0),COLUMN()+1))","v":""},{"$f":"IF(ISNA(INDEX(geb.Rechnung!$A$4:$G$1000,MATCH(ROW()-5,geb.Rechnung!$G$4:$G$1000,0),COLUMN()+1)),\"\",INDEX(geb.Rechnung!$A$4:$G$1000,MATCH(ROW()-5,geb.Rechnung!$G$4:$G$1000,0),COLUMN()+1))","v":""}]
[{"$f":"IF(ISNA(INDEX(geb.Rechnung!$A$4:$G$1000,MATCH(ROW()-5,geb.Rechnung!$G$4:$G$1000,0),COLUMN()-1)),\"\",INDEX(geb.Rechnung!$A$4:$G$1000,MATCH(ROW()-5,geb.Rechnung!$G$4:$G$1000,0),COLUMN()-1))","v":""},{"$f":"IF(ISNA(INDEX(geb.Rechnung!$A$4:$G$1000,MATCH(ROW()-5,geb.Rechnung!$G$4:$G$1000,0),COLUMN()-2)),\"\",INDEX(geb.Rechnung!$A$4:$G$1000,MATCH(ROW()-5,geb.Rechnung!$G$4:$G$1000,0),COLUMN()-2))","v":""},{"$f":"IF(ISNA(INDEX(geb.Rechnung!$A$4:$G$1000,MATCH(ROW()-5,geb.Rechnung!$G$4:$G$1000,0),COLUMN()+1)),\"\",INDEX(geb.Rechnung!$A$4:$G$1000,MATCH(ROW()-5,geb.Rechnung!$G$4:$G$1000,0),COLUMN()+1))","v":""},{"$f":"IF(ISNA(INDEX(geb.Rechnung!$A$4:$G$1000,MATCH(ROW()-5,geb.Rechnung!$G$4:$G$1000,0),COLUMN()+1)),\"\",INDEX(geb.Rechnung!$A$4:$G$1000,MATCH(ROW()-5,geb.Rechnung!$G$4:$G$1000,0),COLUMN()+1))","v":""}]
[{"$f":"IF(ISNA(INDEX(geb.Rechnung!$A$4:$G$1000,MATCH(ROW()-5,geb.Rechnung!$G$4:$G$1000,0),COLUMN()-1)),\"\",INDEX(geb.Rechnung!$A$4:$G$1000,MATCH(ROW()-5,geb.Rechnung!$G$4:$G$1000,0),COLUMN()-1))","v":""},{"$f":"IF(ISNA(INDEX(geb.Rechnung!$A$4:$G$1000,MATCH(ROW()-5,geb.Rechnung!$G$4:$G$1000,0),COLUMN()-2)),\"\",INDEX(geb.Rechnung!$A$4:$G$1000,MATCH(ROW()-5,geb.Rechnung!$G$4:$G$1000,0),COLUMN()-2))","v":""},{"$f":"IF(ISNA(INDEX(geb.Rechnung!$A$4:$G$1000,MATCH(ROW()-5,geb.Rechnung!$G$4:$G$1000,0),COLUMN()+1)),\"\",INDEX(geb.Rechnung!$A$4:$G$1000,MATCH(ROW()-5,geb.Rechnung!$G$4:$G$1000,0),COLUMN()+1))","v":""},{"$f":"IF(ISNA(INDEX(geb.Rechnung!$A$4:$G$1000,MATCH(ROW()-5,geb.Rechnung!$G$4:$G$1000,0),COLUMN()+1)),\"\",INDEX(geb.Rechnung!$A$4:$G$1000,MATCH(ROW()-5,geb.Rechnung!$G$4:$G$1000,0),COLUMN()+1))","v":""}]
[{"$f":"IF(ISNA(INDEX(geb.Rechnung!$A$4:$G$1000,MATCH(ROW()-5,geb.Rechnung!$G$4:$G$1000,0),COLUMN()-1)),\"\",INDEX(geb.Rechnung!$A$4:$G$1000,MATCH(ROW()-5,geb.Rechnung!$G$4:$G$1000,0),COLUMN()-1))","v":""},{"$f":"IF(ISNA(INDEX(geb.Rechnung!$A$4:$G$1000,MATCH(ROW()-5,geb.Rechnung!$G$4:$G$1000,0),COLUMN()-2)),\"\",INDEX(geb.Rechnung!$A$4:$G$1000,MATCH(ROW()-5,geb.Rechnung!$G$4:$G$1000,0),COLUMN()-2))","v":""},{"$f":"IF(ISNA(INDEX(geb.Rechnung!$A$4:$G$1000,MATCH(ROW()-5,geb.Rechnung!$G$4:$G$1000,0),COLUMN()+1)),\"\",INDEX(geb.Rechnung!$A$4:$G$1000,MATCH(ROW()-5,geb.Rechnung!$G$4:$G$1000,0),COLUMN()+1))","v":""},{"$f":"IF(ISNA(INDEX(geb.Rechnung!$A$4:$G$1000,MATCH(ROW()-5,geb.Rechnung!$G$4:$G$1000,0),COLUMN()+1)),\"\",INDEX(geb.Rechnung!$A$4:$G$1000,MATCH(ROW()-5,geb.Rechnung!$G$4:$G$1000,0),COLUMN()+1))","v":""}]
[{"$f":"IF(ISNA(INDEX(geb.Rechnung!$A$4:$G$1000,MATCH(ROW()-5,geb.Rechnung!$G$4:$G$1000,0),COLUMN()-1)),\"\",INDEX(geb.Rechnung!$A$4:$G$1000,MATCH(ROW()-5,geb.Rechnung!$G$4:$G$1000,0),COLUMN()-1))","v":""},{"$f":"IF(ISNA(INDEX(geb.Rechnung!$A$4:$G$1000,MATCH(ROW()-5,geb.Rechnung!$G$4:$G$1000,0),COLUMN()-2)),\"\",INDEX(geb.Rechnung!$A$4:$G$1000,MATCH(ROW()-5,geb.Rechnung!$G$4:$G$1000,0),COLUMN()-2))","v":""},{"$f":"IF(ISNA(INDEX(geb.Rechnung!$A$4:$G$1000,MATCH(ROW()-5,geb.Rechnung!$G$4:$G$1000,0),COLUMN()+1)),\"\",INDEX(geb.Rechnung!$A$4:$G$1000,MATCH(ROW()-5,geb.Rechnung!$G$4:$G$1000,0),COLUMN()+1))","v":""},{"$f":"IF(ISNA(INDEX(geb.Rechnung!$A$4:$G$1000,MATCH(ROW()-5,geb.Rechnung!$G$4:$G$1000,0),COLUMN()+1)),\"\",INDEX(geb.Rechnung!$A$4:$G$1000,MATCH(ROW()-5,geb.Rechnung!$G$4:$G$1000,0),COLUMN()+1))","v":""}]
[{"$f":"IF(ISNA(INDEX(geb.Rechnung!$A$4:$G$1000,MATCH(ROW()-5,geb.Rechnung!$G$4:$G$1000,0),COLUMN()-1)),\"\",INDEX(geb.Rechnung!$A$4:$G$1000,MATCH(ROW()-5,geb.Rechnung!$G$4:$G$1000,0),COLUMN()-1))","v":""},{"$f":"IF(ISNA(INDEX(geb.Rechnung!$A$4:$G$1000,MATCH(ROW()-5,geb.Rechnung!$G$4:$G$1000,0),COLUMN()-2)),\"\",INDEX(geb.Rechnung!$A$4:$G$1000,MATCH(ROW()-5,geb.Rechnung!$G$4:$G$1000,0),COLUMN()-2))","v":""},{"$f":"IF(ISNA(INDEX(geb.Rechnung!$A$4:$G$1000,MATCH(ROW()-5,geb.Rechnung!$G$4:$G$1000,0),COLUMN()+1)),\"\",INDEX(geb.Rechnung!$A$4:$G$1000,MATCH(ROW()-5,geb.Rechnung!$G$4:$G$1000,0),COLUMN()+1))","v":""},{"$f":"IF(ISNA(INDEX(geb.Rechnung!$A$4:$G$1000,MATCH(ROW()-5,geb.Rechnung!$G$4:$G$1000,0),COLUMN()+1)),\"\",INDEX(geb.Rechnung!$A$4:$G$1000,MATCH(ROW()-5,geb.Rechnung!$G$4:$G$1000,0),COLUMN()+1))","v":""}]
[{"$f":"IF(ISNA(INDEX(geb.Rechnung!$A$4:$G$1000,MATCH(ROW()-5,geb.Rechnung!$G$4:$G$1000,0),COLUMN()-1)),\"\",INDEX(geb.Rechnung!$A$4:$G$1000,MATCH(ROW()-5,geb.Rechnung!$G$4:$G$1000,0),COLUMN()-1))","v":""},{"$f":"IF(ISNA(INDEX(geb.Rechnung!$A$4:$G$1000,MATCH(ROW()-5,geb.Rechnung!$G$4:$G$1000,0),COLUMN()-2)),\"\",INDEX(geb.Rechnung!$A$4:$G$1000,MATCH(ROW()-5,geb.Rechnung!$G$4:$G$1000,0),COLUMN()-2))","v":""},{"$f":"IF(ISNA(INDEX(geb.Rechnung!$A$4:$G$1000,MATCH(ROW()-5,geb.Rechnung!$G$4:$G$1000,0),COLUMN()+1)),\"\",INDEX(geb.Rechnung!$A$4:$G$1000,MATCH(ROW()-5,geb.Rechnung!$G$4:$G$1000,0),COLUMN()+1))","v":""},{"$f":"IF(ISNA(INDEX(geb.Rechnung!$A$4:$G$1000,MATCH(ROW()-5,geb.Rechnung!$G$4:$G$1000,0),COLUMN()+1)),\"\",INDEX(geb.Rechnung!$A$4:$G$1000,MATCH(ROW()-5,geb.Rechnung!$G$4:$G$1000,0),COLUMN()+1))","v":""}]
[{"$f":"IF(ISNA(INDEX(geb.Rechnung!$A$4:$G$1000,MATCH(ROW()-5,geb.Rechnung!$G$4:$G$1000,0),COLUMN()-1)),\"\",INDEX(geb.Rechnung!$A$4:$G$1000,MATCH(ROW()-5,geb.Rechnung!$G$4:$G$1000,0),COLUMN()-1))","v":""},{"$f":"IF(ISNA(INDEX(geb.Rechnung!$A$4:$G$1000,MATCH(ROW()-5,geb.Rechnung!$G$4:$G$1000,0),COLUMN()-2)),\"\",INDEX(geb.Rechnung!$A$4:$G$1000,MATCH(ROW()-5,geb.Rechnung!$G$4:$G$1000,0),COLUMN()-2))","v":""},{"$f":"IF(ISNA(INDEX(geb.Rechnung!$A$4:$G$1000,MATCH(ROW()-5,geb.Rechnung!$G$4:$G$1000,0),COLUMN()+1)),\"\",INDEX(geb.Rechnung!$A$4:$G$1000,MATCH(ROW()-5,geb.Rechnung!$G$4:$G$1000,0),COLUMN()+1))","v":""},{"$f":"IF(ISNA(INDEX(geb.Rechnung!$A$4:$G$1000,MATCH(ROW()-5,geb.Rechnung!$G$4:$G$1000,0),COLUMN()+1)),\"\",INDEX(geb.Rechnung!$A$4:$G$1000,MATCH(ROW()-5,geb.Rechnung!$G$4:$G$1000,0),COLUMN()+1))","v":""}]
[{"$f":"IF(ISNA(INDEX(geb.Rechnung!$A$4:$G$1000,MATCH(ROW()-5,geb.Rechnung!$G$4:$G$1000,0),COLUMN()-1)),\"\",INDEX(geb.Rechnung!$A$4:$G$1000,MATCH(ROW()-5,geb.Rechnung!$G$4:$G$1000,0),COLUMN()-1))","v":""},{"$f":"IF(ISNA(INDEX(geb.Rechnung!$A$4:$G$1000,MATCH(ROW()-5,geb.Rechnung!$G$4:$G$1000,0),COLUMN()-2)),\"\",INDEX(geb.Rechnung!$A$4:$G$1000,MATCH(ROW()-5,geb.Rechnung!$G$4:$G$1000,0),COLUMN()-2))","v":""},{"$f":"IF(ISNA(INDEX(geb.Rechnung!$A$4:$G$1000,MATCH(ROW()-5,geb.Rechnung!$G$4:$G$1000,0),COLUMN()+1)),\"\",INDEX(geb.Rechnung!$A$4:$G$1000,MATCH(ROW()-5,geb.Rechnung!$G$4:$G$1000,0),COLUMN()+1))","v":""},{"$f":"IF(ISNA(INDEX(geb.Rechnung!$A$4:$G$1000,MATCH(ROW()-5,geb.Rechnung!$G$4:$G$1000,0),COLUMN()+1)),\"\",INDEX(geb.Rechnung!$A$4:$G$1000,MATCH(ROW()-5,geb.Rechnung!$G$4:$G$1000,0),COLUMN()+1))","v":""}]
[{"$f":"IF(ISNA(INDEX(geb.Rechnung!$A$4:$G$1000,MATCH(ROW()-5,geb.Rechnung!$G$4:$G$1000,0),COLUMN()-1)),\"\",INDEX(geb.Rechnung!$A$4:$G$1000,MATCH(ROW()-5,geb.Rechnung!$G$4:$G$1000,0),COLUMN()-1))","v":""},{"$f":"IF(ISNA(INDEX(geb.Rechnung!$A$4:$G$1000,MATCH(ROW()-5,geb.Rechnung!$G$4:$G$1000,0),COLUMN()-2)),\"\",INDEX(geb.Rechnung!$A$4:$G$1000,MATCH(ROW()-5,geb.Rechnung!$G$4:$G$1000,0),COLUMN()-2))","v":""},{"$f":"IF(ISNA(INDEX(geb.Rechnung!$A$4:$G$1000,MATCH(ROW()-5,geb.Rechnung!$G$4:$G$1000,0),COLUMN()+1)),\"\",INDEX(geb.Rechnung!$A$4:$G$1000,MATCH(ROW()-5,geb.Rechnung!$G$4:$G$1000,0),COLUMN()+1))","v":""},{"$f":"IF(ISNA(INDEX(geb.Rechnung!$A$4:$G$1000,MATCH(ROW()-5,geb.Rechnung!$G$4:$G$1000,0),COLUMN()+1)),\"\",INDEX(geb.Rechnung!$A$4:$G$1000,MATCH(ROW()-5,geb.Rechnung!$G$4:$G$1000,0),COLUMN()+1))","v":""}]
[{"$f":"IF(ISNA(INDEX(geb.Rechnung!$A$4:$G$1000,MATCH(ROW()-5,geb.Rechnung!$G$4:$G$1000,0),COLUMN()-1)),\"\",INDEX(geb.Rechnung!$A$4:$G$1000,MATCH(ROW()-5,geb.Rechnung!$G$4:$G$1000,0),COLUMN()-1))","v":""},{"$f":"IF(ISNA(INDEX(geb.Rechnung!$A$4:$G$1000,MATCH(ROW()-5,geb.Rechnung!$G$4:$G$1000,0),COLUMN()-2)),\"\",INDEX(geb.Rechnung!$A$4:$G$1000,MATCH(ROW()-5,geb.Rechnung!$G$4:$G$1000,0),COLUMN()-2))","v":""},{"$f":"IF(ISNA(INDEX(geb.Rechnung!$A$4:$G$1000,MATCH(ROW()-5,geb.Rechnung!$G$4:$G$1000,0),COLUMN()+1)),\"\",INDEX(geb.Rechnung!$A$4:$G$1000,MATCH(ROW()-5,geb.Rechnung!$G$4:$G$1000,0),COLUMN()+1))","v":""},{"$f":"IF(ISNA(INDEX(geb.Rechnung!$A$4:$G$1000,MATCH(ROW()-5,geb.Rechnung!$G$4:$G$1000,0),COLUMN()+1)),\"\",INDEX(geb.Rechnung!$A$4:$G$1000,MATCH(ROW()-5,geb.Rechnung!$G$4:$G$1000,0),COLUMN()+1))","v":""}]
[{"$f":"IF(ISNA(INDEX(geb.Rechnung!$A$4:$G$1000,MATCH(ROW()-5,geb.Rechnung!$G$4:$G$1000,0),COLUMN()-1)),\"\",INDEX(geb.Rechnung!$A$4:$G$1000,MATCH(ROW()-5,geb.Rechnung!$G$4:$G$1000,0),COLUMN()-1))","v":""},{"$f":"IF(ISNA(INDEX(geb.Rechnung!$A$4:$G$1000,MATCH(ROW()-5,geb.Rechnung!$G$4:$G$1000,0),COLUMN()-2)),\"\",INDEX(geb.Rechnung!$A$4:$G$1000,MATCH(ROW()-5,geb.Rechnung!$G$4:$G$1000,0),COLUMN()-2))","v":""},{"$f":"IF(ISNA(INDEX(geb.Rechnung!$A$4:$G$1000,MATCH(ROW()-5,geb.Rechnung!$G$4:$G$1000,0),COLUMN()+1)),\"\",INDEX(geb.Rechnung!$A$4:$G$1000,MATCH(ROW()-5,geb.Rechnung!$G$4:$G$1000,0),COLUMN()+1))","v":""},{"$f":"IF(ISNA(INDEX(geb.Rechnung!$A$4:$G$1000,MATCH(ROW()-5,geb.Rechnung!$G$4:$G$1000,0),COLUMN()+1)),\"\",INDEX(geb.Rechnung!$A$4:$G$1000,MATCH(ROW()-5,geb.Rechnung!$G$4:$G$1000,0),COLUMN()+1))","v":""}]
[{"$f":"IF(ISNA(INDEX(geb.Rechnung!$A$4:$G$1000,MATCH(ROW()-5,geb.Rechnung!$G$4:$G$1000,0),COLUMN()-1)),\"\",INDEX(geb.Rechnung!$A$4:$G$1000,MATCH(ROW()-5,geb.Rechnung!$G$4:$G$1000,0),COLUMN()-1))","v":""},{"$f":"IF(ISNA(INDEX(geb.Rechnung!$A$4:$G$1000,MATCH(ROW()-5,geb.Rechnung!$G$4:$G$1000,0),COLUMN()-2)),\"\",INDEX(geb.Rechnung!$A$4:$G$1000,MATCH(ROW()-5,geb.Rechnung!$G$4:$G$1000,0),COLUMN()-2))","v":""},{"$f":"IF(ISNA(INDEX(geb.Rechnung!$A$4:$G$1000,MATCH(ROW()-5,geb.Rechnung!$G$4:$G$1000,0),COLUMN()+1)),\"\",INDEX(geb.Rechnung!$A$4:$G$1000,MATCH(ROW()-5,geb.Rechnung!$G$4:$G$1000,0),COLUMN()+1))","v":""},{"$f":"IF(ISNA(INDEX(geb.Rechnung!$A$4:$G$1000,MATCH(ROW()-5,geb.Rechnung!$G$4:$G$1000,0),COLUMN()+1)),\"\",INDEX(geb.Rechnung!$A$4:$G$1000,MATCH(ROW()-5,geb.Rechnung!$G$4:$G$1000,0),COLUMN()+1))","v":""}]
[{"$f":"IF(ISNA(INDEX(geb.Rechnung!$A$4:$G$1000,MATCH(ROW()-5,geb.Rechnung!$G$4:$G$1000,0),COLUMN()-1)),\"\",INDEX(geb.Rechnung!$A$4:$G$1000,MATCH(ROW()-5,geb.Rechnung!$G$4:$G$1000,0),COLUMN()-1))","v":""},{"$f":"IF(ISNA(INDEX(geb.Rechnung!$A$4:$G$1000,MATCH(ROW()-5,geb.Rechnung!$G$4:$G$1000,0),COLUMN()-2)),\"\",INDEX(geb.Rechnung!$A$4:$G$1000,MATCH(ROW()-5,geb.Rechnung!$G$4:$G$1000,0),COLUMN()-2))","v":""},{"$f":"IF(ISNA(INDEX(geb.Rechnung!$A$4:$G$1000,MATCH(ROW()-5,geb.Rechnung!$G$4:$G$1000,0),COLUMN()+1)),\"\",INDEX(geb.Rechnung!$A$4:$G$1000,MATCH(ROW()-5,geb.Rechnung!$G$4:$G$1000,0),COLUMN()+1))","v":""},{"$f":"IF(ISNA(INDEX(geb.Rechnung!$A$4:$G$1000,MATCH(ROW()-5,geb.Rechnung!$G$4:$G$1000,0),COLUMN()+1)),\"\",INDEX(geb.Rechnung!$A$4:$G$1000,MATCH(ROW()-5,geb.Rechnung!$G$4:$G$1000,0),COLUMN()+1))","v":""}]
[{"$f":"IF(ISNA(INDEX(geb.Rechnung!$A$4:$G$1000,MATCH(ROW()-5,geb.Rechnung!$G$4:$G$1000,0),COLUMN()-1)),\"\",INDEX(geb.Rechnung!$A$4:$G$1000,MATCH(ROW()-5,geb.Rechnung!$G$4:$G$1000,0),COLUMN()-1))","v":""},{"$f":"IF(ISNA(INDEX(geb.Rechnung!$A$4:$G$1000,MATCH(ROW()-5,geb.Rechnung!$G$4:$G$1000,0),COLUMN()-2)),\"\",INDEX(geb.Rechnung!$A$4:$G$1000,MATCH(ROW()-5,geb.Rechnung!$G$4:$G$1000,0),COLUMN()-2))","v":""},{"$f":"IF(ISNA(INDEX(geb.Rechnung!$A$4:$G$1000,MATCH(ROW()-5,geb.Rechnung!$G$4:$G$1000,0),COLUMN()+1)),\"\",INDEX(geb.Rechnung!$A$4:$G$1000,MATCH(ROW()-5,geb.Rechnung!$G$4:$G$1000,0),COLUMN()+1))","v":""},{"$f":"IF(ISNA(INDEX(geb.Rechnung!$A$4:$G$1000,MATCH(ROW()-5,geb.Rechnung!$G$4:$G$1000,0),COLUMN()+1)),\"\",INDEX(geb.Rechnung!$A$4:$G$1000,MATCH(ROW()-5,geb.Rechnung!$G$4:$G$1000,0),COLUMN()+1))","v":""}]
[{"$f":"IF(ISNA(INDEX(geb.Rechnung!$A$4:$G$1000,MATCH(ROW()-5,geb.Rechnung!$G$4:$G$1000,0),COLUMN()-1)),\"\",INDEX(geb.Rechnung!$A$4:$G$1000,MATCH(ROW()-5,geb.Rechnung!$G$4:$G$1000,0),COLUMN()-1))","v":""},{"$f":"IF(ISNA(INDEX(geb.Rechnung!$A$4:$G$1000,MATCH(ROW()-5,geb.Rechnung!$G$4:$G$1000,0),COLUMN()-2)),\"\",INDEX(geb.Rechnung!$A$4:$G$1000,MATCH(ROW()-5,geb.Rechnung!$G$4:$G$1000,0),COLUMN()-2))","v":""},{"$f":"IF(ISNA(INDEX(geb.Rechnung!$A$4:$G$1000,MATCH(ROW()-5,geb.Rechnung!$G$4:$G$1000,0),COLUMN()+1)),\"\",INDEX(geb.Rechnung!$A$4:$G$1000,MATCH(ROW()-5,geb.Rechnung!$G$4:$G$1000,0),COLUMN()+1))","v":""},{"$f":"IF(ISNA(INDEX(geb.Rechnung!$A$4:$G$1000,MATCH(ROW()-5,geb.Rechnung!$G$4:$G$1000,0),COLUMN()+1)),\"\",INDEX(geb.Rechnung!$A$4:$G$1000,MATCH(ROW()-5,geb.Rechnung!$G$4:$G$1000,0),COLUMN()+1))","v":""}]
[{"$f":"IF(ISNA(INDEX(geb.Rechnung!$A$4:$G$1000,MATCH(ROW()-5,geb.Rechnung!$G$4:$G$1000,0),COLUMN()-1)),\"\",INDEX(geb.Rechnung!$A$4:$G$1000,MATCH(ROW()-5,geb.Rechnung!$G$4:$G$1000,0),COLUMN()-1))","v":""},{"$f":"IF(ISNA(INDEX(geb.Rechnung!$A$4:$G$1000,MATCH(ROW()-5,geb.Rechnung!$G$4:$G$1000,0),COLUMN()-2)),\"\",INDEX(geb.Rechnung!$A$4:$G$1000,MATCH(ROW()-5,geb.Rechnung!$G$4:$G$1000,0),COLUMN()-2))","v":""},{"$f":"IF(ISNA(INDEX(geb.Rechnung!$A$4:$G$1000,MATCH(ROW()-5,geb.Rechnung!$G$4:$G$1000,0),COLUMN()+1)),\"\",INDEX(geb.Rechnung!$A$4:$G$1000,MATCH(ROW()-5,geb.Rechnung!$G$4:$G$1000,0),COLUMN()+1))","v":""},{"$f":"IF(ISNA(INDEX(geb.Rechnung!$A$4:$G$1000,MATCH(ROW()-5,geb.Rechnung!$G$4:$G$1000,0),COLUMN()+1)),\"\",INDEX(geb.Rechnung!$A$4:$G$1000,MATCH(ROW()-5,geb.Rechnung!$G$4:$G$1000,0),COLUMN()+1))","v":""}]
[{"$f":"IF(ISNA(INDEX(geb.Rechnung!$A$4:$G$1000,MATCH(ROW()-5,geb.Rechnung!$G$4:$G$1000,0),COLUMN()-1)),\"\",INDEX(geb.Rechnung!$A$4:$G$1000,MATCH(ROW()-5,geb.Rechnung!$G$4:$G$1000,0),COLUMN()-1))","v":""},{"$f":"IF(ISNA(INDEX(geb.Rechnung!$A$4:$G$1000,MATCH(ROW()-5,geb.Rechnung!$G$4:$G$1000,0),COLUMN()-2)),\"\",INDEX(geb.Rechnung!$A$4:$G$1000,MATCH(ROW()-5,geb.Rechnung!$G$4:$G$1000,0),COLUMN()-2))","v":""},{"$f":"IF(ISNA(INDEX(geb.Rechnung!$A$4:$G$1000,MATCH(ROW()-5,geb.Rechnung!$G$4:$G$1000,0),COLUMN()+1)),\"\",INDEX(geb.Rechnung!$A$4:$G$1000,MATCH(ROW()-5,geb.Rechnung!$G$4:$G$1000,0),COLUMN()+1))","v":""},{"$f":"IF(ISNA(INDEX(geb.Rechnung!$A$4:$G$1000,MATCH(ROW()-5,geb.Rechnung!$G$4:$G$1000,0),COLUMN()+1)),\"\",INDEX(geb.Rechnung!$A$4:$G$1000,MATCH(ROW()-5,geb.Rechnung!$G$4:$G$1000,0),COLUMN()+1))","v":""}]
[{"$f":"IF(ISNA(INDEX(geb.Rechnung!$A$4:$G$1000,MATCH(ROW()-5,geb.Rechnung!$G$4:$G$1000,0),COLUMN()-1)),\"\",INDEX(geb.Rechnung!$A$4:$G$1000,MATCH(ROW()-5,geb.Rechnung!$G$4:$G$1000,0),COLUMN()-1))","v":""},{"$f":"IF(ISNA(INDEX(geb.Rechnung!$A$4:$G$1000,MATCH(ROW()-5,geb.Rechnung!$G$4:$G$1000,0),COLUMN()-2)),\"\",INDEX(geb.Rechnung!$A$4:$G$1000,MATCH(ROW()-5,geb.Rechnung!$G$4:$G$1000,0),COLUMN()-2))","v":""},{"$f":"IF(ISNA(INDEX(geb.Rechnung!$A$4:$G$1000,MATCH(ROW()-5,geb.Rechnung!$G$4:$G$1000,0),COLUMN()+1)),\"\",INDEX(geb.Rechnung!$A$4:$G$1000,MATCH(ROW()-5,geb.Rechnung!$G$4:$G$1000,0),COLUMN()+1))","v":""},{"$f":"IF(ISNA(INDEX(geb.Rechnung!$A$4:$G$1000,MATCH(ROW()-5,geb.Rechnung!$G$4:$G$1000,0),COLUMN()+1)),\"\",INDEX(geb.Rechnung!$A$4:$G$1000,MATCH(ROW()-5,geb.Rechnung!$G$4:$G$1000,0),COLUMN()+1))","v":""}]
[{"$f":"IF(ISNA(INDEX(geb.Rechnung!$A$4:$G$1000,MATCH(ROW()-5,geb.Rechnung!$G$4:$G$1000,0),COLUMN()-1)),\"\",INDEX(geb.Rechnung!$A$4:$G$1000,MATCH(ROW()-5,geb.Rechnung!$G$4:$G$1000,0),COLUMN()-1))","v":""},{"$f":"IF(ISNA(INDEX(geb.Rechnung!$A$4:$G$1000,MATCH(ROW()-5,geb.Rechnung!$G$4:$G$1000,0),COLUMN()-2)),\"\",INDEX(geb.Rechnung!$A$4:$G$1000,MATCH(ROW()-5,geb.Rechnung!$G$4:$G$1000,0),COLUMN()-2))","v":""},{"$f":"IF(ISNA(INDEX(geb.Rechnung!$A$4:$G$1000,MATCH(ROW()-5,geb.Rechnung!$G$4:$G$1000,0),COLUMN()+1)),\"\",INDEX(geb.Rechnung!$A$4:$G$1000,MATCH(ROW()-5,geb.Rechnung!$G$4:$G$1000,0),COLUMN()+1))","v":""},{"$f":"IF(ISNA(INDEX(geb.Rechnung!$A$4:$G$1000,MATCH(ROW()-5,geb.Rechnung!$G$4:$G$1000,0),COLUMN()+1)),\"\",INDEX(geb.Rechnung!$A$4:$G$1000,MATCH(ROW()-5,geb.Rechnung!$G$4:$G$1000,0),COLUMN()+1))","v":""}]
[{"$f":"IF(ISNA(INDEX(geb.Rechnung!$A$4:$G$1000,MATCH(ROW()-5,geb.Rechnung!$G$4:$G$1000,0),COLUMN()-1)),\"\",INDEX(geb.Rechnung!$A$4:$G$1000,MATCH(ROW()-5,geb.Rechnung!$G$4:$G$1000,0),COLUMN()-1))","v":""},{"$f":"IF(ISNA(INDEX(geb.Rechnung!$A$4:$G$1000,MATCH(ROW()-5,geb.Rechnung!$G$4:$G$1000,0),COLUMN()-2)),\"\",INDEX(geb.Rechnung!$A$4:$G$1000,MATCH(ROW()-5,geb.Rechnung!$G$4:$G$1000,0),COLUMN()-2))","v":""},{"$f":"IF(ISNA(INDEX(geb.Rechnung!$A$4:$G$1000,MATCH(ROW()-5,geb.Rechnung!$G$4:$G$1000,0),COLUMN()+1)),\"\",INDEX(geb.Rechnung!$A$4:$G$1000,MATCH(ROW()-5,geb.Rechnung!$G$4:$G$1000,0),COLUMN()+1))","v":""},{"$f":"IF(ISNA(INDEX(geb.Rechnung!$A$4:$G$1000,MATCH(ROW()-5,geb.Rechnung!$G$4:$G$1000,0),COLUMN()+1)),\"\",INDEX(geb.Rechnung!$A$4:$G$1000,MATCH(ROW()-5,geb.Rechnung!$G$4:$G$1000,0),COLUMN()+1))","v":""}]
[{"$f":"IF(ISNA(INDEX(geb.Rechnung!$A$4:$G$1000,MATCH(ROW()-5,geb.Rechnung!$G$4:$G$1000,0),COLUMN()-1)),\"\",INDEX(geb.Rechnung!$A$4:$G$1000,MATCH(ROW()-5,geb.Rechnung!$G$4:$G$1000,0),COLUMN()-1))","v":""},{"$f":"IF(ISNA(INDEX(geb.Rechnung!$A$4:$G$1000,MATCH(ROW()-5,geb.Rechnung!$G$4:$G$1000,0),COLUMN()-2)),\"\",INDEX(geb.Rechnung!$A$4:$G$1000,MATCH(ROW()-5,geb.Rechnung!$G$4:$G$1000,0),COLUMN()-2))","v":""},{"$f":"IF(ISNA(INDEX(geb.Rechnung!$A$4:$G$1000,MATCH(ROW()-5,geb.Rechnung!$G$4:$G$1000,0),COLUMN()+1)),\"\",INDEX(geb.Rechnung!$A$4:$G$1000,MATCH(ROW()-5,geb.Rechnung!$G$4:$G$1000,0),COLUMN()+1))","v":""},{"$f":"IF(ISNA(INDEX(geb.Rechnung!$A$4:$G$1000,MATCH(ROW()-5,geb.Rechnung!$G$4:$G$1000,0),COLUMN()+1)),\"\",INDEX(geb.Rechnung!$A$4:$G$1000,MATCH(ROW()-5,geb.Rechnung!$G$4:$G$1000,0),COLUMN()+1))","v":""}]
[{"$f":"IF(ISNA(INDEX(geb.Rechnung!$A$4:$G$1000,MATCH(ROW()-5,geb.Rechnung!$G$4:$G$1000,0),COLUMN()-1)),\"\",INDEX(geb.Rechnung!$A$4:$G$1000,MATCH(ROW()-5,geb.Rechnung!$G$4:$G$1000,0),COLUMN()-1))","v":""},{"$f":"IF(ISNA(INDEX(geb.Rechnung!$A$4:$G$1000,MATCH(ROW()-5,geb.Rechnung!$G$4:$G$1000,0),COLUMN()-2)),\"\",INDEX(geb.Rechnung!$A$4:$G$1000,MATCH(ROW()-5,geb.Rechnung!$G$4:$G$1000,0),COLUMN()-2))","v":""},{"$f":"IF(ISNA(INDEX(geb.Rechnung!$A$4:$G$1000,MATCH(ROW()-5,geb.Rechnung!$G$4:$G$1000,0),COLUMN()+1)),\"\",INDEX(geb.Rechnung!$A$4:$G$1000,MATCH(ROW()-5,geb.Rechnung!$G$4:$G$1000,0),COLUMN()+1))","v":""},{"$f":"IF(ISNA(INDEX(geb.Rechnung!$A$4:$G$1000,MATCH(ROW()-5,geb.Rechnung!$G$4:$G$1000,0),COLUMN()+1)),\"\",INDEX(geb.Rechnung!$A$4:$G$1000,MATCH(ROW()-5,geb.Rechnung!$G$4:$G$1000,0),COLUMN()+1))","v":""}]
[{"$f":"IF(ISNA(INDEX(geb.Rechnung!$A$4:$G$1000,MATCH(ROW()-5,geb.Rechnung!$G$4:$G$1000,0),COLUMN()-1)),\"\",INDEX(geb.Rechnung!$A$4:$G$1000,MATCH(ROW()-5,geb.Rechnung!$G$4:$G$1000,0),COLUMN()-1))","v":""},{"$f":"IF(ISNA(INDEX(geb.Rechnung!$A$4:$G$1000,MATCH(ROW()-5,geb.Rechnung!$G$4:$G$1000,0),COLUMN()-2)),\"\",INDEX(geb.Rechnung!$A$4:$G$1000,MATCH(ROW()-5,geb.Rechnung!$G$4:$G$1000,0),COLUMN()-2))","v":""},{"$f":"IF(ISNA(INDEX(geb.Rechnung!$A$4:$G$1000,MATCH(ROW()-5,geb.Rechnung!$G$4:$G$1000,0),COLUMN()+1)),\"\",INDEX(geb.Rechnung!$A$4:$G$1000,MATCH(ROW()-5,geb.Rechnung!$G$4:$G$1000,0),COLUMN()+1))","v":""},{"$f":"IF(ISNA(INDEX(geb.Rechnung!$A$4:$G$1000,MATCH(ROW()-5,geb.Rechnung!$G$4:$G$1000,0),COLUMN()+1)),\"\",INDEX(geb.Rechnung!$A$4:$G$1000,MATCH(ROW()-5,geb.Rechnung!$G$4:$G$1000,0),COLUMN()+1))","v":""}]
[{"$f":"IF(ISNA(INDEX(geb.Rechnung!$A$4:$G$1000,MATCH(ROW()-5,geb.Rechnung!$G$4:$G$1000,0),COLUMN()-1)),\"\",INDEX(geb.Rechnung!$A$4:$G$1000,MATCH(ROW()-5,geb.Rechnung!$G$4:$G$1000,0),COLUMN()-1))","v":""},{"$f":"IF(ISNA(INDEX(geb.Rechnung!$A$4:$G$1000,MATCH(ROW()-5,geb.Rechnung!$G$4:$G$1000,0),COLUMN()-2)),\"\",INDEX(geb.Rechnung!$A$4:$G$1000,MATCH(ROW()-5,geb.Rechnung!$G$4:$G$1000,0),COLUMN()-2))","v":""},{"$f":"IF(ISNA(INDEX(geb.Rechnung!$A$4:$G$1000,MATCH(ROW()-5,geb.Rechnung!$G$4:$G$1000,0),COLUMN()+1)),\"\",INDEX(geb.Rechnung!$A$4:$G$1000,MATCH(ROW()-5,geb.Rechnung!$G$4:$G$1000,0),COLUMN()+1))","v":""},{"$f":"IF(ISNA(INDEX(geb.Rechnung!$A$4:$G$1000,MATCH(ROW()-5,geb.Rechnung!$G$4:$G$1000,0),COLUMN()+1)),\"\",INDEX(geb.Rechnung!$A$4:$G$1000,MATCH(ROW()-5,geb.Rechnung!$G$4:$G$1000,0),COLUMN()+1))","v":""}]
[{"$f":"IF(ISNA(INDEX(geb.Rechnung!$A$4:$G$1000,MATCH(ROW()-5,geb.Rechnung!$G$4:$G$1000,0),COLUMN()-1)),\"\",INDEX(geb.Rechnung!$A$4:$G$1000,MATCH(ROW()-5,geb.Rechnung!$G$4:$G$1000,0),COLUMN()-1))","v":""},{"$f":"IF(ISNA(INDEX(geb.Rechnung!$A$4:$G$1000,MATCH(ROW()-5,geb.Rechnung!$G$4:$G$1000,0),COLUMN()-2)),\"\",INDEX(geb.Rechnung!$A$4:$G$1000,MATCH(ROW()-5,geb.Rechnung!$G$4:$G$1000,0),COLUMN()-2))","v":""},{"$f":"IF(ISNA(INDEX(geb.Rechnung!$A$4:$G$1000,MATCH(ROW()-5,geb.Rechnung!$G$4:$G$1000,0),COLUMN()+1)),\"\",INDEX(geb.Rechnung!$A$4:$G$1000,MATCH(ROW()-5,geb.Rechnung!$G$4:$G$1000,0),COLUMN()+1))","v":""},{"$f":"IF(ISNA(INDEX(geb.Rechnung!$A$4:$G$1000,MATCH(ROW()-5,geb.Rechnung!$G$4:$G$1000,0),COLUMN()+1)),\"\",INDEX(geb.Rechnung!$A$4:$G$1000,MATCH(ROW()-5,geb.Rechnung!$G$4:$G$1000,0),COLUMN()+1))","v":""}]
[{"$f":"IF(ISNA(INDEX(geb.Rechnung!$A$4:$G$1000,MATCH(ROW()-5,geb.Rechnung!$G$4:$G$1000,0),COLUMN()-1)),\"\",INDEX(geb.Rechnung!$A$4:$G$1000,MATCH(ROW()-5,geb.Rechnung!$G$4:$G$1000,0),COLUMN()-1))","v":""},{"$f":"IF(ISNA(INDEX(geb.Rechnung!$A$4:$G$1000,MATCH(ROW()-5,geb.Rechnung!$G$4:$G$1000,0),COLUMN()-2)),\"\",INDEX(geb.Rechnung!$A$4:$G$1000,MATCH(ROW()-5,geb.Rechnung!$G$4:$G$1000,0),COLUMN()-2))","v":""},{"$f":"IF(ISNA(INDEX(geb.Rechnung!$A$4:$G$1000,MATCH(ROW()-5,geb.Rechnung!$G$4:$G$1000,0),COLUMN()+1)),\"\",INDEX(geb.Rechnung!$A$4:$G$1000,MATCH(ROW()-5,geb.Rechnung!$G$4:$G$1000,0),COLUMN()+1))","v":""},{"$f":"IF(ISNA(INDEX(geb.Rechnung!$A$4:$G$1000,MATCH(ROW()-5,geb.Rechnung!$G$4:$G$1000,0),COLUMN()+1)),\"\",INDEX(geb.Rechnung!$A$4:$G$1000,MATCH(ROW()-5,geb.Rechnung!$G$4:$G$1000,0),COLUMN()+1))","v":""}]
[{"$f":"IF(ISNA(INDEX(geb.Rechnung!$A$4:$G$1000,MATCH(ROW()-5,geb.Rechnung!$G$4:$G$1000,0),COLUMN()-1)),\"\",INDEX(geb.Rechnung!$A$4:$G$1000,MATCH(ROW()-5,geb.Rechnung!$G$4:$G$1000,0),COLUMN()-1))","v":""},{"$f":"IF(ISNA(INDEX(geb.Rechnung!$A$4:$G$1000,MATCH(ROW()-5,geb.Rechnung!$G$4:$G$1000,0),COLUMN()-2)),\"\",INDEX(geb.Rechnung!$A$4:$G$1000,MATCH(ROW()-5,geb.Rechnung!$G$4:$G$1000,0),COLUMN()-2))","v":""},{"$f":"IF(ISNA(INDEX(geb.Rechnung!$A$4:$G$1000,MATCH(ROW()-5,geb.Rechnung!$G$4:$G$1000,0),COLUMN()+1)),\"\",INDEX(geb.Rechnung!$A$4:$G$1000,MATCH(ROW()-5,geb.Rechnung!$G$4:$G$1000,0),COLUMN()+1))","v":""},{"$f":"IF(ISNA(INDEX(geb.Rechnung!$A$4:$G$1000,MATCH(ROW()-5,geb.Rechnung!$G$4:$G$1000,0),COLUMN()+1)),\"\",INDEX(geb.Rechnung!$A$4:$G$1000,MATCH(ROW()-5,geb.Rechnung!$G$4:$G$1000,0),COLUMN()+1))","v":""}]
[{"$f":"IF(ISNA(INDEX(geb.Rechnung!$A$4:$G$1000,MATCH(ROW()-5,geb.Rechnung!$G$4:$G$1000,0),COLUMN()-1)),\"\",INDEX(geb.Rechnung!$A$4:$G$1000,MATCH(ROW()-5,geb.Rechnung!$G$4:$G$1000,0),COLUMN()-1))","v":""},{"$f":"IF(ISNA(INDEX(geb.Rechnung!$A$4:$G$1000,MATCH(ROW()-5,geb.Rechnung!$G$4:$G$1000,0),COLUMN()-2)),\"\",INDEX(geb.Rechnung!$A$4:$G$1000,MATCH(ROW()-5,geb.Rechnung!$G$4:$G$1000,0),COLUMN()-2))","v":""},{"$f":"IF(ISNA(INDEX(geb.Rechnung!$A$4:$G$1000,MATCH(ROW()-5,geb.Rechnung!$G$4:$G$1000,0),COLUMN()+1)),\"\",INDEX(geb.Rechnung!$A$4:$G$1000,MATCH(ROW()-5,geb.Rechnung!$G$4:$G$1000,0),COLUMN()+1))","v":""},{"$f":"IF(ISNA(INDEX(geb.Rechnung!$A$4:$G$1000,MATCH(ROW()-5,geb.Rechnung!$G$4:$G$1000,0),COLUMN()+1)),\"\",INDEX(geb.Rechnung!$A$4:$G$1000,MATCH(ROW()-5,geb.Rechnung!$G$4:$G$1000,0),COLUMN()+1))","v":""}]
[{"$f":"IF(ISNA(INDEX(geb.Rechnung!$A$4:$G$1000,MATCH(ROW()-5,geb.Rechnung!$G$4:$G$1000,0),COLUMN()-1)),\"\",INDEX(geb.Rechnung!$A$4:$G$1000,MATCH(ROW()-5,geb.Rechnung!$G$4:$G$1000,0),COLUMN()-1))","v":""},{"$f":"IF(ISNA(INDEX(geb.Rechnung!$A$4:$G$1000,MATCH(ROW()-5,geb.Rechnung!$G$4:$G$1000,0),COLUMN()-2)),\"\",INDEX(geb.Rechnung!$A$4:$G$1000,MATCH(ROW()-5,geb.Rechnung!$G$4:$G$1000,0),COLUMN()-2))","v":""},{"$f":"IF(ISNA(INDEX(geb.Rechnung!$A$4:$G$1000,MATCH(ROW()-5,geb.Rechnung!$G$4:$G$1000,0),COLUMN()+1)),\"\",INDEX(geb.Rechnung!$A$4:$G$1000,MATCH(ROW()-5,geb.Rechnung!$G$4:$G$1000,0),COLUMN()+1))","v":""},{"$f":"IF(ISNA(INDEX(geb.Rechnung!$A$4:$G$1000,MATCH(ROW()-5,geb.Rechnung!$G$4:$G$1000,0),COLUMN()+1)),\"\",INDEX(geb.Rechnung!$A$4:$G$1000,MATCH(ROW()-5,geb.Rechnung!$G$4:$G$1000,0),COLUMN()+1))","v":""}]
[{"$f":"IF(ISNA(INDEX(geb.Rechnung!$A$4:$G$1000,MATCH(ROW()-5,geb.Rechnung!$G$4:$G$1000,0),COLUMN()-1)),\"\",INDEX(geb.Rechnung!$A$4:$G$1000,MATCH(ROW()-5,geb.Rechnung!$G$4:$G$1000,0),COLUMN()-1))","v":""},{"$f":"IF(ISNA(INDEX(geb.Rechnung!$A$4:$G$1000,MATCH(ROW()-5,geb.Rechnung!$G$4:$G$1000,0),COLUMN()-2)),\"\",INDEX(geb.Rechnung!$A$4:$G$1000,MATCH(ROW()-5,geb.Rechnung!$G$4:$G$1000,0),COLUMN()-2))","v":""},{"$f":"IF(ISNA(INDEX(geb.Rechnung!$A$4:$G$1000,MATCH(ROW()-5,geb.Rechnung!$G$4:$G$1000,0),COLUMN()+1)),\"\",INDEX(geb.Rechnung!$A$4:$G$1000,MATCH(ROW()-5,geb.Rechnung!$G$4:$G$1000,0),COLUMN()+1))","v":""},{"$f":"IF(ISNA(INDEX(geb.Rechnung!$A$4:$G$1000,MATCH(ROW()-5,geb.Rechnung!$G$4:$G$1000,0),COLUMN()+1)),\"\",INDEX(geb.Rechnung!$A$4:$G$1000,MATCH(ROW()-5,geb.Rechnung!$G$4:$G$1000,0),COLUMN()+1))","v":""}]
[{"$f":"IF(ISNA(INDEX(geb.Rechnung!$A$4:$G$1000,MATCH(ROW()-5,geb.Rechnung!$G$4:$G$1000,0),COLUMN()-1)),\"\",INDEX(geb.Rechnung!$A$4:$G$1000,MATCH(ROW()-5,geb.Rechnung!$G$4:$G$1000,0),COLUMN()-1))","v":""},{"$f":"IF(ISNA(INDEX(geb.Rechnung!$A$4:$G$1000,MATCH(ROW()-5,geb.Rechnung!$G$4:$G$1000,0),COLUMN()-2)),\"\",INDEX(geb.Rechnung!$A$4:$G$1000,MATCH(ROW()-5,geb.Rechnung!$G$4:$G$1000,0),COLUMN()-2))","v":""},{"$f":"IF(ISNA(INDEX(geb.Rechnung!$A$4:$G$1000,MATCH(ROW()-5,geb.Rechnung!$G$4:$G$1000,0),COLUMN()+1)),\"\",INDEX(geb.Rechnung!$A$4:$G$1000,MATCH(ROW()-5,geb.Rechnung!$G$4:$G$1000,0),COLUMN()+1))","v":""},{"$f":"IF(ISNA(INDEX(geb.Rechnung!$A$4:$G$1000,MATCH(ROW()-5,geb.Rechnung!$G$4:$G$1000,0),COLUMN()+1)),\"\",INDEX(geb.Rechnung!$A$4:$G$1000,MATCH(ROW()-5,geb.Rechnung!$G$4:$G$1000,0),COLUMN()+1))","v":""}]
[{"$f":"IF(ISNA(INDEX(geb.Rechnung!$A$4:$G$1000,MATCH(ROW()-5,geb.Rechnung!$G$4:$G$1000,0),COLUMN()-1)),\"\",INDEX(geb.Rechnung!$A$4:$G$1000,MATCH(ROW()-5,geb.Rechnung!$G$4:$G$1000,0),COLUMN()-1))","v":""},{"$f":"IF(ISNA(INDEX(geb.Rechnung!$A$4:$G$1000,MATCH(ROW()-5,geb.Rechnung!$G$4:$G$1000,0),COLUMN()-2)),\"\",INDEX(geb.Rechnung!$A$4:$G$1000,MATCH(ROW()-5,geb.Rechnung!$G$4:$G$1000,0),COLUMN()-2))","v":""},{"$f":"IF(ISNA(INDEX(geb.Rechnung!$A$4:$G$1000,MATCH(ROW()-5,geb.Rechnung!$G$4:$G$1000,0),COLUMN()+1)),\"\",INDEX(geb.Rechnung!$A$4:$G$1000,MATCH(ROW()-5,geb.Rechnung!$G$4:$G$1000,0),COLUMN()+1))","v":""},{"$f":"IF(ISNA(INDEX(geb.Rechnung!$A$4:$G$1000,MATCH(ROW()-5,geb.Rechnung!$G$4:$G$1000,0),COLUMN()+1)),\"\",INDEX(geb.Rechnung!$A$4:$G$1000,MATCH(ROW()-5,geb.Rechnung!$G$4:$G$1000,0),COLUMN()+1))","v":""}]
[{"$f":"IF(ISNA(INDEX(geb.Rechnung!$A$4:$G$1000,MATCH(ROW()-5,geb.Rechnung!$G$4:$G$1000,0),COLUMN()-1)),\"\",INDEX(geb.Rechnung!$A$4:$G$1000,MATCH(ROW()-5,geb.Rechnung!$G$4:$G$1000,0),COLUMN()-1))","v":""},{"$f":"IF(ISNA(INDEX(geb.Rechnung!$A$4:$G$1000,MATCH(ROW()-5,geb.Rechnung!$G$4:$G$1000,0),COLUMN()-2)),\"\",INDEX(geb.Rechnung!$A$4:$G$1000,MATCH(ROW()-5,geb.Rechnung!$G$4:$G$1000,0),COLUMN()-2))","v":""},{"$f":"IF(ISNA(INDEX(geb.Rechnung!$A$4:$G$1000,MATCH(ROW()-5,geb.Rechnung!$G$4:$G$1000,0),COLUMN()+1)),\"\",INDEX(geb.Rechnung!$A$4:$G$1000,MATCH(ROW()-5,geb.Rechnung!$G$4:$G$1000,0),COLUMN()+1))","v":""},{"$f":"IF(ISNA(INDEX(geb.Rechnung!$A$4:$G$1000,MATCH(ROW()-5,geb.Rechnung!$G$4:$G$1000,0),COLUMN()+1)),\"\",INDEX(geb.Rechnung!$A$4:$G$1000,MATCH(ROW()-5,geb.Rechnung!$G$4:$G$1000,0),COLUMN()+1))","v":""}]
[{"$f":"IF(ISNA(INDEX(geb.Rechnung!$A$4:$G$1000,MATCH(ROW()-5,geb.Rechnung!$G$4:$G$1000,0),COLUMN()-1)),\"\",INDEX(geb.Rechnung!$A$4:$G$1000,MATCH(ROW()-5,geb.Rechnung!$G$4:$G$1000,0),COLUMN()-1))","v":""},{"$f":"IF(ISNA(INDEX(geb.Rechnung!$A$4:$G$1000,MATCH(ROW()-5,geb.Rechnung!$G$4:$G$1000,0),COLUMN()-2)),\"\",INDEX(geb.Rechnung!$A$4:$G$1000,MATCH(ROW()-5,geb.Rechnung!$G$4:$G$1000,0),COLUMN()-2))","v":""},{"$f":"IF(ISNA(INDEX(geb.Rechnung!$A$4:$G$1000,MATCH(ROW()-5,geb.Rechnung!$G$4:$G$1000,0),COLUMN()+1)),\"\",INDEX(geb.Rechnung!$A$4:$G$1000,MATCH(ROW()-5,geb.Rechnung!$G$4:$G$1000,0),COLUMN()+1))","v":""},{"$f":"IF(ISNA(INDEX(geb.Rechnung!$A$4:$G$1000,MATCH(ROW()-5,geb.Rechnung!$G$4:$G$1000,0),COLUMN()+1)),\"\",INDEX(geb.Rechnung!$A$4:$G$1000,MATCH(ROW()-5,geb.Rechnung!$G$4:$G$1000,0),COLUMN()+1))","v":""}]
[{"$f":"IF(ISNA(INDEX(geb.Rechnung!$A$4:$G$1000,MATCH(ROW()-5,geb.Rechnung!$G$4:$G$1000,0),COLUMN()-1)),\"\",INDEX(geb.Rechnung!$A$4:$G$1000,MATCH(ROW()-5,geb.Rechnung!$G$4:$G$1000,0),COLUMN()-1))","v":""},{"$f":"IF(ISNA(INDEX(geb.Rechnung!$A$4:$G$1000,MATCH(ROW()-5,geb.Rechnung!$G$4:$G$1000,0),COLUMN()-2)),\"\",INDEX(geb.Rechnung!$A$4:$G$1000,MATCH(ROW()-5,geb.Rechnung!$G$4:$G$1000,0),COLUMN()-2))","v":""},{"$f":"IF(ISNA(INDEX(geb.Rechnung!$A$4:$G$1000,MATCH(ROW()-5,geb.Rechnung!$G$4:$G$1000,0),COLUMN()+1)),\"\",INDEX(geb.Rechnung!$A$4:$G$1000,MATCH(ROW()-5,geb.Rechnung!$G$4:$G$1000,0),COLUMN()+1))","v":""},{"$f":"IF(ISNA(INDEX(geb.Rechnung!$A$4:$G$1000,MATCH(ROW()-5,geb.Rechnung!$G$4:$G$1000,0),COLUMN()+1)),\"\",INDEX(geb.Rechnung!$A$4:$G$1000,MATCH(ROW()-5,geb.Rechnung!$G$4:$G$1000,0),COLUMN()+1))","v":""}]
[{"$f":"IF(ISNA(INDEX(geb.Rechnung!$A$4:$G$1000,MATCH(ROW()-5,geb.Rechnung!$G$4:$G$1000,0),COLUMN()-1)),\"\",INDEX(geb.Rechnung!$A$4:$G$1000,MATCH(ROW()-5,geb.Rechnung!$G$4:$G$1000,0),COLUMN()-1))","v":""},{"$f":"IF(ISNA(INDEX(geb.Rechnung!$A$4:$G$1000,MATCH(ROW()-5,geb.Rechnung!$G$4:$G$1000,0),COLUMN()-2)),\"\",INDEX(geb.Rechnung!$A$4:$G$1000,MATCH(ROW()-5,geb.Rechnung!$G$4:$G$1000,0),COLUMN()-2))","v":""},{"$f":"IF(ISNA(INDEX(geb.Rechnung!$A$4:$G$1000,MATCH(ROW()-5,geb.Rechnung!$G$4:$G$1000,0),COLUMN()+1)),\"\",INDEX(geb.Rechnung!$A$4:$G$1000,MATCH(ROW()-5,geb.Rechnung!$G$4:$G$1000,0),COLUMN()+1))","v":""},{"$f":"IF(ISNA(INDEX(geb.Rechnung!$A$4:$G$1000,MATCH(ROW()-5,geb.Rechnung!$G$4:$G$1000,0),COLUMN()+1)),\"\",INDEX(geb.Rechnung!$A$4:$G$1000,MATCH(ROW()-5,geb.Rechnung!$G$4:$G$1000,0),COLUMN()+1))","v":""}]
[{"$f":"IF(ISNA(INDEX(geb.Rechnung!$A$4:$G$1000,MATCH(ROW()-5,geb.Rechnung!$G$4:$G$1000,0),COLUMN()-1)),\"\",INDEX(geb.Rechnung!$A$4:$G$1000,MATCH(ROW()-5,geb.Rechnung!$G$4:$G$1000,0),COLUMN()-1))","v":""},{"$f":"IF(ISNA(INDEX(geb.Rechnung!$A$4:$G$1000,MATCH(ROW()-5,geb.Rechnung!$G$4:$G$1000,0),COLUMN()-2)),\"\",INDEX(geb.Rechnung!$A$4:$G$1000,MATCH(ROW()-5,geb.Rechnung!$G$4:$G$1000,0),COLUMN()-2))","v":""},{"$f":"IF(ISNA(INDEX(geb.Rechnung!$A$4:$G$1000,MATCH(ROW()-5,geb.Rechnung!$G$4:$G$1000,0),COLUMN()+1)),\"\",INDEX(geb.Rechnung!$A$4:$G$1000,MATCH(ROW()-5,geb.Rechnung!$G$4:$G$1000,0),COLUMN()+1))","v":""},{"$f":"IF(ISNA(INDEX(geb.Rechnung!$A$4:$G$1000,MATCH(ROW()-5,geb.Rechnung!$G$4:$G$1000,0),COLUMN()+1)),\"\",INDEX(geb.Rechnung!$A$4:$G$1000,MATCH(ROW()-5,geb.Rechnung!$G$4:$G$1000,0),COLUMN()+1))","v":""}]
[{"$f":"IF(ISNA(INDEX(geb.Rechnung!$A$4:$G$1000,MATCH(ROW()-5,geb.Rechnung!$G$4:$G$1000,0),COLUMN()-1)),\"\",INDEX(geb.Rechnung!$A$4:$G$1000,MATCH(ROW()-5,geb.Rechnung!$G$4:$G$1000,0),COLUMN()-1))","v":""},{"$f":"IF(ISNA(INDEX(geb.Rechnung!$A$4:$G$1000,MATCH(ROW()-5,geb.Rechnung!$G$4:$G$1000,0),COLUMN()-2)),\"\",INDEX(geb.Rechnung!$A$4:$G$1000,MATCH(ROW()-5,geb.Rechnung!$G$4:$G$1000,0),COLUMN()-2))","v":""},{"$f":"IF(ISNA(INDEX(geb.Rechnung!$A$4:$G$1000,MATCH(ROW()-5,geb.Rechnung!$G$4:$G$1000,0),COLUMN()+1)),\"\",INDEX(geb.Rechnung!$A$4:$G$1000,MATCH(ROW()-5,geb.Rechnung!$G$4:$G$1000,0),COLUMN()+1))","v":""},{"$f":"IF(ISNA(INDEX(geb.Rechnung!$A$4:$G$1000,MATCH(ROW()-5,geb.Rechnung!$G$4:$G$1000,0),COLUMN()+1)),\"\",INDEX(geb.Rechnung!$A$4:$G$1000,MATCH(ROW()-5,geb.Rechnung!$G$4:$G$1000,0),COLUMN()+1))","v":""}]
[{"$f":"IF(ISNA(INDEX(geb.Rechnung!$A$4:$G$1000,MATCH(ROW()-5,geb.Rechnung!$G$4:$G$1000,0),COLUMN()-1)),\"\",INDEX(geb.Rechnung!$A$4:$G$1000,MATCH(ROW()-5,geb.Rechnung!$G$4:$G$1000,0),COLUMN()-1))","v":""},{"$f":"IF(ISNA(INDEX(geb.Rechnung!$A$4:$G$1000,MATCH(ROW()-5,geb.Rechnung!$G$4:$G$1000,0),COLUMN()-2)),\"\",INDEX(geb.Rechnung!$A$4:$G$1000,MATCH(ROW()-5,geb.Rechnung!$G$4:$G$1000,0),COLUMN()-2))","v":""},{"$f":"IF(ISNA(INDEX(geb.Rechnung!$A$4:$G$1000,MATCH(ROW()-5,geb.Rechnung!$G$4:$G$1000,0),COLUMN()+1)),\"\",INDEX(geb.Rechnung!$A$4:$G$1000,MATCH(ROW()-5,geb.Rechnung!$G$4:$G$1000,0),COLUMN()+1))","v":""},{"$f":"IF(ISNA(INDEX(geb.Rechnung!$A$4:$G$1000,MATCH(ROW()-5,geb.Rechnung!$G$4:$G$1000,0),COLUMN()+1)),\"\",INDEX(geb.Rechnung!$A$4:$G$1000,MATCH(ROW()-5,geb.Rechnung!$G$4:$G$1000,0),COLUMN()+1))","v":""}]
[{"$f":"IF(ISNA(INDEX(geb.Rechnung!$A$4:$G$1000,MATCH(ROW()-5,geb.Rechnung!$G$4:$G$1000,0),COLUMN()-1)),\"\",INDEX(geb.Rechnung!$A$4:$G$1000,MATCH(ROW()-5,geb.Rechnung!$G$4:$G$1000,0),COLUMN()-1))","v":""},{"$f":"IF(ISNA(INDEX(geb.Rechnung!$A$4:$G$1000,MATCH(ROW()-5,geb.Rechnung!$G$4:$G$1000,0),COLUMN()-2)),\"\",INDEX(geb.Rechnung!$A$4:$G$1000,MATCH(ROW()-5,geb.Rechnung!$G$4:$G$1000,0),COLUMN()-2))","v":""},{"$f":"IF(ISNA(INDEX(geb.Rechnung!$A$4:$G$1000,MATCH(ROW()-5,geb.Rechnung!$G$4:$G$1000,0),COLUMN()+1)),\"\",INDEX(geb.Rechnung!$A$4:$G$1000,MATCH(ROW()-5,geb.Rechnung!$G$4:$G$1000,0),COLUMN()+1))","v":""},{"$f":"IF(ISNA(INDEX(geb.Rechnung!$A$4:$G$1000,MATCH(ROW()-5,geb.Rechnung!$G$4:$G$1000,0),COLUMN()+1)),\"\",INDEX(geb.Rechnung!$A$4:$G$1000,MATCH(ROW()-5,geb.Rechnung!$G$4:$G$1000,0),COLUMN()+1))","v":""}]
[{"$f":"IF(ISNA(INDEX(geb.Rechnung!$A$4:$G$1000,MATCH(ROW()-5,geb.Rechnung!$G$4:$G$1000,0),COLUMN()-1)),\"\",INDEX(geb.Rechnung!$A$4:$G$1000,MATCH(ROW()-5,geb.Rechnung!$G$4:$G$1000,0),COLUMN()-1))","v":""},{"$f":"IF(ISNA(INDEX(geb.Rechnung!$A$4:$G$1000,MATCH(ROW()-5,geb.Rechnung!$G$4:$G$1000,0),COLUMN()-2)),\"\",INDEX(geb.Rechnung!$A$4:$G$1000,MATCH(ROW()-5,geb.Rechnung!$G$4:$G$1000,0),COLUMN()-2))","v":""},{"$f":"IF(ISNA(INDEX(geb.Rechnung!$A$4:$G$1000,MATCH(ROW()-5,geb.Rechnung!$G$4:$G$1000,0),COLUMN()+1)),\"\",INDEX(geb.Rechnung!$A$4:$G$1000,MATCH(ROW()-5,geb.Rechnung!$G$4:$G$1000,0),COLUMN()+1))","v":""},{"$f":"IF(ISNA(INDEX(geb.Rechnung!$A$4:$G$1000,MATCH(ROW()-5,geb.Rechnung!$G$4:$G$1000,0),COLUMN()+1)),\"\",INDEX(geb.Rechnung!$A$4:$G$1000,MATCH(ROW()-5,geb.Rechnung!$G$4:$G$1000,0),COLUMN()+1))","v":""}]
[{"$f":"IF(ISNA(INDEX(geb.Rechnung!$A$4:$G$1000,MATCH(ROW()-5,geb.Rechnung!$G$4:$G$1000,0),COLUMN()-1)),\"\",INDEX(geb.Rechnung!$A$4:$G$1000,MATCH(ROW()-5,geb.Rechnung!$G$4:$G$1000,0),COLUMN()-1))","v":""},{"$f":"IF(ISNA(INDEX(geb.Rechnung!$A$4:$G$1000,MATCH(ROW()-5,geb.Rechnung!$G$4:$G$1000,0),COLUMN()-2)),\"\",INDEX(geb.Rechnung!$A$4:$G$1000,MATCH(ROW()-5,geb.Rechnung!$G$4:$G$1000,0),COLUMN()-2))","v":""},{"$f":"IF(ISNA(INDEX(geb.Rechnung!$A$4:$G$1000,MATCH(ROW()-5,geb.Rechnung!$G$4:$G$1000,0),COLUMN()+1)),\"\",INDEX(geb.Rechnung!$A$4:$G$1000,MATCH(ROW()-5,geb.Rechnung!$G$4:$G$1000,0),COLUMN()+1))","v":""},{"$f":"IF(ISNA(INDEX(geb.Rechnung!$A$4:$G$1000,MATCH(ROW()-5,geb.Rechnung!$G$4:$G$1000,0),COLUMN()+1)),\"\",INDEX(geb.Rechnung!$A$4:$G$1000,MATCH(ROW()-5,geb.Rechnung!$G$4:$G$1000,0),COLUMN()+1))","v":""}]
[{"$f":"IF(ISNA(INDEX(geb.Rechnung!$A$4:$G$1000,MATCH(ROW()-5,geb.Rechnung!$G$4:$G$1000,0),COLUMN()-1)),\"\",INDEX(geb.Rechnung!$A$4:$G$1000,MATCH(ROW()-5,geb.Rechnung!$G$4:$G$1000,0),COLUMN()-1))","v":""},{"$f":"IF(ISNA(INDEX(geb.Rechnung!$A$4:$G$1000,MATCH(ROW()-5,geb.Rechnung!$G$4:$G$1000,0),COLUMN()-2)),\"\",INDEX(geb.Rechnung!$A$4:$G$1000,MATCH(ROW()-5,geb.Rechnung!$G$4:$G$1000,0),COLUMN()-2))","v":""},{"$f":"IF(ISNA(INDEX(geb.Rechnung!$A$4:$G$1000,MATCH(ROW()-5,geb.Rechnung!$G$4:$G$1000,0),COLUMN()+1)),\"\",INDEX(geb.Rechnung!$A$4:$G$1000,MATCH(ROW()-5,geb.Rechnung!$G$4:$G$1000,0),COLUMN()+1))","v":""},{"$f":"IF(ISNA(INDEX(geb.Rechnung!$A$4:$G$1000,MATCH(ROW()-5,geb.Rechnung!$G$4:$G$1000,0),COLUMN()+1)),\"\",INDEX(geb.Rechnung!$A$4:$G$1000,MATCH(ROW()-5,geb.Rechnung!$G$4:$G$1000,0),COLUMN()+1))","v":""}]
[{"$f":"IF(ISNA(INDEX(geb.Rechnung!$A$4:$G$1000,MATCH(ROW()-5,geb.Rechnung!$G$4:$G$1000,0),COLUMN()-1)),\"\",INDEX(geb.Rechnung!$A$4:$G$1000,MATCH(ROW()-5,geb.Rechnung!$G$4:$G$1000,0),COLUMN()-1))","v":""},{"$f":"IF(ISNA(INDEX(geb.Rechnung!$A$4:$G$1000,MATCH(ROW()-5,geb.Rechnung!$G$4:$G$1000,0),COLUMN()-2)),\"\",INDEX(geb.Rechnung!$A$4:$G$1000,MATCH(ROW()-5,geb.Rechnung!$G$4:$G$1000,0),COLUMN()-2))","v":""},{"$f":"IF(ISNA(INDEX(geb.Rechnung!$A$4:$G$1000,MATCH(ROW()-5,geb.Rechnung!$G$4:$G$1000,0),COLUMN()+1)),\"\",INDEX(geb.Rechnung!$A$4:$G$1000,MATCH(ROW()-5,geb.Rechnung!$G$4:$G$1000,0),COLUMN()+1))","v":""},{"$f":"IF(ISNA(INDEX(geb.Rechnung!$A$4:$G$1000,MATCH(ROW()-5,geb.Rechnung!$G$4:$G$1000,0),COLUMN()+1)),\"\",INDEX(geb.Rechnung!$A$4:$G$1000,MATCH(ROW()-5,geb.Rechnung!$G$4:$G$1000,0),COLUMN()+1))","v":""}]
[{"$f":"IF(ISNA(INDEX(geb.Rechnung!$A$4:$G$1000,MATCH(ROW()-5,geb.Rechnung!$G$4:$G$1000,0),COLUMN()-1)),\"\",INDEX(geb.Rechnung!$A$4:$G$1000,MATCH(ROW()-5,geb.Rechnung!$G$4:$G$1000,0),COLUMN()-1))","v":""},{"$f":"IF(ISNA(INDEX(geb.Rechnung!$A$4:$G$1000,MATCH(ROW()-5,geb.Rechnung!$G$4:$G$1000,0),COLUMN()-2)),\"\",INDEX(geb.Rechnung!$A$4:$G$1000,MATCH(ROW()-5,geb.Rechnung!$G$4:$G$1000,0),COLUMN()-2))","v":""},{"$f":"IF(ISNA(INDEX(geb.Rechnung!$A$4:$G$1000,MATCH(ROW()-5,geb.Rechnung!$G$4:$G$1000,0),COLUMN()+1)),\"\",INDEX(geb.Rechnung!$A$4:$G$1000,MATCH(ROW()-5,geb.Rechnung!$G$4:$G$1000,0),COLUMN()+1))","v":""},{"$f":"IF(ISNA(INDEX(geb.Rechnung!$A$4:$G$1000,MATCH(ROW()-5,geb.Rechnung!$G$4:$G$1000,0),COLUMN()+1)),\"\",INDEX(geb.Rechnung!$A$4:$G$1000,MATCH(ROW()-5,geb.Rechnung!$G$4:$G$1000,0),COLUMN()+1))","v":""}]
[{"$f":"IF(ISNA(INDEX(geb.Rechnung!$A$4:$G$1000,MATCH(ROW()-5,geb.Rechnung!$G$4:$G$1000,0),COLUMN()-1)),\"\",INDEX(geb.Rechnung!$A$4:$G$1000,MATCH(ROW()-5,geb.Rechnung!$G$4:$G$1000,0),COLUMN()-1))","v":""},{"$f":"IF(ISNA(INDEX(geb.Rechnung!$A$4:$G$1000,MATCH(ROW()-5,geb.Rechnung!$G$4:$G$1000,0),COLUMN()-2)),\"\",INDEX(geb.Rechnung!$A$4:$G$1000,MATCH(ROW()-5,geb.Rechnung!$G$4:$G$1000,0),COLUMN()-2))","v":""},{"$f":"IF(ISNA(INDEX(geb.Rechnung!$A$4:$G$1000,MATCH(ROW()-5,geb.Rechnung!$G$4:$G$1000,0),COLUMN()+1)),\"\",INDEX(geb.Rechnung!$A$4:$G$1000,MATCH(ROW()-5,geb.Rechnung!$G$4:$G$1000,0),COLUMN()+1))","v":""},{"$f":"IF(ISNA(INDEX(geb.Rechnung!$A$4:$G$1000,MATCH(ROW()-5,geb.Rechnung!$G$4:$G$1000,0),COLUMN()+1)),\"\",INDEX(geb.Rechnung!$A$4:$G$1000,MATCH(ROW()-5,geb.Rechnung!$G$4:$G$1000,0),COLUMN()+1))","v":""}]
[{"$f":"IF(ISNA(INDEX(geb.Rechnung!$A$4:$G$1000,MATCH(ROW()-5,geb.Rechnung!$G$4:$G$1000,0),COLUMN()-1)),\"\",INDEX(geb.Rechnung!$A$4:$G$1000,MATCH(ROW()-5,geb.Rechnung!$G$4:$G$1000,0),COLUMN()-1))","v":""},{"$f":"IF(ISNA(INDEX(geb.Rechnung!$A$4:$G$1000,MATCH(ROW()-5,geb.Rechnung!$G$4:$G$1000,0),COLUMN()-2)),\"\",INDEX(geb.Rechnung!$A$4:$G$1000,MATCH(ROW()-5,geb.Rechnung!$G$4:$G$1000,0),COLUMN()-2))","v":""},{"$f":"IF(ISNA(INDEX(geb.Rechnung!$A$4:$G$1000,MATCH(ROW()-5,geb.Rechnung!$G$4:$G$1000,0),COLUMN()+1)),\"\",INDEX(geb.Rechnung!$A$4:$G$1000,MATCH(ROW()-5,geb.Rechnung!$G$4:$G$1000,0),COLUMN()+1))","v":""},{"$f":"IF(ISNA(INDEX(geb.Rechnung!$A$4:$G$1000,MATCH(ROW()-5,geb.Rechnung!$G$4:$G$1000,0),COLUMN()+1)),\"\",INDEX(geb.Rechnung!$A$4:$G$1000,MATCH(ROW()-5,geb.Rechnung!$G$4:$G$1000,0),COLUMN()+1))","v":""}]
[{"$f":"IF(ISNA(INDEX(geb.Rechnung!$A$4:$G$1000,MATCH(ROW()-5,geb.Rechnung!$G$4:$G$1000,0),COLUMN()-1)),\"\",INDEX(geb.Rechnung!$A$4:$G$1000,MATCH(ROW()-5,geb.Rechnung!$G$4:$G$1000,0),COLUMN()-1))","v":""},{"$f":"IF(ISNA(INDEX(geb.Rechnung!$A$4:$G$1000,MATCH(ROW()-5,geb.Rechnung!$G$4:$G$1000,0),COLUMN()-2)),\"\",INDEX(geb.Rechnung!$A$4:$G$1000,MATCH(ROW()-5,geb.Rechnung!$G$4:$G$1000,0),COLUMN()-2))","v":""},{"$f":"IF(ISNA(INDEX(geb.Rechnung!$A$4:$G$1000,MATCH(ROW()-5,geb.Rechnung!$G$4:$G$1000,0),COLUMN()+1)),\"\",INDEX(geb.Rechnung!$A$4:$G$1000,MATCH(ROW()-5,geb.Rechnung!$G$4:$G$1000,0),COLUMN()+1))","v":""},{"$f":"IF(ISNA(INDEX(geb.Rechnung!$A$4:$G$1000,MATCH(ROW()-5,geb.Rechnung!$G$4:$G$1000,0),COLUMN()+1)),\"\",INDEX(geb.Rechnung!$A$4:$G$1000,MATCH(ROW()-5,geb.Rechnung!$G$4:$G$1000,0),COLUMN()+1))","v":""}]
[{"$f":"IF(ISNA(INDEX(geb.Rechnung!$A$4:$G$1000,MATCH(ROW()-5,geb.Rechnung!$G$4:$G$1000,0),COLUMN()-1)),\"\",INDEX(geb.Rechnung!$A$4:$G$1000,MATCH(ROW()-5,geb.Rechnung!$G$4:$G$1000,0),COLUMN()-1))","v":""},{"$f":"IF(ISNA(INDEX(geb.Rechnung!$A$4:$G$1000,MATCH(ROW()-5,geb.Rechnung!$G$4:$G$1000,0),COLUMN()-2)),\"\",INDEX(geb.Rechnung!$A$4:$G$1000,MATCH(ROW()-5,geb.Rechnung!$G$4:$G$1000,0),COLUMN()-2))","v":""},{"$f":"IF(ISNA(INDEX(geb.Rechnung!$A$4:$G$1000,MATCH(ROW()-5,geb.Rechnung!$G$4:$G$1000,0),COLUMN()+1)),\"\",INDEX(geb.Rechnung!$A$4:$G$1000,MATCH(ROW()-5,geb.Rechnung!$G$4:$G$1000,0),COLUMN()+1))","v":""},{"$f":"IF(ISNA(INDEX(geb.Rechnung!$A$4:$G$1000,MATCH(ROW()-5,geb.Rechnung!$G$4:$G$1000,0),COLUMN()+1)),\"\",INDEX(geb.Rechnung!$A$4:$G$1000,MATCH(ROW()-5,geb.Rechnung!$G$4:$G$1000,0),COLUMN()+1))","v":""}]
[{"$f":"IF(ISNA(INDEX(geb.Rechnung!$A$4:$G$1000,MATCH(ROW()-5,geb.Rechnung!$G$4:$G$1000,0),COLUMN()-1)),\"\",INDEX(geb.Rechnung!$A$4:$G$1000,MATCH(ROW()-5,geb.Rechnung!$G$4:$G$1000,0),COLUMN()-1))","v":""},{"$f":"IF(ISNA(INDEX(geb.Rechnung!$A$4:$G$1000,MATCH(ROW()-5,geb.Rechnung!$G$4:$G$1000,0),COLUMN()-2)),\"\",INDEX(geb.Rechnung!$A$4:$G$1000,MATCH(ROW()-5,geb.Rechnung!$G$4:$G$1000,0),COLUMN()-2))","v":""},{"$f":"IF(ISNA(INDEX(geb.Rechnung!$A$4:$G$1000,MATCH(ROW()-5,geb.Rechnung!$G$4:$G$1000,0),COLUMN()+1)),\"\",INDEX(geb.Rechnung!$A$4:$G$1000,MATCH(ROW()-5,geb.Rechnung!$G$4:$G$1000,0),COLUMN()+1))","v":""},{"$f":"IF(ISNA(INDEX(geb.Rechnung!$A$4:$G$1000,MATCH(ROW()-5,geb.Rechnung!$G$4:$G$1000,0),COLUMN()+1)),\"\",INDEX(geb.Rechnung!$A$4:$G$1000,MATCH(ROW()-5,geb.Rechnung!$G$4:$G$1000,0),COLUMN()+1))","v":""}]
[{"$f":"IF(ISNA(INDEX(geb.Rechnung!$A$4:$G$1000,MATCH(ROW()-5,geb.Rechnung!$G$4:$G$1000,0),COLUMN()-1)),\"\",INDEX(geb.Rechnung!$A$4:$G$1000,MATCH(ROW()-5,geb.Rechnung!$G$4:$G$1000,0),COLUMN()-1))","v":""},{"$f":"IF(ISNA(INDEX(geb.Rechnung!$A$4:$G$1000,MATCH(ROW()-5,geb.Rechnung!$G$4:$G$1000,0),COLUMN()-2)),\"\",INDEX(geb.Rechnung!$A$4:$G$1000,MATCH(ROW()-5,geb.Rechnung!$G$4:$G$1000,0),COLUMN()-2))","v":""},{"$f":"IF(ISNA(INDEX(geb.Rechnung!$A$4:$G$1000,MATCH(ROW()-5,geb.Rechnung!$G$4:$G$1000,0),COLUMN()+1)),\"\",INDEX(geb.Rechnung!$A$4:$G$1000,MATCH(ROW()-5,geb.Rechnung!$G$4:$G$1000,0),COLUMN()+1))","v":""},{"$f":"IF(ISNA(INDEX(geb.Rechnung!$A$4:$G$1000,MATCH(ROW()-5,geb.Rechnung!$G$4:$G$1000,0),COLUMN()+1)),\"\",INDEX(geb.Rechnung!$A$4:$G$1000,MATCH(ROW()-5,geb.Rechnung!$G$4:$G$1000,0),COLUMN()+1))","v":""}]
[{"$f":"IF(ISNA(INDEX(geb.Rechnung!$A$4:$G$1000,MATCH(ROW()-5,geb.Rechnung!$G$4:$G$1000,0),COLUMN()-1)),\"\",INDEX(geb.Rechnung!$A$4:$G$1000,MATCH(ROW()-5,geb.Rechnung!$G$4:$G$1000,0),COLUMN()-1))","v":""},{"$f":"IF(ISNA(INDEX(geb.Rechnung!$A$4:$G$1000,MATCH(ROW()-5,geb.Rechnung!$G$4:$G$1000,0),COLUMN()-2)),\"\",INDEX(geb.Rechnung!$A$4:$G$1000,MATCH(ROW()-5,geb.Rechnung!$G$4:$G$1000,0),COLUMN()-2))","v":""},{"$f":"IF(ISNA(INDEX(geb.Rechnung!$A$4:$G$1000,MATCH(ROW()-5,geb.Rechnung!$G$4:$G$1000,0),COLUMN()+1)),\"\",INDEX(geb.Rechnung!$A$4:$G$1000,MATCH(ROW()-5,geb.Rechnung!$G$4:$G$1000,0),COLUMN()+1))","v":""},{"$f":"IF(ISNA(INDEX(geb.Rechnung!$A$4:$G$1000,MATCH(ROW()-5,geb.Rechnung!$G$4:$G$1000,0),COLUMN()+1)),\"\",INDEX(geb.Rechnung!$A$4:$G$1000,MATCH(ROW()-5,geb.Rechnung!$G$4:$G$1000,0),COLUMN()+1))","v":""}]
[{"$f":"IF(ISNA(INDEX(geb.Rechnung!$A$4:$G$1000,MATCH(ROW()-5,geb.Rechnung!$G$4:$G$1000,0),COLUMN()-1)),\"\",INDEX(geb.Rechnung!$A$4:$G$1000,MATCH(ROW()-5,geb.Rechnung!$G$4:$G$1000,0),COLUMN()-1))","v":""},{"$f":"IF(ISNA(INDEX(geb.Rechnung!$A$4:$G$1000,MATCH(ROW()-5,geb.Rechnung!$G$4:$G$1000,0),COLUMN()-2)),\"\",INDEX(geb.Rechnung!$A$4:$G$1000,MATCH(ROW()-5,geb.Rechnung!$G$4:$G$1000,0),COLUMN()-2))","v":""},{"$f":"IF(ISNA(INDEX(geb.Rechnung!$A$4:$G$1000,MATCH(ROW()-5,geb.Rechnung!$G$4:$G$1000,0),COLUMN()+1)),\"\",INDEX(geb.Rechnung!$A$4:$G$1000,MATCH(ROW()-5,geb.Rechnung!$G$4:$G$1000,0),COLUMN()+1))","v":""},{"$f":"IF(ISNA(INDEX(geb.Rechnung!$A$4:$G$1000,MATCH(ROW()-5,geb.Rechnung!$G$4:$G$1000,0),COLUMN()+1)),\"\",INDEX(geb.Rechnung!$A$4:$G$1000,MATCH(ROW()-5,geb.Rechnung!$G$4:$G$1000,0),COLUMN()+1))","v":""}]
[{"$f":"IF(ISNA(INDEX(geb.Rechnung!$A$4:$G$1000,MATCH(ROW()-5,geb.Rechnung!$G$4:$G$1000,0),COLUMN()-1)),\"\",INDEX(geb.Rechnung!$A$4:$G$1000,MATCH(ROW()-5,geb.Rechnung!$G$4:$G$1000,0),COLUMN()-1))","v":""},{"$f":"IF(ISNA(INDEX(geb.Rechnung!$A$4:$G$1000,MATCH(ROW()-5,geb.Rechnung!$G$4:$G$1000,0),COLUMN()-2)),\"\",INDEX(geb.Rechnung!$A$4:$G$1000,MATCH(ROW()-5,geb.Rechnung!$G$4:$G$1000,0),COLUMN()-2))","v":""},{"$f":"IF(ISNA(INDEX(geb.Rechnung!$A$4:$G$1000,MATCH(ROW()-5,geb.Rechnung!$G$4:$G$1000,0),COLUMN()+1)),\"\",INDEX(geb.Rechnung!$A$4:$G$1000,MATCH(ROW()-5,geb.Rechnung!$G$4:$G$1000,0),COLUMN()+1))","v":""},{"$f":"IF(ISNA(INDEX(geb.Rechnung!$A$4:$G$1000,MATCH(ROW()-5,geb.Rechnung!$G$4:$G$1000,0),COLUMN()+1)),\"\",INDEX(geb.Rechnung!$A$4:$G$1000,MATCH(ROW()-5,geb.Rechnung!$G$4:$G$1000,0),COLUMN()+1))","v":""}]
[{"$f":"IF(ISNA(INDEX(geb.Rechnung!$A$4:$G$1000,MATCH(ROW()-5,geb.Rechnung!$G$4:$G$1000,0),COLUMN()-1)),\"\",INDEX(geb.Rechnung!$A$4:$G$1000,MATCH(ROW()-5,geb.Rechnung!$G$4:$G$1000,0),COLUMN()-1))","v":""},{"$f":"IF(ISNA(INDEX(geb.Rechnung!$A$4:$G$1000,MATCH(ROW()-5,geb.Rechnung!$G$4:$G$1000,0),COLUMN()-2)),\"\",INDEX(geb.Rechnung!$A$4:$G$1000,MATCH(ROW()-5,geb.Rechnung!$G$4:$G$1000,0),COLUMN()-2))","v":""},{"$f":"IF(ISNA(INDEX(geb.Rechnung!$A$4:$G$1000,MATCH(ROW()-5,geb.Rechnung!$G$4:$G$1000,0),COLUMN()+1)),\"\",INDEX(geb.Rechnung!$A$4:$G$1000,MATCH(ROW()-5,geb.Rechnung!$G$4:$G$1000,0),COLUMN()+1))","v":""},{"$f":"IF(ISNA(INDEX(geb.Rechnung!$A$4:$G$1000,MATCH(ROW()-5,geb.Rechnung!$G$4:$G$1000,0),COLUMN()+1)),\"\",INDEX(geb.Rechnung!$A$4:$G$1000,MATCH(ROW()-5,geb.Rechnung!$G$4:$G$1000,0),COLUMN()+1))","v":""}]
[{"$f":"IF(ISNA(INDEX(geb.Rechnung!$A$4:$G$1000,MATCH(ROW()-5,geb.Rechnung!$G$4:$G$1000,0),COLUMN()-1)),\"\",INDEX(geb.Rechnung!$A$4:$G$1000,MATCH(ROW()-5,geb.Rechnung!$G$4:$G$1000,0),COLUMN()-1))","v":""},{"$f":"IF(ISNA(INDEX(geb.Rechnung!$A$4:$G$1000,MATCH(ROW()-5,geb.Rechnung!$G$4:$G$1000,0),COLUMN()-2)),\"\",INDEX(geb.Rechnung!$A$4:$G$1000,MATCH(ROW()-5,geb.Rechnung!$G$4:$G$1000,0),COLUMN()-2))","v":""},{"$f":"IF(ISNA(INDEX(geb.Rechnung!$A$4:$G$1000,MATCH(ROW()-5,geb.Rechnung!$G$4:$G$1000,0),COLUMN()+1)),\"\",INDEX(geb.Rechnung!$A$4:$G$1000,MATCH(ROW()-5,geb.Rechnung!$G$4:$G$1000,0),COLUMN()+1))","v":""},{"$f":"IF(ISNA(INDEX(geb.Rechnung!$A$4:$G$1000,MATCH(ROW()-5,geb.Rechnung!$G$4:$G$1000,0),COLUMN()+1)),\"\",INDEX(geb.Rechnung!$A$4:$G$1000,MATCH(ROW()-5,geb.Rechnung!$G$4:$G$1000,0),COLUMN()+1))","v":""}]
[{"$f":"IF(ISNA(INDEX(geb.Rechnung!$A$4:$G$1000,MATCH(ROW()-5,geb.Rechnung!$G$4:$G$1000,0),COLUMN()-1)),\"\",INDEX(geb.Rechnung!$A$4:$G$1000,MATCH(ROW()-5,geb.Rechnung!$G$4:$G$1000,0),COLUMN()-1))","v":""},{"$f":"IF(ISNA(INDEX(geb.Rechnung!$A$4:$G$1000,MATCH(ROW()-5,geb.Rechnung!$G$4:$G$1000,0),COLUMN()-2)),\"\",INDEX(geb.Rechnung!$A$4:$G$1000,MATCH(ROW()-5,geb.Rechnung!$G$4:$G$1000,0),COLUMN()-2))","v":""},{"$f":"IF(ISNA(INDEX(geb.Rechnung!$A$4:$G$1000,MATCH(ROW()-5,geb.Rechnung!$G$4:$G$1000,0),COLUMN()+1)),\"\",INDEX(geb.Rechnung!$A$4:$G$1000,MATCH(ROW()-5,geb.Rechnung!$G$4:$G$1000,0),COLUMN()+1))","v":""},{"$f":"IF(ISNA(INDEX(geb.Rechnung!$A$4:$G$1000,MATCH(ROW()-5,geb.Rechnung!$G$4:$G$1000,0),COLUMN()+1)),\"\",INDEX(geb.Rechnung!$A$4:$G$1000,MATCH(ROW()-5,geb.Rechnung!$G$4:$G$1000,0),COLUMN()+1))","v":""}]
[{"$f":"IF(ISNA(INDEX(geb.Rechnung!$A$4:$G$1000,MATCH(ROW()-5,geb.Rechnung!$G$4:$G$1000,0),COLUMN()-1)),\"\",INDEX(geb.Rechnung!$A$4:$G$1000,MATCH(ROW()-5,geb.Rechnung!$G$4:$G$1000,0),COLUMN()-1))","v":""},{"$f":"IF(ISNA(INDEX(geb.Rechnung!$A$4:$G$1000,MATCH(ROW()-5,geb.Rechnung!$G$4:$G$1000,0),COLUMN()-2)),\"\",INDEX(geb.Rechnung!$A$4:$G$1000,MATCH(ROW()-5,geb.Rechnung!$G$4:$G$1000,0),COLUMN()-2))","v":""},{"$f":"IF(ISNA(INDEX(geb.Rechnung!$A$4:$G$1000,MATCH(ROW()-5,geb.Rechnung!$G$4:$G$1000,0),COLUMN()+1)),\"\",INDEX(geb.Rechnung!$A$4:$G$1000,MATCH(ROW()-5,geb.Rechnung!$G$4:$G$1000,0),COLUMN()+1))","v":""},{"$f":"IF(ISNA(INDEX(geb.Rechnung!$A$4:$G$1000,MATCH(ROW()-5,geb.Rechnung!$G$4:$G$1000,0),COLUMN()+1)),\"\",INDEX(geb.Rechnung!$A$4:$G$1000,MATCH(ROW()-5,geb.Rechnung!$G$4:$G$1000,0),COLUMN()+1))","v":""}]
[{"$f":"IF(ISNA(INDEX(geb.Rechnung!$A$4:$G$1000,MATCH(ROW()-5,geb.Rechnung!$G$4:$G$1000,0),COLUMN()-1)),\"\",INDEX(geb.Rechnung!$A$4:$G$1000,MATCH(ROW()-5,geb.Rechnung!$G$4:$G$1000,0),COLUMN()-1))","v":""},{"$f":"IF(ISNA(INDEX(geb.Rechnung!$A$4:$G$1000,MATCH(ROW()-5,geb.Rechnung!$G$4:$G$1000,0),COLUMN()-2)),\"\",INDEX(geb.Rechnung!$A$4:$G$1000,MATCH(ROW()-5,geb.Rechnung!$G$4:$G$1000,0),COLUMN()-2))","v":""},{"$f":"IF(ISNA(INDEX(geb.Rechnung!$A$4:$G$1000,MATCH(ROW()-5,geb.Rechnung!$G$4:$G$1000,0),COLUMN()+1)),\"\",INDEX(geb.Rechnung!$A$4:$G$1000,MATCH(ROW()-5,geb.Rechnung!$G$4:$G$1000,0),COLUMN()+1))","v":""},{"$f":"IF(ISNA(INDEX(geb.Rechnung!$A$4:$G$1000,MATCH(ROW()-5,geb.Rechnung!$G$4:$G$1000,0),COLUMN()+1)),\"\",INDEX(geb.Rechnung!$A$4:$G$1000,MATCH(ROW()-5,geb.Rechnung!$G$4:$G$1000,0),COLUMN()+1))","v":""}]
[{"$f":"IF(ISNA(INDEX(geb.Rechnung!$A$4:$G$1000,MATCH(ROW()-5,geb.Rechnung!$G$4:$G$1000,0),COLUMN()-1)),\"\",INDEX(geb.Rechnung!$A$4:$G$1000,MATCH(ROW()-5,geb.Rechnung!$G$4:$G$1000,0),COLUMN()-1))","v":""},{"$f":"IF(ISNA(INDEX(geb.Rechnung!$A$4:$G$1000,MATCH(ROW()-5,geb.Rechnung!$G$4:$G$1000,0),COLUMN()-2)),\"\",INDEX(geb.Rechnung!$A$4:$G$1000,MATCH(ROW()-5,geb.Rechnung!$G$4:$G$1000,0),COLUMN()-2))","v":""},{"$f":"IF(ISNA(INDEX(geb.Rechnung!$A$4:$G$1000,MATCH(ROW()-5,geb.Rechnung!$G$4:$G$1000,0),COLUMN()+1)),\"\",INDEX(geb.Rechnung!$A$4:$G$1000,MATCH(ROW()-5,geb.Rechnung!$G$4:$G$1000,0),COLUMN()+1))","v":""},{"$f":"IF(ISNA(INDEX(geb.Rechnung!$A$4:$G$1000,MATCH(ROW()-5,geb.Rechnung!$G$4:$G$1000,0),COLUMN()+1)),\"\",INDEX(geb.Rechnung!$A$4:$G$1000,MATCH(ROW()-5,geb.Rechnung!$G$4:$G$1000,0),COLUMN()+1))","v":""}]
[{"$f":"IF(ISNA(INDEX(geb.Rechnung!$A$4:$G$1000,MATCH(ROW()-5,geb.Rechnung!$G$4:$G$1000,0),COLUMN()-1)),\"\",INDEX(geb.Rechnung!$A$4:$G$1000,MATCH(ROW()-5,geb.Rechnung!$G$4:$G$1000,0),COLUMN()-1))","v":""},{"$f":"IF(ISNA(INDEX(geb.Rechnung!$A$4:$G$1000,MATCH(ROW()-5,geb.Rechnung!$G$4:$G$1000,0),COLUMN()-2)),\"\",INDEX(geb.Rechnung!$A$4:$G$1000,MATCH(ROW()-5,geb.Rechnung!$G$4:$G$1000,0),COLUMN()-2))","v":""},{"$f":"IF(ISNA(INDEX(geb.Rechnung!$A$4:$G$1000,MATCH(ROW()-5,geb.Rechnung!$G$4:$G$1000,0),COLUMN()+1)),\"\",INDEX(geb.Rechnung!$A$4:$G$1000,MATCH(ROW()-5,geb.Rechnung!$G$4:$G$1000,0),COLUMN()+1))","v":""},{"$f":"IF(ISNA(INDEX(geb.Rechnung!$A$4:$G$1000,MATCH(ROW()-5,geb.Rechnung!$G$4:$G$1000,0),COLUMN()+1)),\"\",INDEX(geb.Rechnung!$A$4:$G$1000,MATCH(ROW()-5,geb.Rechnung!$G$4:$G$1000,0),COLUMN()+1))","v":""}]
[{"$f":"IF(ISNA(INDEX(geb.Rechnung!$A$4:$G$1000,MATCH(ROW()-5,geb.Rechnung!$G$4:$G$1000,0),COLUMN()-1)),\"\",INDEX(geb.Rechnung!$A$4:$G$1000,MATCH(ROW()-5,geb.Rechnung!$G$4:$G$1000,0),COLUMN()-1))","v":""},{"$f":"IF(ISNA(INDEX(geb.Rechnung!$A$4:$G$1000,MATCH(ROW()-5,geb.Rechnung!$G$4:$G$1000,0),COLUMN()-2)),\"\",INDEX(geb.Rechnung!$A$4:$G$1000,MATCH(ROW()-5,geb.Rechnung!$G$4:$G$1000,0),COLUMN()-2))","v":""},{"$f":"IF(ISNA(INDEX(geb.Rechnung!$A$4:$G$1000,MATCH(ROW()-5,geb.Rechnung!$G$4:$G$1000,0),COLUMN()+1)),\"\",INDEX(geb.Rechnung!$A$4:$G$1000,MATCH(ROW()-5,geb.Rechnung!$G$4:$G$1000,0),COLUMN()+1))","v":""},{"$f":"IF(ISNA(INDEX(geb.Rechnung!$A$4:$G$1000,MATCH(ROW()-5,geb.Rechnung!$G$4:$G$1000,0),COLUMN()+1)),\"\",INDEX(geb.Rechnung!$A$4:$G$1000,MATCH(ROW()-5,geb.Rechnung!$G$4:$G$1000,0),COLUMN()+1))","v":""}]
[{"$f":"IF(ISNA(INDEX(geb.Rechnung!$A$4:$G$1000,MATCH(ROW()-5,geb.Rechnung!$G$4:$G$1000,0),COLUMN()-1)),\"\",INDEX(geb.Rechnung!$A$4:$G$1000,MATCH(ROW()-5,geb.Rechnung!$G$4:$G$1000,0),COLUMN()-1))","v":""},{"$f":"IF(ISNA(INDEX(geb.Rechnung!$A$4:$G$1000,MATCH(ROW()-5,geb.Rechnung!$G$4:$G$1000,0),COLUMN()-2)),\"\",INDEX(geb.Rechnung!$A$4:$G$1000,MATCH(ROW()-5,geb.Rechnung!$G$4:$G$1000,0),COLUMN()-2))","v":""},{"$f":"IF(ISNA(INDEX(geb.Rechnung!$A$4:$G$1000,MATCH(ROW()-5,geb.Rechnung!$G$4:$G$1000,0),COLUMN()+1)),\"\",INDEX(geb.Rechnung!$A$4:$G$1000,MATCH(ROW()-5,geb.Rechnung!$G$4:$G$1000,0),COLUMN()+1))","v":""},{"$f":"IF(ISNA(INDEX(geb.Rechnung!$A$4:$G$1000,MATCH(ROW()-5,geb.Rechnung!$G$4:$G$1000,0),COLUMN()+1)),\"\",INDEX(geb.Rechnung!$A$4:$G$1000,MATCH(ROW()-5,geb.Rechnung!$G$4:$G$1000,0),COLUMN()+1))","v":""}]
[{"$f":"IF(ISNA(INDEX(geb.Rechnung!$A$4:$G$1000,MATCH(ROW()-5,geb.Rechnung!$G$4:$G$1000,0),COLUMN()-1)),\"\",INDEX(geb.Rechnung!$A$4:$G$1000,MATCH(ROW()-5,geb.Rechnung!$G$4:$G$1000,0),COLUMN()-1))","v":""},{"$f":"IF(ISNA(INDEX(geb.Rechnung!$A$4:$G$1000,MATCH(ROW()-5,geb.Rechnung!$G$4:$G$1000,0),COLUMN()-2)),\"\",INDEX(geb.Rechnung!$A$4:$G$1000,MATCH(ROW()-5,geb.Rechnung!$G$4:$G$1000,0),COLUMN()-2))","v":""},{"$f":"IF(ISNA(INDEX(geb.Rechnung!$A$4:$G$1000,MATCH(ROW()-5,geb.Rechnung!$G$4:$G$1000,0),COLUMN()+1)),\"\",INDEX(geb.Rechnung!$A$4:$G$1000,MATCH(ROW()-5,geb.Rechnung!$G$4:$G$1000,0),COLUMN()+1))","v":""},{"$f":"IF(ISNA(INDEX(geb.Rechnung!$A$4:$G$1000,MATCH(ROW()-5,geb.Rechnung!$G$4:$G$1000,0),COLUMN()+1)),\"\",INDEX(geb.Rechnung!$A$4:$G$1000,MATCH(ROW()-5,geb.Rechnung!$G$4:$G$1000,0),COLUMN()+1))","v":""}]
[{"$f":"IF(ISNA(INDEX(geb.Rechnung!$A$4:$G$1000,MATCH(ROW()-5,geb.Rechnung!$G$4:$G$1000,0),COLUMN()-1)),\"\",INDEX(geb.Rechnung!$A$4:$G$1000,MATCH(ROW()-5,geb.Rechnung!$G$4:$G$1000,0),COLUMN()-1))","v":""},{"$f":"IF(ISNA(INDEX(geb.Rechnung!$A$4:$G$1000,MATCH(ROW()-5,geb.Rechnung!$G$4:$G$1000,0),COLUMN()-2)),\"\",INDEX(geb.Rechnung!$A$4:$G$1000,MATCH(ROW()-5,geb.Rechnung!$G$4:$G$1000,0),COLUMN()-2))","v":""},{"$f":"IF(ISNA(INDEX(geb.Rechnung!$A$4:$G$1000,MATCH(ROW()-5,geb.Rechnung!$G$4:$G$1000,0),COLUMN()+1)),\"\",INDEX(geb.Rechnung!$A$4:$G$1000,MATCH(ROW()-5,geb.Rechnung!$G$4:$G$1000,0),COLUMN()+1))","v":""},{"$f":"IF(ISNA(INDEX(geb.Rechnung!$A$4:$G$1000,MATCH(ROW()-5,geb.Rechnung!$G$4:$G$1000,0),COLUMN()+1)),\"\",INDEX(geb.Rechnung!$A$4:$G$1000,MATCH(ROW()-5,geb.Rechnung!$G$4:$G$1000,0),COLUMN()+1))","v":""}]
[{"$f":"IF(ISNA(INDEX(geb.Rechnung!$A$4:$G$1000,MATCH(ROW()-5,geb.Rechnung!$G$4:$G$1000,0),COLUMN()-1)),\"\",INDEX(geb.Rechnung!$A$4:$G$1000,MATCH(ROW()-5,geb.Rechnung!$G$4:$G$1000,0),COLUMN()-1))","v":""},{"$f":"IF(ISNA(INDEX(geb.Rechnung!$A$4:$G$1000,MATCH(ROW()-5,geb.Rechnung!$G$4:$G$1000,0),COLUMN()-2)),\"\",INDEX(geb.Rechnung!$A$4:$G$1000,MATCH(ROW()-5,geb.Rechnung!$G$4:$G$1000,0),COLUMN()-2))","v":""},{"$f":"IF(ISNA(INDEX(geb.Rechnung!$A$4:$G$1000,MATCH(ROW()-5,geb.Rechnung!$G$4:$G$1000,0),COLUMN()+1)),\"\",INDEX(geb.Rechnung!$A$4:$G$1000,MATCH(ROW()-5,geb.Rechnung!$G$4:$G$1000,0),COLUMN()+1))","v":""},{"$f":"IF(ISNA(INDEX(geb.Rechnung!$A$4:$G$1000,MATCH(ROW()-5,geb.Rechnung!$G$4:$G$1000,0),COLUMN()+1)),\"\",INDEX(geb.Rechnung!$A$4:$G$1000,MATCH(ROW()-5,geb.Rechnung!$G$4:$G$1000,0),COLUMN()+1))","v":""}]
[{"$f":"IF(ISNA(INDEX(geb.Rechnung!$A$4:$G$1000,MATCH(ROW()-5,geb.Rechnung!$G$4:$G$1000,0),COLUMN()-1)),\"\",INDEX(geb.Rechnung!$A$4:$G$1000,MATCH(ROW()-5,geb.Rechnung!$G$4:$G$1000,0),COLUMN()-1))","v":""},{"$f":"IF(ISNA(INDEX(geb.Rechnung!$A$4:$G$1000,MATCH(ROW()-5,geb.Rechnung!$G$4:$G$1000,0),COLUMN()-2)),\"\",INDEX(geb.Rechnung!$A$4:$G$1000,MATCH(ROW()-5,geb.Rechnung!$G$4:$G$1000,0),COLUMN()-2))","v":""},{"$f":"IF(ISNA(INDEX(geb.Rechnung!$A$4:$G$1000,MATCH(ROW()-5,geb.Rechnung!$G$4:$G$1000,0),COLUMN()+1)),\"\",INDEX(geb.Rechnung!$A$4:$G$1000,MATCH(ROW()-5,geb.Rechnung!$G$4:$G$1000,0),COLUMN()+1))","v":""},{"$f":"IF(ISNA(INDEX(geb.Rechnung!$A$4:$G$1000,MATCH(ROW()-5,geb.Rechnung!$G$4:$G$1000,0),COLUMN()+1)),\"\",INDEX(geb.Rechnung!$A$4:$G$1000,MATCH(ROW()-5,geb.Rechnung!$G$4:$G$1000,0),COLUMN()+1))","v":""}]
[{"$f":"IF(ISNA(INDEX(geb.Rechnung!$A$4:$G$1000,MATCH(ROW()-5,geb.Rechnung!$G$4:$G$1000,0),COLUMN()-1)),\"\",INDEX(geb.Rechnung!$A$4:$G$1000,MATCH(ROW()-5,geb.Rechnung!$G$4:$G$1000,0),COLUMN()-1))","v":""},{"$f":"IF(ISNA(INDEX(geb.Rechnung!$A$4:$G$1000,MATCH(ROW()-5,geb.Rechnung!$G$4:$G$1000,0),COLUMN()-2)),\"\",INDEX(geb.Rechnung!$A$4:$G$1000,MATCH(ROW()-5,geb.Rechnung!$G$4:$G$1000,0),COLUMN()-2))","v":""},{"$f":"IF(ISNA(INDEX(geb.Rechnung!$A$4:$G$1000,MATCH(ROW()-5,geb.Rechnung!$G$4:$G$1000,0),COLUMN()+1)),\"\",INDEX(geb.Rechnung!$A$4:$G$1000,MATCH(ROW()-5,geb.Rechnung!$G$4:$G$1000,0),COLUMN()+1))","v":""},{"$f":"IF(ISNA(INDEX(geb.Rechnung!$A$4:$G$1000,MATCH(ROW()-5,geb.Rechnung!$G$4:$G$1000,0),COLUMN()+1)),\"\",INDEX(geb.Rechnung!$A$4:$G$1000,MATCH(ROW()-5,geb.Rechnung!$G$4:$G$1000,0),COLUMN()+1))","v":""}]
[{"$f":"IF(ISNA(INDEX(geb.Rechnung!$A$4:$G$1000,MATCH(ROW()-5,geb.Rechnung!$G$4:$G$1000,0),COLUMN()-1)),\"\",INDEX(geb.Rechnung!$A$4:$G$1000,MATCH(ROW()-5,geb.Rechnung!$G$4:$G$1000,0),COLUMN()-1))","v":""},{"$f":"IF(ISNA(INDEX(geb.Rechnung!$A$4:$G$1000,MATCH(ROW()-5,geb.Rechnung!$G$4:$G$1000,0),COLUMN()-2)),\"\",INDEX(geb.Rechnung!$A$4:$G$1000,MATCH(ROW()-5,geb.Rechnung!$G$4:$G$1000,0),COLUMN()-2))","v":""},{"$f":"IF(ISNA(INDEX(geb.Rechnung!$A$4:$G$1000,MATCH(ROW()-5,geb.Rechnung!$G$4:$G$1000,0),COLUMN()+1)),\"\",INDEX(geb.Rechnung!$A$4:$G$1000,MATCH(ROW()-5,geb.Rechnung!$G$4:$G$1000,0),COLUMN()+1))","v":""},{"$f":"IF(ISNA(INDEX(geb.Rechnung!$A$4:$G$1000,MATCH(ROW()-5,geb.Rechnung!$G$4:$G$1000,0),COLUMN()+1)),\"\",INDEX(geb.Rechnung!$A$4:$G$1000,MATCH(ROW()-5,geb.Rechnung!$G$4:$G$1000,0),COLUMN()+1))","v":""}]
[{"$f":"IF(ISNA(INDEX(geb.Rechnung!$A$4:$G$1000,MATCH(ROW()-5,geb.Rechnung!$G$4:$G$1000,0),COLUMN()-1)),\"\",INDEX(geb.Rechnung!$A$4:$G$1000,MATCH(ROW()-5,geb.Rechnung!$G$4:$G$1000,0),COLUMN()-1))","v":""},{"$f":"IF(ISNA(INDEX(geb.Rechnung!$A$4:$G$1000,MATCH(ROW()-5,geb.Rechnung!$G$4:$G$1000,0),COLUMN()-2)),\"\",INDEX(geb.Rechnung!$A$4:$G$1000,MATCH(ROW()-5,geb.Rechnung!$G$4:$G$1000,0),COLUMN()-2))","v":""},{"$f":"IF(ISNA(INDEX(geb.Rechnung!$A$4:$G$1000,MATCH(ROW()-5,geb.Rechnung!$G$4:$G$1000,0),COLUMN()+1)),\"\",INDEX(geb.Rechnung!$A$4:$G$1000,MATCH(ROW()-5,geb.Rechnung!$G$4:$G$1000,0),COLUMN()+1))","v":""},{"$f":"IF(ISNA(INDEX(geb.Rechnung!$A$4:$G$1000,MATCH(ROW()-5,geb.Rechnung!$G$4:$G$1000,0),COLUMN()+1)),\"\",INDEX(geb.Rechnung!$A$4:$G$1000,MATCH(ROW()-5,geb.Rechnung!$G$4:$G$1000,0),COLUMN()+1))","v":""}]
[{"$f":"IF(ISNA(INDEX(geb.Rechnung!$A$4:$G$1000,MATCH(ROW()-5,geb.Rechnung!$G$4:$G$1000,0),COLUMN()-1)),\"\",INDEX(geb.Rechnung!$A$4:$G$1000,MATCH(ROW()-5,geb.Rechnung!$G$4:$G$1000,0),COLUMN()-1))","v":""},{"$f":"IF(ISNA(INDEX(geb.Rechnung!$A$4:$G$1000,MATCH(ROW()-5,geb.Rechnung!$G$4:$G$1000,0),COLUMN()-2)),\"\",INDEX(geb.Rechnung!$A$4:$G$1000,MATCH(ROW()-5,geb.Rechnung!$G$4:$G$1000,0),COLUMN()-2))","v":""},{"$f":"IF(ISNA(INDEX(geb.Rechnung!$A$4:$G$1000,MATCH(ROW()-5,geb.Rechnung!$G$4:$G$1000,0),COLUMN()+1)),\"\",INDEX(geb.Rechnung!$A$4:$G$1000,MATCH(ROW()-5,geb.Rechnung!$G$4:$G$1000,0),COLUMN()+1))","v":""},{"$f":"IF(ISNA(INDEX(geb.Rechnung!$A$4:$G$1000,MATCH(ROW()-5,geb.Rechnung!$G$4:$G$1000,0),COLUMN()+1)),\"\",INDEX(geb.Rechnung!$A$4:$G$1000,MATCH(ROW()-5,geb.Rechnung!$G$4:$G$1000,0),COLUMN()+1))","v":""}]
[{"$f":"IF(ISNA(INDEX(geb.Rechnung!$A$4:$G$1000,MATCH(ROW()-5,geb.Rechnung!$G$4:$G$1000,0),COLUMN()-1)),\"\",INDEX(geb.Rechnung!$A$4:$G$1000,MATCH(ROW()-5,geb.Rechnung!$G$4:$G$1000,0),COLUMN()-1))","v":""},{"$f":"IF(ISNA(INDEX(geb.Rechnung!$A$4:$G$1000,MATCH(ROW()-5,geb.Rechnung!$G$4:$G$1000,0),COLUMN()-2)),\"\",INDEX(geb.Rechnung!$A$4:$G$1000,MATCH(ROW()-5,geb.Rechnung!$G$4:$G$1000,0),COLUMN()-2))","v":""},{"$f":"IF(ISNA(INDEX(geb.Rechnung!$A$4:$G$1000,MATCH(ROW()-5,geb.Rechnung!$G$4:$G$1000,0),COLUMN()+1)),\"\",INDEX(geb.Rechnung!$A$4:$G$1000,MATCH(ROW()-5,geb.Rechnung!$G$4:$G$1000,0),COLUMN()+1))","v":""},{"$f":"IF(ISNA(INDEX(geb.Rechnung!$A$4:$G$1000,MATCH(ROW()-5,geb.Rechnung!$G$4:$G$1000,0),COLUMN()+1)),\"\",INDEX(geb.Rechnung!$A$4:$G$1000,MATCH(ROW()-5,geb.Rechnung!$G$4:$G$1000,0),COLUMN()+1))","v":""}]
[{"$f":"IF(ISNA(INDEX(geb.Rechnung!$A$4:$G$1000,MATCH(ROW()-5,geb.Rechnung!$G$4:$G$1000,0),COLUMN()-1)),\"\",INDEX(geb.Rechnung!$A$4:$G$1000,MATCH(ROW()-5,geb.Rechnung!$G$4:$G$1000,0),COLUMN()-1))","v":""},{"$f":"IF(ISNA(INDEX(geb.Rechnung!$A$4:$G$1000,MATCH(ROW()-5,geb.Rechnung!$G$4:$G$1000,0),COLUMN()-2)),\"\",INDEX(geb.Rechnung!$A$4:$G$1000,MATCH(ROW()-5,geb.Rechnung!$G$4:$G$1000,0),COLUMN()-2))","v":""},{"$f":"IF(ISNA(INDEX(geb.Rechnung!$A$4:$G$1000,MATCH(ROW()-5,geb.Rechnung!$G$4:$G$1000,0),COLUMN()+1)),\"\",INDEX(geb.Rechnung!$A$4:$G$1000,MATCH(ROW()-5,geb.Rechnung!$G$4:$G$1000,0),COLUMN()+1))","v":""},{"$f":"IF(ISNA(INDEX(geb.Rechnung!$A$4:$G$1000,MATCH(ROW()-5,geb.Rechnung!$G$4:$G$1000,0),COLUMN()+1)),\"\",INDEX(geb.Rechnung!$A$4:$G$1000,MATCH(ROW()-5,geb.Rechnung!$G$4:$G$1000,0),COLUMN()+1))","v":""}]
[{"$f":"IF(ISNA(INDEX(geb.Rechnung!$A$4:$G$1000,MATCH(ROW()-5,geb.Rechnung!$G$4:$G$1000,0),COLUMN()-1)),\"\",INDEX(geb.Rechnung!$A$4:$G$1000,MATCH(ROW()-5,geb.Rechnung!$G$4:$G$1000,0),COLUMN()-1))","v":""},{"$f":"IF(ISNA(INDEX(geb.Rechnung!$A$4:$G$1000,MATCH(ROW()-5,geb.Rechnung!$G$4:$G$1000,0),COLUMN()-2)),\"\",INDEX(geb.Rechnung!$A$4:$G$1000,MATCH(ROW()-5,geb.Rechnung!$G$4:$G$1000,0),COLUMN()-2))","v":""},{"$f":"IF(ISNA(INDEX(geb.Rechnung!$A$4:$G$1000,MATCH(ROW()-5,geb.Rechnung!$G$4:$G$1000,0),COLUMN()+1)),\"\",INDEX(geb.Rechnung!$A$4:$G$1000,MATCH(ROW()-5,geb.Rechnung!$G$4:$G$1000,0),COLUMN()+1))","v":""},{"$f":"IF(ISNA(INDEX(geb.Rechnung!$A$4:$G$1000,MATCH(ROW()-5,geb.Rechnung!$G$4:$G$1000,0),COLUMN()+1)),\"\",INDEX(geb.Rechnung!$A$4:$G$1000,MATCH(ROW()-5,geb.Rechnung!$G$4:$G$1000,0),COLUMN()+1))","v":""}]
[{"$f":"IF(ISNA(INDEX(geb.Rechnung!$A$4:$G$1000,MATCH(ROW()-5,geb.Rechnung!$G$4:$G$1000,0),COLUMN()-1)),\"\",INDEX(geb.Rechnung!$A$4:$G$1000,MATCH(ROW()-5,geb.Rechnung!$G$4:$G$1000,0),COLUMN()-1))","v":""},{"$f":"IF(ISNA(INDEX(geb.Rechnung!$A$4:$G$1000,MATCH(ROW()-5,geb.Rechnung!$G$4:$G$1000,0),COLUMN()-2)),\"\",INDEX(geb.Rechnung!$A$4:$G$1000,MATCH(ROW()-5,geb.Rechnung!$G$4:$G$1000,0),COLUMN()-2))","v":""},{"$f":"IF(ISNA(INDEX(geb.Rechnung!$A$4:$G$1000,MATCH(ROW()-5,geb.Rechnung!$G$4:$G$1000,0),COLUMN()+1)),\"\",INDEX(geb.Rechnung!$A$4:$G$1000,MATCH(ROW()-5,geb.Rechnung!$G$4:$G$1000,0),COLUMN()+1))","v":""},{"$f":"IF(ISNA(INDEX(geb.Rechnung!$A$4:$G$1000,MATCH(ROW()-5,geb.Rechnung!$G$4:$G$1000,0),COLUMN()+1)),\"\",INDEX(geb.Rechnung!$A$4:$G$1000,MATCH(ROW()-5,geb.Rechnung!$G$4:$G$1000,0),COLUMN()+1))","v":""}]
[{"$f":"IF(ISNA(INDEX(geb.Rechnung!$A$4:$G$1000,MATCH(ROW()-5,geb.Rechnung!$G$4:$G$1000,0),COLUMN()-1)),\"\",INDEX(geb.Rechnung!$A$4:$G$1000,MATCH(ROW()-5,geb.Rechnung!$G$4:$G$1000,0),COLUMN()-1))","v":""},{"$f":"IF(ISNA(INDEX(geb.Rechnung!$A$4:$G$1000,MATCH(ROW()-5,geb.Rechnung!$G$4:$G$1000,0),COLUMN()-2)),\"\",INDEX(geb.Rechnung!$A$4:$G$1000,MATCH(ROW()-5,geb.Rechnung!$G$4:$G$1000,0),COLUMN()-2))","v":""},{"$f":"IF(ISNA(INDEX(geb.Rechnung!$A$4:$G$1000,MATCH(ROW()-5,geb.Rechnung!$G$4:$G$1000,0),COLUMN()+1)),\"\",INDEX(geb.Rechnung!$A$4:$G$1000,MATCH(ROW()-5,geb.Rechnung!$G$4:$G$1000,0),COLUMN()+1))","v":""},{"$f":"IF(ISNA(INDEX(geb.Rechnung!$A$4:$G$1000,MATCH(ROW()-5,geb.Rechnung!$G$4:$G$1000,0),COLUMN()+1)),\"\",INDEX(geb.Rechnung!$A$4:$G$1000,MATCH(ROW()-5,geb.Rechnung!$G$4:$G$1000,0),COLUMN()+1))","v":""}]
[{"$f":"IF(ISNA(INDEX(geb.Rechnung!$A$4:$G$1000,MATCH(ROW()-5,geb.Rechnung!$G$4:$G$1000,0),COLUMN()-1)),\"\",INDEX(geb.Rechnung!$A$4:$G$1000,MATCH(ROW()-5,geb.Rechnung!$G$4:$G$1000,0),COLUMN()-1))","v":""},{"$f":"IF(ISNA(INDEX(geb.Rechnung!$A$4:$G$1000,MATCH(ROW()-5,geb.Rechnung!$G$4:$G$1000,0),COLUMN()-2)),\"\",INDEX(geb.Rechnung!$A$4:$G$1000,MATCH(ROW()-5,geb.Rechnung!$G$4:$G$1000,0),COLUMN()-2))","v":""},{"$f":"IF(ISNA(INDEX(geb.Rechnung!$A$4:$G$1000,MATCH(ROW()-5,geb.Rechnung!$G$4:$G$1000,0),COLUMN()+1)),\"\",INDEX(geb.Rechnung!$A$4:$G$1000,MATCH(ROW()-5,geb.Rechnung!$G$4:$G$1000,0),COLUMN()+1))","v":""},{"$f":"IF(ISNA(INDEX(geb.Rechnung!$A$4:$G$1000,MATCH(ROW()-5,geb.Rechnung!$G$4:$G$1000,0),COLUMN()+1)),\"\",INDEX(geb.Rechnung!$A$4:$G$1000,MATCH(ROW()-5,geb.Rechnung!$G$4:$G$1000,0),COLUMN()+1))","v":""}]
[{"$f":"IF(ISNA(INDEX(geb.Rechnung!$A$4:$G$1000,MATCH(ROW()-5,geb.Rechnung!$G$4:$G$1000,0),COLUMN()-1)),\"\",INDEX(geb.Rechnung!$A$4:$G$1000,MATCH(ROW()-5,geb.Rechnung!$G$4:$G$1000,0),COLUMN()-1))","v":""},{"$f":"IF(ISNA(INDEX(geb.Rechnung!$A$4:$G$1000,MATCH(ROW()-5,geb.Rechnung!$G$4:$G$1000,0),COLUMN()-2)),\"\",INDEX(geb.Rechnung!$A$4:$G$1000,MATCH(ROW()-5,geb.Rechnung!$G$4:$G$1000,0),COLUMN()-2))","v":""},{"$f":"IF(ISNA(INDEX(geb.Rechnung!$A$4:$G$1000,MATCH(ROW()-5,geb.Rechnung!$G$4:$G$1000,0),COLUMN()+1)),\"\",INDEX(geb.Rechnung!$A$4:$G$1000,MATCH(ROW()-5,geb.Rechnung!$G$4:$G$1000,0),COLUMN()+1))","v":""},{"$f":"IF(ISNA(INDEX(geb.Rechnung!$A$4:$G$1000,MATCH(ROW()-5,geb.Rechnung!$G$4:$G$1000,0),COLUMN()+1)),\"\",INDEX(geb.Rechnung!$A$4:$G$1000,MATCH(ROW()-5,geb.Rechnung!$G$4:$G$1000,0),COLUMN()+1))","v":""}]
[{"$f":"IF(ISNA(INDEX(geb.Rechnung!$A$4:$G$1000,MATCH(ROW()-5,geb.Rechnung!$G$4:$G$1000,0),COLUMN()-1)),\"\",INDEX(geb.Rechnung!$A$4:$G$1000,MATCH(ROW()-5,geb.Rechnung!$G$4:$G$1000,0),COLUMN()-1))","v":""},{"$f":"IF(ISNA(INDEX(geb.Rechnung!$A$4:$G$1000,MATCH(ROW()-5,geb.Rechnung!$G$4:$G$1000,0),COLUMN()-2)),\"\",INDEX(geb.Rechnung!$A$4:$G$1000,MATCH(ROW()-5,geb.Rechnung!$G$4:$G$1000,0),COLUMN()-2))","v":""},{"$f":"IF(ISNA(INDEX(geb.Rechnung!$A$4:$G$1000,MATCH(ROW()-5,geb.Rechnung!$G$4:$G$1000,0),COLUMN()+1)),\"\",INDEX(geb.Rechnung!$A$4:$G$1000,MATCH(ROW()-5,geb.Rechnung!$G$4:$G$1000,0),COLUMN()+1))","v":""},{"$f":"IF(ISNA(INDEX(geb.Rechnung!$A$4:$G$1000,MATCH(ROW()-5,geb.Rechnung!$G$4:$G$1000,0),COLUMN()+1)),\"\",INDEX(geb.Rechnung!$A$4:$G$1000,MATCH(ROW()-5,geb.Rechnung!$G$4:$G$1000,0),COLUMN()+1))","v":""}]
[{"$f":"IF(ISNA(INDEX(geb.Rechnung!$A$4:$G$1000,MATCH(ROW()-5,geb.Rechnung!$G$4:$G$1000,0),COLUMN()-1)),\"\",INDEX(geb.Rechnung!$A$4:$G$1000,MATCH(ROW()-5,geb.Rechnung!$G$4:$G$1000,0),COLUMN()-1))","v":""},{"$f":"IF(ISNA(INDEX(geb.Rechnung!$A$4:$G$1000,MATCH(ROW()-5,geb.Rechnung!$G$4:$G$1000,0),COLUMN()-2)),\"\",INDEX(geb.Rechnung!$A$4:$G$1000,MATCH(ROW()-5,geb.Rechnung!$G$4:$G$1000,0),COLUMN()-2))","v":""},{"$f":"IF(ISNA(INDEX(geb.Rechnung!$A$4:$G$1000,MATCH(ROW()-5,geb.Rechnung!$G$4:$G$1000,0),COLUMN()+1)),\"\",INDEX(geb.Rechnung!$A$4:$G$1000,MATCH(ROW()-5,geb.Rechnung!$G$4:$G$1000,0),COLUMN()+1))","v":""},{"$f":"IF(ISNA(INDEX(geb.Rechnung!$A$4:$G$1000,MATCH(ROW()-5,geb.Rechnung!$G$4:$G$1000,0),COLUMN()+1)),\"\",INDEX(geb.Rechnung!$A$4:$G$1000,MATCH(ROW()-5,geb.Rechnung!$G$4:$G$1000,0),COLUMN()+1))","v":""}]
[{"$f":"IF(ISNA(INDEX(geb.Rechnung!$A$4:$G$1000,MATCH(ROW()-5,geb.Rechnung!$G$4:$G$1000,0),COLUMN()-1)),\"\",INDEX(geb.Rechnung!$A$4:$G$1000,MATCH(ROW()-5,geb.Rechnung!$G$4:$G$1000,0),COLUMN()-1))","v":""},{"$f":"IF(ISNA(INDEX(geb.Rechnung!$A$4:$G$1000,MATCH(ROW()-5,geb.Rechnung!$G$4:$G$1000,0),COLUMN()-2)),\"\",INDEX(geb.Rechnung!$A$4:$G$1000,MATCH(ROW()-5,geb.Rechnung!$G$4:$G$1000,0),COLUMN()-2))","v":""},{"$f":"IF(ISNA(INDEX(geb.Rechnung!$A$4:$G$1000,MATCH(ROW()-5,geb.Rechnung!$G$4:$G$1000,0),COLUMN()+1)),\"\",INDEX(geb.Rechnung!$A$4:$G$1000,MATCH(ROW()-5,geb.Rechnung!$G$4:$G$1000,0),COLUMN()+1))","v":""},{"$f":"IF(ISNA(INDEX(geb.Rechnung!$A$4:$G$1000,MATCH(ROW()-5,geb.Rechnung!$G$4:$G$1000,0),COLUMN()+1)),\"\",INDEX(geb.Rechnung!$A$4:$G$1000,MATCH(ROW()-5,geb.Rechnung!$G$4:$G$1000,0),COLUMN()+1))","v":""}]
[{"$f":"IF(ISNA(INDEX(geb.Rechnung!$A$4:$G$1000,MATCH(ROW()-5,geb.Rechnung!$G$4:$G$1000,0),COLUMN()-1)),\"\",INDEX(geb.Rechnung!$A$4:$G$1000,MATCH(ROW()-5,geb.Rechnung!$G$4:$G$1000,0),COLUMN()-1))","v":""},{"$f":"IF(ISNA(INDEX(geb.Rechnung!$A$4:$G$1000,MATCH(ROW()-5,geb.Rechnung!$G$4:$G$1000,0),COLUMN()-2)),\"\",INDEX(geb.Rechnung!$A$4:$G$1000,MATCH(ROW()-5,geb.Rechnung!$G$4:$G$1000,0),COLUMN()-2))","v":""},{"$f":"IF(ISNA(INDEX(geb.Rechnung!$A$4:$G$1000,MATCH(ROW()-5,geb.Rechnung!$G$4:$G$1000,0),COLUMN()+1)),\"\",INDEX(geb.Rechnung!$A$4:$G$1000,MATCH(ROW()-5,geb.Rechnung!$G$4:$G$1000,0),COLUMN()+1))","v":""},{"$f":"IF(ISNA(INDEX(geb.Rechnung!$A$4:$G$1000,MATCH(ROW()-5,geb.Rechnung!$G$4:$G$1000,0),COLUMN()+1)),\"\",INDEX(geb.Rechnung!$A$4:$G$1000,MATCH(ROW()-5,geb.Rechnung!$G$4:$G$1000,0),COLUMN()+1))","v":""}]
[{"$f":"IF(ISNA(INDEX(geb.Rechnung!$A$4:$G$1000,MATCH(ROW()-5,geb.Rechnung!$G$4:$G$1000,0),COLUMN()-1)),\"\",INDEX(geb.Rechnung!$A$4:$G$1000,MATCH(ROW()-5,geb.Rechnung!$G$4:$G$1000,0),COLUMN()-1))","v":""},{"$f":"IF(ISNA(INDEX(geb.Rechnung!$A$4:$G$1000,MATCH(ROW()-5,geb.Rechnung!$G$4:$G$1000,0),COLUMN()-2)),\"\",INDEX(geb.Rechnung!$A$4:$G$1000,MATCH(ROW()-5,geb.Rechnung!$G$4:$G$1000,0),COLUMN()-2))","v":""},{"$f":"IF(ISNA(INDEX(geb.Rechnung!$A$4:$G$1000,MATCH(ROW()-5,geb.Rechnung!$G$4:$G$1000,0),COLUMN()+1)),\"\",INDEX(geb.Rechnung!$A$4:$G$1000,MATCH(ROW()-5,geb.Rechnung!$G$4:$G$1000,0),COLUMN()+1))","v":""},{"$f":"IF(ISNA(INDEX(geb.Rechnung!$A$4:$G$1000,MATCH(ROW()-5,geb.Rechnung!$G$4:$G$1000,0),COLUMN()+1)),\"\",INDEX(geb.Rechnung!$A$4:$G$1000,MATCH(ROW()-5,geb.Rechnung!$G$4:$G$1000,0),COLUMN()+1))","v":""}]
[{"$f":"IF(ISNA(INDEX(geb.Rechnung!$A$4:$G$1000,MATCH(ROW()-5,geb.Rechnung!$G$4:$G$1000,0),COLUMN()-1)),\"\",INDEX(geb.Rechnung!$A$4:$G$1000,MATCH(ROW()-5,geb.Rechnung!$G$4:$G$1000,0),COLUMN()-1))","v":""},{"$f":"IF(ISNA(INDEX(geb.Rechnung!$A$4:$G$1000,MATCH(ROW()-5,geb.Rechnung!$G$4:$G$1000,0),COLUMN()-2)),\"\",INDEX(geb.Rechnung!$A$4:$G$1000,MATCH(ROW()-5,geb.Rechnung!$G$4:$G$1000,0),COLUMN()-2))","v":""},{"$f":"IF(ISNA(INDEX(geb.Rechnung!$A$4:$G$1000,MATCH(ROW()-5,geb.Rechnung!$G$4:$G$1000,0),COLUMN()+1)),\"\",INDEX(geb.Rechnung!$A$4:$G$1000,MATCH(ROW()-5,geb.Rechnung!$G$4:$G$1000,0),COLUMN()+1))","v":""},{"$f":"IF(ISNA(INDEX(geb.Rechnung!$A$4:$G$1000,MATCH(ROW()-5,geb.Rechnung!$G$4:$G$1000,0),COLUMN()+1)),\"\",INDEX(geb.Rechnung!$A$4:$G$1000,MATCH(ROW()-5,geb.Rechnung!$G$4:$G$1000,0),COLUMN()+1))","v":""}]
[{"$f":"IF(ISNA(INDEX(geb.Rechnung!$A$4:$G$1000,MATCH(ROW()-5,geb.Rechnung!$G$4:$G$1000,0),COLUMN()-1)),\"\",INDEX(geb.Rechnung!$A$4:$G$1000,MATCH(ROW()-5,geb.Rechnung!$G$4:$G$1000,0),COLUMN()-1))","v":""},{"$f":"IF(ISNA(INDEX(geb.Rechnung!$A$4:$G$1000,MATCH(ROW()-5,geb.Rechnung!$G$4:$G$1000,0),COLUMN()-2)),\"\",INDEX(geb.Rechnung!$A$4:$G$1000,MATCH(ROW()-5,geb.Rechnung!$G$4:$G$1000,0),COLUMN()-2))","v":""},{"$f":"IF(ISNA(INDEX(geb.Rechnung!$A$4:$G$1000,MATCH(ROW()-5,geb.Rechnung!$G$4:$G$1000,0),COLUMN()+1)),\"\",INDEX(geb.Rechnung!$A$4:$G$1000,MATCH(ROW()-5,geb.Rechnung!$G$4:$G$1000,0),COLUMN()+1))","v":""},{"$f":"IF(ISNA(INDEX(geb.Rechnung!$A$4:$G$1000,MATCH(ROW()-5,geb.Rechnung!$G$4:$G$1000,0),COLUMN()+1)),\"\",INDEX(geb.Rechnung!$A$4:$G$1000,MATCH(ROW()-5,geb.Rechnung!$G$4:$G$1000,0),COLUMN()+1))","v":""}]
[{"$f":"IF(ISNA(INDEX(geb.Rechnung!$A$4:$G$1000,MATCH(ROW()-5,geb.Rechnung!$G$4:$G$1000,0),COLUMN()-1)),\"\",INDEX(geb.Rechnung!$A$4:$G$1000,MATCH(ROW()-5,geb.Rechnung!$G$4:$G$1000,0),COLUMN()-1))","v":""},{"$f":"IF(ISNA(INDEX(geb.Rechnung!$A$4:$G$1000,MATCH(ROW()-5,geb.Rechnung!$G$4:$G$1000,0),COLUMN()-2)),\"\",INDEX(geb.Rechnung!$A$4:$G$1000,MATCH(ROW()-5,geb.Rechnung!$G$4:$G$1000,0),COLUMN()-2))","v":""},{"$f":"IF(ISNA(INDEX(geb.Rechnung!$A$4:$G$1000,MATCH(ROW()-5,geb.Rechnung!$G$4:$G$1000,0),COLUMN()+1)),\"\",INDEX(geb.Rechnung!$A$4:$G$1000,MATCH(ROW()-5,geb.Rechnung!$G$4:$G$1000,0),COLUMN()+1))","v":""},{"$f":"IF(ISNA(INDEX(geb.Rechnung!$A$4:$G$1000,MATCH(ROW()-5,geb.Rechnung!$G$4:$G$1000,0),COLUMN()+1)),\"\",INDEX(geb.Rechnung!$A$4:$G$1000,MATCH(ROW()-5,geb.Rechnung!$G$4:$G$1000,0),COLUMN()+1))","v":""}]
[{"$f":"IF(ISNA(INDEX(geb.Rechnung!$A$4:$G$1000,MATCH(ROW()-5,geb.Rechnung!$G$4:$G$1000,0),COLUMN()-1)),\"\",INDEX(geb.Rechnung!$A$4:$G$1000,MATCH(ROW()-5,geb.Rechnung!$G$4:$G$1000,0),COLUMN()-1))","v":""},{"$f":"IF(ISNA(INDEX(geb.Rechnung!$A$4:$G$1000,MATCH(ROW()-5,geb.Rechnung!$G$4:$G$1000,0),COLUMN()-2)),\"\",INDEX(geb.Rechnung!$A$4:$G$1000,MATCH(ROW()-5,geb.Rechnung!$G$4:$G$1000,0),COLUMN()-2))","v":""},{"$f":"IF(ISNA(INDEX(geb.Rechnung!$A$4:$G$1000,MATCH(ROW()-5,geb.Rechnung!$G$4:$G$1000,0),COLUMN()+1)),\"\",INDEX(geb.Rechnung!$A$4:$G$1000,MATCH(ROW()-5,geb.Rechnung!$G$4:$G$1000,0),COLUMN()+1))","v":""},{"$f":"IF(ISNA(INDEX(geb.Rechnung!$A$4:$G$1000,MATCH(ROW()-5,geb.Rechnung!$G$4:$G$1000,0),COLUMN()+1)),\"\",INDEX(geb.Rechnung!$A$4:$G$1000,MATCH(ROW()-5,geb.Rechnung!$G$4:$G$1000,0),COLUMN()+1))","v":""}]
[{"$f":"IF(ISNA(INDEX(geb.Rechnung!$A$4:$G$1000,MATCH(ROW()-5,geb.Rechnung!$G$4:$G$1000,0),COLUMN()-1)),\"\",INDEX(geb.Rechnung!$A$4:$G$1000,MATCH(ROW()-5,geb.Rechnung!$G$4:$G$1000,0),COLUMN()-1))","v":""},{"$f":"IF(ISNA(INDEX(geb.Rechnung!$A$4:$G$1000,MATCH(ROW()-5,geb.Rechnung!$G$4:$G$1000,0),COLUMN()-2)),\"\",INDEX(geb.Rechnung!$A$4:$G$1000,MATCH(ROW()-5,geb.Rechnung!$G$4:$G$1000,0),COLUMN()-2))","v":""},{"$f":"IF(ISNA(INDEX(geb.Rechnung!$A$4:$G$1000,MATCH(ROW()-5,geb.Rechnung!$G$4:$G$1000,0),COLUMN()+1)),\"\",INDEX(geb.Rechnung!$A$4:$G$1000,MATCH(ROW()-5,geb.Rechnung!$G$4:$G$1000,0),COLUMN()+1))","v":""},{"$f":"IF(ISNA(INDEX(geb.Rechnung!$A$4:$G$1000,MATCH(ROW()-5,geb.Rechnung!$G$4:$G$1000,0),COLUMN()+1)),\"\",INDEX(geb.Rechnung!$A$4:$G$1000,MATCH(ROW()-5,geb.Rechnung!$G$4:$G$1000,0),COLUMN()+1))","v":""}]
[{"$f":"IF(ISNA(INDEX(geb.Rechnung!$A$4:$G$1000,MATCH(ROW()-5,geb.Rechnung!$G$4:$G$1000,0),COLUMN()-1)),\"\",INDEX(geb.Rechnung!$A$4:$G$1000,MATCH(ROW()-5,geb.Rechnung!$G$4:$G$1000,0),COLUMN()-1))","v":""},{"$f":"IF(ISNA(INDEX(geb.Rechnung!$A$4:$G$1000,MATCH(ROW()-5,geb.Rechnung!$G$4:$G$1000,0),COLUMN()-2)),\"\",INDEX(geb.Rechnung!$A$4:$G$1000,MATCH(ROW()-5,geb.Rechnung!$G$4:$G$1000,0),COLUMN()-2))","v":""},{"$f":"IF(ISNA(INDEX(geb.Rechnung!$A$4:$G$1000,MATCH(ROW()-5,geb.Rechnung!$G$4:$G$1000,0),COLUMN()+1)),\"\",INDEX(geb.Rechnung!$A$4:$G$1000,MATCH(ROW()-5,geb.Rechnung!$G$4:$G$1000,0),COLUMN()+1))","v":""},{"$f":"IF(ISNA(INDEX(geb.Rechnung!$A$4:$G$1000,MATCH(ROW()-5,geb.Rechnung!$G$4:$G$1000,0),COLUMN()+1)),\"\",INDEX(geb.Rechnung!$A$4:$G$1000,MATCH(ROW()-5,geb.Rechnung!$G$4:$G$1000,0),COLUMN()+1))","v":""}]
[{"$f":"IF(ISNA(INDEX(geb.Rechnung!$A$4:$G$1000,MATCH(ROW()-5,geb.Rechnung!$G$4:$G$1000,0),COLUMN()-1)),\"\",INDEX(geb.Rechnung!$A$4:$G$1000,MATCH(ROW()-5,geb.Rechnung!$G$4:$G$1000,0),COLUMN()-1))","v":""},{"$f":"IF(ISNA(INDEX(geb.Rechnung!$A$4:$G$1000,MATCH(ROW()-5,geb.Rechnung!$G$4:$G$1000,0),COLUMN()-2)),\"\",INDEX(geb.Rechnung!$A$4:$G$1000,MATCH(ROW()-5,geb.Rechnung!$G$4:$G$1000,0),COLUMN()-2))","v":""},{"$f":"IF(ISNA(INDEX(geb.Rechnung!$A$4:$G$1000,MATCH(ROW()-5,geb.Rechnung!$G$4:$G$1000,0),COLUMN()+1)),\"\",INDEX(geb.Rechnung!$A$4:$G$1000,MATCH(ROW()-5,geb.Rechnung!$G$4:$G$1000,0),COLUMN()+1))","v":""},{"$f":"IF(ISNA(INDEX(geb.Rechnung!$A$4:$G$1000,MATCH(ROW()-5,geb.Rechnung!$G$4:$G$1000,0),COLUMN()+1)),\"\",INDEX(geb.Rechnung!$A$4:$G$1000,MATCH(ROW()-5,geb.Rechnung!$G$4:$G$1000,0),COLUMN()+1))","v":""}]
[{"$f":"IF(ISNA(INDEX(geb.Rechnung!$A$4:$G$1000,MATCH(ROW()-5,geb.Rechnung!$G$4:$G$1000,0),COLUMN()-1)),\"\",INDEX(geb.Rechnung!$A$4:$G$1000,MATCH(ROW()-5,geb.Rechnung!$G$4:$G$1000,0),COLUMN()-1))","v":""},{"$f":"IF(ISNA(INDEX(geb.Rechnung!$A$4:$G$1000,MATCH(ROW()-5,geb.Rechnung!$G$4:$G$1000,0),COLUMN()-2)),\"\",INDEX(geb.Rechnung!$A$4:$G$1000,MATCH(ROW()-5,geb.Rechnung!$G$4:$G$1000,0),COLUMN()-2))","v":""},{"$f":"IF(ISNA(INDEX(geb.Rechnung!$A$4:$G$1000,MATCH(ROW()-5,geb.Rechnung!$G$4:$G$1000,0),COLUMN()+1)),\"\",INDEX(geb.Rechnung!$A$4:$G$1000,MATCH(ROW()-5,geb.Rechnung!$G$4:$G$1000,0),COLUMN()+1))","v":""},{"$f":"IF(ISNA(INDEX(geb.Rechnung!$A$4:$G$1000,MATCH(ROW()-5,geb.Rechnung!$G$4:$G$1000,0),COLUMN()+1)),\"\",INDEX(geb.Rechnung!$A$4:$G$1000,MATCH(ROW()-5,geb.Rechnung!$G$4:$G$1000,0),COLUMN()+1))","v":""}]
[{"$f":"IF(ISNA(INDEX(geb.Rechnung!$A$4:$G$1000,MATCH(ROW()-5,geb.Rechnung!$G$4:$G$1000,0),COLUMN()-1)),\"\",INDEX(geb.Rechnung!$A$4:$G$1000,MATCH(ROW()-5,geb.Rechnung!$G$4:$G$1000,0),COLUMN()-1))","v":""},{"$f":"IF(ISNA(INDEX(geb.Rechnung!$A$4:$G$1000,MATCH(ROW()-5,geb.Rechnung!$G$4:$G$1000,0),COLUMN()-2)),\"\",INDEX(geb.Rechnung!$A$4:$G$1000,MATCH(ROW()-5,geb.Rechnung!$G$4:$G$1000,0),COLUMN()-2))","v":""},{"$f":"IF(ISNA(INDEX(geb.Rechnung!$A$4:$G$1000,MATCH(ROW()-5,geb.Rechnung!$G$4:$G$1000,0),COLUMN()+1)),\"\",INDEX(geb.Rechnung!$A$4:$G$1000,MATCH(ROW()-5,geb.Rechnung!$G$4:$G$1000,0),COLUMN()+1))","v":""},{"$f":"IF(ISNA(INDEX(geb.Rechnung!$A$4:$G$1000,MATCH(ROW()-5,geb.Rechnung!$G$4:$G$1000,0),COLUMN()+1)),\"\",INDEX(geb.Rechnung!$A$4:$G$1000,MATCH(ROW()-5,geb.Rechnung!$G$4:$G$1000,0),COLUMN()+1))","v":""}]
[{"$f":"IF(ISNA(INDEX(geb.Rechnung!$A$4:$G$1000,MATCH(ROW()-5,geb.Rechnung!$G$4:$G$1000,0),COLUMN()-1)),\"\",INDEX(geb.Rechnung!$A$4:$G$1000,MATCH(ROW()-5,geb.Rechnung!$G$4:$G$1000,0),COLUMN()-1))","v":""},{"$f":"IF(ISNA(INDEX(geb.Rechnung!$A$4:$G$1000,MATCH(ROW()-5,geb.Rechnung!$G$4:$G$1000,0),COLUMN()-2)),\"\",INDEX(geb.Rechnung!$A$4:$G$1000,MATCH(ROW()-5,geb.Rechnung!$G$4:$G$1000,0),COLUMN()-2))","v":""},{"$f":"IF(ISNA(INDEX(geb.Rechnung!$A$4:$G$1000,MATCH(ROW()-5,geb.Rechnung!$G$4:$G$1000,0),COLUMN()+1)),\"\",INDEX(geb.Rechnung!$A$4:$G$1000,MATCH(ROW()-5,geb.Rechnung!$G$4:$G$1000,0),COLUMN()+1))","v":""},{"$f":"IF(ISNA(INDEX(geb.Rechnung!$A$4:$G$1000,MATCH(ROW()-5,geb.Rechnung!$G$4:$G$1000,0),COLUMN()+1)),\"\",INDEX(geb.Rechnung!$A$4:$G$1000,MATCH(ROW()-5,geb.Rechnung!$G$4:$G$1000,0),COLUMN()+1))","v":""}]
[{"$f":"IF(ISNA(INDEX(geb.Rechnung!$A$4:$G$1000,MATCH(ROW()-5,geb.Rechnung!$G$4:$G$1000,0),COLUMN()-1)),\"\",INDEX(geb.Rechnung!$A$4:$G$1000,MATCH(ROW()-5,geb.Rechnung!$G$4:$G$1000,0),COLUMN()-1))","v":""},{"$f":"IF(ISNA(INDEX(geb.Rechnung!$A$4:$G$1000,MATCH(ROW()-5,geb.Rechnung!$G$4:$G$1000,0),COLUMN()-2)),\"\",INDEX(geb.Rechnung!$A$4:$G$1000,MATCH(ROW()-5,geb.Rechnung!$G$4:$G$1000,0),COLUMN()-2))","v":""},{"$f":"IF(ISNA(INDEX(geb.Rechnung!$A$4:$G$1000,MATCH(ROW()-5,geb.Rechnung!$G$4:$G$1000,0),COLUMN()+1)),\"\",INDEX(geb.Rechnung!$A$4:$G$1000,MATCH(ROW()-5,geb.Rechnung!$G$4:$G$1000,0),COLUMN()+1))","v":""},{"$f":"IF(ISNA(INDEX(geb.Rechnung!$A$4:$G$1000,MATCH(ROW()-5,geb.Rechnung!$G$4:$G$1000,0),COLUMN()+1)),\"\",INDEX(geb.Rechnung!$A$4:$G$1000,MATCH(ROW()-5,geb.Rechnung!$G$4:$G$1000,0),COLUMN()+1))","v":""}]
[{"$f":"IF(ISNA(INDEX(geb.Rechnung!$A$4:$G$1000,MATCH(ROW()-5,geb.Rechnung!$G$4:$G$1000,0),COLUMN()-1)),\"\",INDEX(geb.Rechnung!$A$4:$G$1000,MATCH(ROW()-5,geb.Rechnung!$G$4:$G$1000,0),COLUMN()-1))","v":""},{"$f":"IF(ISNA(INDEX(geb.Rechnung!$A$4:$G$1000,MATCH(ROW()-5,geb.Rechnung!$G$4:$G$1000,0),COLUMN()-2)),\"\",INDEX(geb.Rechnung!$A$4:$G$1000,MATCH(ROW()-5,geb.Rechnung!$G$4:$G$1000,0),COLUMN()-2))","v":""},{"$f":"IF(ISNA(INDEX(geb.Rechnung!$A$4:$G$1000,MATCH(ROW()-5,geb.Rechnung!$G$4:$G$1000,0),COLUMN()+1)),\"\",INDEX(geb.Rechnung!$A$4:$G$1000,MATCH(ROW()-5,geb.Rechnung!$G$4:$G$1000,0),COLUMN()+1))","v":""},{"$f":"IF(ISNA(INDEX(geb.Rechnung!$A$4:$G$1000,MATCH(ROW()-5,geb.Rechnung!$G$4:$G$1000,0),COLUMN()+1)),\"\",INDEX(geb.Rechnung!$A$4:$G$1000,MATCH(ROW()-5,geb.Rechnung!$G$4:$G$1000,0),COLUMN()+1))","v":""}]
[{"$f":"IF(ISNA(INDEX(geb.Rechnung!$A$4:$G$1000,MATCH(ROW()-5,geb.Rechnung!$G$4:$G$1000,0),COLUMN()-1)),\"\",INDEX(geb.Rechnung!$A$4:$G$1000,MATCH(ROW()-5,geb.Rechnung!$G$4:$G$1000,0),COLUMN()-1))","v":""},{"$f":"IF(ISNA(INDEX(geb.Rechnung!$A$4:$G$1000,MATCH(ROW()-5,geb.Rechnung!$G$4:$G$1000,0),COLUMN()-2)),\"\",INDEX(geb.Rechnung!$A$4:$G$1000,MATCH(ROW()-5,geb.Rechnung!$G$4:$G$1000,0),COLUMN()-2))","v":""},{"$f":"IF(ISNA(INDEX(geb.Rechnung!$A$4:$G$1000,MATCH(ROW()-5,geb.Rechnung!$G$4:$G$1000,0),COLUMN()+1)),\"\",INDEX(geb.Rechnung!$A$4:$G$1000,MATCH(ROW()-5,geb.Rechnung!$G$4:$G$1000,0),COLUMN()+1))","v":""},{"$f":"IF(ISNA(INDEX(geb.Rechnung!$A$4:$G$1000,MATCH(ROW()-5,geb.Rechnung!$G$4:$G$1000,0),COLUMN()+1)),\"\",INDEX(geb.Rechnung!$A$4:$G$1000,MATCH(ROW()-5,geb.Rechnung!$G$4:$G$1000,0),COLUMN()+1))","v":""}]
[{"$f":"IF(ISNA(INDEX(geb.Rechnung!$A$4:$G$1000,MATCH(ROW()-5,geb.Rechnung!$G$4:$G$1000,0),COLUMN()-1)),\"\",INDEX(geb.Rechnung!$A$4:$G$1000,MATCH(ROW()-5,geb.Rechnung!$G$4:$G$1000,0),COLUMN()-1))","v":""},{"$f":"IF(ISNA(INDEX(geb.Rechnung!$A$4:$G$1000,MATCH(ROW()-5,geb.Rechnung!$G$4:$G$1000,0),COLUMN()-2)),\"\",INDEX(geb.Rechnung!$A$4:$G$1000,MATCH(ROW()-5,geb.Rechnung!$G$4:$G$1000,0),COLUMN()-2))","v":""},{"$f":"IF(ISNA(INDEX(geb.Rechnung!$A$4:$G$1000,MATCH(ROW()-5,geb.Rechnung!$G$4:$G$1000,0),COLUMN()+1)),\"\",INDEX(geb.Rechnung!$A$4:$G$1000,MATCH(ROW()-5,geb.Rechnung!$G$4:$G$1000,0),COLUMN()+1))","v":""},{"$f":"IF(ISNA(INDEX(geb.Rechnung!$A$4:$G$1000,MATCH(ROW()-5,geb.Rechnung!$G$4:$G$1000,0),COLUMN()+1)),\"\",INDEX(geb.Rechnung!$A$4:$G$1000,MATCH(ROW()-5,geb.Rechnung!$G$4:$G$1000,0),COLUMN()+1))","v":""}]
[{"$f":"IF(ISNA(INDEX(geb.Rechnung!$A$4:$G$1000,MATCH(ROW()-5,geb.Rechnung!$G$4:$G$1000,0),COLUMN()-1)),\"\",INDEX(geb.Rechnung!$A$4:$G$1000,MATCH(ROW()-5,geb.Rechnung!$G$4:$G$1000,0),COLUMN()-1))","v":""},{"$f":"IF(ISNA(INDEX(geb.Rechnung!$A$4:$G$1000,MATCH(ROW()-5,geb.Rechnung!$G$4:$G$1000,0),COLUMN()-2)),\"\",INDEX(geb.Rechnung!$A$4:$G$1000,MATCH(ROW()-5,geb.Rechnung!$G$4:$G$1000,0),COLUMN()-2))","v":""},{"$f":"IF(ISNA(INDEX(geb.Rechnung!$A$4:$G$1000,MATCH(ROW()-5,geb.Rechnung!$G$4:$G$1000,0),COLUMN()+1)),\"\",INDEX(geb.Rechnung!$A$4:$G$1000,MATCH(ROW()-5,geb.Rechnung!$G$4:$G$1000,0),COLUMN()+1))","v":""},{"$f":"IF(ISNA(INDEX(geb.Rechnung!$A$4:$G$1000,MATCH(ROW()-5,geb.Rechnung!$G$4:$G$1000,0),COLUMN()+1)),\"\",INDEX(geb.Rechnung!$A$4:$G$1000,MATCH(ROW()-5,geb.Rechnung!$G$4:$G$1000,0),COLUMN()+1))","v":""}]
[{"$f":"IF(ISNA(INDEX(geb.Rechnung!$A$4:$G$1000,MATCH(ROW()-5,geb.Rechnung!$G$4:$G$1000,0),COLUMN()-1)),\"\",INDEX(geb.Rechnung!$A$4:$G$1000,MATCH(ROW()-5,geb.Rechnung!$G$4:$G$1000,0),COLUMN()-1))","v":""},{"$f":"IF(ISNA(INDEX(geb.Rechnung!$A$4:$G$1000,MATCH(ROW()-5,geb.Rechnung!$G$4:$G$1000,0),COLUMN()-2)),\"\",INDEX(geb.Rechnung!$A$4:$G$1000,MATCH(ROW()-5,geb.Rechnung!$G$4:$G$1000,0),COLUMN()-2))","v":""},{"$f":"IF(ISNA(INDEX(geb.Rechnung!$A$4:$G$1000,MATCH(ROW()-5,geb.Rechnung!$G$4:$G$1000,0),COLUMN()+1)),\"\",INDEX(geb.Rechnung!$A$4:$G$1000,MATCH(ROW()-5,geb.Rechnung!$G$4:$G$1000,0),COLUMN()+1))","v":""},{"$f":"IF(ISNA(INDEX(geb.Rechnung!$A$4:$G$1000,MATCH(ROW()-5,geb.Rechnung!$G$4:$G$1000,0),COLUMN()+1)),\"\",INDEX(geb.Rechnung!$A$4:$G$1000,MATCH(ROW()-5,geb.Rechnung!$G$4:$G$1000,0),COLUMN()+1))","v":""}]
[{"$f":"IF(ISNA(INDEX(geb.Rechnung!$A$4:$G$1000,MATCH(ROW()-5,geb.Rechnung!$G$4:$G$1000,0),COLUMN()-1)),\"\",INDEX(geb.Rechnung!$A$4:$G$1000,MATCH(ROW()-5,geb.Rechnung!$G$4:$G$1000,0),COLUMN()-1))","v":""},{"$f":"IF(ISNA(INDEX(geb.Rechnung!$A$4:$G$1000,MATCH(ROW()-5,geb.Rechnung!$G$4:$G$1000,0),COLUMN()-2)),\"\",INDEX(geb.Rechnung!$A$4:$G$1000,MATCH(ROW()-5,geb.Rechnung!$G$4:$G$1000,0),COLUMN()-2))","v":""},{"$f":"IF(ISNA(INDEX(geb.Rechnung!$A$4:$G$1000,MATCH(ROW()-5,geb.Rechnung!$G$4:$G$1000,0),COLUMN()+1)),\"\",INDEX(geb.Rechnung!$A$4:$G$1000,MATCH(ROW()-5,geb.Rechnung!$G$4:$G$1000,0),COLUMN()+1))","v":""},{"$f":"IF(ISNA(INDEX(geb.Rechnung!$A$4:$G$1000,MATCH(ROW()-5,geb.Rechnung!$G$4:$G$1000,0),COLUMN()+1)),\"\",INDEX(geb.Rechnung!$A$4:$G$1000,MATCH(ROW()-5,geb.Rechnung!$G$4:$G$1000,0),COLUMN()+1))","v":""}]
[{"$f":"IF(ISNA(INDEX(geb.Rechnung!$A$4:$G$1000,MATCH(ROW()-5,geb.Rechnung!$G$4:$G$1000,0),COLUMN()-1)),\"\",INDEX(geb.Rechnung!$A$4:$G$1000,MATCH(ROW()-5,geb.Rechnung!$G$4:$G$1000,0),COLUMN()-1))","v":""},{"$f":"IF(ISNA(INDEX(geb.Rechnung!$A$4:$G$1000,MATCH(ROW()-5,geb.Rechnung!$G$4:$G$1000,0),COLUMN()-2)),\"\",INDEX(geb.Rechnung!$A$4:$G$1000,MATCH(ROW()-5,geb.Rechnung!$G$4:$G$1000,0),COLUMN()-2))","v":""},{"$f":"IF(ISNA(INDEX(geb.Rechnung!$A$4:$G$1000,MATCH(ROW()-5,geb.Rechnung!$G$4:$G$1000,0),COLUMN()+1)),\"\",INDEX(geb.Rechnung!$A$4:$G$1000,MATCH(ROW()-5,geb.Rechnung!$G$4:$G$1000,0),COLUMN()+1))","v":""},{"$f":"IF(ISNA(INDEX(geb.Rechnung!$A$4:$G$1000,MATCH(ROW()-5,geb.Rechnung!$G$4:$G$1000,0),COLUMN()+1)),\"\",INDEX(geb.Rechnung!$A$4:$G$1000,MATCH(ROW()-5,geb.Rechnung!$G$4:$G$1000,0),COLUMN()+1))","v":""}]
[{"$f":"IF(ISNA(INDEX(geb.Rechnung!$A$4:$G$1000,MATCH(ROW()-5,geb.Rechnung!$G$4:$G$1000,0),COLUMN()-1)),\"\",INDEX(geb.Rechnung!$A$4:$G$1000,MATCH(ROW()-5,geb.Rechnung!$G$4:$G$1000,0),COLUMN()-1))","v":""},{"$f":"IF(ISNA(INDEX(geb.Rechnung!$A$4:$G$1000,MATCH(ROW()-5,geb.Rechnung!$G$4:$G$1000,0),COLUMN()-2)),\"\",INDEX(geb.Rechnung!$A$4:$G$1000,MATCH(ROW()-5,geb.Rechnung!$G$4:$G$1000,0),COLUMN()-2))","v":""},{"$f":"IF(ISNA(INDEX(geb.Rechnung!$A$4:$G$1000,MATCH(ROW()-5,geb.Rechnung!$G$4:$G$1000,0),COLUMN()+1)),\"\",INDEX(geb.Rechnung!$A$4:$G$1000,MATCH(ROW()-5,geb.Rechnung!$G$4:$G$1000,0),COLUMN()+1))","v":""},{"$f":"IF(ISNA(INDEX(geb.Rechnung!$A$4:$G$1000,MATCH(ROW()-5,geb.Rechnung!$G$4:$G$1000,0),COLUMN()+1)),\"\",INDEX(geb.Rechnung!$A$4:$G$1000,MATCH(ROW()-5,geb.Rechnung!$G$4:$G$1000,0),COLUMN()+1))","v":""}]
[{"$f":"IF(ISNA(INDEX(geb.Rechnung!$A$4:$G$1000,MATCH(ROW()-5,geb.Rechnung!$G$4:$G$1000,0),COLUMN()-1)),\"\",INDEX(geb.Rechnung!$A$4:$G$1000,MATCH(ROW()-5,geb.Rechnung!$G$4:$G$1000,0),COLUMN()-1))","v":""},{"$f":"IF(ISNA(INDEX(geb.Rechnung!$A$4:$G$1000,MATCH(ROW()-5,geb.Rechnung!$G$4:$G$1000,0),COLUMN()-2)),\"\",INDEX(geb.Rechnung!$A$4:$G$1000,MATCH(ROW()-5,geb.Rechnung!$G$4:$G$1000,0),COLUMN()-2))","v":""},{"$f":"IF(ISNA(INDEX(geb.Rechnung!$A$4:$G$1000,MATCH(ROW()-5,geb.Rechnung!$G$4:$G$1000,0),COLUMN()+1)),\"\",INDEX(geb.Rechnung!$A$4:$G$1000,MATCH(ROW()-5,geb.Rechnung!$G$4:$G$1000,0),COLUMN()+1))","v":""},{"$f":"IF(ISNA(INDEX(geb.Rechnung!$A$4:$G$1000,MATCH(ROW()-5,geb.Rechnung!$G$4:$G$1000,0),COLUMN()+1)),\"\",INDEX(geb.Rechnung!$A$4:$G$1000,MATCH(ROW()-5,geb.Rechnung!$G$4:$G$1000,0),COLUMN()+1))","v":""}]
[{"$f":"IF(ISNA(INDEX(geb.Rechnung!$A$4:$G$1000,MATCH(ROW()-5,geb.Rechnung!$G$4:$G$1000,0),COLUMN()-1)),\"\",INDEX(geb.Rechnung!$A$4:$G$1000,MATCH(ROW()-5,geb.Rechnung!$G$4:$G$1000,0),COLUMN()-1))","v":""},{"$f":"IF(ISNA(INDEX(geb.Rechnung!$A$4:$G$1000,MATCH(ROW()-5,geb.Rechnung!$G$4:$G$1000,0),COLUMN()-2)),\"\",INDEX(geb.Rechnung!$A$4:$G$1000,MATCH(ROW()-5,geb.Rechnung!$G$4:$G$1000,0),COLUMN()-2))","v":""},{"$f":"IF(ISNA(INDEX(geb.Rechnung!$A$4:$G$1000,MATCH(ROW()-5,geb.Rechnung!$G$4:$G$1000,0),COLUMN()+1)),\"\",INDEX(geb.Rechnung!$A$4:$G$1000,MATCH(ROW()-5,geb.Rechnung!$G$4:$G$1000,0),COLUMN()+1))","v":""},{"$f":"IF(ISNA(INDEX(geb.Rechnung!$A$4:$G$1000,MATCH(ROW()-5,geb.Rechnung!$G$4:$G$1000,0),COLUMN()+1)),\"\",INDEX(geb.Rechnung!$A$4:$G$1000,MATCH(ROW()-5,geb.Rechnung!$G$4:$G$1000,0),COLUMN()+1))","v":""}]
[{"$f":"IF(ISNA(INDEX(geb.Rechnung!$A$4:$G$1000,MATCH(ROW()-5,geb.Rechnung!$G$4:$G$1000,0),COLUMN()-1)),\"\",INDEX(geb.Rechnung!$A$4:$G$1000,MATCH(ROW()-5,geb.Rechnung!$G$4:$G$1000,0),COLUMN()-1))","v":""},{"$f":"IF(ISNA(INDEX(geb.Rechnung!$A$4:$G$1000,MATCH(ROW()-5,geb.Rechnung!$G$4:$G$1000,0),COLUMN()-2)),\"\",INDEX(geb.Rechnung!$A$4:$G$1000,MATCH(ROW()-5,geb.Rechnung!$G$4:$G$1000,0),COLUMN()-2))","v":""},{"$f":"IF(ISNA(INDEX(geb.Rechnung!$A$4:$G$1000,MATCH(ROW()-5,geb.Rechnung!$G$4:$G$1000,0),COLUMN()+1)),\"\",INDEX(geb.Rechnung!$A$4:$G$1000,MATCH(ROW()-5,geb.Rechnung!$G$4:$G$1000,0),COLUMN()+1))","v":""},{"$f":"IF(ISNA(INDEX(geb.Rechnung!$A$4:$G$1000,MATCH(ROW()-5,geb.Rechnung!$G$4:$G$1000,0),COLUMN()+1)),\"\",INDEX(geb.Rechnung!$A$4:$G$1000,MATCH(ROW()-5,geb.Rechnung!$G$4:$G$1000,0),COLUMN()+1))","v":""}]
[{"$f":"IF(ISNA(INDEX(geb.Rechnung!$A$4:$G$1000,MATCH(ROW()-5,geb.Rechnung!$G$4:$G$1000,0),COLUMN()-1)),\"\",INDEX(geb.Rechnung!$A$4:$G$1000,MATCH(ROW()-5,geb.Rechnung!$G$4:$G$1000,0),COLUMN()-1))","v":""},{"$f":"IF(ISNA(INDEX(geb.Rechnung!$A$4:$G$1000,MATCH(ROW()-5,geb.Rechnung!$G$4:$G$1000,0),COLUMN()-2)),\"\",INDEX(geb.Rechnung!$A$4:$G$1000,MATCH(ROW()-5,geb.Rechnung!$G$4:$G$1000,0),COLUMN()-2))","v":""},{"$f":"IF(ISNA(INDEX(geb.Rechnung!$A$4:$G$1000,MATCH(ROW()-5,geb.Rechnung!$G$4:$G$1000,0),COLUMN()+1)),\"\",INDEX(geb.Rechnung!$A$4:$G$1000,MATCH(ROW()-5,geb.Rechnung!$G$4:$G$1000,0),COLUMN()+1))","v":""},{"$f":"IF(ISNA(INDEX(geb.Rechnung!$A$4:$G$1000,MATCH(ROW()-5,geb.Rechnung!$G$4:$G$1000,0),COLUMN()+1)),\"\",INDEX(geb.Rechnung!$A$4:$G$1000,MATCH(ROW()-5,geb.Rechnung!$G$4:$G$1000,0),COLUMN()+1))","v":""}]
[{"$f":"IF(ISNA(INDEX(geb.Rechnung!$A$4:$G$1000,MATCH(ROW()-5,geb.Rechnung!$G$4:$G$1000,0),COLUMN()-1)),\"\",INDEX(geb.Rechnung!$A$4:$G$1000,MATCH(ROW()-5,geb.Rechnung!$G$4:$G$1000,0),COLUMN()-1))","v":""},{"$f":"IF(ISNA(INDEX(geb.Rechnung!$A$4:$G$1000,MATCH(ROW()-5,geb.Rechnung!$G$4:$G$1000,0),COLUMN()-2)),\"\",INDEX(geb.Rechnung!$A$4:$G$1000,MATCH(ROW()-5,geb.Rechnung!$G$4:$G$1000,0),COLUMN()-2))","v":""},{"$f":"IF(ISNA(INDEX(geb.Rechnung!$A$4:$G$1000,MATCH(ROW()-5,geb.Rechnung!$G$4:$G$1000,0),COLUMN()+1)),\"\",INDEX(geb.Rechnung!$A$4:$G$1000,MATCH(ROW()-5,geb.Rechnung!$G$4:$G$1000,0),COLUMN()+1))","v":""},{"$f":"IF(ISNA(INDEX(geb.Rechnung!$A$4:$G$1000,MATCH(ROW()-5,geb.Rechnung!$G$4:$G$1000,0),COLUMN()+1)),\"\",INDEX(geb.Rechnung!$A$4:$G$1000,MATCH(ROW()-5,geb.Rechnung!$G$4:$G$1000,0),COLUMN()+1))","v":""}]
[{"$f":"IF(ISNA(INDEX(geb.Rechnung!$A$4:$G$1000,MATCH(ROW()-5,geb.Rechnung!$G$4:$G$1000,0),COLUMN()-1)),\"\",INDEX(geb.Rechnung!$A$4:$G$1000,MATCH(ROW()-5,geb.Rechnung!$G$4:$G$1000,0),COLUMN()-1))","v":""},{"$f":"IF(ISNA(INDEX(geb.Rechnung!$A$4:$G$1000,MATCH(ROW()-5,geb.Rechnung!$G$4:$G$1000,0),COLUMN()-2)),\"\",INDEX(geb.Rechnung!$A$4:$G$1000,MATCH(ROW()-5,geb.Rechnung!$G$4:$G$1000,0),COLUMN()-2))","v":""},{"$f":"IF(ISNA(INDEX(geb.Rechnung!$A$4:$G$1000,MATCH(ROW()-5,geb.Rechnung!$G$4:$G$1000,0),COLUMN()+1)),\"\",INDEX(geb.Rechnung!$A$4:$G$1000,MATCH(ROW()-5,geb.Rechnung!$G$4:$G$1000,0),COLUMN()+1))","v":""},{"$f":"IF(ISNA(INDEX(geb.Rechnung!$A$4:$G$1000,MATCH(ROW()-5,geb.Rechnung!$G$4:$G$1000,0),COLUMN()+1)),\"\",INDEX(geb.Rechnung!$A$4:$G$1000,MATCH(ROW()-5,geb.Rechnung!$G$4:$G$1000,0),COLUMN()+1))","v":""}]
[{"$f":"IF(ISNA(INDEX(geb.Rechnung!$A$4:$G$1000,MATCH(ROW()-5,geb.Rechnung!$G$4:$G$1000,0),COLUMN()-1)),\"\",INDEX(geb.Rechnung!$A$4:$G$1000,MATCH(ROW()-5,geb.Rechnung!$G$4:$G$1000,0),COLUMN()-1))","v":""},{"$f":"IF(ISNA(INDEX(geb.Rechnung!$A$4:$G$1000,MATCH(ROW()-5,geb.Rechnung!$G$4:$G$1000,0),COLUMN()-2)),\"\",INDEX(geb.Rechnung!$A$4:$G$1000,MATCH(ROW()-5,geb.Rechnung!$G$4:$G$1000,0),COLUMN()-2))","v":""},{"$f":"IF(ISNA(INDEX(geb.Rechnung!$A$4:$G$1000,MATCH(ROW()-5,geb.Rechnung!$G$4:$G$1000,0),COLUMN()+1)),\"\",INDEX(geb.Rechnung!$A$4:$G$1000,MATCH(ROW()-5,geb.Rechnung!$G$4:$G$1000,0),COLUMN()+1))","v":""},{"$f":"IF(ISNA(INDEX(geb.Rechnung!$A$4:$G$1000,MATCH(ROW()-5,geb.Rechnung!$G$4:$G$1000,0),COLUMN()+1)),\"\",INDEX(geb.Rechnung!$A$4:$G$1000,MATCH(ROW()-5,geb.Rechnung!$G$4:$G$1000,0),COLUMN()+1))","v":""}]
[{"$f":"IF(ISNA(INDEX(geb.Rechnung!$A$4:$G$1000,MATCH(ROW()-5,geb.Rechnung!$G$4:$G$1000,0),COLUMN()-1)),\"\",INDEX(geb.Rechnung!$A$4:$G$1000,MATCH(ROW()-5,geb.Rechnung!$G$4:$G$1000,0),COLUMN()-1))","v":""},{"$f":"IF(ISNA(INDEX(geb.Rechnung!$A$4:$G$1000,MATCH(ROW()-5,geb.Rechnung!$G$4:$G$1000,0),COLUMN()-2)),\"\",INDEX(geb.Rechnung!$A$4:$G$1000,MATCH(ROW()-5,geb.Rechnung!$G$4:$G$1000,0),COLUMN()-2))","v":""},{"$f":"IF(ISNA(INDEX(geb.Rechnung!$A$4:$G$1000,MATCH(ROW()-5,geb.Rechnung!$G$4:$G$1000,0),COLUMN()+1)),\"\",INDEX(geb.Rechnung!$A$4:$G$1000,MATCH(ROW()-5,geb.Rechnung!$G$4:$G$1000,0),COLUMN()+1))","v":""},{"$f":"IF(ISNA(INDEX(geb.Rechnung!$A$4:$G$1000,MATCH(ROW()-5,geb.Rechnung!$G$4:$G$1000,0),COLUMN()+1)),\"\",INDEX(geb.Rechnung!$A$4:$G$1000,MATCH(ROW()-5,geb.Rechnung!$G$4:$G$1000,0),COLUMN()+1))","v":""}]
[{"$f":"IF(ISNA(INDEX(geb.Rechnung!$A$4:$G$1000,MATCH(ROW()-5,geb.Rechnung!$G$4:$G$1000,0),COLUMN()-1)),\"\",INDEX(geb.Rechnung!$A$4:$G$1000,MATCH(ROW()-5,geb.Rechnung!$G$4:$G$1000,0),COLUMN()-1))","v":""},{"$f":"IF(ISNA(INDEX(geb.Rechnung!$A$4:$G$1000,MATCH(ROW()-5,geb.Rechnung!$G$4:$G$1000,0),COLUMN()-2)),\"\",INDEX(geb.Rechnung!$A$4:$G$1000,MATCH(ROW()-5,geb.Rechnung!$G$4:$G$1000,0),COLUMN()-2))","v":""},{"$f":"IF(ISNA(INDEX(geb.Rechnung!$A$4:$G$1000,MATCH(ROW()-5,geb.Rechnung!$G$4:$G$1000,0),COLUMN()+1)),\"\",INDEX(geb.Rechnung!$A$4:$G$1000,MATCH(ROW()-5,geb.Rechnung!$G$4:$G$1000,0),COLUMN()+1))","v":""},{"$f":"IF(ISNA(INDEX(geb.Rechnung!$A$4:$G$1000,MATCH(ROW()-5,geb.Rechnung!$G$4:$G$1000,0),COLUMN()+1)),\"\",INDEX(geb.Rechnung!$A$4:$G$1000,MATCH(ROW()-5,geb.Rechnung!$G$4:$G$1000,0),COLUMN()+1))","v":""}]
[{"$f":"IF(ISNA(INDEX(geb.Rechnung!$A$4:$G$1000,MATCH(ROW()-5,geb.Rechnung!$G$4:$G$1000,0),COLUMN()-1)),\"\",INDEX(geb.Rechnung!$A$4:$G$1000,MATCH(ROW()-5,geb.Rechnung!$G$4:$G$1000,0),COLUMN()-1))","v":""},{"$f":"IF(ISNA(INDEX(geb.Rechnung!$A$4:$G$1000,MATCH(ROW()-5,geb.Rechnung!$G$4:$G$1000,0),COLUMN()-2)),\"\",INDEX(geb.Rechnung!$A$4:$G$1000,MATCH(ROW()-5,geb.Rechnung!$G$4:$G$1000,0),COLUMN()-2))","v":""},{"$f":"IF(ISNA(INDEX(geb.Rechnung!$A$4:$G$1000,MATCH(ROW()-5,geb.Rechnung!$G$4:$G$1000,0),COLUMN()+1)),\"\",INDEX(geb.Rechnung!$A$4:$G$1000,MATCH(ROW()-5,geb.Rechnung!$G$4:$G$1000,0),COLUMN()+1))","v":""},{"$f":"IF(ISNA(INDEX(geb.Rechnung!$A$4:$G$1000,MATCH(ROW()-5,geb.Rechnung!$G$4:$G$1000,0),COLUMN()+1)),\"\",INDEX(geb.Rechnung!$A$4:$G$1000,MATCH(ROW()-5,geb.Rechnung!$G$4:$G$1000,0),COLUMN()+1))","v":""}]
[{"$f":"IF(ISNA(INDEX(geb.Rechnung!$A$4:$G$1000,MATCH(ROW()-5,geb.Rechnung!$G$4:$G$1000,0),COLUMN()-1)),\"\",INDEX(geb.Rechnung!$A$4:$G$1000,MATCH(ROW()-5,geb.Rechnung!$G$4:$G$1000,0),COLUMN()-1))","v":""},{"$f":"IF(ISNA(INDEX(geb.Rechnung!$A$4:$G$1000,MATCH(ROW()-5,geb.Rechnung!$G$4:$G$1000,0),COLUMN()-2)),\"\",INDEX(geb.Rechnung!$A$4:$G$1000,MATCH(ROW()-5,geb.Rechnung!$G$4:$G$1000,0),COLUMN()-2))","v":""},{"$f":"IF(ISNA(INDEX(geb.Rechnung!$A$4:$G$1000,MATCH(ROW()-5,geb.Rechnung!$G$4:$G$1000,0),COLUMN()+1)),\"\",INDEX(geb.Rechnung!$A$4:$G$1000,MATCH(ROW()-5,geb.Rechnung!$G$4:$G$1000,0),COLUMN()+1))","v":""},{"$f":"IF(ISNA(INDEX(geb.Rechnung!$A$4:$G$1000,MATCH(ROW()-5,geb.Rechnung!$G$4:$G$1000,0),COLUMN()+1)),\"\",INDEX(geb.Rechnung!$A$4:$G$1000,MATCH(ROW()-5,geb.Rechnung!$G$4:$G$1000,0),COLUMN()+1))","v":""}]
[{"$f":"IF(ISNA(INDEX(geb.Rechnung!$A$4:$G$1000,MATCH(ROW()-5,geb.Rechnung!$G$4:$G$1000,0),COLUMN()-1)),\"\",INDEX(geb.Rechnung!$A$4:$G$1000,MATCH(ROW()-5,geb.Rechnung!$G$4:$G$1000,0),COLUMN()-1))","v":""},{"$f":"IF(ISNA(INDEX(geb.Rechnung!$A$4:$G$1000,MATCH(ROW()-5,geb.Rechnung!$G$4:$G$1000,0),COLUMN()-2)),\"\",INDEX(geb.Rechnung!$A$4:$G$1000,MATCH(ROW()-5,geb.Rechnung!$G$4:$G$1000,0),COLUMN()-2))","v":""},{"$f":"IF(ISNA(INDEX(geb.Rechnung!$A$4:$G$1000,MATCH(ROW()-5,geb.Rechnung!$G$4:$G$1000,0),COLUMN()+1)),\"\",INDEX(geb.Rechnung!$A$4:$G$1000,MATCH(ROW()-5,geb.Rechnung!$G$4:$G$1000,0),COLUMN()+1))","v":""},{"$f":"IF(ISNA(INDEX(geb.Rechnung!$A$4:$G$1000,MATCH(ROW()-5,geb.Rechnung!$G$4:$G$1000,0),COLUMN()+1)),\"\",INDEX(geb.Rechnung!$A$4:$G$1000,MATCH(ROW()-5,geb.Rechnung!$G$4:$G$1000,0),COLUMN()+1))","v":""}]
[{"$f":"IF(ISNA(INDEX(geb.Rechnung!$A$4:$G$1000,MATCH(ROW()-5,geb.Rechnung!$G$4:$G$1000,0),COLUMN()-1)),\"\",INDEX(geb.Rechnung!$A$4:$G$1000,MATCH(ROW()-5,geb.Rechnung!$G$4:$G$1000,0),COLUMN()-1))","v":""},{"$f":"IF(ISNA(INDEX(geb.Rechnung!$A$4:$G$1000,MATCH(ROW()-5,geb.Rechnung!$G$4:$G$1000,0),COLUMN()-2)),\"\",INDEX(geb.Rechnung!$A$4:$G$1000,MATCH(ROW()-5,geb.Rechnung!$G$4:$G$1000,0),COLUMN()-2))","v":""},{"$f":"IF(ISNA(INDEX(geb.Rechnung!$A$4:$G$1000,MATCH(ROW()-5,geb.Rechnung!$G$4:$G$1000,0),COLUMN()+1)),\"\",INDEX(geb.Rechnung!$A$4:$G$1000,MATCH(ROW()-5,geb.Rechnung!$G$4:$G$1000,0),COLUMN()+1))","v":""},{"$f":"IF(ISNA(INDEX(geb.Rechnung!$A$4:$G$1000,MATCH(ROW()-5,geb.Rechnung!$G$4:$G$1000,0),COLUMN()+1)),\"\",INDEX(geb.Rechnung!$A$4:$G$1000,MATCH(ROW()-5,geb.Rechnung!$G$4:$G$1000,0),COLUMN()+1))","v":""}]
[{"$f":"IF(ISNA(INDEX(geb.Rechnung!$A$4:$G$1000,MATCH(ROW()-5,geb.Rechnung!$G$4:$G$1000,0),COLUMN()-1)),\"\",INDEX(geb.Rechnung!$A$4:$G$1000,MATCH(ROW()-5,geb.Rechnung!$G$4:$G$1000,0),COLUMN()-1))","v":""},{"$f":"IF(ISNA(INDEX(geb.Rechnung!$A$4:$G$1000,MATCH(ROW()-5,geb.Rechnung!$G$4:$G$1000,0),COLUMN()-2)),\"\",INDEX(geb.Rechnung!$A$4:$G$1000,MATCH(ROW()-5,geb.Rechnung!$G$4:$G$1000,0),COLUMN()-2))","v":""},{"$f":"IF(ISNA(INDEX(geb.Rechnung!$A$4:$G$1000,MATCH(ROW()-5,geb.Rechnung!$G$4:$G$1000,0),COLUMN()+1)),\"\",INDEX(geb.Rechnung!$A$4:$G$1000,MATCH(ROW()-5,geb.Rechnung!$G$4:$G$1000,0),COLUMN()+1))","v":""},{"$f":"IF(ISNA(INDEX(geb.Rechnung!$A$4:$G$1000,MATCH(ROW()-5,geb.Rechnung!$G$4:$G$1000,0),COLUMN()+1)),\"\",INDEX(geb.Rechnung!$A$4:$G$1000,MATCH(ROW()-5,geb.Rechnung!$G$4:$G$1000,0),COLUMN()+1))","v":""}]
[{"$f":"IF(ISNA(INDEX(geb.Rechnung!$A$4:$G$1000,MATCH(ROW()-5,geb.Rechnung!$G$4:$G$1000,0),COLUMN()-1)),\"\",INDEX(geb.Rechnung!$A$4:$G$1000,MATCH(ROW()-5,geb.Rechnung!$G$4:$G$1000,0),COLUMN()-1))","v":""},{"$f":"IF(ISNA(INDEX(geb.Rechnung!$A$4:$G$1000,MATCH(ROW()-5,geb.Rechnung!$G$4:$G$1000,0),COLUMN()-2)),\"\",INDEX(geb.Rechnung!$A$4:$G$1000,MATCH(ROW()-5,geb.Rechnung!$G$4:$G$1000,0),COLUMN()-2))","v":""},{"$f":"IF(ISNA(INDEX(geb.Rechnung!$A$4:$G$1000,MATCH(ROW()-5,geb.Rechnung!$G$4:$G$1000,0),COLUMN()+1)),\"\",INDEX(geb.Rechnung!$A$4:$G$1000,MATCH(ROW()-5,geb.Rechnung!$G$4:$G$1000,0),COLUMN()+1))","v":""},{"$f":"IF(ISNA(INDEX(geb.Rechnung!$A$4:$G$1000,MATCH(ROW()-5,geb.Rechnung!$G$4:$G$1000,0),COLUMN()+1)),\"\",INDEX(geb.Rechnung!$A$4:$G$1000,MATCH(ROW()-5,geb.Rechnung!$G$4:$G$1000,0),COLUMN()+1))","v":""}]
[{"$f":"IF(ISNA(INDEX(geb.Rechnung!$A$4:$G$1000,MATCH(ROW()-5,geb.Rechnung!$G$4:$G$1000,0),COLUMN()-1)),\"\",INDEX(geb.Rechnung!$A$4:$G$1000,MATCH(ROW()-5,geb.Rechnung!$G$4:$G$1000,0),COLUMN()-1))","v":""},{"$f":"IF(ISNA(INDEX(geb.Rechnung!$A$4:$G$1000,MATCH(ROW()-5,geb.Rechnung!$G$4:$G$1000,0),COLUMN()-2)),\"\",INDEX(geb.Rechnung!$A$4:$G$1000,MATCH(ROW()-5,geb.Rechnung!$G$4:$G$1000,0),COLUMN()-2))","v":""},{"$f":"IF(ISNA(INDEX(geb.Rechnung!$A$4:$G$1000,MATCH(ROW()-5,geb.Rechnung!$G$4:$G$1000,0),COLUMN()+1)),\"\",INDEX(geb.Rechnung!$A$4:$G$1000,MATCH(ROW()-5,geb.Rechnung!$G$4:$G$1000,0),COLUMN()+1))","v":""},{"$f":"IF(ISNA(INDEX(geb.Rechnung!$A$4:$G$1000,MATCH(ROW()-5,geb.Rechnung!$G$4:$G$1000,0),COLUMN()+1)),\"\",INDEX(geb.Rechnung!$A$4:$G$1000,MATCH(ROW()-5,geb.Rechnung!$G$4:$G$1000,0),COLUMN()+1))","v":""}]
[{"$f":"IF(ISNA(INDEX(geb.Rechnung!$A$4:$G$1000,MATCH(ROW()-5,geb.Rechnung!$G$4:$G$1000,0),COLUMN()-1)),\"\",INDEX(geb.Rechnung!$A$4:$G$1000,MATCH(ROW()-5,geb.Rechnung!$G$4:$G$1000,0),COLUMN()-1))","v":""},{"$f":"IF(ISNA(INDEX(geb.Rechnung!$A$4:$G$1000,MATCH(ROW()-5,geb.Rechnung!$G$4:$G$1000,0),COLUMN()-2)),\"\",INDEX(geb.Rechnung!$A$4:$G$1000,MATCH(ROW()-5,geb.Rechnung!$G$4:$G$1000,0),COLUMN()-2))","v":""},{"$f":"IF(ISNA(INDEX(geb.Rechnung!$A$4:$G$1000,MATCH(ROW()-5,geb.Rechnung!$G$4:$G$1000,0),COLUMN()+1)),\"\",INDEX(geb.Rechnung!$A$4:$G$1000,MATCH(ROW()-5,geb.Rechnung!$G$4:$G$1000,0),COLUMN()+1))","v":""},{"$f":"IF(ISNA(INDEX(geb.Rechnung!$A$4:$G$1000,MATCH(ROW()-5,geb.Rechnung!$G$4:$G$1000,0),COLUMN()+1)),\"\",INDEX(geb.Rechnung!$A$4:$G$1000,MATCH(ROW()-5,geb.Rechnung!$G$4:$G$1000,0),COLUMN()+1))","v":""}]
[{"$f":"IF(ISNA(INDEX(geb.Rechnung!$A$4:$G$1000,MATCH(ROW()-5,geb.Rechnung!$G$4:$G$1000,0),COLUMN()-1)),\"\",INDEX(geb.Rechnung!$A$4:$G$1000,MATCH(ROW()-5,geb.Rechnung!$G$4:$G$1000,0),COLUMN()-1))","v":""},{"$f":"IF(ISNA(INDEX(geb.Rechnung!$A$4:$G$1000,MATCH(ROW()-5,geb.Rechnung!$G$4:$G$1000,0),COLUMN()-2)),\"\",INDEX(geb.Rechnung!$A$4:$G$1000,MATCH(ROW()-5,geb.Rechnung!$G$4:$G$1000,0),COLUMN()-2))","v":""},{"$f":"IF(ISNA(INDEX(geb.Rechnung!$A$4:$G$1000,MATCH(ROW()-5,geb.Rechnung!$G$4:$G$1000,0),COLUMN()+1)),\"\",INDEX(geb.Rechnung!$A$4:$G$1000,MATCH(ROW()-5,geb.Rechnung!$G$4:$G$1000,0),COLUMN()+1))","v":""},{"$f":"IF(ISNA(INDEX(geb.Rechnung!$A$4:$G$1000,MATCH(ROW()-5,geb.Rechnung!$G$4:$G$1000,0),COLUMN()+1)),\"\",INDEX(geb.Rechnung!$A$4:$G$1000,MATCH(ROW()-5,geb.Rechnung!$G$4:$G$1000,0),COLUMN()+1))","v":""}]
[{"$f":"IF(ISNA(INDEX(geb.Rechnung!$A$4:$G$1000,MATCH(ROW()-5,geb.Rechnung!$G$4:$G$1000,0),COLUMN()-1)),\"\",INDEX(geb.Rechnung!$A$4:$G$1000,MATCH(ROW()-5,geb.Rechnung!$G$4:$G$1000,0),COLUMN()-1))","v":""},{"$f":"IF(ISNA(INDEX(geb.Rechnung!$A$4:$G$1000,MATCH(ROW()-5,geb.Rechnung!$G$4:$G$1000,0),COLUMN()-2)),\"\",INDEX(geb.Rechnung!$A$4:$G$1000,MATCH(ROW()-5,geb.Rechnung!$G$4:$G$1000,0),COLUMN()-2))","v":""},{"$f":"IF(ISNA(INDEX(geb.Rechnung!$A$4:$G$1000,MATCH(ROW()-5,geb.Rechnung!$G$4:$G$1000,0),COLUMN()+1)),\"\",INDEX(geb.Rechnung!$A$4:$G$1000,MATCH(ROW()-5,geb.Rechnung!$G$4:$G$1000,0),COLUMN()+1))","v":""},{"$f":"IF(ISNA(INDEX(geb.Rechnung!$A$4:$G$1000,MATCH(ROW()-5,geb.Rechnung!$G$4:$G$1000,0),COLUMN()+1)),\"\",INDEX(geb.Rechnung!$A$4:$G$1000,MATCH(ROW()-5,geb.Rechnung!$G$4:$G$1000,0),COLUMN()+1))","v":""}]
[{"$f":"IF(ISNA(INDEX(geb.Rechnung!$A$4:$G$1000,MATCH(ROW()-5,geb.Rechnung!$G$4:$G$1000,0),COLUMN()-1)),\"\",INDEX(geb.Rechnung!$A$4:$G$1000,MATCH(ROW()-5,geb.Rechnung!$G$4:$G$1000,0),COLUMN()-1))","v":""},{"$f":"IF(ISNA(INDEX(geb.Rechnung!$A$4:$G$1000,MATCH(ROW()-5,geb.Rechnung!$G$4:$G$1000,0),COLUMN()-2)),\"\",INDEX(geb.Rechnung!$A$4:$G$1000,MATCH(ROW()-5,geb.Rechnung!$G$4:$G$1000,0),COLUMN()-2))","v":""},{"$f":"IF(ISNA(INDEX(geb.Rechnung!$A$4:$G$1000,MATCH(ROW()-5,geb.Rechnung!$G$4:$G$1000,0),COLUMN()+1)),\"\",INDEX(geb.Rechnung!$A$4:$G$1000,MATCH(ROW()-5,geb.Rechnung!$G$4:$G$1000,0),COLUMN()+1))","v":""},{"$f":"IF(ISNA(INDEX(geb.Rechnung!$A$4:$G$1000,MATCH(ROW()-5,geb.Rechnung!$G$4:$G$1000,0),COLUMN()+1)),\"\",INDEX(geb.Rechnung!$A$4:$G$1000,MATCH(ROW()-5,geb.Rechnung!$G$4:$G$1000,0),COLUMN()+1))","v":""}]
[{"$f":"IF(ISNA(INDEX(geb.Rechnung!$A$4:$G$1000,MATCH(ROW()-5,geb.Rechnung!$G$4:$G$1000,0),COLUMN()-1)),\"\",INDEX(geb.Rechnung!$A$4:$G$1000,MATCH(ROW()-5,geb.Rechnung!$G$4:$G$1000,0),COLUMN()-1))","v":""},{"$f":"IF(ISNA(INDEX(geb.Rechnung!$A$4:$G$1000,MATCH(ROW()-5,geb.Rechnung!$G$4:$G$1000,0),COLUMN()-2)),\"\",INDEX(geb.Rechnung!$A$4:$G$1000,MATCH(ROW()-5,geb.Rechnung!$G$4:$G$1000,0),COLUMN()-2))","v":""},{"$f":"IF(ISNA(INDEX(geb.Rechnung!$A$4:$G$1000,MATCH(ROW()-5,geb.Rechnung!$G$4:$G$1000,0),COLUMN()+1)),\"\",INDEX(geb.Rechnung!$A$4:$G$1000,MATCH(ROW()-5,geb.Rechnung!$G$4:$G$1000,0),COLUMN()+1))","v":""},{"$f":"IF(ISNA(INDEX(geb.Rechnung!$A$4:$G$1000,MATCH(ROW()-5,geb.Rechnung!$G$4:$G$1000,0),COLUMN()+1)),\"\",INDEX(geb.Rechnung!$A$4:$G$1000,MATCH(ROW()-5,geb.Rechnung!$G$4:$G$1000,0),COLUMN()+1))","v":""}]
[{"$f":"IF(ISNA(INDEX(geb.Rechnung!$A$4:$G$1000,MATCH(ROW()-5,geb.Rechnung!$G$4:$G$1000,0),COLUMN()-1)),\"\",INDEX(geb.Rechnung!$A$4:$G$1000,MATCH(ROW()-5,geb.Rechnung!$G$4:$G$1000,0),COLUMN()-1))","v":""},{"$f":"IF(ISNA(INDEX(geb.Rechnung!$A$4:$G$1000,MATCH(ROW()-5,geb.Rechnung!$G$4:$G$1000,0),COLUMN()-2)),\"\",INDEX(geb.Rechnung!$A$4:$G$1000,MATCH(ROW()-5,geb.Rechnung!$G$4:$G$1000,0),COLUMN()-2))","v":""},{"$f":"IF(ISNA(INDEX(geb.Rechnung!$A$4:$G$1000,MATCH(ROW()-5,geb.Rechnung!$G$4:$G$1000,0),COLUMN()+1)),\"\",INDEX(geb.Rechnung!$A$4:$G$1000,MATCH(ROW()-5,geb.Rechnung!$G$4:$G$1000,0),COLUMN()+1))","v":""},{"$f":"IF(ISNA(INDEX(geb.Rechnung!$A$4:$G$1000,MATCH(ROW()-5,geb.Rechnung!$G$4:$G$1000,0),COLUMN()+1)),\"\",INDEX(geb.Rechnung!$A$4:$G$1000,MATCH(ROW()-5,geb.Rechnung!$G$4:$G$1000,0),COLUMN()+1))","v":""}]
[{"$f":"IF(ISNA(INDEX(geb.Rechnung!$A$4:$G$1000,MATCH(ROW()-5,geb.Rechnung!$G$4:$G$1000,0),COLUMN()-1)),\"\",INDEX(geb.Rechnung!$A$4:$G$1000,MATCH(ROW()-5,geb.Rechnung!$G$4:$G$1000,0),COLUMN()-1))","v":""},{"$f":"IF(ISNA(INDEX(geb.Rechnung!$A$4:$G$1000,MATCH(ROW()-5,geb.Rechnung!$G$4:$G$1000,0),COLUMN()-2)),\"\",INDEX(geb.Rechnung!$A$4:$G$1000,MATCH(ROW()-5,geb.Rechnung!$G$4:$G$1000,0),COLUMN()-2))","v":""},{"$f":"IF(ISNA(INDEX(geb.Rechnung!$A$4:$G$1000,MATCH(ROW()-5,geb.Rechnung!$G$4:$G$1000,0),COLUMN()+1)),\"\",INDEX(geb.Rechnung!$A$4:$G$1000,MATCH(ROW()-5,geb.Rechnung!$G$4:$G$1000,0),COLUMN()+1))","v":""},{"$f":"IF(ISNA(INDEX(geb.Rechnung!$A$4:$G$1000,MATCH(ROW()-5,geb.Rechnung!$G$4:$G$1000,0),COLUMN()+1)),\"\",INDEX(geb.Rechnung!$A$4:$G$1000,MATCH(ROW()-5,geb.Rechnung!$G$4:$G$1000,0),COLUMN()+1))","v":""}]
[{"$f":"IF(ISNA(INDEX(geb.Rechnung!$A$4:$G$1000,MATCH(ROW()-5,geb.Rechnung!$G$4:$G$1000,0),COLUMN()-1)),\"\",INDEX(geb.Rechnung!$A$4:$G$1000,MATCH(ROW()-5,geb.Rechnung!$G$4:$G$1000,0),COLUMN()-1))","v":""},{"$f":"IF(ISNA(INDEX(geb.Rechnung!$A$4:$G$1000,MATCH(ROW()-5,geb.Rechnung!$G$4:$G$1000,0),COLUMN()-2)),\"\",INDEX(geb.Rechnung!$A$4:$G$1000,MATCH(ROW()-5,geb.Rechnung!$G$4:$G$1000,0),COLUMN()-2))","v":""},{"$f":"IF(ISNA(INDEX(geb.Rechnung!$A$4:$G$1000,MATCH(ROW()-5,geb.Rechnung!$G$4:$G$1000,0),COLUMN()+1)),\"\",INDEX(geb.Rechnung!$A$4:$G$1000,MATCH(ROW()-5,geb.Rechnung!$G$4:$G$1000,0),COLUMN()+1))","v":""},{"$f":"IF(ISNA(INDEX(geb.Rechnung!$A$4:$G$1000,MATCH(ROW()-5,geb.Rechnung!$G$4:$G$1000,0),COLUMN()+1)),\"\",INDEX(geb.Rechnung!$A$4:$G$1000,MATCH(ROW()-5,geb.Rechnung!$G$4:$G$1000,0),COLUMN()+1))","v":""}]
[{"$f":"IF(ISNA(INDEX(geb.Rechnung!$A$4:$G$1000,MATCH(ROW()-5,geb.Rechnung!$G$4:$G$1000,0),COLUMN()-1)),\"\",INDEX(geb.Rechnung!$A$4:$G$1000,MATCH(ROW()-5,geb.Rechnung!$G$4:$G$1000,0),COLUMN()-1))","v":""},{"$f":"IF(ISNA(INDEX(geb.Rechnung!$A$4:$G$1000,MATCH(ROW()-5,geb.Rechnung!$G$4:$G$1000,0),COLUMN()-2)),\"\",INDEX(geb.Rechnung!$A$4:$G$1000,MATCH(ROW()-5,geb.Rechnung!$G$4:$G$1000,0),COLUMN()-2))","v":""},{"$f":"IF(ISNA(INDEX(geb.Rechnung!$A$4:$G$1000,MATCH(ROW()-5,geb.Rechnung!$G$4:$G$1000,0),COLUMN()+1)),\"\",INDEX(geb.Rechnung!$A$4:$G$1000,MATCH(ROW()-5,geb.Rechnung!$G$4:$G$1000,0),COLUMN()+1))","v":""},{"$f":"IF(ISNA(INDEX(geb.Rechnung!$A$4:$G$1000,MATCH(ROW()-5,geb.Rechnung!$G$4:$G$1000,0),COLUMN()+1)),\"\",INDEX(geb.Rechnung!$A$4:$G$1000,MATCH(ROW()-5,geb.Rechnung!$G$4:$G$1000,0),COLUMN()+1))","v":""}]
[{"$f":"IF(ISNA(INDEX(geb.Rechnung!$A$4:$G$1000,MATCH(ROW()-5,geb.Rechnung!$G$4:$G$1000,0),COLUMN()-1)),\"\",INDEX(geb.Rechnung!$A$4:$G$1000,MATCH(ROW()-5,geb.Rechnung!$G$4:$G$1000,0),COLUMN()-1))","v":""},{"$f":"IF(ISNA(INDEX(geb.Rechnung!$A$4:$G$1000,MATCH(ROW()-5,geb.Rechnung!$G$4:$G$1000,0),COLUMN()-2)),\"\",INDEX(geb.Rechnung!$A$4:$G$1000,MATCH(ROW()-5,geb.Rechnung!$G$4:$G$1000,0),COLUMN()-2))","v":""},{"$f":"IF(ISNA(INDEX(geb.Rechnung!$A$4:$G$1000,MATCH(ROW()-5,geb.Rechnung!$G$4:$G$1000,0),COLUMN()+1)),\"\",INDEX(geb.Rechnung!$A$4:$G$1000,MATCH(ROW()-5,geb.Rechnung!$G$4:$G$1000,0),COLUMN()+1))","v":""},{"$f":"IF(ISNA(INDEX(geb.Rechnung!$A$4:$G$1000,MATCH(ROW()-5,geb.Rechnung!$G$4:$G$1000,0),COLUMN()+1)),\"\",INDEX(geb.Rechnung!$A$4:$G$1000,MATCH(ROW()-5,geb.Rechnung!$G$4:$G$1000,0),COLUMN()+1))","v":""}]
[{"$f":"IF(ISNA(INDEX(geb.Rechnung!$A$4:$G$1000,MATCH(ROW()-5,geb.Rechnung!$G$4:$G$1000,0),COLUMN()-1)),\"\",INDEX(geb.Rechnung!$A$4:$G$1000,MATCH(ROW()-5,geb.Rechnung!$G$4:$G$1000,0),COLUMN()-1))","v":""},{"$f":"IF(ISNA(INDEX(geb.Rechnung!$A$4:$G$1000,MATCH(ROW()-5,geb.Rechnung!$G$4:$G$1000,0),COLUMN()-2)),\"\",INDEX(geb.Rechnung!$A$4:$G$1000,MATCH(ROW()-5,geb.Rechnung!$G$4:$G$1000,0),COLUMN()-2))","v":""},{"$f":"IF(ISNA(INDEX(geb.Rechnung!$A$4:$G$1000,MATCH(ROW()-5,geb.Rechnung!$G$4:$G$1000,0),COLUMN()+1)),\"\",INDEX(geb.Rechnung!$A$4:$G$1000,MATCH(ROW()-5,geb.Rechnung!$G$4:$G$1000,0),COLUMN()+1))","v":""},{"$f":"IF(ISNA(INDEX(geb.Rechnung!$A$4:$G$1000,MATCH(ROW()-5,geb.Rechnung!$G$4:$G$1000,0),COLUMN()+1)),\"\",INDEX(geb.Rechnung!$A$4:$G$1000,MATCH(ROW()-5,geb.Rechnung!$G$4:$G$1000,0),COLUMN()+1))","v":""}]
[{"$f":"IF(ISNA(INDEX(geb.Rechnung!$A$4:$G$1000,MATCH(ROW()-5,geb.Rechnung!$G$4:$G$1000,0),COLUMN()-1)),\"\",INDEX(geb.Rechnung!$A$4:$G$1000,MATCH(ROW()-5,geb.Rechnung!$G$4:$G$1000,0),COLUMN()-1))","v":""},{"$f":"IF(ISNA(INDEX(geb.Rechnung!$A$4:$G$1000,MATCH(ROW()-5,geb.Rechnung!$G$4:$G$1000,0),COLUMN()-2)),\"\",INDEX(geb.Rechnung!$A$4:$G$1000,MATCH(ROW()-5,geb.Rechnung!$G$4:$G$1000,0),COLUMN()-2))","v":""},{"$f":"IF(ISNA(INDEX(geb.Rechnung!$A$4:$G$1000,MATCH(ROW()-5,geb.Rechnung!$G$4:$G$1000,0),COLUMN()+1)),\"\",INDEX(geb.Rechnung!$A$4:$G$1000,MATCH(ROW()-5,geb.Rechnung!$G$4:$G$1000,0),COLUMN()+1))","v":""},{"$f":"IF(ISNA(INDEX(geb.Rechnung!$A$4:$G$1000,MATCH(ROW()-5,geb.Rechnung!$G$4:$G$1000,0),COLUMN()+1)),\"\",INDEX(geb.Rechnung!$A$4:$G$1000,MATCH(ROW()-5,geb.Rechnung!$G$4:$G$1000,0),COLUMN()+1))","v":""}]
[{"$f":"IF(ISNA(INDEX(geb.Rechnung!$A$4:$G$1000,MATCH(ROW()-5,geb.Rechnung!$G$4:$G$1000,0),COLUMN()-1)),\"\",INDEX(geb.Rechnung!$A$4:$G$1000,MATCH(ROW()-5,geb.Rechnung!$G$4:$G$1000,0),COLUMN()-1))","v":""},{"$f":"IF(ISNA(INDEX(geb.Rechnung!$A$4:$G$1000,MATCH(ROW()-5,geb.Rechnung!$G$4:$G$1000,0),COLUMN()-2)),\"\",INDEX(geb.Rechnung!$A$4:$G$1000,MATCH(ROW()-5,geb.Rechnung!$G$4:$G$1000,0),COLUMN()-2))","v":""},{"$f":"IF(ISNA(INDEX(geb.Rechnung!$A$4:$G$1000,MATCH(ROW()-5,geb.Rechnung!$G$4:$G$1000,0),COLUMN()+1)),\"\",INDEX(geb.Rechnung!$A$4:$G$1000,MATCH(ROW()-5,geb.Rechnung!$G$4:$G$1000,0),COLUMN()+1))","v":""},{"$f":"IF(ISNA(INDEX(geb.Rechnung!$A$4:$G$1000,MATCH(ROW()-5,geb.Rechnung!$G$4:$G$1000,0),COLUMN()+1)),\"\",INDEX(geb.Rechnung!$A$4:$G$1000,MATCH(ROW()-5,geb.Rechnung!$G$4:$G$1000,0),COLUMN()+1))","v":""}]
[{"$f":"IF(ISNA(INDEX(geb.Rechnung!$A$4:$G$1000,MATCH(ROW()-5,geb.Rechnung!$G$4:$G$1000,0),COLUMN()-1)),\"\",INDEX(geb.Rechnung!$A$4:$G$1000,MATCH(ROW()-5,geb.Rechnung!$G$4:$G$1000,0),COLUMN()-1))","v":""},{"$f":"IF(ISNA(INDEX(geb.Rechnung!$A$4:$G$1000,MATCH(ROW()-5,geb.Rechnung!$G$4:$G$1000,0),COLUMN()-2)),\"\",INDEX(geb.Rechnung!$A$4:$G$1000,MATCH(ROW()-5,geb.Rechnung!$G$4:$G$1000,0),COLUMN()-2))","v":""},{"$f":"IF(ISNA(INDEX(geb.Rechnung!$A$4:$G$1000,MATCH(ROW()-5,geb.Rechnung!$G$4:$G$1000,0),COLUMN()+1)),\"\",INDEX(geb.Rechnung!$A$4:$G$1000,MATCH(ROW()-5,geb.Rechnung!$G$4:$G$1000,0),COLUMN()+1))","v":""},{"$f":"IF(ISNA(INDEX(geb.Rechnung!$A$4:$G$1000,MATCH(ROW()-5,geb.Rechnung!$G$4:$G$1000,0),COLUMN()+1)),\"\",INDEX(geb.Rechnung!$A$4:$G$1000,MATCH(ROW()-5,geb.Rechnung!$G$4:$G$1000,0),COLUMN()+1))","v":""}]
[{"$f":"IF(ISNA(INDEX(geb.Rechnung!$A$4:$G$1000,MATCH(ROW()-5,geb.Rechnung!$G$4:$G$1000,0),COLUMN()-1)),\"\",INDEX(geb.Rechnung!$A$4:$G$1000,MATCH(ROW()-5,geb.Rechnung!$G$4:$G$1000,0),COLUMN()-1))","v":""},{"$f":"IF(ISNA(INDEX(geb.Rechnung!$A$4:$G$1000,MATCH(ROW()-5,geb.Rechnung!$G$4:$G$1000,0),COLUMN()-2)),\"\",INDEX(geb.Rechnung!$A$4:$G$1000,MATCH(ROW()-5,geb.Rechnung!$G$4:$G$1000,0),COLUMN()-2))","v":""},{"$f":"IF(ISNA(INDEX(geb.Rechnung!$A$4:$G$1000,MATCH(ROW()-5,geb.Rechnung!$G$4:$G$1000,0),COLUMN()+1)),\"\",INDEX(geb.Rechnung!$A$4:$G$1000,MATCH(ROW()-5,geb.Rechnung!$G$4:$G$1000,0),COLUMN()+1))","v":""},{"$f":"IF(ISNA(INDEX(geb.Rechnung!$A$4:$G$1000,MATCH(ROW()-5,geb.Rechnung!$G$4:$G$1000,0),COLUMN()+1)),\"\",INDEX(geb.Rechnung!$A$4:$G$1000,MATCH(ROW()-5,geb.Rechnung!$G$4:$G$1000,0),COLUMN()+1))","v":""}]
[{"$f":"IF(ISNA(INDEX(geb.Rechnung!$A$4:$G$1000,MATCH(ROW()-5,geb.Rechnung!$G$4:$G$1000,0),COLUMN()-1)),\"\",INDEX(geb.Rechnung!$A$4:$G$1000,MATCH(ROW()-5,geb.Rechnung!$G$4:$G$1000,0),COLUMN()-1))","v":""},{"$f":"IF(ISNA(INDEX(geb.Rechnung!$A$4:$G$1000,MATCH(ROW()-5,geb.Rechnung!$G$4:$G$1000,0),COLUMN()-2)),\"\",INDEX(geb.Rechnung!$A$4:$G$1000,MATCH(ROW()-5,geb.Rechnung!$G$4:$G$1000,0),COLUMN()-2))","v":""},{"$f":"IF(ISNA(INDEX(geb.Rechnung!$A$4:$G$1000,MATCH(ROW()-5,geb.Rechnung!$G$4:$G$1000,0),COLUMN()+1)),\"\",INDEX(geb.Rechnung!$A$4:$G$1000,MATCH(ROW()-5,geb.Rechnung!$G$4:$G$1000,0),COLUMN()+1))","v":""},{"$f":"IF(ISNA(INDEX(geb.Rechnung!$A$4:$G$1000,MATCH(ROW()-5,geb.Rechnung!$G$4:$G$1000,0),COLUMN()+1)),\"\",INDEX(geb.Rechnung!$A$4:$G$1000,MATCH(ROW()-5,geb.Rechnung!$G$4:$G$1000,0),COLUMN()+1))","v":""}]
[{"$f":"IF(ISNA(INDEX(geb.Rechnung!$A$4:$G$1000,MATCH(ROW()-5,geb.Rechnung!$G$4:$G$1000,0),COLUMN()-1)),\"\",INDEX(geb.Rechnung!$A$4:$G$1000,MATCH(ROW()-5,geb.Rechnung!$G$4:$G$1000,0),COLUMN()-1))","v":""},{"$f":"IF(ISNA(INDEX(geb.Rechnung!$A$4:$G$1000,MATCH(ROW()-5,geb.Rechnung!$G$4:$G$1000,0),COLUMN()-2)),\"\",INDEX(geb.Rechnung!$A$4:$G$1000,MATCH(ROW()-5,geb.Rechnung!$G$4:$G$1000,0),COLUMN()-2))","v":""},{"$f":"IF(ISNA(INDEX(geb.Rechnung!$A$4:$G$1000,MATCH(ROW()-5,geb.Rechnung!$G$4:$G$1000,0),COLUMN()+1)),\"\",INDEX(geb.Rechnung!$A$4:$G$1000,MATCH(ROW()-5,geb.Rechnung!$G$4:$G$1000,0),COLUMN()+1))","v":""},{"$f":"IF(ISNA(INDEX(geb.Rechnung!$A$4:$G$1000,MATCH(ROW()-5,geb.Rechnung!$G$4:$G$1000,0),COLUMN()+1)),\"\",INDEX(geb.Rechnung!$A$4:$G$1000,MATCH(ROW()-5,geb.Rechnung!$G$4:$G$1000,0),COLUMN()+1))","v":""}]
[{"$f":"IF(ISNA(INDEX(geb.Rechnung!$A$4:$G$1000,MATCH(ROW()-5,geb.Rechnung!$G$4:$G$1000,0),COLUMN()-1)),\"\",INDEX(geb.Rechnung!$A$4:$G$1000,MATCH(ROW()-5,geb.Rechnung!$G$4:$G$1000,0),COLUMN()-1))","v":""},{"$f":"IF(ISNA(INDEX(geb.Rechnung!$A$4:$G$1000,MATCH(ROW()-5,geb.Rechnung!$G$4:$G$1000,0),COLUMN()-2)),\"\",INDEX(geb.Rechnung!$A$4:$G$1000,MATCH(ROW()-5,geb.Rechnung!$G$4:$G$1000,0),COLUMN()-2))","v":""},{"$f":"IF(ISNA(INDEX(geb.Rechnung!$A$4:$G$1000,MATCH(ROW()-5,geb.Rechnung!$G$4:$G$1000,0),COLUMN()+1)),\"\",INDEX(geb.Rechnung!$A$4:$G$1000,MATCH(ROW()-5,geb.Rechnung!$G$4:$G$1000,0),COLUMN()+1))","v":""},{"$f":"IF(ISNA(INDEX(geb.Rechnung!$A$4:$G$1000,MATCH(ROW()-5,geb.Rechnung!$G$4:$G$1000,0),COLUMN()+1)),\"\",INDEX(geb.Rechnung!$A$4:$G$1000,MATCH(ROW()-5,geb.Rechnung!$G$4:$G$1000,0),COLUMN()+1))","v":""}]
[{"$f":"IF(ISNA(INDEX(geb.Rechnung!$A$4:$G$1000,MATCH(ROW()-5,geb.Rechnung!$G$4:$G$1000,0),COLUMN()-1)),\"\",INDEX(geb.Rechnung!$A$4:$G$1000,MATCH(ROW()-5,geb.Rechnung!$G$4:$G$1000,0),COLUMN()-1))","v":""},{"$f":"IF(ISNA(INDEX(geb.Rechnung!$A$4:$G$1000,MATCH(ROW()-5,geb.Rechnung!$G$4:$G$1000,0),COLUMN()-2)),\"\",INDEX(geb.Rechnung!$A$4:$G$1000,MATCH(ROW()-5,geb.Rechnung!$G$4:$G$1000,0),COLUMN()-2))","v":""},{"$f":"IF(ISNA(INDEX(geb.Rechnung!$A$4:$G$1000,MATCH(ROW()-5,geb.Rechnung!$G$4:$G$1000,0),COLUMN()+1)),\"\",INDEX(geb.Rechnung!$A$4:$G$1000,MATCH(ROW()-5,geb.Rechnung!$G$4:$G$1000,0),COLUMN()+1))","v":""},{"$f":"IF(ISNA(INDEX(geb.Rechnung!$A$4:$G$1000,MATCH(ROW()-5,geb.Rechnung!$G$4:$G$1000,0),COLUMN()+1)),\"\",INDEX(geb.Rechnung!$A$4:$G$1000,MATCH(ROW()-5,geb.Rechnung!$G$4:$G$1000,0),COLUMN()+1))","v":""}]
[{"$f":"IF(ISNA(INDEX(geb.Rechnung!$A$4:$G$1000,MATCH(ROW()-5,geb.Rechnung!$G$4:$G$1000,0),COLUMN()-1)),\"\",INDEX(geb.Rechnung!$A$4:$G$1000,MATCH(ROW()-5,geb.Rechnung!$G$4:$G$1000,0),COLUMN()-1))","v":""},{"$f":"IF(ISNA(INDEX(geb.Rechnung!$A$4:$G$1000,MATCH(ROW()-5,geb.Rechnung!$G$4:$G$1000,0),COLUMN()-2)),\"\",INDEX(geb.Rechnung!$A$4:$G$1000,MATCH(ROW()-5,geb.Rechnung!$G$4:$G$1000,0),COLUMN()-2))","v":""},{"$f":"IF(ISNA(INDEX(geb.Rechnung!$A$4:$G$1000,MATCH(ROW()-5,geb.Rechnung!$G$4:$G$1000,0),COLUMN()+1)),\"\",INDEX(geb.Rechnung!$A$4:$G$1000,MATCH(ROW()-5,geb.Rechnung!$G$4:$G$1000,0),COLUMN()+1))","v":""},{"$f":"IF(ISNA(INDEX(geb.Rechnung!$A$4:$G$1000,MATCH(ROW()-5,geb.Rechnung!$G$4:$G$1000,0),COLUMN()+1)),\"\",INDEX(geb.Rechnung!$A$4:$G$1000,MATCH(ROW()-5,geb.Rechnung!$G$4:$G$1000,0),COLUMN()+1))","v":""}]
[{"$f":"IF(ISNA(INDEX(geb.Rechnung!$A$4:$G$1000,MATCH(ROW()-5,geb.Rechnung!$G$4:$G$1000,0),COLUMN()-1)),\"\",INDEX(geb.Rechnung!$A$4:$G$1000,MATCH(ROW()-5,geb.Rechnung!$G$4:$G$1000,0),COLUMN()-1))","v":""},{"$f":"IF(ISNA(INDEX(geb.Rechnung!$A$4:$G$1000,MATCH(ROW()-5,geb.Rechnung!$G$4:$G$1000,0),COLUMN()-2)),\"\",INDEX(geb.Rechnung!$A$4:$G$1000,MATCH(ROW()-5,geb.Rechnung!$G$4:$G$1000,0),COLUMN()-2))","v":""},{"$f":"IF(ISNA(INDEX(geb.Rechnung!$A$4:$G$1000,MATCH(ROW()-5,geb.Rechnung!$G$4:$G$1000,0),COLUMN()+1)),\"\",INDEX(geb.Rechnung!$A$4:$G$1000,MATCH(ROW()-5,geb.Rechnung!$G$4:$G$1000,0),COLUMN()+1))","v":""},{"$f":"IF(ISNA(INDEX(geb.Rechnung!$A$4:$G$1000,MATCH(ROW()-5,geb.Rechnung!$G$4:$G$1000,0),COLUMN()+1)),\"\",INDEX(geb.Rechnung!$A$4:$G$1000,MATCH(ROW()-5,geb.Rechnung!$G$4:$G$1000,0),COLUMN()+1))","v":""}]
[{"$f":"IF(ISNA(INDEX(geb.Rechnung!$A$4:$G$1000,MATCH(ROW()-5,geb.Rechnung!$G$4:$G$1000,0),COLUMN()-1)),\"\",INDEX(geb.Rechnung!$A$4:$G$1000,MATCH(ROW()-5,geb.Rechnung!$G$4:$G$1000,0),COLUMN()-1))","v":""},{"$f":"IF(ISNA(INDEX(geb.Rechnung!$A$4:$G$1000,MATCH(ROW()-5,geb.Rechnung!$G$4:$G$1000,0),COLUMN()-2)),\"\",INDEX(geb.Rechnung!$A$4:$G$1000,MATCH(ROW()-5,geb.Rechnung!$G$4:$G$1000,0),COLUMN()-2))","v":""},{"$f":"IF(ISNA(INDEX(geb.Rechnung!$A$4:$G$1000,MATCH(ROW()-5,geb.Rechnung!$G$4:$G$1000,0),COLUMN()+1)),\"\",INDEX(geb.Rechnung!$A$4:$G$1000,MATCH(ROW()-5,geb.Rechnung!$G$4:$G$1000,0),COLUMN()+1))","v":""},{"$f":"IF(ISNA(INDEX(geb.Rechnung!$A$4:$G$1000,MATCH(ROW()-5,geb.Rechnung!$G$4:$G$1000,0),COLUMN()+1)),\"\",INDEX(geb.Rechnung!$A$4:$G$1000,MATCH(ROW()-5,geb.Rechnung!$G$4:$G$1000,0),COLUMN()+1))","v":""}]
[{"$f":"IF(ISNA(INDEX(geb.Rechnung!$A$4:$G$1000,MATCH(ROW()-5,geb.Rechnung!$G$4:$G$1000,0),COLUMN()-1)),\"\",INDEX(geb.Rechnung!$A$4:$G$1000,MATCH(ROW()-5,geb.Rechnung!$G$4:$G$1000,0),COLUMN()-1))","v":""},{"$f":"IF(ISNA(INDEX(geb.Rechnung!$A$4:$G$1000,MATCH(ROW()-5,geb.Rechnung!$G$4:$G$1000,0),COLUMN()-2)),\"\",INDEX(geb.Rechnung!$A$4:$G$1000,MATCH(ROW()-5,geb.Rechnung!$G$4:$G$1000,0),COLUMN()-2))","v":""},{"$f":"IF(ISNA(INDEX(geb.Rechnung!$A$4:$G$1000,MATCH(ROW()-5,geb.Rechnung!$G$4:$G$1000,0),COLUMN()+1)),\"\",INDEX(geb.Rechnung!$A$4:$G$1000,MATCH(ROW()-5,geb.Rechnung!$G$4:$G$1000,0),COLUMN()+1))","v":""},{"$f":"IF(ISNA(INDEX(geb.Rechnung!$A$4:$G$1000,MATCH(ROW()-5,geb.Rechnung!$G$4:$G$1000,0),COLUMN()+1)),\"\",INDEX(geb.Rechnung!$A$4:$G$1000,MATCH(ROW()-5,geb.Rechnung!$G$4:$G$1000,0),COLUMN()+1))","v":""}]
[{"$f":"IF(ISNA(INDEX(geb.Rechnung!$A$4:$G$1000,MATCH(ROW()-5,geb.Rechnung!$G$4:$G$1000,0),COLUMN()-1)),\"\",INDEX(geb.Rechnung!$A$4:$G$1000,MATCH(ROW()-5,geb.Rechnung!$G$4:$G$1000,0),COLUMN()-1))","v":""},{"$f":"IF(ISNA(INDEX(geb.Rechnung!$A$4:$G$1000,MATCH(ROW()-5,geb.Rechnung!$G$4:$G$1000,0),COLUMN()-2)),\"\",INDEX(geb.Rechnung!$A$4:$G$1000,MATCH(ROW()-5,geb.Rechnung!$G$4:$G$1000,0),COLUMN()-2))","v":""},{"$f":"IF(ISNA(INDEX(geb.Rechnung!$A$4:$G$1000,MATCH(ROW()-5,geb.Rechnung!$G$4:$G$1000,0),COLUMN()+1)),\"\",INDEX(geb.Rechnung!$A$4:$G$1000,MATCH(ROW()-5,geb.Rechnung!$G$4:$G$1000,0),COLUMN()+1))","v":""},{"$f":"IF(ISNA(INDEX(geb.Rechnung!$A$4:$G$1000,MATCH(ROW()-5,geb.Rechnung!$G$4:$G$1000,0),COLUMN()+1)),\"\",INDEX(geb.Rechnung!$A$4:$G$1000,MATCH(ROW()-5,geb.Rechnung!$G$4:$G$1000,0),COLUMN()+1))","v":""}]
[{"$f":"IF(ISNA(INDEX(geb.Rechnung!$A$4:$G$1000,MATCH(ROW()-5,geb.Rechnung!$G$4:$G$1000,0),COLUMN()-1)),\"\",INDEX(geb.Rechnung!$A$4:$G$1000,MATCH(ROW()-5,geb.Rechnung!$G$4:$G$1000,0),COLUMN()-1))","v":""},{"$f":"IF(ISNA(INDEX(geb.Rechnung!$A$4:$G$1000,MATCH(ROW()-5,geb.Rechnung!$G$4:$G$1000,0),COLUMN()-2)),\"\",INDEX(geb.Rechnung!$A$4:$G$1000,MATCH(ROW()-5,geb.Rechnung!$G$4:$G$1000,0),COLUMN()-2))","v":""},{"$f":"IF(ISNA(INDEX(geb.Rechnung!$A$4:$G$1000,MATCH(ROW()-5,geb.Rechnung!$G$4:$G$1000,0),COLUMN()+1)),\"\",INDEX(geb.Rechnung!$A$4:$G$1000,MATCH(ROW()-5,geb.Rechnung!$G$4:$G$1000,0),COLUMN()+1))","v":""},{"$f":"IF(ISNA(INDEX(geb.Rechnung!$A$4:$G$1000,MATCH(ROW()-5,geb.Rechnung!$G$4:$G$1000,0),COLUMN()+1)),\"\",INDEX(geb.Rechnung!$A$4:$G$1000,MATCH(ROW()-5,geb.Rechnung!$G$4:$G$1000,0),COLUMN()+1))","v":""}]
[{"$f":"IF(ISNA(INDEX(geb.Rechnung!$A$4:$G$1000,MATCH(ROW()-5,geb.Rechnung!$G$4:$G$1000,0),COLUMN()-1)),\"\",INDEX(geb.Rechnung!$A$4:$G$1000,MATCH(ROW()-5,geb.Rechnung!$G$4:$G$1000,0),COLUMN()-1))","v":""},{"$f":"IF(ISNA(INDEX(geb.Rechnung!$A$4:$G$1000,MATCH(ROW()-5,geb.Rechnung!$G$4:$G$1000,0),COLUMN()-2)),\"\",INDEX(geb.Rechnung!$A$4:$G$1000,MATCH(ROW()-5,geb.Rechnung!$G$4:$G$1000,0),COLUMN()-2))","v":""},{"$f":"IF(ISNA(INDEX(geb.Rechnung!$A$4:$G$1000,MATCH(ROW()-5,geb.Rechnung!$G$4:$G$1000,0),COLUMN()+1)),\"\",INDEX(geb.Rechnung!$A$4:$G$1000,MATCH(ROW()-5,geb.Rechnung!$G$4:$G$1000,0),COLUMN()+1))","v":""},{"$f":"IF(ISNA(INDEX(geb.Rechnung!$A$4:$G$1000,MATCH(ROW()-5,geb.Rechnung!$G$4:$G$1000,0),COLUMN()+1)),\"\",INDEX(geb.Rechnung!$A$4:$G$1000,MATCH(ROW()-5,geb.Rechnung!$G$4:$G$1000,0),COLUMN()+1))","v":""}]
[{"$f":"IF(ISNA(INDEX(geb.Rechnung!$A$4:$G$1000,MATCH(ROW()-5,geb.Rechnung!$G$4:$G$1000,0),COLUMN()-1)),\"\",INDEX(geb.Rechnung!$A$4:$G$1000,MATCH(ROW()-5,geb.Rechnung!$G$4:$G$1000,0),COLUMN()-1))","v":""},{"$f":"IF(ISNA(INDEX(geb.Rechnung!$A$4:$G$1000,MATCH(ROW()-5,geb.Rechnung!$G$4:$G$1000,0),COLUMN()-2)),\"\",INDEX(geb.Rechnung!$A$4:$G$1000,MATCH(ROW()-5,geb.Rechnung!$G$4:$G$1000,0),COLUMN()-2))","v":""},{"$f":"IF(ISNA(INDEX(geb.Rechnung!$A$4:$G$1000,MATCH(ROW()-5,geb.Rechnung!$G$4:$G$1000,0),COLUMN()+1)),\"\",INDEX(geb.Rechnung!$A$4:$G$1000,MATCH(ROW()-5,geb.Rechnung!$G$4:$G$1000,0),COLUMN()+1))","v":""},{"$f":"IF(ISNA(INDEX(geb.Rechnung!$A$4:$G$1000,MATCH(ROW()-5,geb.Rechnung!$G$4:$G$1000,0),COLUMN()+1)),\"\",INDEX(geb.Rechnung!$A$4:$G$1000,MATCH(ROW()-5,geb.Rechnung!$G$4:$G$1000,0),COLUMN()+1))","v":""}]
[{"$f":"IF(ISNA(INDEX(geb.Rechnung!$A$4:$G$1000,MATCH(ROW()-5,geb.Rechnung!$G$4:$G$1000,0),COLUMN()-1)),\"\",INDEX(geb.Rechnung!$A$4:$G$1000,MATCH(ROW()-5,geb.Rechnung!$G$4:$G$1000,0),COLUMN()-1))","v":""},{"$f":"IF(ISNA(INDEX(geb.Rechnung!$A$4:$G$1000,MATCH(ROW()-5,geb.Rechnung!$G$4:$G$1000,0),COLUMN()-2)),\"\",INDEX(geb.Rechnung!$A$4:$G$1000,MATCH(ROW()-5,geb.Rechnung!$G$4:$G$1000,0),COLUMN()-2))","v":""},{"$f":"IF(ISNA(INDEX(geb.Rechnung!$A$4:$G$1000,MATCH(ROW()-5,geb.Rechnung!$G$4:$G$1000,0),COLUMN()+1)),\"\",INDEX(geb.Rechnung!$A$4:$G$1000,MATCH(ROW()-5,geb.Rechnung!$G$4:$G$1000,0),COLUMN()+1))","v":""},{"$f":"IF(ISNA(INDEX(geb.Rechnung!$A$4:$G$1000,MATCH(ROW()-5,geb.Rechnung!$G$4:$G$1000,0),COLUMN()+1)),\"\",INDEX(geb.Rechnung!$A$4:$G$1000,MATCH(ROW()-5,geb.Rechnung!$G$4:$G$1000,0),COLUMN()+1))","v":""}]
[{"$f":"IF(ISNA(INDEX(geb.Rechnung!$A$4:$G$1000,MATCH(ROW()-5,geb.Rechnung!$G$4:$G$1000,0),COLUMN()-1)),\"\",INDEX(geb.Rechnung!$A$4:$G$1000,MATCH(ROW()-5,geb.Rechnung!$G$4:$G$1000,0),COLUMN()-1))","v":""},{"$f":"IF(ISNA(INDEX(geb.Rechnung!$A$4:$G$1000,MATCH(ROW()-5,geb.Rechnung!$G$4:$G$1000,0),COLUMN()-2)),\"\",INDEX(geb.Rechnung!$A$4:$G$1000,MATCH(ROW()-5,geb.Rechnung!$G$4:$G$1000,0),COLUMN()-2))","v":""},{"$f":"IF(ISNA(INDEX(geb.Rechnung!$A$4:$G$1000,MATCH(ROW()-5,geb.Rechnung!$G$4:$G$1000,0),COLUMN()+1)),\"\",INDEX(geb.Rechnung!$A$4:$G$1000,MATCH(ROW()-5,geb.Rechnung!$G$4:$G$1000,0),COLUMN()+1))","v":""},{"$f":"IF(ISNA(INDEX(geb.Rechnung!$A$4:$G$1000,MATCH(ROW()-5,geb.Rechnung!$G$4:$G$1000,0),COLUMN()+1)),\"\",INDEX(geb.Rechnung!$A$4:$G$1000,MATCH(ROW()-5,geb.Rechnung!$G$4:$G$1000,0),COLUMN()+1))","v":""}]
[{"$f":"IF(ISNA(INDEX(geb.Rechnung!$A$4:$G$1000,MATCH(ROW()-5,geb.Rechnung!$G$4:$G$1000,0),COLUMN()-1)),\"\",INDEX(geb.Rechnung!$A$4:$G$1000,MATCH(ROW()-5,geb.Rechnung!$G$4:$G$1000,0),COLUMN()-1))","v":""},{"$f":"IF(ISNA(INDEX(geb.Rechnung!$A$4:$G$1000,MATCH(ROW()-5,geb.Rechnung!$G$4:$G$1000,0),COLUMN()-2)),\"\",INDEX(geb.Rechnung!$A$4:$G$1000,MATCH(ROW()-5,geb.Rechnung!$G$4:$G$1000,0),COLUMN()-2))","v":""},{"$f":"IF(ISNA(INDEX(geb.Rechnung!$A$4:$G$1000,MATCH(ROW()-5,geb.Rechnung!$G$4:$G$1000,0),COLUMN()+1)),\"\",INDEX(geb.Rechnung!$A$4:$G$1000,MATCH(ROW()-5,geb.Rechnung!$G$4:$G$1000,0),COLUMN()+1))","v":""},{"$f":"IF(ISNA(INDEX(geb.Rechnung!$A$4:$G$1000,MATCH(ROW()-5,geb.Rechnung!$G$4:$G$1000,0),COLUMN()+1)),\"\",INDEX(geb.Rechnung!$A$4:$G$1000,MATCH(ROW()-5,geb.Rechnung!$G$4:$G$1000,0),COLUMN()+1))","v":""}]
[{"$f":"IF(ISNA(INDEX(geb.Rechnung!$A$4:$G$1000,MATCH(ROW()-5,geb.Rechnung!$G$4:$G$1000,0),COLUMN()-1)),\"\",INDEX(geb.Rechnung!$A$4:$G$1000,MATCH(ROW()-5,geb.Rechnung!$G$4:$G$1000,0),COLUMN()-1))","v":""},{"$f":"IF(ISNA(INDEX(geb.Rechnung!$A$4:$G$1000,MATCH(ROW()-5,geb.Rechnung!$G$4:$G$1000,0),COLUMN()-2)),\"\",INDEX(geb.Rechnung!$A$4:$G$1000,MATCH(ROW()-5,geb.Rechnung!$G$4:$G$1000,0),COLUMN()-2))","v":""},{"$f":"IF(ISNA(INDEX(geb.Rechnung!$A$4:$G$1000,MATCH(ROW()-5,geb.Rechnung!$G$4:$G$1000,0),COLUMN()+1)),\"\",INDEX(geb.Rechnung!$A$4:$G$1000,MATCH(ROW()-5,geb.Rechnung!$G$4:$G$1000,0),COLUMN()+1))","v":""},{"$f":"IF(ISNA(INDEX(geb.Rechnung!$A$4:$G$1000,MATCH(ROW()-5,geb.Rechnung!$G$4:$G$1000,0),COLUMN()+1)),\"\",INDEX(geb.Rechnung!$A$4:$G$1000,MATCH(ROW()-5,geb.Rechnung!$G$4:$G$1000,0),COLUMN()+1))","v":""}]
[{"$f":"IF(ISNA(INDEX(geb.Rechnung!$A$4:$G$1000,MATCH(ROW()-5,geb.Rechnung!$G$4:$G$1000,0),COLUMN()-1)),\"\",INDEX(geb.Rechnung!$A$4:$G$1000,MATCH(ROW()-5,geb.Rechnung!$G$4:$G$1000,0),COLUMN()-1))","v":""},{"$f":"IF(ISNA(INDEX(geb.Rechnung!$A$4:$G$1000,MATCH(ROW()-5,geb.Rechnung!$G$4:$G$1000,0),COLUMN()-2)),\"\",INDEX(geb.Rechnung!$A$4:$G$1000,MATCH(ROW()-5,geb.Rechnung!$G$4:$G$1000,0),COLUMN()-2))","v":""},{"$f":"IF(ISNA(INDEX(geb.Rechnung!$A$4:$G$1000,MATCH(ROW()-5,geb.Rechnung!$G$4:$G$1000,0),COLUMN()+1)),\"\",INDEX(geb.Rechnung!$A$4:$G$1000,MATCH(ROW()-5,geb.Rechnung!$G$4:$G$1000,0),COLUMN()+1))","v":""},{"$f":"IF(ISNA(INDEX(geb.Rechnung!$A$4:$G$1000,MATCH(ROW()-5,geb.Rechnung!$G$4:$G$1000,0),COLUMN()+1)),\"\",INDEX(geb.Rechnung!$A$4:$G$1000,MATCH(ROW()-5,geb.Rechnung!$G$4:$G$1000,0),COLUMN()+1))","v":""}]
[{"$f":"IF(ISNA(INDEX(geb.Rechnung!$A$4:$G$1000,MATCH(ROW()-5,geb.Rechnung!$G$4:$G$1000,0),COLUMN()-1)),\"\",INDEX(geb.Rechnung!$A$4:$G$1000,MATCH(ROW()-5,geb.Rechnung!$G$4:$G$1000,0),COLUMN()-1))","v":""},{"$f":"IF(ISNA(INDEX(geb.Rechnung!$A$4:$G$1000,MATCH(ROW()-5,geb.Rechnung!$G$4:$G$1000,0),COLUMN()-2)),\"\",INDEX(geb.Rechnung!$A$4:$G$1000,MATCH(ROW()-5,geb.Rechnung!$G$4:$G$1000,0),COLUMN()-2))","v":""},{"$f":"IF(ISNA(INDEX(geb.Rechnung!$A$4:$G$1000,MATCH(ROW()-5,geb.Rechnung!$G$4:$G$1000,0),COLUMN()+1)),\"\",INDEX(geb.Rechnung!$A$4:$G$1000,MATCH(ROW()-5,geb.Rechnung!$G$4:$G$1000,0),COLUMN()+1))","v":""},{"$f":"IF(ISNA(INDEX(geb.Rechnung!$A$4:$G$1000,MATCH(ROW()-5,geb.Rechnung!$G$4:$G$1000,0),COLUMN()+1)),\"\",INDEX(geb.Rechnung!$A$4:$G$1000,MATCH(ROW()-5,geb.Rechnung!$G$4:$G$1000,0),COLUMN()+1))","v":""}]
[{"$f":"IF(ISNA(INDEX(geb.Rechnung!$A$4:$G$1000,MATCH(ROW()-5,geb.Rechnung!$G$4:$G$1000,0),COLUMN()-1)),\"\",INDEX(geb.Rechnung!$A$4:$G$1000,MATCH(ROW()-5,geb.Rechnung!$G$4:$G$1000,0),COLUMN()-1))","v":""},{"$f":"IF(ISNA(INDEX(geb.Rechnung!$A$4:$G$1000,MATCH(ROW()-5,geb.Rechnung!$G$4:$G$1000,0),COLUMN()-2)),\"\",INDEX(geb.Rechnung!$A$4:$G$1000,MATCH(ROW()-5,geb.Rechnung!$G$4:$G$1000,0),COLUMN()-2))","v":""},{"$f":"IF(ISNA(INDEX(geb.Rechnung!$A$4:$G$1000,MATCH(ROW()-5,geb.Rechnung!$G$4:$G$1000,0),COLUMN()+1)),\"\",INDEX(geb.Rechnung!$A$4:$G$1000,MATCH(ROW()-5,geb.Rechnung!$G$4:$G$1000,0),COLUMN()+1))","v":""},{"$f":"IF(ISNA(INDEX(geb.Rechnung!$A$4:$G$1000,MATCH(ROW()-5,geb.Rechnung!$G$4:$G$1000,0),COLUMN()+1)),\"\",INDEX(geb.Rechnung!$A$4:$G$1000,MATCH(ROW()-5,geb.Rechnung!$G$4:$G$1000,0),COLUMN()+1))","v":""}]
[{"$f":"IF(ISNA(INDEX(geb.Rechnung!$A$4:$G$1000,MATCH(ROW()-5,geb.Rechnung!$G$4:$G$1000,0),COLUMN()-1)),\"\",INDEX(geb.Rechnung!$A$4:$G$1000,MATCH(ROW()-5,geb.Rechnung!$G$4:$G$1000,0),COLUMN()-1))","v":""},{"$f":"IF(ISNA(INDEX(geb.Rechnung!$A$4:$G$1000,MATCH(ROW()-5,geb.Rechnung!$G$4:$G$1000,0),COLUMN()-2)),\"\",INDEX(geb.Rechnung!$A$4:$G$1000,MATCH(ROW()-5,geb.Rechnung!$G$4:$G$1000,0),COLUMN()-2))","v":""},{"$f":"IF(ISNA(INDEX(geb.Rechnung!$A$4:$G$1000,MATCH(ROW()-5,geb.Rechnung!$G$4:$G$1000,0),COLUMN()+1)),\"\",INDEX(geb.Rechnung!$A$4:$G$1000,MATCH(ROW()-5,geb.Rechnung!$G$4:$G$1000,0),COLUMN()+1))","v":""},{"$f":"IF(ISNA(INDEX(geb.Rechnung!$A$4:$G$1000,MATCH(ROW()-5,geb.Rechnung!$G$4:$G$1000,0),COLUMN()+1)),\"\",INDEX(geb.Rechnung!$A$4:$G$1000,MATCH(ROW()-5,geb.Rechnung!$G$4:$G$1000,0),COLUMN()+1))","v":""}]
[{"$f":"IF(ISNA(INDEX(geb.Rechnung!$A$4:$G$1000,MATCH(ROW()-5,geb.Rechnung!$G$4:$G$1000,0),COLUMN()-1)),\"\",INDEX(geb.Rechnung!$A$4:$G$1000,MATCH(ROW()-5,geb.Rechnung!$G$4:$G$1000,0),COLUMN()-1))","v":""},{"$f":"IF(ISNA(INDEX(geb.Rechnung!$A$4:$G$1000,MATCH(ROW()-5,geb.Rechnung!$G$4:$G$1000,0),COLUMN()-2)),\"\",INDEX(geb.Rechnung!$A$4:$G$1000,MATCH(ROW()-5,geb.Rechnung!$G$4:$G$1000,0),COLUMN()-2))","v":""},{"$f":"IF(ISNA(INDEX(geb.Rechnung!$A$4:$G$1000,MATCH(ROW()-5,geb.Rechnung!$G$4:$G$1000,0),COLUMN()+1)),\"\",INDEX(geb.Rechnung!$A$4:$G$1000,MATCH(ROW()-5,geb.Rechnung!$G$4:$G$1000,0),COLUMN()+1))","v":""},{"$f":"IF(ISNA(INDEX(geb.Rechnung!$A$4:$G$1000,MATCH(ROW()-5,geb.Rechnung!$G$4:$G$1000,0),COLUMN()+1)),\"\",INDEX(geb.Rechnung!$A$4:$G$1000,MATCH(ROW()-5,geb.Rechnung!$G$4:$G$1000,0),COLUMN()+1))","v":""}]
[{"$f":"IF(ISNA(INDEX(geb.Rechnung!$A$4:$G$1000,MATCH(ROW()-5,geb.Rechnung!$G$4:$G$1000,0),COLUMN()-1)),\"\",INDEX(geb.Rechnung!$A$4:$G$1000,MATCH(ROW()-5,geb.Rechnung!$G$4:$G$1000,0),COLUMN()-1))","v":""},{"$f":"IF(ISNA(INDEX(geb.Rechnung!$A$4:$G$1000,MATCH(ROW()-5,geb.Rechnung!$G$4:$G$1000,0),COLUMN()-2)),\"\",INDEX(geb.Rechnung!$A$4:$G$1000,MATCH(ROW()-5,geb.Rechnung!$G$4:$G$1000,0),COLUMN()-2))","v":""},{"$f":"IF(ISNA(INDEX(geb.Rechnung!$A$4:$G$1000,MATCH(ROW()-5,geb.Rechnung!$G$4:$G$1000,0),COLUMN()+1)),\"\",INDEX(geb.Rechnung!$A$4:$G$1000,MATCH(ROW()-5,geb.Rechnung!$G$4:$G$1000,0),COLUMN()+1))","v":""},{"$f":"IF(ISNA(INDEX(geb.Rechnung!$A$4:$G$1000,MATCH(ROW()-5,geb.Rechnung!$G$4:$G$1000,0),COLUMN()+1)),\"\",INDEX(geb.Rechnung!$A$4:$G$1000,MATCH(ROW()-5,geb.Rechnung!$G$4:$G$1000,0),COLUMN()+1))","v":""}]
[{"$f":"IF(ISNA(INDEX(geb.Rechnung!$A$4:$G$1000,MATCH(ROW()-5,geb.Rechnung!$G$4:$G$1000,0),COLUMN()-1)),\"\",INDEX(geb.Rechnung!$A$4:$G$1000,MATCH(ROW()-5,geb.Rechnung!$G$4:$G$1000,0),COLUMN()-1))","v":""},{"$f":"IF(ISNA(INDEX(geb.Rechnung!$A$4:$G$1000,MATCH(ROW()-5,geb.Rechnung!$G$4:$G$1000,0),COLUMN()-2)),\"\",INDEX(geb.Rechnung!$A$4:$G$1000,MATCH(ROW()-5,geb.Rechnung!$G$4:$G$1000,0),COLUMN()-2))","v":""},{"$f":"IF(ISNA(INDEX(geb.Rechnung!$A$4:$G$1000,MATCH(ROW()-5,geb.Rechnung!$G$4:$G$1000,0),COLUMN()+1)),\"\",INDEX(geb.Rechnung!$A$4:$G$1000,MATCH(ROW()-5,geb.Rechnung!$G$4:$G$1000,0),COLUMN()+1))","v":""},{"$f":"IF(ISNA(INDEX(geb.Rechnung!$A$4:$G$1000,MATCH(ROW()-5,geb.Rechnung!$G$4:$G$1000,0),COLUMN()+1)),\"\",INDEX(geb.Rechnung!$A$4:$G$1000,MATCH(ROW()-5,geb.Rechnung!$G$4:$G$1000,0),COLUMN()+1))","v":""}]
[{"$f":"IF(ISNA(INDEX(geb.Rechnung!$A$4:$G$1000,MATCH(ROW()-5,geb.Rechnung!$G$4:$G$1000,0),COLUMN()-1)),\"\",INDEX(geb.Rechnung!$A$4:$G$1000,MATCH(ROW()-5,geb.Rechnung!$G$4:$G$1000,0),COLUMN()-1))","v":""},{"$f":"IF(ISNA(INDEX(geb.Rechnung!$A$4:$G$1000,MATCH(ROW()-5,geb.Rechnung!$G$4:$G$1000,0),COLUMN()-2)),\"\",INDEX(geb.Rechnung!$A$4:$G$1000,MATCH(ROW()-5,geb.Rechnung!$G$4:$G$1000,0),COLUMN()-2))","v":""},{"$f":"IF(ISNA(INDEX(geb.Rechnung!$A$4:$G$1000,MATCH(ROW()-5,geb.Rechnung!$G$4:$G$1000,0),COLUMN()+1)),\"\",INDEX(geb.Rechnung!$A$4:$G$1000,MATCH(ROW()-5,geb.Rechnung!$G$4:$G$1000,0),COLUMN()+1))","v":""},{"$f":"IF(ISNA(INDEX(geb.Rechnung!$A$4:$G$1000,MATCH(ROW()-5,geb.Rechnung!$G$4:$G$1000,0),COLUMN()+1)),\"\",INDEX(geb.Rechnung!$A$4:$G$1000,MATCH(ROW()-5,geb.Rechnung!$G$4:$G$1000,0),COLUMN()+1))","v":""}]
[{"$f":"IF(ISNA(INDEX(geb.Rechnung!$A$4:$G$1000,MATCH(ROW()-5,geb.Rechnung!$G$4:$G$1000,0),COLUMN()-1)),\"\",INDEX(geb.Rechnung!$A$4:$G$1000,MATCH(ROW()-5,geb.Rechnung!$G$4:$G$1000,0),COLUMN()-1))","v":""},{"$f":"IF(ISNA(INDEX(geb.Rechnung!$A$4:$G$1000,MATCH(ROW()-5,geb.Rechnung!$G$4:$G$1000,0),COLUMN()-2)),\"\",INDEX(geb.Rechnung!$A$4:$G$1000,MATCH(ROW()-5,geb.Rechnung!$G$4:$G$1000,0),COLUMN()-2))","v":""},{"$f":"IF(ISNA(INDEX(geb.Rechnung!$A$4:$G$1000,MATCH(ROW()-5,geb.Rechnung!$G$4:$G$1000,0),COLUMN()+1)),\"\",INDEX(geb.Rechnung!$A$4:$G$1000,MATCH(ROW()-5,geb.Rechnung!$G$4:$G$1000,0),COLUMN()+1))","v":""},{"$f":"IF(ISNA(INDEX(geb.Rechnung!$A$4:$G$1000,MATCH(ROW()-5,geb.Rechnung!$G$4:$G$1000,0),COLUMN()+1)),\"\",INDEX(geb.Rechnung!$A$4:$G$1000,MATCH(ROW()-5,geb.Rechnung!$G$4:$G$1000,0),COLUMN()+1))","v":""}]
[{"$f":"IF(ISNA(INDEX(geb.Rechnung!$A$4:$G$1000,MATCH(ROW()-5,geb.Rechnung!$G$4:$G$1000,0),COLUMN()-1)),\"\",INDEX(geb.Rechnung!$A$4:$G$1000,MATCH(ROW()-5,geb.Rechnung!$G$4:$G$1000,0),COLUMN()-1))","v":""},{"$f":"IF(ISNA(INDEX(geb.Rechnung!$A$4:$G$1000,MATCH(ROW()-5,geb.Rechnung!$G$4:$G$1000,0),COLUMN()-2)),\"\",INDEX(geb.Rechnung!$A$4:$G$1000,MATCH(ROW()-5,geb.Rechnung!$G$4:$G$1000,0),COLUMN()-2))","v":""},{"$f":"IF(ISNA(INDEX(geb.Rechnung!$A$4:$G$1000,MATCH(ROW()-5,geb.Rechnung!$G$4:$G$1000,0),COLUMN()+1)),\"\",INDEX(geb.Rechnung!$A$4:$G$1000,MATCH(ROW()-5,geb.Rechnung!$G$4:$G$1000,0),COLUMN()+1))","v":""},{"$f":"IF(ISNA(INDEX(geb.Rechnung!$A$4:$G$1000,MATCH(ROW()-5,geb.Rechnung!$G$4:$G$1000,0),COLUMN()+1)),\"\",INDEX(geb.Rechnung!$A$4:$G$1000,MATCH(ROW()-5,geb.Rechnung!$G$4:$G$1000,0),COLUMN()+1))","v":""}]
[{"$f":"IF(ISNA(INDEX(geb.Rechnung!$A$4:$G$1000,MATCH(ROW()-5,geb.Rechnung!$G$4:$G$1000,0),COLUMN()-1)),\"\",INDEX(geb.Rechnung!$A$4:$G$1000,MATCH(ROW()-5,geb.Rechnung!$G$4:$G$1000,0),COLUMN()-1))","v":""},{"$f":"IF(ISNA(INDEX(geb.Rechnung!$A$4:$G$1000,MATCH(ROW()-5,geb.Rechnung!$G$4:$G$1000,0),COLUMN()-2)),\"\",INDEX(geb.Rechnung!$A$4:$G$1000,MATCH(ROW()-5,geb.Rechnung!$G$4:$G$1000,0),COLUMN()-2))","v":""},{"$f":"IF(ISNA(INDEX(geb.Rechnung!$A$4:$G$1000,MATCH(ROW()-5,geb.Rechnung!$G$4:$G$1000,0),COLUMN()+1)),\"\",INDEX(geb.Rechnung!$A$4:$G$1000,MATCH(ROW()-5,geb.Rechnung!$G$4:$G$1000,0),COLUMN()+1))","v":""},{"$f":"IF(ISNA(INDEX(geb.Rechnung!$A$4:$G$1000,MATCH(ROW()-5,geb.Rechnung!$G$4:$G$1000,0),COLUMN()+1)),\"\",INDEX(geb.Rechnung!$A$4:$G$1000,MATCH(ROW()-5,geb.Rechnung!$G$4:$G$1000,0),COLUMN()+1))","v":""}]
[{"$f":"IF(ISNA(INDEX(geb.Rechnung!$A$4:$G$1000,MATCH(ROW()-5,geb.Rechnung!$G$4:$G$1000,0),COLUMN()-1)),\"\",INDEX(geb.Rechnung!$A$4:$G$1000,MATCH(ROW()-5,geb.Rechnung!$G$4:$G$1000,0),COLUMN()-1))","v":""},{"$f":"IF(ISNA(INDEX(geb.Rechnung!$A$4:$G$1000,MATCH(ROW()-5,geb.Rechnung!$G$4:$G$1000,0),COLUMN()-2)),\"\",INDEX(geb.Rechnung!$A$4:$G$1000,MATCH(ROW()-5,geb.Rechnung!$G$4:$G$1000,0),COLUMN()-2))","v":""},{"$f":"IF(ISNA(INDEX(geb.Rechnung!$A$4:$G$1000,MATCH(ROW()-5,geb.Rechnung!$G$4:$G$1000,0),COLUMN()+1)),\"\",INDEX(geb.Rechnung!$A$4:$G$1000,MATCH(ROW()-5,geb.Rechnung!$G$4:$G$1000,0),COLUMN()+1))","v":""},{"$f":"IF(ISNA(INDEX(geb.Rechnung!$A$4:$G$1000,MATCH(ROW()-5,geb.Rechnung!$G$4:$G$1000,0),COLUMN()+1)),\"\",INDEX(geb.Rechnung!$A$4:$G$1000,MATCH(ROW()-5,geb.Rechnung!$G$4:$G$1000,0),COLUMN()+1))","v":""}]
[{"$f":"IF(ISNA(INDEX(geb.Rechnung!$A$4:$G$1000,MATCH(ROW()-5,geb.Rechnung!$G$4:$G$1000,0),COLUMN()-1)),\"\",INDEX(geb.Rechnung!$A$4:$G$1000,MATCH(ROW()-5,geb.Rechnung!$G$4:$G$1000,0),COLUMN()-1))","v":""},{"$f":"IF(ISNA(INDEX(geb.Rechnung!$A$4:$G$1000,MATCH(ROW()-5,geb.Rechnung!$G$4:$G$1000,0),COLUMN()-2)),\"\",INDEX(geb.Rechnung!$A$4:$G$1000,MATCH(ROW()-5,geb.Rechnung!$G$4:$G$1000,0),COLUMN()-2))","v":""},{"$f":"IF(ISNA(INDEX(geb.Rechnung!$A$4:$G$1000,MATCH(ROW()-5,geb.Rechnung!$G$4:$G$1000,0),COLUMN()+1)),\"\",INDEX(geb.Rechnung!$A$4:$G$1000,MATCH(ROW()-5,geb.Rechnung!$G$4:$G$1000,0),COLUMN()+1))","v":""},{"$f":"IF(ISNA(INDEX(geb.Rechnung!$A$4:$G$1000,MATCH(ROW()-5,geb.Rechnung!$G$4:$G$1000,0),COLUMN()+1)),\"\",INDEX(geb.Rechnung!$A$4:$G$1000,MATCH(ROW()-5,geb.Rechnung!$G$4:$G$1000,0),COLUMN()+1))","v":""}]
[{"$f":"IF(ISNA(INDEX(geb.Rechnung!$A$4:$G$1000,MATCH(ROW()-5,geb.Rechnung!$G$4:$G$1000,0),COLUMN()-1)),\"\",INDEX(geb.Rechnung!$A$4:$G$1000,MATCH(ROW()-5,geb.Rechnung!$G$4:$G$1000,0),COLUMN()-1))","v":""},{"$f":"IF(ISNA(INDEX(geb.Rechnung!$A$4:$G$1000,MATCH(ROW()-5,geb.Rechnung!$G$4:$G$1000,0),COLUMN()-2)),\"\",INDEX(geb.Rechnung!$A$4:$G$1000,MATCH(ROW()-5,geb.Rechnung!$G$4:$G$1000,0),COLUMN()-2))","v":""},{"$f":"IF(ISNA(INDEX(geb.Rechnung!$A$4:$G$1000,MATCH(ROW()-5,geb.Rechnung!$G$4:$G$1000,0),COLUMN()+1)),\"\",INDEX(geb.Rechnung!$A$4:$G$1000,MATCH(ROW()-5,geb.Rechnung!$G$4:$G$1000,0),COLUMN()+1))","v":""},{"$f":"IF(ISNA(INDEX(geb.Rechnung!$A$4:$G$1000,MATCH(ROW()-5,geb.Rechnung!$G$4:$G$1000,0),COLUMN()+1)),\"\",INDEX(geb.Rechnung!$A$4:$G$1000,MATCH(ROW()-5,geb.Rechnung!$G$4:$G$1000,0),COLUMN()+1))","v":""}]
[{"$f":"IF(ISNA(INDEX(geb.Rechnung!$A$4:$G$1000,MATCH(ROW()-5,geb.Rechnung!$G$4:$G$1000,0),COLUMN()-1)),\"\",INDEX(geb.Rechnung!$A$4:$G$1000,MATCH(ROW()-5,geb.Rechnung!$G$4:$G$1000,0),COLUMN()-1))","v":""},{"$f":"IF(ISNA(INDEX(geb.Rechnung!$A$4:$G$1000,MATCH(ROW()-5,geb.Rechnung!$G$4:$G$1000,0),COLUMN()-2)),\"\",INDEX(geb.Rechnung!$A$4:$G$1000,MATCH(ROW()-5,geb.Rechnung!$G$4:$G$1000,0),COLUMN()-2))","v":""},{"$f":"IF(ISNA(INDEX(geb.Rechnung!$A$4:$G$1000,MATCH(ROW()-5,geb.Rechnung!$G$4:$G$1000,0),COLUMN()+1)),\"\",INDEX(geb.Rechnung!$A$4:$G$1000,MATCH(ROW()-5,geb.Rechnung!$G$4:$G$1000,0),COLUMN()+1))","v":""},{"$f":"IF(ISNA(INDEX(geb.Rechnung!$A$4:$G$1000,MATCH(ROW()-5,geb.Rechnung!$G$4:$G$1000,0),COLUMN()+1)),\"\",INDEX(geb.Rechnung!$A$4:$G$1000,MATCH(ROW()-5,geb.Rechnung!$G$4:$G$1000,0),COLUMN()+1))","v":""}]
[{"$f":"IF(ISNA(INDEX(geb.Rechnung!$A$4:$G$1000,MATCH(ROW()-5,geb.Rechnung!$G$4:$G$1000,0),COLUMN()-1)),\"\",INDEX(geb.Rechnung!$A$4:$G$1000,MATCH(ROW()-5,geb.Rechnung!$G$4:$G$1000,0),COLUMN()-1))","v":""},{"$f":"IF(ISNA(INDEX(geb.Rechnung!$A$4:$G$1000,MATCH(ROW()-5,geb.Rechnung!$G$4:$G$1000,0),COLUMN()-2)),\"\",INDEX(geb.Rechnung!$A$4:$G$1000,MATCH(ROW()-5,geb.Rechnung!$G$4:$G$1000,0),COLUMN()-2))","v":""},{"$f":"IF(ISNA(INDEX(geb.Rechnung!$A$4:$G$1000,MATCH(ROW()-5,geb.Rechnung!$G$4:$G$1000,0),COLUMN()+1)),\"\",INDEX(geb.Rechnung!$A$4:$G$1000,MATCH(ROW()-5,geb.Rechnung!$G$4:$G$1000,0),COLUMN()+1))","v":""},{"$f":"IF(ISNA(INDEX(geb.Rechnung!$A$4:$G$1000,MATCH(ROW()-5,geb.Rechnung!$G$4:$G$1000,0),COLUMN()+1)),\"\",INDEX(geb.Rechnung!$A$4:$G$1000,MATCH(ROW()-5,geb.Rechnung!$G$4:$G$1000,0),COLUMN()+1))","v":""}]
[{"$f":"IF(ISNA(INDEX(geb.Rechnung!$A$4:$G$1000,MATCH(ROW()-5,geb.Rechnung!$G$4:$G$1000,0),COLUMN()-1)),\"\",INDEX(geb.Rechnung!$A$4:$G$1000,MATCH(ROW()-5,geb.Rechnung!$G$4:$G$1000,0),COLUMN()-1))","v":""},{"$f":"IF(ISNA(INDEX(geb.Rechnung!$A$4:$G$1000,MATCH(ROW()-5,geb.Rechnung!$G$4:$G$1000,0),COLUMN()-2)),\"\",INDEX(geb.Rechnung!$A$4:$G$1000,MATCH(ROW()-5,geb.Rechnung!$G$4:$G$1000,0),COLUMN()-2))","v":""},{"$f":"IF(ISNA(INDEX(geb.Rechnung!$A$4:$G$1000,MATCH(ROW()-5,geb.Rechnung!$G$4:$G$1000,0),COLUMN()+1)),\"\",INDEX(geb.Rechnung!$A$4:$G$1000,MATCH(ROW()-5,geb.Rechnung!$G$4:$G$1000,0),COLUMN()+1))","v":""},{"$f":"IF(ISNA(INDEX(geb.Rechnung!$A$4:$G$1000,MATCH(ROW()-5,geb.Rechnung!$G$4:$G$1000,0),COLUMN()+1)),\"\",INDEX(geb.Rechnung!$A$4:$G$1000,MATCH(ROW()-5,geb.Rechnung!$G$4:$G$1000,0),COLUMN()+1))","v":""}]
[{"$f":"IF(ISNA(INDEX(geb.Rechnung!$A$4:$G$1000,MATCH(ROW()-5,geb.Rechnung!$G$4:$G$1000,0),COLUMN()-1)),\"\",INDEX(geb.Rechnung!$A$4:$G$1000,MATCH(ROW()-5,geb.Rechnung!$G$4:$G$1000,0),COLUMN()-1))","v":""},{"$f":"IF(ISNA(INDEX(geb.Rechnung!$A$4:$G$1000,MATCH(ROW()-5,geb.Rechnung!$G$4:$G$1000,0),COLUMN()-2)),\"\",INDEX(geb.Rechnung!$A$4:$G$1000,MATCH(ROW()-5,geb.Rechnung!$G$4:$G$1000,0),COLUMN()-2))","v":""},{"$f":"IF(ISNA(INDEX(geb.Rechnung!$A$4:$G$1000,MATCH(ROW()-5,geb.Rechnung!$G$4:$G$1000,0),COLUMN()+1)),\"\",INDEX(geb.Rechnung!$A$4:$G$1000,MATCH(ROW()-5,geb.Rechnung!$G$4:$G$1000,0),COLUMN()+1))","v":""},{"$f":"IF(ISNA(INDEX(geb.Rechnung!$A$4:$G$1000,MATCH(ROW()-5,geb.Rechnung!$G$4:$G$1000,0),COLUMN()+1)),\"\",INDEX(geb.Rechnung!$A$4:$G$1000,MATCH(ROW()-5,geb.Rechnung!$G$4:$G$1000,0),COLUMN()+1))","v":""}]
[{"$f":"IF(ISNA(INDEX(geb.Rechnung!$A$4:$G$1000,MATCH(ROW()-5,geb.Rechnung!$G$4:$G$1000,0),COLUMN()-1)),\"\",INDEX(geb.Rechnung!$A$4:$G$1000,MATCH(ROW()-5,geb.Rechnung!$G$4:$G$1000,0),COLUMN()-1))","v":""},{"$f":"IF(ISNA(INDEX(geb.Rechnung!$A$4:$G$1000,MATCH(ROW()-5,geb.Rechnung!$G$4:$G$1000,0),COLUMN()-2)),\"\",INDEX(geb.Rechnung!$A$4:$G$1000,MATCH(ROW()-5,geb.Rechnung!$G$4:$G$1000,0),COLUMN()-2))","v":""},{"$f":"IF(ISNA(INDEX(geb.Rechnung!$A$4:$G$1000,MATCH(ROW()-5,geb.Rechnung!$G$4:$G$1000,0),COLUMN()+1)),\"\",INDEX(geb.Rechnung!$A$4:$G$1000,MATCH(ROW()-5,geb.Rechnung!$G$4:$G$1000,0),COLUMN()+1))","v":""},{"$f":"IF(ISNA(INDEX(geb.Rechnung!$A$4:$G$1000,MATCH(ROW()-5,geb.Rechnung!$G$4:$G$1000,0),COLUMN()+1)),\"\",INDEX(geb.Rechnung!$A$4:$G$1000,MATCH(ROW()-5,geb.Rechnung!$G$4:$G$1000,0),COLUMN()+1))","v":""}]
[{"$f":"IF(ISNA(INDEX(geb.Rechnung!$A$4:$G$1000,MATCH(ROW()-5,geb.Rechnung!$G$4:$G$1000,0),COLUMN()-1)),\"\",INDEX(geb.Rechnung!$A$4:$G$1000,MATCH(ROW()-5,geb.Rechnung!$G$4:$G$1000,0),COLUMN()-1))","v":""},{"$f":"IF(ISNA(INDEX(geb.Rechnung!$A$4:$G$1000,MATCH(ROW()-5,geb.Rechnung!$G$4:$G$1000,0),COLUMN()-2)),\"\",INDEX(geb.Rechnung!$A$4:$G$1000,MATCH(ROW()-5,geb.Rechnung!$G$4:$G$1000,0),COLUMN()-2))","v":""},{"$f":"IF(ISNA(INDEX(geb.Rechnung!$A$4:$G$1000,MATCH(ROW()-5,geb.Rechnung!$G$4:$G$1000,0),COLUMN()+1)),\"\",INDEX(geb.Rechnung!$A$4:$G$1000,MATCH(ROW()-5,geb.Rechnung!$G$4:$G$1000,0),COLUMN()+1))","v":""},{"$f":"IF(ISNA(INDEX(geb.Rechnung!$A$4:$G$1000,MATCH(ROW()-5,geb.Rechnung!$G$4:$G$1000,0),COLUMN()+1)),\"\",INDEX(geb.Rechnung!$A$4:$G$1000,MATCH(ROW()-5,geb.Rechnung!$G$4:$G$1000,0),COLUMN()+1))","v":""}]
[{"$f":"IF(ISNA(INDEX(geb.Rechnung!$A$4:$G$1000,MATCH(ROW()-5,geb.Rechnung!$G$4:$G$1000,0),COLUMN()-1)),\"\",INDEX(geb.Rechnung!$A$4:$G$1000,MATCH(ROW()-5,geb.Rechnung!$G$4:$G$1000,0),COLUMN()-1))","v":""},{"$f":"IF(ISNA(INDEX(geb.Rechnung!$A$4:$G$1000,MATCH(ROW()-5,geb.Rechnung!$G$4:$G$1000,0),COLUMN()-2)),\"\",INDEX(geb.Rechnung!$A$4:$G$1000,MATCH(ROW()-5,geb.Rechnung!$G$4:$G$1000,0),COLUMN()-2))","v":""},{"$f":"IF(ISNA(INDEX(geb.Rechnung!$A$4:$G$1000,MATCH(ROW()-5,geb.Rechnung!$G$4:$G$1000,0),COLUMN()+1)),\"\",INDEX(geb.Rechnung!$A$4:$G$1000,MATCH(ROW()-5,geb.Rechnung!$G$4:$G$1000,0),COLUMN()+1))","v":""},{"$f":"IF(ISNA(INDEX(geb.Rechnung!$A$4:$G$1000,MATCH(ROW()-5,geb.Rechnung!$G$4:$G$1000,0),COLUMN()+1)),\"\",INDEX(geb.Rechnung!$A$4:$G$1000,MATCH(ROW()-5,geb.Rechnung!$G$4:$G$1000,0),COLUMN()+1))","v":""}]
[{"$f":"IF(ISNA(INDEX(geb.Rechnung!$A$4:$G$1000,MATCH(ROW()-5,geb.Rechnung!$G$4:$G$1000,0),COLUMN()-1)),\"\",INDEX(geb.Rechnung!$A$4:$G$1000,MATCH(ROW()-5,geb.Rechnung!$G$4:$G$1000,0),COLUMN()-1))","v":""},{"$f":"IF(ISNA(INDEX(geb.Rechnung!$A$4:$G$1000,MATCH(ROW()-5,geb.Rechnung!$G$4:$G$1000,0),COLUMN()-2)),\"\",INDEX(geb.Rechnung!$A$4:$G$1000,MATCH(ROW()-5,geb.Rechnung!$G$4:$G$1000,0),COLUMN()-2))","v":""},{"$f":"IF(ISNA(INDEX(geb.Rechnung!$A$4:$G$1000,MATCH(ROW()-5,geb.Rechnung!$G$4:$G$1000,0),COLUMN()+1)),\"\",INDEX(geb.Rechnung!$A$4:$G$1000,MATCH(ROW()-5,geb.Rechnung!$G$4:$G$1000,0),COLUMN()+1))","v":""},{"$f":"IF(ISNA(INDEX(geb.Rechnung!$A$4:$G$1000,MATCH(ROW()-5,geb.Rechnung!$G$4:$G$1000,0),COLUMN()+1)),\"\",INDEX(geb.Rechnung!$A$4:$G$1000,MATCH(ROW()-5,geb.Rechnung!$G$4:$G$1000,0),COLUMN()+1))","v":""}]
[{"$f":"IF(ISNA(INDEX(geb.Rechnung!$A$4:$G$1000,MATCH(ROW()-5,geb.Rechnung!$G$4:$G$1000,0),COLUMN()-1)),\"\",INDEX(geb.Rechnung!$A$4:$G$1000,MATCH(ROW()-5,geb.Rechnung!$G$4:$G$1000,0),COLUMN()-1))","v":""},{"$f":"IF(ISNA(INDEX(geb.Rechnung!$A$4:$G$1000,MATCH(ROW()-5,geb.Rechnung!$G$4:$G$1000,0),COLUMN()-2)),\"\",INDEX(geb.Rechnung!$A$4:$G$1000,MATCH(ROW()-5,geb.Rechnung!$G$4:$G$1000,0),COLUMN()-2))","v":""},{"$f":"IF(ISNA(INDEX(geb.Rechnung!$A$4:$G$1000,MATCH(ROW()-5,geb.Rechnung!$G$4:$G$1000,0),COLUMN()+1)),\"\",INDEX(geb.Rechnung!$A$4:$G$1000,MATCH(ROW()-5,geb.Rechnung!$G$4:$G$1000,0),COLUMN()+1))","v":""},{"$f":"IF(ISNA(INDEX(geb.Rechnung!$A$4:$G$1000,MATCH(ROW()-5,geb.Rechnung!$G$4:$G$1000,0),COLUMN()+1)),\"\",INDEX(geb.Rechnung!$A$4:$G$1000,MATCH(ROW()-5,geb.Rechnung!$G$4:$G$1000,0),COLUMN()+1))","v":""}]
[{"$f":"IF(ISNA(INDEX(geb.Rechnung!$A$4:$G$1000,MATCH(ROW()-5,geb.Rechnung!$G$4:$G$1000,0),COLUMN()-1)),\"\",INDEX(geb.Rechnung!$A$4:$G$1000,MATCH(ROW()-5,geb.Rechnung!$G$4:$G$1000,0),COLUMN()-1))","v":""},{"$f":"IF(ISNA(INDEX(geb.Rechnung!$A$4:$G$1000,MATCH(ROW()-5,geb.Rechnung!$G$4:$G$1000,0),COLUMN()-2)),\"\",INDEX(geb.Rechnung!$A$4:$G$1000,MATCH(ROW()-5,geb.Rechnung!$G$4:$G$1000,0),COLUMN()-2))","v":""},{"$f":"IF(ISNA(INDEX(geb.Rechnung!$A$4:$G$1000,MATCH(ROW()-5,geb.Rechnung!$G$4:$G$1000,0),COLUMN()+1)),\"\",INDEX(geb.Rechnung!$A$4:$G$1000,MATCH(ROW()-5,geb.Rechnung!$G$4:$G$1000,0),COLUMN()+1))","v":""},{"$f":"IF(ISNA(INDEX(geb.Rechnung!$A$4:$G$1000,MATCH(ROW()-5,geb.Rechnung!$G$4:$G$1000,0),COLUMN()+1)),\"\",INDEX(geb.Rechnung!$A$4:$G$1000,MATCH(ROW()-5,geb.Rechnung!$G$4:$G$1000,0),COLUMN()+1))","v":""}]
[{"$f":"IF(ISNA(INDEX(geb.Rechnung!$A$4:$G$1000,MATCH(ROW()-5,geb.Rechnung!$G$4:$G$1000,0),COLUMN()-1)),\"\",INDEX(geb.Rechnung!$A$4:$G$1000,MATCH(ROW()-5,geb.Rechnung!$G$4:$G$1000,0),COLUMN()-1))","v":""},{"$f":"IF(ISNA(INDEX(geb.Rechnung!$A$4:$G$1000,MATCH(ROW()-5,geb.Rechnung!$G$4:$G$1000,0),COLUMN()-2)),\"\",INDEX(geb.Rechnung!$A$4:$G$1000,MATCH(ROW()-5,geb.Rechnung!$G$4:$G$1000,0),COLUMN()-2))","v":""},{"$f":"IF(ISNA(INDEX(geb.Rechnung!$A$4:$G$1000,MATCH(ROW()-5,geb.Rechnung!$G$4:$G$1000,0),COLUMN()+1)),\"\",INDEX(geb.Rechnung!$A$4:$G$1000,MATCH(ROW()-5,geb.Rechnung!$G$4:$G$1000,0),COLUMN()+1))","v":""},{"$f":"IF(ISNA(INDEX(geb.Rechnung!$A$4:$G$1000,MATCH(ROW()-5,geb.Rechnung!$G$4:$G$1000,0),COLUMN()+1)),\"\",INDEX(geb.Rechnung!$A$4:$G$1000,MATCH(ROW()-5,geb.Rechnung!$G$4:$G$1000,0),COLUMN()+1))","v":""}]
[{"$f":"IF(ISNA(INDEX(geb.Rechnung!$A$4:$G$1000,MATCH(ROW()-5,geb.Rechnung!$G$4:$G$1000,0),COLUMN()-1)),\"\",INDEX(geb.Rechnung!$A$4:$G$1000,MATCH(ROW()-5,geb.Rechnung!$G$4:$G$1000,0),COLUMN()-1))","v":""},{"$f":"IF(ISNA(INDEX(geb.Rechnung!$A$4:$G$1000,MATCH(ROW()-5,geb.Rechnung!$G$4:$G$1000,0),COLUMN()-2)),\"\",INDEX(geb.Rechnung!$A$4:$G$1000,MATCH(ROW()-5,geb.Rechnung!$G$4:$G$1000,0),COLUMN()-2))","v":""},{"$f":"IF(ISNA(INDEX(geb.Rechnung!$A$4:$G$1000,MATCH(ROW()-5,geb.Rechnung!$G$4:$G$1000,0),COLUMN()+1)),\"\",INDEX(geb.Rechnung!$A$4:$G$1000,MATCH(ROW()-5,geb.Rechnung!$G$4:$G$1000,0),COLUMN()+1))","v":""},{"$f":"IF(ISNA(INDEX(geb.Rechnung!$A$4:$G$1000,MATCH(ROW()-5,geb.Rechnung!$G$4:$G$1000,0),COLUMN()+1)),\"\",INDEX(geb.Rechnung!$A$4:$G$1000,MATCH(ROW()-5,geb.Rechnung!$G$4:$G$1000,0),COLUMN()+1))","v":""}]
[{"$f":"IF(ISNA(INDEX(geb.Rechnung!$A$4:$G$1000,MATCH(ROW()-5,geb.Rechnung!$G$4:$G$1000,0),COLUMN()-1)),\"\",INDEX(geb.Rechnung!$A$4:$G$1000,MATCH(ROW()-5,geb.Rechnung!$G$4:$G$1000,0),COLUMN()-1))","v":""},{"$f":"IF(ISNA(INDEX(geb.Rechnung!$A$4:$G$1000,MATCH(ROW()-5,geb.Rechnung!$G$4:$G$1000,0),COLUMN()-2)),\"\",INDEX(geb.Rechnung!$A$4:$G$1000,MATCH(ROW()-5,geb.Rechnung!$G$4:$G$1000,0),COLUMN()-2))","v":""},{"$f":"IF(ISNA(INDEX(geb.Rechnung!$A$4:$G$1000,MATCH(ROW()-5,geb.Rechnung!$G$4:$G$1000,0),COLUMN()+1)),\"\",INDEX(geb.Rechnung!$A$4:$G$1000,MATCH(ROW()-5,geb.Rechnung!$G$4:$G$1000,0),COLUMN()+1))","v":""},{"$f":"IF(ISNA(INDEX(geb.Rechnung!$A$4:$G$1000,MATCH(ROW()-5,geb.Rechnung!$G$4:$G$1000,0),COLUMN()+1)),\"\",INDEX(geb.Rechnung!$A$4:$G$1000,MATCH(ROW()-5,geb.Rechnung!$G$4:$G$1000,0),COLUMN()+1))","v":""}]
[{"$f":"IF(ISNA(INDEX(geb.Rechnung!$A$4:$G$1000,MATCH(ROW()-5,geb.Rechnung!$G$4:$G$1000,0),COLUMN()-1)),\"\",INDEX(geb.Rechnung!$A$4:$G$1000,MATCH(ROW()-5,geb.Rechnung!$G$4:$G$1000,0),COLUMN()-1))","v":""},{"$f":"IF(ISNA(INDEX(geb.Rechnung!$A$4:$G$1000,MATCH(ROW()-5,geb.Rechnung!$G$4:$G$1000,0),COLUMN()-2)),\"\",INDEX(geb.Rechnung!$A$4:$G$1000,MATCH(ROW()-5,geb.Rechnung!$G$4:$G$1000,0),COLUMN()-2))","v":""},{"$f":"IF(ISNA(INDEX(geb.Rechnung!$A$4:$G$1000,MATCH(ROW()-5,geb.Rechnung!$G$4:$G$1000,0),COLUMN()+1)),\"\",INDEX(geb.Rechnung!$A$4:$G$1000,MATCH(ROW()-5,geb.Rechnung!$G$4:$G$1000,0),COLUMN()+1))","v":""},{"$f":"IF(ISNA(INDEX(geb.Rechnung!$A$4:$G$1000,MATCH(ROW()-5,geb.Rechnung!$G$4:$G$1000,0),COLUMN()+1)),\"\",INDEX(geb.Rechnung!$A$4:$G$1000,MATCH(ROW()-5,geb.Rechnung!$G$4:$G$1000,0),COLUMN()+1))","v":""}]
[{"$f":"IF(ISNA(INDEX(geb.Rechnung!$A$4:$G$1000,MATCH(ROW()-5,geb.Rechnung!$G$4:$G$1000,0),COLUMN()-1)),\"\",INDEX(geb.Rechnung!$A$4:$G$1000,MATCH(ROW()-5,geb.Rechnung!$G$4:$G$1000,0),COLUMN()-1))","v":""},{"$f":"IF(ISNA(INDEX(geb.Rechnung!$A$4:$G$1000,MATCH(ROW()-5,geb.Rechnung!$G$4:$G$1000,0),COLUMN()-2)),\"\",INDEX(geb.Rechnung!$A$4:$G$1000,MATCH(ROW()-5,geb.Rechnung!$G$4:$G$1000,0),COLUMN()-2))","v":""},{"$f":"IF(ISNA(INDEX(geb.Rechnung!$A$4:$G$1000,MATCH(ROW()-5,geb.Rechnung!$G$4:$G$1000,0),COLUMN()+1)),\"\",INDEX(geb.Rechnung!$A$4:$G$1000,MATCH(ROW()-5,geb.Rechnung!$G$4:$G$1000,0),COLUMN()+1))","v":""},{"$f":"IF(ISNA(INDEX(geb.Rechnung!$A$4:$G$1000,MATCH(ROW()-5,geb.Rechnung!$G$4:$G$1000,0),COLUMN()+1)),\"\",INDEX(geb.Rechnung!$A$4:$G$1000,MATCH(ROW()-5,geb.Rechnung!$G$4:$G$1000,0),COLUMN()+1))","v":""}]
[{"$f":"IF(ISNA(INDEX(geb.Rechnung!$A$4:$G$1000,MATCH(ROW()-5,geb.Rechnung!$G$4:$G$1000,0),COLUMN()-1)),\"\",INDEX(geb.Rechnung!$A$4:$G$1000,MATCH(ROW()-5,geb.Rechnung!$G$4:$G$1000,0),COLUMN()-1))","v":""},{"$f":"IF(ISNA(INDEX(geb.Rechnung!$A$4:$G$1000,MATCH(ROW()-5,geb.Rechnung!$G$4:$G$1000,0),COLUMN()-2)),\"\",INDEX(geb.Rechnung!$A$4:$G$1000,MATCH(ROW()-5,geb.Rechnung!$G$4:$G$1000,0),COLUMN()-2))","v":""},{"$f":"IF(ISNA(INDEX(geb.Rechnung!$A$4:$G$1000,MATCH(ROW()-5,geb.Rechnung!$G$4:$G$1000,0),COLUMN()+1)),\"\",INDEX(geb.Rechnung!$A$4:$G$1000,MATCH(ROW()-5,geb.Rechnung!$G$4:$G$1000,0),COLUMN()+1))","v":""},{"$f":"IF(ISNA(INDEX(geb.Rechnung!$A$4:$G$1000,MATCH(ROW()-5,geb.Rechnung!$G$4:$G$1000,0),COLUMN()+1)),\"\",INDEX(geb.Rechnung!$A$4:$G$1000,MATCH(ROW()-5,geb.Rechnung!$G$4:$G$1000,0),COLUMN()+1))","v":""}]
[{"$f":"IF(ISNA(INDEX(geb.Rechnung!$A$4:$G$1000,MATCH(ROW()-5,geb.Rechnung!$G$4:$G$1000,0),COLUMN()-1)),\"\",INDEX(geb.Rechnung!$A$4:$G$1000,MATCH(ROW()-5,geb.Rechnung!$G$4:$G$1000,0),COLUMN()-1))","v":""},{"$f":"IF(ISNA(INDEX(geb.Rechnung!$A$4:$G$1000,MATCH(ROW()-5,geb.Rechnung!$G$4:$G$1000,0),COLUMN()-2)),\"\",INDEX(geb.Rechnung!$A$4:$G$1000,MATCH(ROW()-5,geb.Rechnung!$G$4:$G$1000,0),COLUMN()-2))","v":""},{"$f":"IF(ISNA(INDEX(geb.Rechnung!$A$4:$G$1000,MATCH(ROW()-5,geb.Rechnung!$G$4:$G$1000,0),COLUMN()+1)),\"\",INDEX(geb.Rechnung!$A$4:$G$1000,MATCH(ROW()-5,geb.Rechnung!$G$4:$G$1000,0),COLUMN()+1))","v":""},{"$f":"IF(ISNA(INDEX(geb.Rechnung!$A$4:$G$1000,MATCH(ROW()-5,geb.Rechnung!$G$4:$G$1000,0),COLUMN()+1)),\"\",INDEX(geb.Rechnung!$A$4:$G$1000,MATCH(ROW()-5,geb.Rechnung!$G$4:$G$1000,0),COLUMN()+1))","v":""}]
[{"$f":"IF(ISNA(INDEX(geb.Rechnung!$A$4:$G$1000,MATCH(ROW()-5,geb.Rechnung!$G$4:$G$1000,0),COLUMN()-1)),\"\",INDEX(geb.Rechnung!$A$4:$G$1000,MATCH(ROW()-5,geb.Rechnung!$G$4:$G$1000,0),COLUMN()-1))","v":""},{"$f":"IF(ISNA(INDEX(geb.Rechnung!$A$4:$G$1000,MATCH(ROW()-5,geb.Rechnung!$G$4:$G$1000,0),COLUMN()-2)),\"\",INDEX(geb.Rechnung!$A$4:$G$1000,MATCH(ROW()-5,geb.Rechnung!$G$4:$G$1000,0),COLUMN()-2))","v":""},{"$f":"IF(ISNA(INDEX(geb.Rechnung!$A$4:$G$1000,MATCH(ROW()-5,geb.Rechnung!$G$4:$G$1000,0),COLUMN()+1)),\"\",INDEX(geb.Rechnung!$A$4:$G$1000,MATCH(ROW()-5,geb.Rechnung!$G$4:$G$1000,0),COLUMN()+1))","v":""},{"$f":"IF(ISNA(INDEX(geb.Rechnung!$A$4:$G$1000,MATCH(ROW()-5,geb.Rechnung!$G$4:$G$1000,0),COLUMN()+1)),\"\",INDEX(geb.Rechnung!$A$4:$G$1000,MATCH(ROW()-5,geb.Rechnung!$G$4:$G$1000,0),COLUMN()+1))","v":""}]
[{"$f":"IF(ISNA(INDEX(geb.Rechnung!$A$4:$G$1000,MATCH(ROW()-5,geb.Rechnung!$G$4:$G$1000,0),COLUMN()-1)),\"\",INDEX(geb.Rechnung!$A$4:$G$1000,MATCH(ROW()-5,geb.Rechnung!$G$4:$G$1000,0),COLUMN()-1))","v":""},{"$f":"IF(ISNA(INDEX(geb.Rechnung!$A$4:$G$1000,MATCH(ROW()-5,geb.Rechnung!$G$4:$G$1000,0),COLUMN()-2)),\"\",INDEX(geb.Rechnung!$A$4:$G$1000,MATCH(ROW()-5,geb.Rechnung!$G$4:$G$1000,0),COLUMN()-2))","v":""},{"$f":"IF(ISNA(INDEX(geb.Rechnung!$A$4:$G$1000,MATCH(ROW()-5,geb.Rechnung!$G$4:$G$1000,0),COLUMN()+1)),\"\",INDEX(geb.Rechnung!$A$4:$G$1000,MATCH(ROW()-5,geb.Rechnung!$G$4:$G$1000,0),COLUMN()+1))","v":""},{"$f":"IF(ISNA(INDEX(geb.Rechnung!$A$4:$G$1000,MATCH(ROW()-5,geb.Rechnung!$G$4:$G$1000,0),COLUMN()+1)),\"\",INDEX(geb.Rechnung!$A$4:$G$1000,MATCH(ROW()-5,geb.Rechnung!$G$4:$G$1000,0),COLUMN()+1))","v":""}]
[{"$f":"IF(ISNA(INDEX(geb.Rechnung!$A$4:$G$1000,MATCH(ROW()-5,geb.Rechnung!$G$4:$G$1000,0),COLUMN()-1)),\"\",INDEX(geb.Rechnung!$A$4:$G$1000,MATCH(ROW()-5,geb.Rechnung!$G$4:$G$1000,0),COLUMN()-1))","v":""},{"$f":"IF(ISNA(INDEX(geb.Rechnung!$A$4:$G$1000,MATCH(ROW()-5,geb.Rechnung!$G$4:$G$1000,0),COLUMN()-2)),\"\",INDEX(geb.Rechnung!$A$4:$G$1000,MATCH(ROW()-5,geb.Rechnung!$G$4:$G$1000,0),COLUMN()-2))","v":""},{"$f":"IF(ISNA(INDEX(geb.Rechnung!$A$4:$G$1000,MATCH(ROW()-5,geb.Rechnung!$G$4:$G$1000,0),COLUMN()+1)),\"\",INDEX(geb.Rechnung!$A$4:$G$1000,MATCH(ROW()-5,geb.Rechnung!$G$4:$G$1000,0),COLUMN()+1))","v":""},{"$f":"IF(ISNA(INDEX(geb.Rechnung!$A$4:$G$1000,MATCH(ROW()-5,geb.Rechnung!$G$4:$G$1000,0),COLUMN()+1)),\"\",INDEX(geb.Rechnung!$A$4:$G$1000,MATCH(ROW()-5,geb.Rechnung!$G$4:$G$1000,0),COLUMN()+1))","v":""}]
[{"$f":"IF(ISNA(INDEX(geb.Rechnung!$A$4:$G$1000,MATCH(ROW()-5,geb.Rechnung!$G$4:$G$1000,0),COLUMN()-1)),\"\",INDEX(geb.Rechnung!$A$4:$G$1000,MATCH(ROW()-5,geb.Rechnung!$G$4:$G$1000,0),COLUMN()-1))","v":""},{"$f":"IF(ISNA(INDEX(geb.Rechnung!$A$4:$G$1000,MATCH(ROW()-5,geb.Rechnung!$G$4:$G$1000,0),COLUMN()-2)),\"\",INDEX(geb.Rechnung!$A$4:$G$1000,MATCH(ROW()-5,geb.Rechnung!$G$4:$G$1000,0),COLUMN()-2))","v":""},{"$f":"IF(ISNA(INDEX(geb.Rechnung!$A$4:$G$1000,MATCH(ROW()-5,geb.Rechnung!$G$4:$G$1000,0),COLUMN()+1)),\"\",INDEX(geb.Rechnung!$A$4:$G$1000,MATCH(ROW()-5,geb.Rechnung!$G$4:$G$1000,0),COLUMN()+1))","v":""},{"$f":"IF(ISNA(INDEX(geb.Rechnung!$A$4:$G$1000,MATCH(ROW()-5,geb.Rechnung!$G$4:$G$1000,0),COLUMN()+1)),\"\",INDEX(geb.Rechnung!$A$4:$G$1000,MATCH(ROW()-5,geb.Rechnung!$G$4:$G$1000,0),COLUMN()+1))","v":""}]
[{"$f":"IF(ISNA(INDEX(geb.Rechnung!$A$4:$G$1000,MATCH(ROW()-5,geb.Rechnung!$G$4:$G$1000,0),COLUMN()-1)),\"\",INDEX(geb.Rechnung!$A$4:$G$1000,MATCH(ROW()-5,geb.Rechnung!$G$4:$G$1000,0),COLUMN()-1))","v":""},{"$f":"IF(ISNA(INDEX(geb.Rechnung!$A$4:$G$1000,MATCH(ROW()-5,geb.Rechnung!$G$4:$G$1000,0),COLUMN()-2)),\"\",INDEX(geb.Rechnung!$A$4:$G$1000,MATCH(ROW()-5,geb.Rechnung!$G$4:$G$1000,0),COLUMN()-2))","v":""},{"$f":"IF(ISNA(INDEX(geb.Rechnung!$A$4:$G$1000,MATCH(ROW()-5,geb.Rechnung!$G$4:$G$1000,0),COLUMN()+1)),\"\",INDEX(geb.Rechnung!$A$4:$G$1000,MATCH(ROW()-5,geb.Rechnung!$G$4:$G$1000,0),COLUMN()+1))","v":""},{"$f":"IF(ISNA(INDEX(geb.Rechnung!$A$4:$G$1000,MATCH(ROW()-5,geb.Rechnung!$G$4:$G$1000,0),COLUMN()+1)),\"\",INDEX(geb.Rechnung!$A$4:$G$1000,MATCH(ROW()-5,geb.Rechnung!$G$4:$G$1000,0),COLUMN()+1))","v":""}]
[{"$f":"IF(ISNA(INDEX(geb.Rechnung!$A$4:$G$1000,MATCH(ROW()-5,geb.Rechnung!$G$4:$G$1000,0),COLUMN()-1)),\"\",INDEX(geb.Rechnung!$A$4:$G$1000,MATCH(ROW()-5,geb.Rechnung!$G$4:$G$1000,0),COLUMN()-1))","v":""},{"$f":"IF(ISNA(INDEX(geb.Rechnung!$A$4:$G$1000,MATCH(ROW()-5,geb.Rechnung!$G$4:$G$1000,0),COLUMN()-2)),\"\",INDEX(geb.Rechnung!$A$4:$G$1000,MATCH(ROW()-5,geb.Rechnung!$G$4:$G$1000,0),COLUMN()-2))","v":""},{"$f":"IF(ISNA(INDEX(geb.Rechnung!$A$4:$G$1000,MATCH(ROW()-5,geb.Rechnung!$G$4:$G$1000,0),COLUMN()+1)),\"\",INDEX(geb.Rechnung!$A$4:$G$1000,MATCH(ROW()-5,geb.Rechnung!$G$4:$G$1000,0),COLUMN()+1))","v":""},{"$f":"IF(ISNA(INDEX(geb.Rechnung!$A$4:$G$1000,MATCH(ROW()-5,geb.Rechnung!$G$4:$G$1000,0),COLUMN()+1)),\"\",INDEX(geb.Rechnung!$A$4:$G$1000,MATCH(ROW()-5,geb.Rechnung!$G$4:$G$1000,0),COLUMN()+1))","v":""}]
[{"$f":"IF(ISNA(INDEX(geb.Rechnung!$A$4:$G$1000,MATCH(ROW()-5,geb.Rechnung!$G$4:$G$1000,0),COLUMN()-1)),\"\",INDEX(geb.Rechnung!$A$4:$G$1000,MATCH(ROW()-5,geb.Rechnung!$G$4:$G$1000,0),COLUMN()-1))","v":""},{"$f":"IF(ISNA(INDEX(geb.Rechnung!$A$4:$G$1000,MATCH(ROW()-5,geb.Rechnung!$G$4:$G$1000,0),COLUMN()-2)),\"\",INDEX(geb.Rechnung!$A$4:$G$1000,MATCH(ROW()-5,geb.Rechnung!$G$4:$G$1000,0),COLUMN()-2))","v":""},{"$f":"IF(ISNA(INDEX(geb.Rechnung!$A$4:$G$1000,MATCH(ROW()-5,geb.Rechnung!$G$4:$G$1000,0),COLUMN()+1)),\"\",INDEX(geb.Rechnung!$A$4:$G$1000,MATCH(ROW()-5,geb.Rechnung!$G$4:$G$1000,0),COLUMN()+1))","v":""},{"$f":"IF(ISNA(INDEX(geb.Rechnung!$A$4:$G$1000,MATCH(ROW()-5,geb.Rechnung!$G$4:$G$1000,0),COLUMN()+1)),\"\",INDEX(geb.Rechnung!$A$4:$G$1000,MATCH(ROW()-5,geb.Rechnung!$G$4:$G$1000,0),COLUMN()+1))","v":""}]
[{"$f":"IF(ISNA(INDEX(geb.Rechnung!$A$4:$G$1000,MATCH(ROW()-5,geb.Rechnung!$G$4:$G$1000,0),COLUMN()-1)),\"\",INDEX(geb.Rechnung!$A$4:$G$1000,MATCH(ROW()-5,geb.Rechnung!$G$4:$G$1000,0),COLUMN()-1))","v":""},{"$f":"IF(ISNA(INDEX(geb.Rechnung!$A$4:$G$1000,MATCH(ROW()-5,geb.Rechnung!$G$4:$G$1000,0),COLUMN()-2)),\"\",INDEX(geb.Rechnung!$A$4:$G$1000,MATCH(ROW()-5,geb.Rechnung!$G$4:$G$1000,0),COLUMN()-2))","v":""},{"$f":"IF(ISNA(INDEX(geb.Rechnung!$A$4:$G$1000,MATCH(ROW()-5,geb.Rechnung!$G$4:$G$1000,0),COLUMN()+1)),\"\",INDEX(geb.Rechnung!$A$4:$G$1000,MATCH(ROW()-5,geb.Rechnung!$G$4:$G$1000,0),COLUMN()+1))","v":""},{"$f":"IF(ISNA(INDEX(geb.Rechnung!$A$4:$G$1000,MATCH(ROW()-5,geb.Rechnung!$G$4:$G$1000,0),COLUMN()+1)),\"\",INDEX(geb.Rechnung!$A$4:$G$1000,MATCH(ROW()-5,geb.Rechnung!$G$4:$G$1000,0),COLUMN()+1))","v":""}]
[{"$f":"IF(ISNA(INDEX(geb.Rechnung!$A$4:$G$1000,MATCH(ROW()-5,geb.Rechnung!$G$4:$G$1000,0),COLUMN()-1)),\"\",INDEX(geb.Rechnung!$A$4:$G$1000,MATCH(ROW()-5,geb.Rechnung!$G$4:$G$1000,0),COLUMN()-1))","v":""},{"$f":"IF(ISNA(INDEX(geb.Rechnung!$A$4:$G$1000,MATCH(ROW()-5,geb.Rechnung!$G$4:$G$1000,0),COLUMN()-2)),\"\",INDEX(geb.Rechnung!$A$4:$G$1000,MATCH(ROW()-5,geb.Rechnung!$G$4:$G$1000,0),COLUMN()-2))","v":""},{"$f":"IF(ISNA(INDEX(geb.Rechnung!$A$4:$G$1000,MATCH(ROW()-5,geb.Rechnung!$G$4:$G$1000,0),COLUMN()+1)),\"\",INDEX(geb.Rechnung!$A$4:$G$1000,MATCH(ROW()-5,geb.Rechnung!$G$4:$G$1000,0),COLUMN()+1))","v":""},{"$f":"IF(ISNA(INDEX(geb.Rechnung!$A$4:$G$1000,MATCH(ROW()-5,geb.Rechnung!$G$4:$G$1000,0),COLUMN()+1)),\"\",INDEX(geb.Rechnung!$A$4:$G$1000,MATCH(ROW()-5,geb.Rechnung!$G$4:$G$1000,0),COLUMN()+1))","v":""}]
[{"$f":"IF(ISNA(INDEX(geb.Rechnung!$A$4:$G$1000,MATCH(ROW()-5,geb.Rechnung!$G$4:$G$1000,0),COLUMN()-1)),\"\",INDEX(geb.Rechnung!$A$4:$G$1000,MATCH(ROW()-5,geb.Rechnung!$G$4:$G$1000,0),COLUMN()-1))","v":""},{"$f":"IF(ISNA(INDEX(geb.Rechnung!$A$4:$G$1000,MATCH(ROW()-5,geb.Rechnung!$G$4:$G$1000,0),COLUMN()-2)),\"\",INDEX(geb.Rechnung!$A$4:$G$1000,MATCH(ROW()-5,geb.Rechnung!$G$4:$G$1000,0),COLUMN()-2))","v":""},{"$f":"IF(ISNA(INDEX(geb.Rechnung!$A$4:$G$1000,MATCH(ROW()-5,geb.Rechnung!$G$4:$G$1000,0),COLUMN()+1)),\"\",INDEX(geb.Rechnung!$A$4:$G$1000,MATCH(ROW()-5,geb.Rechnung!$G$4:$G$1000,0),COLUMN()+1))","v":""},{"$f":"IF(ISNA(INDEX(geb.Rechnung!$A$4:$G$1000,MATCH(ROW()-5,geb.Rechnung!$G$4:$G$1000,0),COLUMN()+1)),\"\",INDEX(geb.Rechnung!$A$4:$G$1000,MATCH(ROW()-5,geb.Rechnung!$G$4:$G$1000,0),COLUMN()+1))","v":""}]
[{"$f":"IF(ISNA(INDEX(geb.Rechnung!$A$4:$G$1000,MATCH(ROW()-5,geb.Rechnung!$G$4:$G$1000,0),COLUMN()-1)),\"\",INDEX(geb.Rechnung!$A$4:$G$1000,MATCH(ROW()-5,geb.Rechnung!$G$4:$G$1000,0),COLUMN()-1))","v":""},{"$f":"IF(ISNA(INDEX(geb.Rechnung!$A$4:$G$1000,MATCH(ROW()-5,geb.Rechnung!$G$4:$G$1000,0),COLUMN()-2)),\"\",INDEX(geb.Rechnung!$A$4:$G$1000,MATCH(ROW()-5,geb.Rechnung!$G$4:$G$1000,0),COLUMN()-2))","v":""},{"$f":"IF(ISNA(INDEX(geb.Rechnung!$A$4:$G$1000,MATCH(ROW()-5,geb.Rechnung!$G$4:$G$1000,0),COLUMN()+1)),\"\",INDEX(geb.Rechnung!$A$4:$G$1000,MATCH(ROW()-5,geb.Rechnung!$G$4:$G$1000,0),COLUMN()+1))","v":""},{"$f":"IF(ISNA(INDEX(geb.Rechnung!$A$4:$G$1000,MATCH(ROW()-5,geb.Rechnung!$G$4:$G$1000,0),COLUMN()+1)),\"\",INDEX(geb.Rechnung!$A$4:$G$1000,MATCH(ROW()-5,geb.Rechnung!$G$4:$G$1000,0),COLUMN()+1))","v":""}]
[{"$f":"IF(ISNA(INDEX(geb.Rechnung!$A$4:$G$1000,MATCH(ROW()-5,geb.Rechnung!$G$4:$G$1000,0),COLUMN()-1)),\"\",INDEX(geb.Rechnung!$A$4:$G$1000,MATCH(ROW()-5,geb.Rechnung!$G$4:$G$1000,0),COLUMN()-1))","v":""},{"$f":"IF(ISNA(INDEX(geb.Rechnung!$A$4:$G$1000,MATCH(ROW()-5,geb.Rechnung!$G$4:$G$1000,0),COLUMN()-2)),\"\",INDEX(geb.Rechnung!$A$4:$G$1000,MATCH(ROW()-5,geb.Rechnung!$G$4:$G$1000,0),COLUMN()-2))","v":""},{"$f":"IF(ISNA(INDEX(geb.Rechnung!$A$4:$G$1000,MATCH(ROW()-5,geb.Rechnung!$G$4:$G$1000,0),COLUMN()+1)),\"\",INDEX(geb.Rechnung!$A$4:$G$1000,MATCH(ROW()-5,geb.Rechnung!$G$4:$G$1000,0),COLUMN()+1))","v":""},{"$f":"IF(ISNA(INDEX(geb.Rechnung!$A$4:$G$1000,MATCH(ROW()-5,geb.Rechnung!$G$4:$G$1000,0),COLUMN()+1)),\"\",INDEX(geb.Rechnung!$A$4:$G$1000,MATCH(ROW()-5,geb.Rechnung!$G$4:$G$1000,0),COLUMN()+1))","v":""}]
[{"$f":"IF(ISNA(INDEX(geb.Rechnung!$A$4:$G$1000,MATCH(ROW()-5,geb.Rechnung!$G$4:$G$1000,0),COLUMN()-1)),\"\",INDEX(geb.Rechnung!$A$4:$G$1000,MATCH(ROW()-5,geb.Rechnung!$G$4:$G$1000,0),COLUMN()-1))","v":""},{"$f":"IF(ISNA(INDEX(geb.Rechnung!$A$4:$G$1000,MATCH(ROW()-5,geb.Rechnung!$G$4:$G$1000,0),COLUMN()-2)),\"\",INDEX(geb.Rechnung!$A$4:$G$1000,MATCH(ROW()-5,geb.Rechnung!$G$4:$G$1000,0),COLUMN()-2))","v":""},{"$f":"IF(ISNA(INDEX(geb.Rechnung!$A$4:$G$1000,MATCH(ROW()-5,geb.Rechnung!$G$4:$G$1000,0),COLUMN()+1)),\"\",INDEX(geb.Rechnung!$A$4:$G$1000,MATCH(ROW()-5,geb.Rechnung!$G$4:$G$1000,0),COLUMN()+1))","v":""},{"$f":"IF(ISNA(INDEX(geb.Rechnung!$A$4:$G$1000,MATCH(ROW()-5,geb.Rechnung!$G$4:$G$1000,0),COLUMN()+1)),\"\",INDEX(geb.Rechnung!$A$4:$G$1000,MATCH(ROW()-5,geb.Rechnung!$G$4:$G$1000,0),COLUMN()+1))","v":""}]
[{"$f":"IF(ISNA(INDEX(geb.Rechnung!$A$4:$G$1000,MATCH(ROW()-5,geb.Rechnung!$G$4:$G$1000,0),COLUMN()-1)),\"\",INDEX(geb.Rechnung!$A$4:$G$1000,MATCH(ROW()-5,geb.Rechnung!$G$4:$G$1000,0),COLUMN()-1))","v":""},{"$f":"IF(ISNA(INDEX(geb.Rechnung!$A$4:$G$1000,MATCH(ROW()-5,geb.Rechnung!$G$4:$G$1000,0),COLUMN()-2)),\"\",INDEX(geb.Rechnung!$A$4:$G$1000,MATCH(ROW()-5,geb.Rechnung!$G$4:$G$1000,0),COLUMN()-2))","v":""},{"$f":"IF(ISNA(INDEX(geb.Rechnung!$A$4:$G$1000,MATCH(ROW()-5,geb.Rechnung!$G$4:$G$1000,0),COLUMN()+1)),\"\",INDEX(geb.Rechnung!$A$4:$G$1000,MATCH(ROW()-5,geb.Rechnung!$G$4:$G$1000,0),COLUMN()+1))","v":""},{"$f":"IF(ISNA(INDEX(geb.Rechnung!$A$4:$G$1000,MATCH(ROW()-5,geb.Rechnung!$G$4:$G$1000,0),COLUMN()+1)),\"\",INDEX(geb.Rechnung!$A$4:$G$1000,MATCH(ROW()-5,geb.Rechnung!$G$4:$G$1000,0),COLUMN()+1))","v":""}]
[{"$f":"IF(ISNA(INDEX(geb.Rechnung!$A$4:$G$1000,MATCH(ROW()-5,geb.Rechnung!$G$4:$G$1000,0),COLUMN()-1)),\"\",INDEX(geb.Rechnung!$A$4:$G$1000,MATCH(ROW()-5,geb.Rechnung!$G$4:$G$1000,0),COLUMN()-1))","v":""},{"$f":"IF(ISNA(INDEX(geb.Rechnung!$A$4:$G$1000,MATCH(ROW()-5,geb.Rechnung!$G$4:$G$1000,0),COLUMN()-2)),\"\",INDEX(geb.Rechnung!$A$4:$G$1000,MATCH(ROW()-5,geb.Rechnung!$G$4:$G$1000,0),COLUMN()-2))","v":""},{"$f":"IF(ISNA(INDEX(geb.Rechnung!$A$4:$G$1000,MATCH(ROW()-5,geb.Rechnung!$G$4:$G$1000,0),COLUMN()+1)),\"\",INDEX(geb.Rechnung!$A$4:$G$1000,MATCH(ROW()-5,geb.Rechnung!$G$4:$G$1000,0),COLUMN()+1))","v":""},{"$f":"IF(ISNA(INDEX(geb.Rechnung!$A$4:$G$1000,MATCH(ROW()-5,geb.Rechnung!$G$4:$G$1000,0),COLUMN()+1)),\"\",INDEX(geb.Rechnung!$A$4:$G$1000,MATCH(ROW()-5,geb.Rechnung!$G$4:$G$1000,0),COLUMN()+1))","v":""}]
[{"$f":"IF(ISNA(INDEX(geb.Rechnung!$A$4:$G$1000,MATCH(ROW()-5,geb.Rechnung!$G$4:$G$1000,0),COLUMN()-1)),\"\",INDEX(geb.Rechnung!$A$4:$G$1000,MATCH(ROW()-5,geb.Rechnung!$G$4:$G$1000,0),COLUMN()-1))","v":""},{"$f":"IF(ISNA(INDEX(geb.Rechnung!$A$4:$G$1000,MATCH(ROW()-5,geb.Rechnung!$G$4:$G$1000,0),COLUMN()-2)),\"\",INDEX(geb.Rechnung!$A$4:$G$1000,MATCH(ROW()-5,geb.Rechnung!$G$4:$G$1000,0),COLUMN()-2))","v":""},{"$f":"IF(ISNA(INDEX(geb.Rechnung!$A$4:$G$1000,MATCH(ROW()-5,geb.Rechnung!$G$4:$G$1000,0),COLUMN()+1)),\"\",INDEX(geb.Rechnung!$A$4:$G$1000,MATCH(ROW()-5,geb.Rechnung!$G$4:$G$1000,0),COLUMN()+1))","v":""},{"$f":"IF(ISNA(INDEX(geb.Rechnung!$A$4:$G$1000,MATCH(ROW()-5,geb.Rechnung!$G$4:$G$1000,0),COLUMN()+1)),\"\",INDEX(geb.Rechnung!$A$4:$G$1000,MATCH(ROW()-5,geb.Rechnung!$G$4:$G$1000,0),COLUMN()+1))","v":""}]
[{"$f":"IF(ISNA(INDEX(geb.Rechnung!$A$4:$G$1000,MATCH(ROW()-5,geb.Rechnung!$G$4:$G$1000,0),COLUMN()-1)),\"\",INDEX(geb.Rechnung!$A$4:$G$1000,MATCH(ROW()-5,geb.Rechnung!$G$4:$G$1000,0),COLUMN()-1))","v":""},{"$f":"IF(ISNA(INDEX(geb.Rechnung!$A$4:$G$1000,MATCH(ROW()-5,geb.Rechnung!$G$4:$G$1000,0),COLUMN()-2)),\"\",INDEX(geb.Rechnung!$A$4:$G$1000,MATCH(ROW()-5,geb.Rechnung!$G$4:$G$1000,0),COLUMN()-2))","v":""},{"$f":"IF(ISNA(INDEX(geb.Rechnung!$A$4:$G$1000,MATCH(ROW()-5,geb.Rechnung!$G$4:$G$1000,0),COLUMN()+1)),\"\",INDEX(geb.Rechnung!$A$4:$G$1000,MATCH(ROW()-5,geb.Rechnung!$G$4:$G$1000,0),COLUMN()+1))","v":""},{"$f":"IF(ISNA(INDEX(geb.Rechnung!$A$4:$G$1000,MATCH(ROW()-5,geb.Rechnung!$G$4:$G$1000,0),COLUMN()+1)),\"\",INDEX(geb.Rechnung!$A$4:$G$1000,MATCH(ROW()-5,geb.Rechnung!$G$4:$G$1000,0),COLUMN()+1))","v":""}]
[{"$f":"IF(ISNA(INDEX(geb.Rechnung!$A$4:$G$1000,MATCH(ROW()-5,geb.Rechnung!$G$4:$G$1000,0),COLUMN()-1)),\"\",INDEX(geb.Rechnung!$A$4:$G$1000,MATCH(ROW()-5,geb.Rechnung!$G$4:$G$1000,0),COLUMN()-1))","v":""},{"$f":"IF(ISNA(INDEX(geb.Rechnung!$A$4:$G$1000,MATCH(ROW()-5,geb.Rechnung!$G$4:$G$1000,0),COLUMN()-2)),\"\",INDEX(geb.Rechnung!$A$4:$G$1000,MATCH(ROW()-5,geb.Rechnung!$G$4:$G$1000,0),COLUMN()-2))","v":""},{"$f":"IF(ISNA(INDEX(geb.Rechnung!$A$4:$G$1000,MATCH(ROW()-5,geb.Rechnung!$G$4:$G$1000,0),COLUMN()+1)),\"\",INDEX(geb.Rechnung!$A$4:$G$1000,MATCH(ROW()-5,geb.Rechnung!$G$4:$G$1000,0),COLUMN()+1))","v":""},{"$f":"IF(ISNA(INDEX(geb.Rechnung!$A$4:$G$1000,MATCH(ROW()-5,geb.Rechnung!$G$4:$G$1000,0),COLUMN()+1)),\"\",INDEX(geb.Rechnung!$A$4:$G$1000,MATCH(ROW()-5,geb.Rechnung!$G$4:$G$1000,0),COLUMN()+1))","v":""}]
[{"$f":"IF(ISNA(INDEX(geb.Rechnung!$A$4:$G$1000,MATCH(ROW()-5,geb.Rechnung!$G$4:$G$1000,0),COLUMN()-1)),\"\",INDEX(geb.Rechnung!$A$4:$G$1000,MATCH(ROW()-5,geb.Rechnung!$G$4:$G$1000,0),COLUMN()-1))","v":""},{"$f":"IF(ISNA(INDEX(geb.Rechnung!$A$4:$G$1000,MATCH(ROW()-5,geb.Rechnung!$G$4:$G$1000,0),COLUMN()-2)),\"\",INDEX(geb.Rechnung!$A$4:$G$1000,MATCH(ROW()-5,geb.Rechnung!$G$4:$G$1000,0),COLUMN()-2))","v":""},{"$f":"IF(ISNA(INDEX(geb.Rechnung!$A$4:$G$1000,MATCH(ROW()-5,geb.Rechnung!$G$4:$G$1000,0),COLUMN()+1)),\"\",INDEX(geb.Rechnung!$A$4:$G$1000,MATCH(ROW()-5,geb.Rechnung!$G$4:$G$1000,0),COLUMN()+1))","v":""},{"$f":"IF(ISNA(INDEX(geb.Rechnung!$A$4:$G$1000,MATCH(ROW()-5,geb.Rechnung!$G$4:$G$1000,0),COLUMN()+1)),\"\",INDEX(geb.Rechnung!$A$4:$G$1000,MATCH(ROW()-5,geb.Rechnung!$G$4:$G$1000,0),COLUMN()+1))","v":""}]
[{"$f":"IF(ISNA(INDEX(geb.Rechnung!$A$4:$G$1000,MATCH(ROW()-5,geb.Rechnung!$G$4:$G$1000,0),COLUMN()-1)),\"\",INDEX(geb.Rechnung!$A$4:$G$1000,MATCH(ROW()-5,geb.Rechnung!$G$4:$G$1000,0),COLUMN()-1))","v":""},{"$f":"IF(ISNA(INDEX(geb.Rechnung!$A$4:$G$1000,MATCH(ROW()-5,geb.Rechnung!$G$4:$G$1000,0),COLUMN()-2)),\"\",INDEX(geb.Rechnung!$A$4:$G$1000,MATCH(ROW()-5,geb.Rechnung!$G$4:$G$1000,0),COLUMN()-2))","v":""},{"$f":"IF(ISNA(INDEX(geb.Rechnung!$A$4:$G$1000,MATCH(ROW()-5,geb.Rechnung!$G$4:$G$1000,0),COLUMN()+1)),\"\",INDEX(geb.Rechnung!$A$4:$G$1000,MATCH(ROW()-5,geb.Rechnung!$G$4:$G$1000,0),COLUMN()+1))","v":""},{"$f":"IF(ISNA(INDEX(geb.Rechnung!$A$4:$G$1000,MATCH(ROW()-5,geb.Rechnung!$G$4:$G$1000,0),COLUMN()+1)),\"\",INDEX(geb.Rechnung!$A$4:$G$1000,MATCH(ROW()-5,geb.Rechnung!$G$4:$G$1000,0),COLUMN()+1))","v":""}]
[{"$f":"IF(ISNA(INDEX(geb.Rechnung!$A$4:$G$1000,MATCH(ROW()-5,geb.Rechnung!$G$4:$G$1000,0),COLUMN()-1)),\"\",INDEX(geb.Rechnung!$A$4:$G$1000,MATCH(ROW()-5,geb.Rechnung!$G$4:$G$1000,0),COLUMN()-1))","v":""},{"$f":"IF(ISNA(INDEX(geb.Rechnung!$A$4:$G$1000,MATCH(ROW()-5,geb.Rechnung!$G$4:$G$1000,0),COLUMN()-2)),\"\",INDEX(geb.Rechnung!$A$4:$G$1000,MATCH(ROW()-5,geb.Rechnung!$G$4:$G$1000,0),COLUMN()-2))","v":""},{"$f":"IF(ISNA(INDEX(geb.Rechnung!$A$4:$G$1000,MATCH(ROW()-5,geb.Rechnung!$G$4:$G$1000,0),COLUMN()+1)),\"\",INDEX(geb.Rechnung!$A$4:$G$1000,MATCH(ROW()-5,geb.Rechnung!$G$4:$G$1000,0),COLUMN()+1))","v":""},{"$f":"IF(ISNA(INDEX(geb.Rechnung!$A$4:$G$1000,MATCH(ROW()-5,geb.Rechnung!$G$4:$G$1000,0),COLUMN()+1)),\"\",INDEX(geb.Rechnung!$A$4:$G$1000,MATCH(ROW()-5,geb.Rechnung!$G$4:$G$1000,0),COLUMN()+1))","v":""}]
[{"$f":"IF(ISNA(INDEX(geb.Rechnung!$A$4:$G$1000,MATCH(ROW()-5,geb.Rechnung!$G$4:$G$1000,0),COLUMN()-1)),\"\",INDEX(geb.Rechnung!$A$4:$G$1000,MATCH(ROW()-5,geb.Rechnung!$G$4:$G$1000,0),COLUMN()-1))","v":""},{"$f":"IF(ISNA(INDEX(geb.Rechnung!$A$4:$G$1000,MATCH(ROW()-5,geb.Rechnung!$G$4:$G$1000,0),COLUMN()-2)),\"\",INDEX(geb.Rechnung!$A$4:$G$1000,MATCH(ROW()-5,geb.Rechnung!$G$4:$G$1000,0),COLUMN()-2))","v":""},{"$f":"IF(ISNA(INDEX(geb.Rechnung!$A$4:$G$1000,MATCH(ROW()-5,geb.Rechnung!$G$4:$G$1000,0),COLUMN()+1)),\"\",INDEX(geb.Rechnung!$A$4:$G$1000,MATCH(ROW()-5,geb.Rechnung!$G$4:$G$1000,0),COLUMN()+1))","v":""},{"$f":"IF(ISNA(INDEX(geb.Rechnung!$A$4:$G$1000,MATCH(ROW()-5,geb.Rechnung!$G$4:$G$1000,0),COLUMN()+1)),\"\",INDEX(geb.Rechnung!$A$4:$G$1000,MATCH(ROW()-5,geb.Rechnung!$G$4:$G$1000,0),COLUMN()+1))","v":""}]
[{"$f":"IF(ISNA(INDEX(geb.Rechnung!$A$4:$G$1000,MATCH(ROW()-5,geb.Rechnung!$G$4:$G$1000,0),COLUMN()-1)),\"\",INDEX(geb.Rechnung!$A$4:$G$1000,MATCH(ROW()-5,geb.Rechnung!$G$4:$G$1000,0),COLUMN()-1))","v":""},{"$f":"IF(ISNA(INDEX(geb.Rechnung!$A$4:$G$1000,MATCH(ROW()-5,geb.Rechnung!$G$4:$G$1000,0),COLUMN()-2)),\"\",INDEX(geb.Rechnung!$A$4:$G$1000,MATCH(ROW()-5,geb.Rechnung!$G$4:$G$1000,0),COLUMN()-2))","v":""},{"$f":"IF(ISNA(INDEX(geb.Rechnung!$A$4:$G$1000,MATCH(ROW()-5,geb.Rechnung!$G$4:$G$1000,0),COLUMN()+1)),\"\",INDEX(geb.Rechnung!$A$4:$G$1000,MATCH(ROW()-5,geb.Rechnung!$G$4:$G$1000,0),COLUMN()+1))","v":""},{"$f":"IF(ISNA(INDEX(geb.Rechnung!$A$4:$G$1000,MATCH(ROW()-5,geb.Rechnung!$G$4:$G$1000,0),COLUMN()+1)),\"\",INDEX(geb.Rechnung!$A$4:$G$1000,MATCH(ROW()-5,geb.Rechnung!$G$4:$G$1000,0),COLUMN()+1))","v":""}]
[{"$f":"IF(ISNA(INDEX(geb.Rechnung!$A$4:$G$1000,MATCH(ROW()-5,geb.Rechnung!$G$4:$G$1000,0),COLUMN()-1)),\"\",INDEX(geb.Rechnung!$A$4:$G$1000,MATCH(ROW()-5,geb.Rechnung!$G$4:$G$1000,0),COLUMN()-1))","v":""},{"$f":"IF(ISNA(INDEX(geb.Rechnung!$A$4:$G$1000,MATCH(ROW()-5,geb.Rechnung!$G$4:$G$1000,0),COLUMN()-2)),\"\",INDEX(geb.Rechnung!$A$4:$G$1000,MATCH(ROW()-5,geb.Rechnung!$G$4:$G$1000,0),COLUMN()-2))","v":""},{"$f":"IF(ISNA(INDEX(geb.Rechnung!$A$4:$G$1000,MATCH(ROW()-5,geb.Rechnung!$G$4:$G$1000,0),COLUMN()+1)),\"\",INDEX(geb.Rechnung!$A$4:$G$1000,MATCH(ROW()-5,geb.Rechnung!$G$4:$G$1000,0),COLUMN()+1))","v":""},{"$f":"IF(ISNA(INDEX(geb.Rechnung!$A$4:$G$1000,MATCH(ROW()-5,geb.Rechnung!$G$4:$G$1000,0),COLUMN()+1)),\"\",INDEX(geb.Rechnung!$A$4:$G$1000,MATCH(ROW()-5,geb.Rechnung!$G$4:$G$1000,0),COLUMN()+1))","v":""}]
[{"$f":"IF(ISNA(INDEX(geb.Rechnung!$A$4:$G$1000,MATCH(ROW()-5,geb.Rechnung!$G$4:$G$1000,0),COLUMN()-1)),\"\",INDEX(geb.Rechnung!$A$4:$G$1000,MATCH(ROW()-5,geb.Rechnung!$G$4:$G$1000,0),COLUMN()-1))","v":""},{"$f":"IF(ISNA(INDEX(geb.Rechnung!$A$4:$G$1000,MATCH(ROW()-5,geb.Rechnung!$G$4:$G$1000,0),COLUMN()-2)),\"\",INDEX(geb.Rechnung!$A$4:$G$1000,MATCH(ROW()-5,geb.Rechnung!$G$4:$G$1000,0),COLUMN()-2))","v":""},{"$f":"IF(ISNA(INDEX(geb.Rechnung!$A$4:$G$1000,MATCH(ROW()-5,geb.Rechnung!$G$4:$G$1000,0),COLUMN()+1)),\"\",INDEX(geb.Rechnung!$A$4:$G$1000,MATCH(ROW()-5,geb.Rechnung!$G$4:$G$1000,0),COLUMN()+1))","v":""},{"$f":"IF(ISNA(INDEX(geb.Rechnung!$A$4:$G$1000,MATCH(ROW()-5,geb.Rechnung!$G$4:$G$1000,0),COLUMN()+1)),\"\",INDEX(geb.Rechnung!$A$4:$G$1000,MATCH(ROW()-5,geb.Rechnung!$G$4:$G$1000,0),COLUMN()+1))","v":""}]
[{"$f":"IF(ISNA(INDEX(geb.Rechnung!$A$4:$G$1000,MATCH(ROW()-5,geb.Rechnung!$G$4:$G$1000,0),COLUMN()-1)),\"\",INDEX(geb.Rechnung!$A$4:$G$1000,MATCH(ROW()-5,geb.Rechnung!$G$4:$G$1000,0),COLUMN()-1))","v":""},{"$f":"IF(ISNA(INDEX(geb.Rechnung!$A$4:$G$1000,MATCH(ROW()-5,geb.Rechnung!$G$4:$G$1000,0),COLUMN()-2)),\"\",INDEX(geb.Rechnung!$A$4:$G$1000,MATCH(ROW()-5,geb.Rechnung!$G$4:$G$1000,0),COLUMN()-2))","v":""},{"$f":"IF(ISNA(INDEX(geb.Rechnung!$A$4:$G$1000,MATCH(ROW()-5,geb.Rechnung!$G$4:$G$1000,0),COLUMN()+1)),\"\",INDEX(geb.Rechnung!$A$4:$G$1000,MATCH(ROW()-5,geb.Rechnung!$G$4:$G$1000,0),COLUMN()+1))","v":""},{"$f":"IF(ISNA(INDEX(geb.Rechnung!$A$4:$G$1000,MATCH(ROW()-5,geb.Rechnung!$G$4:$G$1000,0),COLUMN()+1)),\"\",INDEX(geb.Rechnung!$A$4:$G$1000,MATCH(ROW()-5,geb.Rechnung!$G$4:$G$1000,0),COLUMN()+1))","v":""}]
[{"$f":"IF(ISNA(INDEX(geb.Rechnung!$A$4:$G$1000,MATCH(ROW()-5,geb.Rechnung!$G$4:$G$1000,0),COLUMN()-1)),\"\",INDEX(geb.Rechnung!$A$4:$G$1000,MATCH(ROW()-5,geb.Rechnung!$G$4:$G$1000,0),COLUMN()-1))","v":""},{"$f":"IF(ISNA(INDEX(geb.Rechnung!$A$4:$G$1000,MATCH(ROW()-5,geb.Rechnung!$G$4:$G$1000,0),COLUMN()-2)),\"\",INDEX(geb.Rechnung!$A$4:$G$1000,MATCH(ROW()-5,geb.Rechnung!$G$4:$G$1000,0),COLUMN()-2))","v":""},{"$f":"IF(ISNA(INDEX(geb.Rechnung!$A$4:$G$1000,MATCH(ROW()-5,geb.Rechnung!$G$4:$G$1000,0),COLUMN()+1)),\"\",INDEX(geb.Rechnung!$A$4:$G$1000,MATCH(ROW()-5,geb.Rechnung!$G$4:$G$1000,0),COLUMN()+1))","v":""},{"$f":"IF(ISNA(INDEX(geb.Rechnung!$A$4:$G$1000,MATCH(ROW()-5,geb.Rechnung!$G$4:$G$1000,0),COLUMN()+1)),\"\",INDEX(geb.Rechnung!$A$4:$G$1000,MATCH(ROW()-5,geb.Rechnung!$G$4:$G$1000,0),COLUMN()+1))","v":""}]
[{"$f":"IF(ISNA(INDEX(geb.Rechnung!$A$4:$G$1000,MATCH(ROW()-5,geb.Rechnung!$G$4:$G$1000,0),COLUMN()-1)),\"\",INDEX(geb.Rechnung!$A$4:$G$1000,MATCH(ROW()-5,geb.Rechnung!$G$4:$G$1000,0),COLUMN()-1))","v":""},{"$f":"IF(ISNA(INDEX(geb.Rechnung!$A$4:$G$1000,MATCH(ROW()-5,geb.Rechnung!$G$4:$G$1000,0),COLUMN()-2)),\"\",INDEX(geb.Rechnung!$A$4:$G$1000,MATCH(ROW()-5,geb.Rechnung!$G$4:$G$1000,0),COLUMN()-2))","v":""},{"$f":"IF(ISNA(INDEX(geb.Rechnung!$A$4:$G$1000,MATCH(ROW()-5,geb.Rechnung!$G$4:$G$1000,0),COLUMN()+1)),\"\",INDEX(geb.Rechnung!$A$4:$G$1000,MATCH(ROW()-5,geb.Rechnung!$G$4:$G$1000,0),COLUMN()+1))","v":""},{"$f":"IF(ISNA(INDEX(geb.Rechnung!$A$4:$G$1000,MATCH(ROW()-5,geb.Rechnung!$G$4:$G$1000,0),COLUMN()+1)),\"\",INDEX(geb.Rechnung!$A$4:$G$1000,MATCH(ROW()-5,geb.Rechnung!$G$4:$G$1000,0),COLUMN()+1))","v":""}]
[{"$f":"IF(ISNA(INDEX(geb.Rechnung!$A$4:$G$1000,MATCH(ROW()-5,geb.Rechnung!$G$4:$G$1000,0),COLUMN()-1)),\"\",INDEX(geb.Rechnung!$A$4:$G$1000,MATCH(ROW()-5,geb.Rechnung!$G$4:$G$1000,0),COLUMN()-1))","v":""},{"$f":"IF(ISNA(INDEX(geb.Rechnung!$A$4:$G$1000,MATCH(ROW()-5,geb.Rechnung!$G$4:$G$1000,0),COLUMN()-2)),\"\",INDEX(geb.Rechnung!$A$4:$G$1000,MATCH(ROW()-5,geb.Rechnung!$G$4:$G$1000,0),COLUMN()-2))","v":""},{"$f":"IF(ISNA(INDEX(geb.Rechnung!$A$4:$G$1000,MATCH(ROW()-5,geb.Rechnung!$G$4:$G$1000,0),COLUMN()+1)),\"\",INDEX(geb.Rechnung!$A$4:$G$1000,MATCH(ROW()-5,geb.Rechnung!$G$4:$G$1000,0),COLUMN()+1))","v":""},{"$f":"IF(ISNA(INDEX(geb.Rechnung!$A$4:$G$1000,MATCH(ROW()-5,geb.Rechnung!$G$4:$G$1000,0),COLUMN()+1)),\"\",INDEX(geb.Rechnung!$A$4:$G$1000,MATCH(ROW()-5,geb.Rechnung!$G$4:$G$1000,0),COLUMN()+1))","v":""}]
[{"$f":"IF(ISNA(INDEX(geb.Rechnung!$A$4:$G$1000,MATCH(ROW()-5,geb.Rechnung!$G$4:$G$1000,0),COLUMN()-1)),\"\",INDEX(geb.Rechnung!$A$4:$G$1000,MATCH(ROW()-5,geb.Rechnung!$G$4:$G$1000,0),COLUMN()-1))","v":""},{"$f":"IF(ISNA(INDEX(geb.Rechnung!$A$4:$G$1000,MATCH(ROW()-5,geb.Rechnung!$G$4:$G$1000,0),COLUMN()-2)),\"\",INDEX(geb.Rechnung!$A$4:$G$1000,MATCH(ROW()-5,geb.Rechnung!$G$4:$G$1000,0),COLUMN()-2))","v":""},{"$f":"IF(ISNA(INDEX(geb.Rechnung!$A$4:$G$1000,MATCH(ROW()-5,geb.Rechnung!$G$4:$G$1000,0),COLUMN()+1)),\"\",INDEX(geb.Rechnung!$A$4:$G$1000,MATCH(ROW()-5,geb.Rechnung!$G$4:$G$1000,0),COLUMN()+1))","v":""},{"$f":"IF(ISNA(INDEX(geb.Rechnung!$A$4:$G$1000,MATCH(ROW()-5,geb.Rechnung!$G$4:$G$1000,0),COLUMN()+1)),\"\",INDEX(geb.Rechnung!$A$4:$G$1000,MATCH(ROW()-5,geb.Rechnung!$G$4:$G$1000,0),COLUMN()+1))","v":""}]
[{"$f":"IF(ISNA(INDEX(geb.Rechnung!$A$4:$G$1000,MATCH(ROW()-5,geb.Rechnung!$G$4:$G$1000,0),COLUMN()-1)),\"\",INDEX(geb.Rechnung!$A$4:$G$1000,MATCH(ROW()-5,geb.Rechnung!$G$4:$G$1000,0),COLUMN()-1))","v":""},{"$f":"IF(ISNA(INDEX(geb.Rechnung!$A$4:$G$1000,MATCH(ROW()-5,geb.Rechnung!$G$4:$G$1000,0),COLUMN()-2)),\"\",INDEX(geb.Rechnung!$A$4:$G$1000,MATCH(ROW()-5,geb.Rechnung!$G$4:$G$1000,0),COLUMN()-2))","v":""},{"$f":"IF(ISNA(INDEX(geb.Rechnung!$A$4:$G$1000,MATCH(ROW()-5,geb.Rechnung!$G$4:$G$1000,0),COLUMN()+1)),\"\",INDEX(geb.Rechnung!$A$4:$G$1000,MATCH(ROW()-5,geb.Rechnung!$G$4:$G$1000,0),COLUMN()+1))","v":""},{"$f":"IF(ISNA(INDEX(geb.Rechnung!$A$4:$G$1000,MATCH(ROW()-5,geb.Rechnung!$G$4:$G$1000,0),COLUMN()+1)),\"\",INDEX(geb.Rechnung!$A$4:$G$1000,MATCH(ROW()-5,geb.Rechnung!$G$4:$G$1000,0),COLUMN()+1))","v":""}]
[{"$f":"IF(ISNA(INDEX(geb.Rechnung!$A$4:$G$1000,MATCH(ROW()-5,geb.Rechnung!$G$4:$G$1000,0),COLUMN()-1)),\"\",INDEX(geb.Rechnung!$A$4:$G$1000,MATCH(ROW()-5,geb.Rechnung!$G$4:$G$1000,0),COLUMN()-1))","v":""},{"$f":"IF(ISNA(INDEX(geb.Rechnung!$A$4:$G$1000,MATCH(ROW()-5,geb.Rechnung!$G$4:$G$1000,0),COLUMN()-2)),\"\",INDEX(geb.Rechnung!$A$4:$G$1000,MATCH(ROW()-5,geb.Rechnung!$G$4:$G$1000,0),COLUMN()-2))","v":""},{"$f":"IF(ISNA(INDEX(geb.Rechnung!$A$4:$G$1000,MATCH(ROW()-5,geb.Rechnung!$G$4:$G$1000,0),COLUMN()+1)),\"\",INDEX(geb.Rechnung!$A$4:$G$1000,MATCH(ROW()-5,geb.Rechnung!$G$4:$G$1000,0),COLUMN()+1))","v":""},{"$f":"IF(ISNA(INDEX(geb.Rechnung!$A$4:$G$1000,MATCH(ROW()-5,geb.Rechnung!$G$4:$G$1000,0),COLUMN()+1)),\"\",INDEX(geb.Rechnung!$A$4:$G$1000,MATCH(ROW()-5,geb.Rechnung!$G$4:$G$1000,0),COLUMN()+1))","v":""}]
[{"$f":"IF(ISNA(INDEX(geb.Rechnung!$A$4:$G$1000,MATCH(ROW()-5,geb.Rechnung!$G$4:$G$1000,0),COLUMN()-1)),\"\",INDEX(geb.Rechnung!$A$4:$G$1000,MATCH(ROW()-5,geb.Rechnung!$G$4:$G$1000,0),COLUMN()-1))","v":""},{"$f":"IF(ISNA(INDEX(geb.Rechnung!$A$4:$G$1000,MATCH(ROW()-5,geb.Rechnung!$G$4:$G$1000,0),COLUMN()-2)),\"\",INDEX(geb.Rechnung!$A$4:$G$1000,MATCH(ROW()-5,geb.Rechnung!$G$4:$G$1000,0),COLUMN()-2))","v":""},{"$f":"IF(ISNA(INDEX(geb.Rechnung!$A$4:$G$1000,MATCH(ROW()-5,geb.Rechnung!$G$4:$G$1000,0),COLUMN()+1)),\"\",INDEX(geb.Rechnung!$A$4:$G$1000,MATCH(ROW()-5,geb.Rechnung!$G$4:$G$1000,0),COLUMN()+1))","v":""},{"$f":"IF(ISNA(INDEX(geb.Rechnung!$A$4:$G$1000,MATCH(ROW()-5,geb.Rechnung!$G$4:$G$1000,0),COLUMN()+1)),\"\",INDEX(geb.Rechnung!$A$4:$G$1000,MATCH(ROW()-5,geb.Rechnung!$G$4:$G$1000,0),COLUMN()+1))","v":""}]
[{"$f":"IF(ISNA(INDEX(geb.Rechnung!$A$4:$G$1000,MATCH(ROW()-5,geb.Rechnung!$G$4:$G$1000,0),COLUMN()-1)),\"\",INDEX(geb.Rechnung!$A$4:$G$1000,MATCH(ROW()-5,geb.Rechnung!$G$4:$G$1000,0),COLUMN()-1))","v":""},{"$f":"IF(ISNA(INDEX(geb.Rechnung!$A$4:$G$1000,MATCH(ROW()-5,geb.Rechnung!$G$4:$G$1000,0),COLUMN()-2)),\"\",INDEX(geb.Rechnung!$A$4:$G$1000,MATCH(ROW()-5,geb.Rechnung!$G$4:$G$1000,0),COLUMN()-2))","v":""},{"$f":"IF(ISNA(INDEX(geb.Rechnung!$A$4:$G$1000,MATCH(ROW()-5,geb.Rechnung!$G$4:$G$1000,0),COLUMN()+1)),\"\",INDEX(geb.Rechnung!$A$4:$G$1000,MATCH(ROW()-5,geb.Rechnung!$G$4:$G$1000,0),COLUMN()+1))","v":""},{"$f":"IF(ISNA(INDEX(geb.Rechnung!$A$4:$G$1000,MATCH(ROW()-5,geb.Rechnung!$G$4:$G$1000,0),COLUMN()+1)),\"\",INDEX(geb.Rechnung!$A$4:$G$1000,MATCH(ROW()-5,geb.Rechnung!$G$4:$G$1000,0),COLUMN()+1))","v":""}]
[{"$f":"IF(ISNA(INDEX(geb.Rechnung!$A$4:$G$1000,MATCH(ROW()-5,geb.Rechnung!$G$4:$G$1000,0),COLUMN()-1)),\"\",INDEX(geb.Rechnung!$A$4:$G$1000,MATCH(ROW()-5,geb.Rechnung!$G$4:$G$1000,0),COLUMN()-1))","v":""},{"$f":"IF(ISNA(INDEX(geb.Rechnung!$A$4:$G$1000,MATCH(ROW()-5,geb.Rechnung!$G$4:$G$1000,0),COLUMN()-2)),\"\",INDEX(geb.Rechnung!$A$4:$G$1000,MATCH(ROW()-5,geb.Rechnung!$G$4:$G$1000,0),COLUMN()-2))","v":""},{"$f":"IF(ISNA(INDEX(geb.Rechnung!$A$4:$G$1000,MATCH(ROW()-5,geb.Rechnung!$G$4:$G$1000,0),COLUMN()+1)),\"\",INDEX(geb.Rechnung!$A$4:$G$1000,MATCH(ROW()-5,geb.Rechnung!$G$4:$G$1000,0),COLUMN()+1))","v":""},{"$f":"IF(ISNA(INDEX(geb.Rechnung!$A$4:$G$1000,MATCH(ROW()-5,geb.Rechnung!$G$4:$G$1000,0),COLUMN()+1)),\"\",INDEX(geb.Rechnung!$A$4:$G$1000,MATCH(ROW()-5,geb.Rechnung!$G$4:$G$1000,0),COLUMN()+1))","v":""}]
[{"$f":"IF(ISNA(INDEX(geb.Rechnung!$A$4:$G$1000,MATCH(ROW()-5,geb.Rechnung!$G$4:$G$1000,0),COLUMN()-1)),\"\",INDEX(geb.Rechnung!$A$4:$G$1000,MATCH(ROW()-5,geb.Rechnung!$G$4:$G$1000,0),COLUMN()-1))","v":""},{"$f":"IF(ISNA(INDEX(geb.Rechnung!$A$4:$G$1000,MATCH(ROW()-5,geb.Rechnung!$G$4:$G$1000,0),COLUMN()-2)),\"\",INDEX(geb.Rechnung!$A$4:$G$1000,MATCH(ROW()-5,geb.Rechnung!$G$4:$G$1000,0),COLUMN()-2))","v":""},{"$f":"IF(ISNA(INDEX(geb.Rechnung!$A$4:$G$1000,MATCH(ROW()-5,geb.Rechnung!$G$4:$G$1000,0),COLUMN()+1)),\"\",INDEX(geb.Rechnung!$A$4:$G$1000,MATCH(ROW()-5,geb.Rechnung!$G$4:$G$1000,0),COLUMN()+1))","v":""},{"$f":"IF(ISNA(INDEX(geb.Rechnung!$A$4:$G$1000,MATCH(ROW()-5,geb.Rechnung!$G$4:$G$1000,0),COLUMN()+1)),\"\",INDEX(geb.Rechnung!$A$4:$G$1000,MATCH(ROW()-5,geb.Rechnung!$G$4:$G$1000,0),COLUMN()+1))","v":""}]
[{"$f":"IF(ISNA(INDEX(geb.Rechnung!$A$4:$G$1000,MATCH(ROW()-5,geb.Rechnung!$G$4:$G$1000,0),COLUMN()-1)),\"\",INDEX(geb.Rechnung!$A$4:$G$1000,MATCH(ROW()-5,geb.Rechnung!$G$4:$G$1000,0),COLUMN()-1))","v":""},{"$f":"IF(ISNA(INDEX(geb.Rechnung!$A$4:$G$1000,MATCH(ROW()-5,geb.Rechnung!$G$4:$G$1000,0),COLUMN()-2)),\"\",INDEX(geb.Rechnung!$A$4:$G$1000,MATCH(ROW()-5,geb.Rechnung!$G$4:$G$1000,0),COLUMN()-2))","v":""},{"$f":"IF(ISNA(INDEX(geb.Rechnung!$A$4:$G$1000,MATCH(ROW()-5,geb.Rechnung!$G$4:$G$1000,0),COLUMN()+1)),\"\",INDEX(geb.Rechnung!$A$4:$G$1000,MATCH(ROW()-5,geb.Rechnung!$G$4:$G$1000,0),COLUMN()+1))","v":""},{"$f":"IF(ISNA(INDEX(geb.Rechnung!$A$4:$G$1000,MATCH(ROW()-5,geb.Rechnung!$G$4:$G$1000,0),COLUMN()+1)),\"\",INDEX(geb.Rechnung!$A$4:$G$1000,MATCH(ROW()-5,geb.Rechnung!$G$4:$G$1000,0),COLUMN()+1))","v":""}]
[{"$f":"IF(ISNA(INDEX(geb.Rechnung!$A$4:$G$1000,MATCH(ROW()-5,geb.Rechnung!$G$4:$G$1000,0),COLUMN()-1)),\"\",INDEX(geb.Rechnung!$A$4:$G$1000,MATCH(ROW()-5,geb.Rechnung!$G$4:$G$1000,0),COLUMN()-1))","v":""},{"$f":"IF(ISNA(INDEX(geb.Rechnung!$A$4:$G$1000,MATCH(ROW()-5,geb.Rechnung!$G$4:$G$1000,0),COLUMN()-2)),\"\",INDEX(geb.Rechnung!$A$4:$G$1000,MATCH(ROW()-5,geb.Rechnung!$G$4:$G$1000,0),COLUMN()-2))","v":""},{"$f":"IF(ISNA(INDEX(geb.Rechnung!$A$4:$G$1000,MATCH(ROW()-5,geb.Rechnung!$G$4:$G$1000,0),COLUMN()+1)),\"\",INDEX(geb.Rechnung!$A$4:$G$1000,MATCH(ROW()-5,geb.Rechnung!$G$4:$G$1000,0),COLUMN()+1))","v":""},{"$f":"IF(ISNA(INDEX(geb.Rechnung!$A$4:$G$1000,MATCH(ROW()-5,geb.Rechnung!$G$4:$G$1000,0),COLUMN()+1)),\"\",INDEX(geb.Rechnung!$A$4:$G$1000,MATCH(ROW()-5,geb.Rechnung!$G$4:$G$1000,0),COLUMN()+1))","v":""}]
[{"$f":"IF(ISNA(INDEX(geb.Rechnung!$A$4:$G$1000,MATCH(ROW()-5,geb.Rechnung!$G$4:$G$1000,0),COLUMN()-1)),\"\",INDEX(geb.Rechnung!$A$4:$G$1000,MATCH(ROW()-5,geb.Rechnung!$G$4:$G$1000,0),COLUMN()-1))","v":""},{"$f":"IF(ISNA(INDEX(geb.Rechnung!$A$4:$G$1000,MATCH(ROW()-5,geb.Rechnung!$G$4:$G$1000,0),COLUMN()-2)),\"\",INDEX(geb.Rechnung!$A$4:$G$1000,MATCH(ROW()-5,geb.Rechnung!$G$4:$G$1000,0),COLUMN()-2))","v":""},{"$f":"IF(ISNA(INDEX(geb.Rechnung!$A$4:$G$1000,MATCH(ROW()-5,geb.Rechnung!$G$4:$G$1000,0),COLUMN()+1)),\"\",INDEX(geb.Rechnung!$A$4:$G$1000,MATCH(ROW()-5,geb.Rechnung!$G$4:$G$1000,0),COLUMN()+1))","v":""},{"$f":"IF(ISNA(INDEX(geb.Rechnung!$A$4:$G$1000,MATCH(ROW()-5,geb.Rechnung!$G$4:$G$1000,0),COLUMN()+1)),\"\",INDEX(geb.Rechnung!$A$4:$G$1000,MATCH(ROW()-5,geb.Rechnung!$G$4:$G$1000,0),COLUMN()+1))","v":""}]
[{"$f":"IF(ISNA(INDEX(geb.Rechnung!$A$4:$G$1000,MATCH(ROW()-5,geb.Rechnung!$G$4:$G$1000,0),COLUMN()-1)),\"\",INDEX(geb.Rechnung!$A$4:$G$1000,MATCH(ROW()-5,geb.Rechnung!$G$4:$G$1000,0),COLUMN()-1))","v":""},{"$f":"IF(ISNA(INDEX(geb.Rechnung!$A$4:$G$1000,MATCH(ROW()-5,geb.Rechnung!$G$4:$G$1000,0),COLUMN()-2)),\"\",INDEX(geb.Rechnung!$A$4:$G$1000,MATCH(ROW()-5,geb.Rechnung!$G$4:$G$1000,0),COLUMN()-2))","v":""},{"$f":"IF(ISNA(INDEX(geb.Rechnung!$A$4:$G$1000,MATCH(ROW()-5,geb.Rechnung!$G$4:$G$1000,0),COLUMN()+1)),\"\",INDEX(geb.Rechnung!$A$4:$G$1000,MATCH(ROW()-5,geb.Rechnung!$G$4:$G$1000,0),COLUMN()+1))","v":""},{"$f":"IF(ISNA(INDEX(geb.Rechnung!$A$4:$G$1000,MATCH(ROW()-5,geb.Rechnung!$G$4:$G$1000,0),COLUMN()+1)),\"\",INDEX(geb.Rechnung!$A$4:$G$1000,MATCH(ROW()-5,geb.Rechnung!$G$4:$G$1000,0),COLUMN()+1))","v":""}]
[{"$f":"IF(ISNA(INDEX(geb.Rechnung!$A$4:$G$1000,MATCH(ROW()-5,geb.Rechnung!$G$4:$G$1000,0),COLUMN()-1)),\"\",INDEX(geb.Rechnung!$A$4:$G$1000,MATCH(ROW()-5,geb.Rechnung!$G$4:$G$1000,0),COLUMN()-1))","v":""},{"$f":"IF(ISNA(INDEX(geb.Rechnung!$A$4:$G$1000,MATCH(ROW()-5,geb.Rechnung!$G$4:$G$1000,0),COLUMN()-2)),\"\",INDEX(geb.Rechnung!$A$4:$G$1000,MATCH(ROW()-5,geb.Rechnung!$G$4:$G$1000,0),COLUMN()-2))","v":""},{"$f":"IF(ISNA(INDEX(geb.Rechnung!$A$4:$G$1000,MATCH(ROW()-5,geb.Rechnung!$G$4:$G$1000,0),COLUMN()+1)),\"\",INDEX(geb.Rechnung!$A$4:$G$1000,MATCH(ROW()-5,geb.Rechnung!$G$4:$G$1000,0),COLUMN()+1))","v":""},{"$f":"IF(ISNA(INDEX(geb.Rechnung!$A$4:$G$1000,MATCH(ROW()-5,geb.Rechnung!$G$4:$G$1000,0),COLUMN()+1)),\"\",INDEX(geb.Rechnung!$A$4:$G$1000,MATCH(ROW()-5,geb.Rechnung!$G$4:$G$1000,0),COLUMN()+1))","v":""}]
[{"$f":"IF(ISNA(INDEX(geb.Rechnung!$A$4:$G$1000,MATCH(ROW()-5,geb.Rechnung!$G$4:$G$1000,0),COLUMN()-1)),\"\",INDEX(geb.Rechnung!$A$4:$G$1000,MATCH(ROW()-5,geb.Rechnung!$G$4:$G$1000,0),COLUMN()-1))","v":""},{"$f":"IF(ISNA(INDEX(geb.Rechnung!$A$4:$G$1000,MATCH(ROW()-5,geb.Rechnung!$G$4:$G$1000,0),COLUMN()-2)),\"\",INDEX(geb.Rechnung!$A$4:$G$1000,MATCH(ROW()-5,geb.Rechnung!$G$4:$G$1000,0),COLUMN()-2))","v":""},{"$f":"IF(ISNA(INDEX(geb.Rechnung!$A$4:$G$1000,MATCH(ROW()-5,geb.Rechnung!$G$4:$G$1000,0),COLUMN()+1)),\"\",INDEX(geb.Rechnung!$A$4:$G$1000,MATCH(ROW()-5,geb.Rechnung!$G$4:$G$1000,0),COLUMN()+1))","v":""},{"$f":"IF(ISNA(INDEX(geb.Rechnung!$A$4:$G$1000,MATCH(ROW()-5,geb.Rechnung!$G$4:$G$1000,0),COLUMN()+1)),\"\",INDEX(geb.Rechnung!$A$4:$G$1000,MATCH(ROW()-5,geb.Rechnung!$G$4:$G$1000,0),COLUMN()+1))","v":""}]
[{"$f":"IF(ISNA(INDEX(geb.Rechnung!$A$4:$G$1000,MATCH(ROW()-5,geb.Rechnung!$G$4:$G$1000,0),COLUMN()-1)),\"\",INDEX(geb.Rechnung!$A$4:$G$1000,MATCH(ROW()-5,geb.Rechnung!$G$4:$G$1000,0),COLUMN()-1))","v":""},{"$f":"IF(ISNA(INDEX(geb.Rechnung!$A$4:$G$1000,MATCH(ROW()-5,geb.Rechnung!$G$4:$G$1000,0),COLUMN()-2)),\"\",INDEX(geb.Rechnung!$A$4:$G$1000,MATCH(ROW()-5,geb.Rechnung!$G$4:$G$1000,0),COLUMN()-2))","v":""},{"$f":"IF(ISNA(INDEX(geb.Rechnung!$A$4:$G$1000,MATCH(ROW()-5,geb.Rechnung!$G$4:$G$1000,0),COLUMN()+1)),\"\",INDEX(geb.Rechnung!$A$4:$G$1000,MATCH(ROW()-5,geb.Rechnung!$G$4:$G$1000,0),COLUMN()+1))","v":""},{"$f":"IF(ISNA(INDEX(geb.Rechnung!$A$4:$G$1000,MATCH(ROW()-5,geb.Rechnung!$G$4:$G$1000,0),COLUMN()+1)),\"\",INDEX(geb.Rechnung!$A$4:$G$1000,MATCH(ROW()-5,geb.Rechnung!$G$4:$G$1000,0),COLUMN()+1))","v":""}]
[{"$f":"IF(ISNA(INDEX(geb.Rechnung!$A$4:$G$1000,MATCH(ROW()-5,geb.Rechnung!$G$4:$G$1000,0),COLUMN()-1)),\"\",INDEX(geb.Rechnung!$A$4:$G$1000,MATCH(ROW()-5,geb.Rechnung!$G$4:$G$1000,0),COLUMN()-1))","v":""},{"$f":"IF(ISNA(INDEX(geb.Rechnung!$A$4:$G$1000,MATCH(ROW()-5,geb.Rechnung!$G$4:$G$1000,0),COLUMN()-2)),\"\",INDEX(geb.Rechnung!$A$4:$G$1000,MATCH(ROW()-5,geb.Rechnung!$G$4:$G$1000,0),COLUMN()-2))","v":""},{"$f":"IF(ISNA(INDEX(geb.Rechnung!$A$4:$G$1000,MATCH(ROW()-5,geb.Rechnung!$G$4:$G$1000,0),COLUMN()+1)),\"\",INDEX(geb.Rechnung!$A$4:$G$1000,MATCH(ROW()-5,geb.Rechnung!$G$4:$G$1000,0),COLUMN()+1))","v":""},{"$f":"IF(ISNA(INDEX(geb.Rechnung!$A$4:$G$1000,MATCH(ROW()-5,geb.Rechnung!$G$4:$G$1000,0),COLUMN()+1)),\"\",INDEX(geb.Rechnung!$A$4:$G$1000,MATCH(ROW()-5,geb.Rechnung!$G$4:$G$1000,0),COLUMN()+1))","v":""}]
[{"$f":"IF(ISNA(INDEX(geb.Rechnung!$A$4:$G$1000,MATCH(ROW()-5,geb.Rechnung!$G$4:$G$1000,0),COLUMN()-1)),\"\",INDEX(geb.Rechnung!$A$4:$G$1000,MATCH(ROW()-5,geb.Rechnung!$G$4:$G$1000,0),COLUMN()-1))","v":""},{"$f":"IF(ISNA(INDEX(geb.Rechnung!$A$4:$G$1000,MATCH(ROW()-5,geb.Rechnung!$G$4:$G$1000,0),COLUMN()-2)),\"\",INDEX(geb.Rechnung!$A$4:$G$1000,MATCH(ROW()-5,geb.Rechnung!$G$4:$G$1000,0),COLUMN()-2))","v":""},{"$f":"IF(ISNA(INDEX(geb.Rechnung!$A$4:$G$1000,MATCH(ROW()-5,geb.Rechnung!$G$4:$G$1000,0),COLUMN()+1)),\"\",INDEX(geb.Rechnung!$A$4:$G$1000,MATCH(ROW()-5,geb.Rechnung!$G$4:$G$1000,0),COLUMN()+1))","v":""},{"$f":"IF(ISNA(INDEX(geb.Rechnung!$A$4:$G$1000,MATCH(ROW()-5,geb.Rechnung!$G$4:$G$1000,0),COLUMN()+1)),\"\",INDEX(geb.Rechnung!$A$4:$G$1000,MATCH(ROW()-5,geb.Rechnung!$G$4:$G$1000,0),COLUMN()+1))","v":""}]
[{"$f":"IF(ISNA(INDEX(geb.Rechnung!$A$4:$G$1000,MATCH(ROW()-5,geb.Rechnung!$G$4:$G$1000,0),COLUMN()-1)),\"\",INDEX(geb.Rechnung!$A$4:$G$1000,MATCH(ROW()-5,geb.Rechnung!$G$4:$G$1000,0),COLUMN()-1))","v":""},{"$f":"IF(ISNA(INDEX(geb.Rechnung!$A$4:$G$1000,MATCH(ROW()-5,geb.Rechnung!$G$4:$G$1000,0),COLUMN()-2)),\"\",INDEX(geb.Rechnung!$A$4:$G$1000,MATCH(ROW()-5,geb.Rechnung!$G$4:$G$1000,0),COLUMN()-2))","v":""},{"$f":"IF(ISNA(INDEX(geb.Rechnung!$A$4:$G$1000,MATCH(ROW()-5,geb.Rechnung!$G$4:$G$1000,0),COLUMN()+1)),\"\",INDEX(geb.Rechnung!$A$4:$G$1000,MATCH(ROW()-5,geb.Rechnung!$G$4:$G$1000,0),COLUMN()+1))","v":""},{"$f":"IF(ISNA(INDEX(geb.Rechnung!$A$4:$G$1000,MATCH(ROW()-5,geb.Rechnung!$G$4:$G$1000,0),COLUMN()+1)),\"\",INDEX(geb.Rechnung!$A$4:$G$1000,MATCH(ROW()-5,geb.Rechnung!$G$4:$G$1000,0),COLUMN()+1))","v":""}]
[{"$f":"IF(ISNA(INDEX(geb.Rechnung!$A$4:$G$1000,MATCH(ROW()-5,geb.Rechnung!$G$4:$G$1000,0),COLUMN()-1)),\"\",INDEX(geb.Rechnung!$A$4:$G$1000,MATCH(ROW()-5,geb.Rechnung!$G$4:$G$1000,0),COLUMN()-1))","v":""},{"$f":"IF(ISNA(INDEX(geb.Rechnung!$A$4:$G$1000,MATCH(ROW()-5,geb.Rechnung!$G$4:$G$1000,0),COLUMN()-2)),\"\",INDEX(geb.Rechnung!$A$4:$G$1000,MATCH(ROW()-5,geb.Rechnung!$G$4:$G$1000,0),COLUMN()-2))","v":""},{"$f":"IF(ISNA(INDEX(geb.Rechnung!$A$4:$G$1000,MATCH(ROW()-5,geb.Rechnung!$G$4:$G$1000,0),COLUMN()+1)),\"\",INDEX(geb.Rechnung!$A$4:$G$1000,MATCH(ROW()-5,geb.Rechnung!$G$4:$G$1000,0),COLUMN()+1))","v":""},{"$f":"IF(ISNA(INDEX(geb.Rechnung!$A$4:$G$1000,MATCH(ROW()-5,geb.Rechnung!$G$4:$G$1000,0),COLUMN()+1)),\"\",INDEX(geb.Rechnung!$A$4:$G$1000,MATCH(ROW()-5,geb.Rechnung!$G$4:$G$1000,0),COLUMN()+1))","v":""}]
[{"$f":"IF(ISNA(INDEX(geb.Rechnung!$A$4:$G$1000,MATCH(ROW()-5,geb.Rechnung!$G$4:$G$1000,0),COLUMN()-1)),\"\",INDEX(geb.Rechnung!$A$4:$G$1000,MATCH(ROW()-5,geb.Rechnung!$G$4:$G$1000,0),COLUMN()-1))","v":""},{"$f":"IF(ISNA(INDEX(geb.Rechnung!$A$4:$G$1000,MATCH(ROW()-5,geb.Rechnung!$G$4:$G$1000,0),COLUMN()-2)),\"\",INDEX(geb.Rechnung!$A$4:$G$1000,MATCH(ROW()-5,geb.Rechnung!$G$4:$G$1000,0),COLUMN()-2))","v":""},{"$f":"IF(ISNA(INDEX(geb.Rechnung!$A$4:$G$1000,MATCH(ROW()-5,geb.Rechnung!$G$4:$G$1000,0),COLUMN()+1)),\"\",INDEX(geb.Rechnung!$A$4:$G$1000,MATCH(ROW()-5,geb.Rechnung!$G$4:$G$1000,0),COLUMN()+1))","v":""},{"$f":"IF(ISNA(INDEX(geb.Rechnung!$A$4:$G$1000,MATCH(ROW()-5,geb.Rechnung!$G$4:$G$1000,0),COLUMN()+1)),\"\",INDEX(geb.Rechnung!$A$4:$G$1000,MATCH(ROW()-5,geb.Rechnung!$G$4:$G$1000,0),COLUMN()+1))","v":""}]
[{"$f":"IF(ISNA(INDEX(geb.Rechnung!$A$4:$G$1000,MATCH(ROW()-5,geb.Rechnung!$G$4:$G$1000,0),COLUMN()-1)),\"\",INDEX(geb.Rechnung!$A$4:$G$1000,MATCH(ROW()-5,geb.Rechnung!$G$4:$G$1000,0),COLUMN()-1))","v":""},{"$f":"IF(ISNA(INDEX(geb.Rechnung!$A$4:$G$1000,MATCH(ROW()-5,geb.Rechnung!$G$4:$G$1000,0),COLUMN()-2)),\"\",INDEX(geb.Rechnung!$A$4:$G$1000,MATCH(ROW()-5,geb.Rechnung!$G$4:$G$1000,0),COLUMN()-2))","v":""},{"$f":"IF(ISNA(INDEX(geb.Rechnung!$A$4:$G$1000,MATCH(ROW()-5,geb.Rechnung!$G$4:$G$1000,0),COLUMN()+1)),\"\",INDEX(geb.Rechnung!$A$4:$G$1000,MATCH(ROW()-5,geb.Rechnung!$G$4:$G$1000,0),COLUMN()+1))","v":""},{"$f":"IF(ISNA(INDEX(geb.Rechnung!$A$4:$G$1000,MATCH(ROW()-5,geb.Rechnung!$G$4:$G$1000,0),COLUMN()+1)),\"\",INDEX(geb.Rechnung!$A$4:$G$1000,MATCH(ROW()-5,geb.Rechnung!$G$4:$G$1000,0),COLUMN()+1))","v":""}]
[{"$f":"IF(ISNA(INDEX(geb.Rechnung!$A$4:$G$1000,MATCH(ROW()-5,geb.Rechnung!$G$4:$G$1000,0),COLUMN()-1)),\"\",INDEX(geb.Rechnung!$A$4:$G$1000,MATCH(ROW()-5,geb.Rechnung!$G$4:$G$1000,0),COLUMN()-1))","v":""},{"$f":"IF(ISNA(INDEX(geb.Rechnung!$A$4:$G$1000,MATCH(ROW()-5,geb.Rechnung!$G$4:$G$1000,0),COLUMN()-2)),\"\",INDEX(geb.Rechnung!$A$4:$G$1000,MATCH(ROW()-5,geb.Rechnung!$G$4:$G$1000,0),COLUMN()-2))","v":""},{"$f":"IF(ISNA(INDEX(geb.Rechnung!$A$4:$G$1000,MATCH(ROW()-5,geb.Rechnung!$G$4:$G$1000,0),COLUMN()+1)),\"\",INDEX(geb.Rechnung!$A$4:$G$1000,MATCH(ROW()-5,geb.Rechnung!$G$4:$G$1000,0),COLUMN()+1))","v":""},{"$f":"IF(ISNA(INDEX(geb.Rechnung!$A$4:$G$1000,MATCH(ROW()-5,geb.Rechnung!$G$4:$G$1000,0),COLUMN()+1)),\"\",INDEX(geb.Rechnung!$A$4:$G$1000,MATCH(ROW()-5,geb.Rechnung!$G$4:$G$1000,0),COLUMN()+1))","v":""}]
[{"$f":"IF(ISNA(INDEX(geb.Rechnung!$A$4:$G$1000,MATCH(ROW()-5,geb.Rechnung!$G$4:$G$1000,0),COLUMN()-1)),\"\",INDEX(geb.Rechnung!$A$4:$G$1000,MATCH(ROW()-5,geb.Rechnung!$G$4:$G$1000,0),COLUMN()-1))","v":""},{"$f":"IF(ISNA(INDEX(geb.Rechnung!$A$4:$G$1000,MATCH(ROW()-5,geb.Rechnung!$G$4:$G$1000,0),COLUMN()-2)),\"\",INDEX(geb.Rechnung!$A$4:$G$1000,MATCH(ROW()-5,geb.Rechnung!$G$4:$G$1000,0),COLUMN()-2))","v":""},{"$f":"IF(ISNA(INDEX(geb.Rechnung!$A$4:$G$1000,MATCH(ROW()-5,geb.Rechnung!$G$4:$G$1000,0),COLUMN()+1)),\"\",INDEX(geb.Rechnung!$A$4:$G$1000,MATCH(ROW()-5,geb.Rechnung!$G$4:$G$1000,0),COLUMN()+1))","v":""},{"$f":"IF(ISNA(INDEX(geb.Rechnung!$A$4:$G$1000,MATCH(ROW()-5,geb.Rechnung!$G$4:$G$1000,0),COLUMN()+1)),\"\",INDEX(geb.Rechnung!$A$4:$G$1000,MATCH(ROW()-5,geb.Rechnung!$G$4:$G$1000,0),COLUMN()+1))","v":""}]
[{"$f":"IF(ISNA(INDEX(geb.Rechnung!$A$4:$G$1000,MATCH(ROW()-5,geb.Rechnung!$G$4:$G$1000,0),COLUMN()-1)),\"\",INDEX(geb.Rechnung!$A$4:$G$1000,MATCH(ROW()-5,geb.Rechnung!$G$4:$G$1000,0),COLUMN()-1))","v":""},{"$f":"IF(ISNA(INDEX(geb.Rechnung!$A$4:$G$1000,MATCH(ROW()-5,geb.Rechnung!$G$4:$G$1000,0),COLUMN()-2)),\"\",INDEX(geb.Rechnung!$A$4:$G$1000,MATCH(ROW()-5,geb.Rechnung!$G$4:$G$1000,0),COLUMN()-2))","v":""},{"$f":"IF(ISNA(INDEX(geb.Rechnung!$A$4:$G$1000,MATCH(ROW()-5,geb.Rechnung!$G$4:$G$1000,0),COLUMN()+1)),\"\",INDEX(geb.Rechnung!$A$4:$G$1000,MATCH(ROW()-5,geb.Rechnung!$G$4:$G$1000,0),COLUMN()+1))","v":""},{"$f":"IF(ISNA(INDEX(geb.Rechnung!$A$4:$G$1000,MATCH(ROW()-5,geb.Rechnung!$G$4:$G$1000,0),COLUMN()+1)),\"\",INDEX(geb.Rechnung!$A$4:$G$1000,MATCH(ROW()-5,geb.Rechnung!$G$4:$G$1000,0),COLUMN()+1))","v":""}]
[{"$f":"IF(ISNA(INDEX(geb.Rechnung!$A$4:$G$1000,MATCH(ROW()-5,geb.Rechnung!$G$4:$G$1000,0),COLUMN()-1)),\"\",INDEX(geb.Rechnung!$A$4:$G$1000,MATCH(ROW()-5,geb.Rechnung!$G$4:$G$1000,0),COLUMN()-1))","v":""},{"$f":"IF(ISNA(INDEX(geb.Rechnung!$A$4:$G$1000,MATCH(ROW()-5,geb.Rechnung!$G$4:$G$1000,0),COLUMN()-2)),\"\",INDEX(geb.Rechnung!$A$4:$G$1000,MATCH(ROW()-5,geb.Rechnung!$G$4:$G$1000,0),COLUMN()-2))","v":""},{"$f":"IF(ISNA(INDEX(geb.Rechnung!$A$4:$G$1000,MATCH(ROW()-5,geb.Rechnung!$G$4:$G$1000,0),COLUMN()+1)),\"\",INDEX(geb.Rechnung!$A$4:$G$1000,MATCH(ROW()-5,geb.Rechnung!$G$4:$G$1000,0),COLUMN()+1))","v":""},{"$f":"IF(ISNA(INDEX(geb.Rechnung!$A$4:$G$1000,MATCH(ROW()-5,geb.Rechnung!$G$4:$G$1000,0),COLUMN()+1)),\"\",INDEX(geb.Rechnung!$A$4:$G$1000,MATCH(ROW()-5,geb.Rechnung!$G$4:$G$1000,0),COLUMN()+1))","v":""}]
[{"$f":"IF(ISNA(INDEX(geb.Rechnung!$A$4:$G$1000,MATCH(ROW()-5,geb.Rechnung!$G$4:$G$1000,0),COLUMN()-1)),\"\",INDEX(geb.Rechnung!$A$4:$G$1000,MATCH(ROW()-5,geb.Rechnung!$G$4:$G$1000,0),COLUMN()-1))","v":""},{"$f":"IF(ISNA(INDEX(geb.Rechnung!$A$4:$G$1000,MATCH(ROW()-5,geb.Rechnung!$G$4:$G$1000,0),COLUMN()-2)),\"\",INDEX(geb.Rechnung!$A$4:$G$1000,MATCH(ROW()-5,geb.Rechnung!$G$4:$G$1000,0),COLUMN()-2))","v":""},{"$f":"IF(ISNA(INDEX(geb.Rechnung!$A$4:$G$1000,MATCH(ROW()-5,geb.Rechnung!$G$4:$G$1000,0),COLUMN()+1)),\"\",INDEX(geb.Rechnung!$A$4:$G$1000,MATCH(ROW()-5,geb.Rechnung!$G$4:$G$1000,0),COLUMN()+1))","v":""},{"$f":"IF(ISNA(INDEX(geb.Rechnung!$A$4:$G$1000,MATCH(ROW()-5,geb.Rechnung!$G$4:$G$1000,0),COLUMN()+1)),\"\",INDEX(geb.Rechnung!$A$4:$G$1000,MATCH(ROW()-5,geb.Rechnung!$G$4:$G$1000,0),COLUMN()+1))","v":""}]
[{"$f":"IF(ISNA(INDEX(geb.Rechnung!$A$4:$G$1000,MATCH(ROW()-5,geb.Rechnung!$G$4:$G$1000,0),COLUMN()-1)),\"\",INDEX(geb.Rechnung!$A$4:$G$1000,MATCH(ROW()-5,geb.Rechnung!$G$4:$G$1000,0),COLUMN()-1))","v":""},{"$f":"IF(ISNA(INDEX(geb.Rechnung!$A$4:$G$1000,MATCH(ROW()-5,geb.Rechnung!$G$4:$G$1000,0),COLUMN()-2)),\"\",INDEX(geb.Rechnung!$A$4:$G$1000,MATCH(ROW()-5,geb.Rechnung!$G$4:$G$1000,0),COLUMN()-2))","v":""},{"$f":"IF(ISNA(INDEX(geb.Rechnung!$A$4:$G$1000,MATCH(ROW()-5,geb.Rechnung!$G$4:$G$1000,0),COLUMN()+1)),\"\",INDEX(geb.Rechnung!$A$4:$G$1000,MATCH(ROW()-5,geb.Rechnung!$G$4:$G$1000,0),COLUMN()+1))","v":""},{"$f":"IF(ISNA(INDEX(geb.Rechnung!$A$4:$G$1000,MATCH(ROW()-5,geb.Rechnung!$G$4:$G$1000,0),COLUMN()+1)),\"\",INDEX(geb.Rechnung!$A$4:$G$1000,MATCH(ROW()-5,geb.Rechnung!$G$4:$G$1000,0),COLUMN()+1))","v":""}]
[{"$f":"IF(ISNA(INDEX(geb.Rechnung!$A$4:$G$1000,MATCH(ROW()-5,geb.Rechnung!$G$4:$G$1000,0),COLUMN()-1)),\"\",INDEX(geb.Rechnung!$A$4:$G$1000,MATCH(ROW()-5,geb.Rechnung!$G$4:$G$1000,0),COLUMN()-1))","v":""},{"$f":"IF(ISNA(INDEX(geb.Rechnung!$A$4:$G$1000,MATCH(ROW()-5,geb.Rechnung!$G$4:$G$1000,0),COLUMN()-2)),\"\",INDEX(geb.Rechnung!$A$4:$G$1000,MATCH(ROW()-5,geb.Rechnung!$G$4:$G$1000,0),COLUMN()-2))","v":""},{"$f":"IF(ISNA(INDEX(geb.Rechnung!$A$4:$G$1000,MATCH(ROW()-5,geb.Rechnung!$G$4:$G$1000,0),COLUMN()+1)),\"\",INDEX(geb.Rechnung!$A$4:$G$1000,MATCH(ROW()-5,geb.Rechnung!$G$4:$G$1000,0),COLUMN()+1))","v":""},{"$f":"IF(ISNA(INDEX(geb.Rechnung!$A$4:$G$1000,MATCH(ROW()-5,geb.Rechnung!$G$4:$G$1000,0),COLUMN()+1)),\"\",INDEX(geb.Rechnung!$A$4:$G$1000,MATCH(ROW()-5,geb.Rechnung!$G$4:$G$1000,0),COLUMN()+1))","v":""}]
[{"$f":"IF(ISNA(INDEX(geb.Rechnung!$A$4:$G$1000,MATCH(ROW()-5,geb.Rechnung!$G$4:$G$1000,0),COLUMN()-1)),\"\",INDEX(geb.Rechnung!$A$4:$G$1000,MATCH(ROW()-5,geb.Rechnung!$G$4:$G$1000,0),COLUMN()-1))","v":""},{"$f":"IF(ISNA(INDEX(geb.Rechnung!$A$4:$G$1000,MATCH(ROW()-5,geb.Rechnung!$G$4:$G$1000,0),COLUMN()-2)),\"\",INDEX(geb.Rechnung!$A$4:$G$1000,MATCH(ROW()-5,geb.Rechnung!$G$4:$G$1000,0),COLUMN()-2))","v":""},{"$f":"IF(ISNA(INDEX(geb.Rechnung!$A$4:$G$1000,MATCH(ROW()-5,geb.Rechnung!$G$4:$G$1000,0),COLUMN()+1)),\"\",INDEX(geb.Rechnung!$A$4:$G$1000,MATCH(ROW()-5,geb.Rechnung!$G$4:$G$1000,0),COLUMN()+1))","v":""},{"$f":"IF(ISNA(INDEX(geb.Rechnung!$A$4:$G$1000,MATCH(ROW()-5,geb.Rechnung!$G$4:$G$1000,0),COLUMN()+1)),\"\",INDEX(geb.Rechnung!$A$4:$G$1000,MATCH(ROW()-5,geb.Rechnung!$G$4:$G$1000,0),COLUMN()+1))","v":""}]
[{"$f":"IF(ISNA(INDEX(geb.Rechnung!$A$4:$G$1000,MATCH(ROW()-5,geb.Rechnung!$G$4:$G$1000,0),COLUMN()-1)),\"\",INDEX(geb.Rechnung!$A$4:$G$1000,MATCH(ROW()-5,geb.Rechnung!$G$4:$G$1000,0),COLUMN()-1))","v":""},{"$f":"IF(ISNA(INDEX(geb.Rechnung!$A$4:$G$1000,MATCH(ROW()-5,geb.Rechnung!$G$4:$G$1000,0),COLUMN()-2)),\"\",INDEX(geb.Rechnung!$A$4:$G$1000,MATCH(ROW()-5,geb.Rechnung!$G$4:$G$1000,0),COLUMN()-2))","v":""},{"$f":"IF(ISNA(INDEX(geb.Rechnung!$A$4:$G$1000,MATCH(ROW()-5,geb.Rechnung!$G$4:$G$1000,0),COLUMN()+1)),\"\",INDEX(geb.Rechnung!$A$4:$G$1000,MATCH(ROW()-5,geb.Rechnung!$G$4:$G$1000,0),COLUMN()+1))","v":""},{"$f":"IF(ISNA(INDEX(geb.Rechnung!$A$4:$G$1000,MATCH(ROW()-5,geb.Rechnung!$G$4:$G$1000,0),COLUMN()+1)),\"\",INDEX(geb.Rechnung!$A$4:$G$1000,MATCH(ROW()-5,geb.Rechnung!$G$4:$G$1000,0),COLUMN()+1))","v":""}]
[{"$f":"IF(ISNA(INDEX(geb.Rechnung!$A$4:$G$1000,MATCH(ROW()-5,geb.Rechnung!$G$4:$G$1000,0),COLUMN()-1)),\"\",INDEX(geb.Rechnung!$A$4:$G$1000,MATCH(ROW()-5,geb.Rechnung!$G$4:$G$1000,0),COLUMN()-1))","v":""},{"$f":"IF(ISNA(INDEX(geb.Rechnung!$A$4:$G$1000,MATCH(ROW()-5,geb.Rechnung!$G$4:$G$1000,0),COLUMN()-2)),\"\",INDEX(geb.Rechnung!$A$4:$G$1000,MATCH(ROW()-5,geb.Rechnung!$G$4:$G$1000,0),COLUMN()-2))","v":""},{"$f":"IF(ISNA(INDEX(geb.Rechnung!$A$4:$G$1000,MATCH(ROW()-5,geb.Rechnung!$G$4:$G$1000,0),COLUMN()+1)),\"\",INDEX(geb.Rechnung!$A$4:$G$1000,MATCH(ROW()-5,geb.Rechnung!$G$4:$G$1000,0),COLUMN()+1))","v":""},{"$f":"IF(ISNA(INDEX(geb.Rechnung!$A$4:$G$1000,MATCH(ROW()-5,geb.Rechnung!$G$4:$G$1000,0),COLUMN()+1)),\"\",INDEX(geb.Rechnung!$A$4:$G$1000,MATCH(ROW()-5,geb.Rechnung!$G$4:$G$1000,0),COLUMN()+1))","v":""}]
[{"$f":"IF(ISNA(INDEX(geb.Rechnung!$A$4:$G$1000,MATCH(ROW()-5,geb.Rechnung!$G$4:$G$1000,0),COLUMN()-1)),\"\",INDEX(geb.Rechnung!$A$4:$G$1000,MATCH(ROW()-5,geb.Rechnung!$G$4:$G$1000,0),COLUMN()-1))","v":""},{"$f":"IF(ISNA(INDEX(geb.Rechnung!$A$4:$G$1000,MATCH(ROW()-5,geb.Rechnung!$G$4:$G$1000,0),COLUMN()-2)),\"\",INDEX(geb.Rechnung!$A$4:$G$1000,MATCH(ROW()-5,geb.Rechnung!$G$4:$G$1000,0),COLUMN()-2))","v":""},{"$f":"IF(ISNA(INDEX(geb.Rechnung!$A$4:$G$1000,MATCH(ROW()-5,geb.Rechnung!$G$4:$G$1000,0),COLUMN()+1)),\"\",INDEX(geb.Rechnung!$A$4:$G$1000,MATCH(ROW()-5,geb.Rechnung!$G$4:$G$1000,0),COLUMN()+1))","v":""},{"$f":"IF(ISNA(INDEX(geb.Rechnung!$A$4:$G$1000,MATCH(ROW()-5,geb.Rechnung!$G$4:$G$1000,0),COLUMN()+1)),\"\",INDEX(geb.Rechnung!$A$4:$G$1000,MATCH(ROW()-5,geb.Rechnung!$G$4:$G$1000,0),COLUMN()+1))","v":""}]
[{"$f":"IF(ISNA(INDEX(geb.Rechnung!$A$4:$G$1000,MATCH(ROW()-5,geb.Rechnung!$G$4:$G$1000,0),COLUMN()-1)),\"\",INDEX(geb.Rechnung!$A$4:$G$1000,MATCH(ROW()-5,geb.Rechnung!$G$4:$G$1000,0),COLUMN()-1))","v":""},{"$f":"IF(ISNA(INDEX(geb.Rechnung!$A$4:$G$1000,MATCH(ROW()-5,geb.Rechnung!$G$4:$G$1000,0),COLUMN()-2)),\"\",INDEX(geb.Rechnung!$A$4:$G$1000,MATCH(ROW()-5,geb.Rechnung!$G$4:$G$1000,0),COLUMN()-2))","v":""},{"$f":"IF(ISNA(INDEX(geb.Rechnung!$A$4:$G$1000,MATCH(ROW()-5,geb.Rechnung!$G$4:$G$1000,0),COLUMN()+1)),\"\",INDEX(geb.Rechnung!$A$4:$G$1000,MATCH(ROW()-5,geb.Rechnung!$G$4:$G$1000,0),COLUMN()+1))","v":""},{"$f":"IF(ISNA(INDEX(geb.Rechnung!$A$4:$G$1000,MATCH(ROW()-5,geb.Rechnung!$G$4:$G$1000,0),COLUMN()+1)),\"\",INDEX(geb.Rechnung!$A$4:$G$1000,MATCH(ROW()-5,geb.Rechnung!$G$4:$G$1000,0),COLUMN()+1))","v":""}]
[{"$f":"IF(ISNA(INDEX(geb.Rechnung!$A$4:$G$1000,MATCH(ROW()-5,geb.Rechnung!$G$4:$G$1000,0),COLUMN()-1)),\"\",INDEX(geb.Rechnung!$A$4:$G$1000,MATCH(ROW()-5,geb.Rechnung!$G$4:$G$1000,0),COLUMN()-1))","v":""},{"$f":"IF(ISNA(INDEX(geb.Rechnung!$A$4:$G$1000,MATCH(ROW()-5,geb.Rechnung!$G$4:$G$1000,0),COLUMN()-2)),\"\",INDEX(geb.Rechnung!$A$4:$G$1000,MATCH(ROW()-5,geb.Rechnung!$G$4:$G$1000,0),COLUMN()-2))","v":""},{"$f":"IF(ISNA(INDEX(geb.Rechnung!$A$4:$G$1000,MATCH(ROW()-5,geb.Rechnung!$G$4:$G$1000,0),COLUMN()+1)),\"\",INDEX(geb.Rechnung!$A$4:$G$1000,MATCH(ROW()-5,geb.Rechnung!$G$4:$G$1000,0),COLUMN()+1))","v":""},{"$f":"IF(ISNA(INDEX(geb.Rechnung!$A$4:$G$1000,MATCH(ROW()-5,geb.Rechnung!$G$4:$G$1000,0),COLUMN()+1)),\"\",INDEX(geb.Rechnung!$A$4:$G$1000,MATCH(ROW()-5,geb.Rechnung!$G$4:$G$1000,0),COLUMN()+1))","v":""}]
[{"$f":"IF(ISNA(INDEX(geb.Rechnung!$A$4:$G$1000,MATCH(ROW()-5,geb.Rechnung!$G$4:$G$1000,0),COLUMN()-1)),\"\",INDEX(geb.Rechnung!$A$4:$G$1000,MATCH(ROW()-5,geb.Rechnung!$G$4:$G$1000,0),COLUMN()-1))","v":""},{"$f":"IF(ISNA(INDEX(geb.Rechnung!$A$4:$G$1000,MATCH(ROW()-5,geb.Rechnung!$G$4:$G$1000,0),COLUMN()-2)),\"\",INDEX(geb.Rechnung!$A$4:$G$1000,MATCH(ROW()-5,geb.Rechnung!$G$4:$G$1000,0),COLUMN()-2))","v":""},{"$f":"IF(ISNA(INDEX(geb.Rechnung!$A$4:$G$1000,MATCH(ROW()-5,geb.Rechnung!$G$4:$G$1000,0),COLUMN()+1)),\"\",INDEX(geb.Rechnung!$A$4:$G$1000,MATCH(ROW()-5,geb.Rechnung!$G$4:$G$1000,0),COLUMN()+1))","v":""},{"$f":"IF(ISNA(INDEX(geb.Rechnung!$A$4:$G$1000,MATCH(ROW()-5,geb.Rechnung!$G$4:$G$1000,0),COLUMN()+1)),\"\",INDEX(geb.Rechnung!$A$4:$G$1000,MATCH(ROW()-5,geb.Rechnung!$G$4:$G$1000,0),COLUMN()+1))","v":""}]
[{"$f":"IF(ISNA(INDEX(geb.Rechnung!$A$4:$G$1000,MATCH(ROW()-5,geb.Rechnung!$G$4:$G$1000,0),COLUMN()-1)),\"\",INDEX(geb.Rechnung!$A$4:$G$1000,MATCH(ROW()-5,geb.Rechnung!$G$4:$G$1000,0),COLUMN()-1))","v":""},{"$f":"IF(ISNA(INDEX(geb.Rechnung!$A$4:$G$1000,MATCH(ROW()-5,geb.Rechnung!$G$4:$G$1000,0),COLUMN()-2)),\"\",INDEX(geb.Rechnung!$A$4:$G$1000,MATCH(ROW()-5,geb.Rechnung!$G$4:$G$1000,0),COLUMN()-2))","v":""},{"$f":"IF(ISNA(INDEX(geb.Rechnung!$A$4:$G$1000,MATCH(ROW()-5,geb.Rechnung!$G$4:$G$1000,0),COLUMN()+1)),\"\",INDEX(geb.Rechnung!$A$4:$G$1000,MATCH(ROW()-5,geb.Rechnung!$G$4:$G$1000,0),COLUMN()+1))","v":""},{"$f":"IF(ISNA(INDEX(geb.Rechnung!$A$4:$G$1000,MATCH(ROW()-5,geb.Rechnung!$G$4:$G$1000,0),COLUMN()+1)),\"\",INDEX(geb.Rechnung!$A$4:$G$1000,MATCH(ROW()-5,geb.Rechnung!$G$4:$G$1000,0),COLUMN()+1))","v":""}]
[{"$f":"IF(ISNA(INDEX(geb.Rechnung!$A$4:$G$1000,MATCH(ROW()-5,geb.Rechnung!$G$4:$G$1000,0),COLUMN()-1)),\"\",INDEX(geb.Rechnung!$A$4:$G$1000,MATCH(ROW()-5,geb.Rechnung!$G$4:$G$1000,0),COLUMN()-1))","v":""},{"$f":"IF(ISNA(INDEX(geb.Rechnung!$A$4:$G$1000,MATCH(ROW()-5,geb.Rechnung!$G$4:$G$1000,0),COLUMN()-2)),\"\",INDEX(geb.Rechnung!$A$4:$G$1000,MATCH(ROW()-5,geb.Rechnung!$G$4:$G$1000,0),COLUMN()-2))","v":""},{"$f":"IF(ISNA(INDEX(geb.Rechnung!$A$4:$G$1000,MATCH(ROW()-5,geb.Rechnung!$G$4:$G$1000,0),COLUMN()+1)),\"\",INDEX(geb.Rechnung!$A$4:$G$1000,MATCH(ROW()-5,geb.Rechnung!$G$4:$G$1000,0),COLUMN()+1))","v":""},{"$f":"IF(ISNA(INDEX(geb.Rechnung!$A$4:$G$1000,MATCH(ROW()-5,geb.Rechnung!$G$4:$G$1000,0),COLUMN()+1)),\"\",INDEX(geb.Rechnung!$A$4:$G$1000,MATCH(ROW()-5,geb.Rechnung!$G$4:$G$1000,0),COLUMN()+1))","v":""}]
[{"$f":"IF(ISNA(INDEX(geb.Rechnung!$A$4:$G$1000,MATCH(ROW()-5,geb.Rechnung!$G$4:$G$1000,0),COLUMN()-1)),\"\",INDEX(geb.Rechnung!$A$4:$G$1000,MATCH(ROW()-5,geb.Rechnung!$G$4:$G$1000,0),COLUMN()-1))","v":""},{"$f":"IF(ISNA(INDEX(geb.Rechnung!$A$4:$G$1000,MATCH(ROW()-5,geb.Rechnung!$G$4:$G$1000,0),COLUMN()-2)),\"\",INDEX(geb.Rechnung!$A$4:$G$1000,MATCH(ROW()-5,geb.Rechnung!$G$4:$G$1000,0),COLUMN()-2))","v":""},{"$f":"IF(ISNA(INDEX(geb.Rechnung!$A$4:$G$1000,MATCH(ROW()-5,geb.Rechnung!$G$4:$G$1000,0),COLUMN()+1)),\"\",INDEX(geb.Rechnung!$A$4:$G$1000,MATCH(ROW()-5,geb.Rechnung!$G$4:$G$1000,0),COLUMN()+1))","v":""},{"$f":"IF(ISNA(INDEX(geb.Rechnung!$A$4:$G$1000,MATCH(ROW()-5,geb.Rechnung!$G$4:$G$1000,0),COLUMN()+1)),\"\",INDEX(geb.Rechnung!$A$4:$G$1000,MATCH(ROW()-5,geb.Rechnung!$G$4:$G$1000,0),COLUMN()+1))","v":""}]
[{"$f":"IF(ISNA(INDEX(geb.Rechnung!$A$4:$G$1000,MATCH(ROW()-5,geb.Rechnung!$G$4:$G$1000,0),COLUMN()-1)),\"\",INDEX(geb.Rechnung!$A$4:$G$1000,MATCH(ROW()-5,geb.Rechnung!$G$4:$G$1000,0),COLUMN()-1))","v":""},{"$f":"IF(ISNA(INDEX(geb.Rechnung!$A$4:$G$1000,MATCH(ROW()-5,geb.Rechnung!$G$4:$G$1000,0),COLUMN()-2)),\"\",INDEX(geb.Rechnung!$A$4:$G$1000,MATCH(ROW()-5,geb.Rechnung!$G$4:$G$1000,0),COLUMN()-2))","v":""},{"$f":"IF(ISNA(INDEX(geb.Rechnung!$A$4:$G$1000,MATCH(ROW()-5,geb.Rechnung!$G$4:$G$1000,0),COLUMN()+1)),\"\",INDEX(geb.Rechnung!$A$4:$G$1000,MATCH(ROW()-5,geb.Rechnung!$G$4:$G$1000,0),COLUMN()+1))","v":""},{"$f":"IF(ISNA(INDEX(geb.Rechnung!$A$4:$G$1000,MATCH(ROW()-5,geb.Rechnung!$G$4:$G$1000,0),COLUMN()+1)),\"\",INDEX(geb.Rechnung!$A$4:$G$1000,MATCH(ROW()-5,geb.Rechnung!$G$4:$G$1000,0),COLUMN()+1))","v":""}]
[{"$f":"IF(ISNA(INDEX(geb.Rechnung!$A$4:$G$1000,MATCH(ROW()-5,geb.Rechnung!$G$4:$G$1000,0),COLUMN()-1)),\"\",INDEX(geb.Rechnung!$A$4:$G$1000,MATCH(ROW()-5,geb.Rechnung!$G$4:$G$1000,0),COLUMN()-1))","v":""},{"$f":"IF(ISNA(INDEX(geb.Rechnung!$A$4:$G$1000,MATCH(ROW()-5,geb.Rechnung!$G$4:$G$1000,0),COLUMN()-2)),\"\",INDEX(geb.Rechnung!$A$4:$G$1000,MATCH(ROW()-5,geb.Rechnung!$G$4:$G$1000,0),COLUMN()-2))","v":""},{"$f":"IF(ISNA(INDEX(geb.Rechnung!$A$4:$G$1000,MATCH(ROW()-5,geb.Rechnung!$G$4:$G$1000,0),COLUMN()+1)),\"\",INDEX(geb.Rechnung!$A$4:$G$1000,MATCH(ROW()-5,geb.Rechnung!$G$4:$G$1000,0),COLUMN()+1))","v":""},{"$f":"IF(ISNA(INDEX(geb.Rechnung!$A$4:$G$1000,MATCH(ROW()-5,geb.Rechnung!$G$4:$G$1000,0),COLUMN()+1)),\"\",INDEX(geb.Rechnung!$A$4:$G$1000,MATCH(ROW()-5,geb.Rechnung!$G$4:$G$1000,0),COLUMN()+1))","v":""}]
[{"$f":"IF(ISNA(INDEX(geb.Rechnung!$A$4:$G$1000,MATCH(ROW()-5,geb.Rechnung!$G$4:$G$1000,0),COLUMN()-1)),\"\",INDEX(geb.Rechnung!$A$4:$G$1000,MATCH(ROW()-5,geb.Rechnung!$G$4:$G$1000,0),COLUMN()-1))","v":""},{"$f":"IF(ISNA(INDEX(geb.Rechnung!$A$4:$G$1000,MATCH(ROW()-5,geb.Rechnung!$G$4:$G$1000,0),COLUMN()-2)),\"\",INDEX(geb.Rechnung!$A$4:$G$1000,MATCH(ROW()-5,geb.Rechnung!$G$4:$G$1000,0),COLUMN()-2))","v":""},{"$f":"IF(ISNA(INDEX(geb.Rechnung!$A$4:$G$1000,MATCH(ROW()-5,geb.Rechnung!$G$4:$G$1000,0),COLUMN()+1)),\"\",INDEX(geb.Rechnung!$A$4:$G$1000,MATCH(ROW()-5,geb.Rechnung!$G$4:$G$1000,0),COLUMN()+1))","v":""},{"$f":"IF(ISNA(INDEX(geb.Rechnung!$A$4:$G$1000,MATCH(ROW()-5,geb.Rechnung!$G$4:$G$1000,0),COLUMN()+1)),\"\",INDEX(geb.Rechnung!$A$4:$G$1000,MATCH(ROW()-5,geb.Rechnung!$G$4:$G$1000,0),COLUMN()+1))","v":""}]
[{"$f":"IF(ISNA(INDEX(geb.Rechnung!$A$4:$G$1000,MATCH(ROW()-5,geb.Rechnung!$G$4:$G$1000,0),COLUMN()-1)),\"\",INDEX(geb.Rechnung!$A$4:$G$1000,MATCH(ROW()-5,geb.Rechnung!$G$4:$G$1000,0),COLUMN()-1))","v":""},{"$f":"IF(ISNA(INDEX(geb.Rechnung!$A$4:$G$1000,MATCH(ROW()-5,geb.Rechnung!$G$4:$G$1000,0),COLUMN()-2)),\"\",INDEX(geb.Rechnung!$A$4:$G$1000,MATCH(ROW()-5,geb.Rechnung!$G$4:$G$1000,0),COLUMN()-2))","v":""},{"$f":"IF(ISNA(INDEX(geb.Rechnung!$A$4:$G$1000,MATCH(ROW()-5,geb.Rechnung!$G$4:$G$1000,0),COLUMN()+1)),\"\",INDEX(geb.Rechnung!$A$4:$G$1000,MATCH(ROW()-5,geb.Rechnung!$G$4:$G$1000,0),COLUMN()+1))","v":""},{"$f":"IF(ISNA(INDEX(geb.Rechnung!$A$4:$G$1000,MATCH(ROW()-5,geb.Rechnung!$G$4:$G$1000,0),COLUMN()+1)),\"\",INDEX(geb.Rechnung!$A$4:$G$1000,MATCH(ROW()-5,geb.Rechnung!$G$4:$G$1000,0),COLUMN()+1))","v":""}]
[{"$f":"IF(ISNA(INDEX(geb.Rechnung!$A$4:$G$1000,MATCH(ROW()-5,geb.Rechnung!$G$4:$G$1000,0),COLUMN()-1)),\"\",INDEX(geb.Rechnung!$A$4:$G$1000,MATCH(ROW()-5,geb.Rechnung!$G$4:$G$1000,0),COLUMN()-1))","v":""},{"$f":"IF(ISNA(INDEX(geb.Rechnung!$A$4:$G$1000,MATCH(ROW()-5,geb.Rechnung!$G$4:$G$1000,0),COLUMN()-2)),\"\",INDEX(geb.Rechnung!$A$4:$G$1000,MATCH(ROW()-5,geb.Rechnung!$G$4:$G$1000,0),COLUMN()-2))","v":""},{"$f":"IF(ISNA(INDEX(geb.Rechnung!$A$4:$G$1000,MATCH(ROW()-5,geb.Rechnung!$G$4:$G$1000,0),COLUMN()+1)),\"\",INDEX(geb.Rechnung!$A$4:$G$1000,MATCH(ROW()-5,geb.Rechnung!$G$4:$G$1000,0),COLUMN()+1))","v":""},{"$f":"IF(ISNA(INDEX(geb.Rechnung!$A$4:$G$1000,MATCH(ROW()-5,geb.Rechnung!$G$4:$G$1000,0),COLUMN()+1)),\"\",INDEX(geb.Rechnung!$A$4:$G$1000,MATCH(ROW()-5,geb.Rechnung!$G$4:$G$1000,0),COLUMN()+1))","v":""}]
[{"$f":"IF(ISNA(INDEX(geb.Rechnung!$A$4:$G$1000,MATCH(ROW()-5,geb.Rechnung!$G$4:$G$1000,0),COLUMN()-1)),\"\",INDEX(geb.Rechnung!$A$4:$G$1000,MATCH(ROW()-5,geb.Rechnung!$G$4:$G$1000,0),COLUMN()-1))","v":""},{"$f":"IF(ISNA(INDEX(geb.Rechnung!$A$4:$G$1000,MATCH(ROW()-5,geb.Rechnung!$G$4:$G$1000,0),COLUMN()-2)),\"\",INDEX(geb.Rechnung!$A$4:$G$1000,MATCH(ROW()-5,geb.Rechnung!$G$4:$G$1000,0),COLUMN()-2))","v":""},{"$f":"IF(ISNA(INDEX(geb.Rechnung!$A$4:$G$1000,MATCH(ROW()-5,geb.Rechnung!$G$4:$G$1000,0),COLUMN()+1)),\"\",INDEX(geb.Rechnung!$A$4:$G$1000,MATCH(ROW()-5,geb.Rechnung!$G$4:$G$1000,0),COLUMN()+1))","v":""},{"$f":"IF(ISNA(INDEX(geb.Rechnung!$A$4:$G$1000,MATCH(ROW()-5,geb.Rechnung!$G$4:$G$1000,0),COLUMN()+1)),\"\",INDEX(geb.Rechnung!$A$4:$G$1000,MATCH(ROW()-5,geb.Rechnung!$G$4:$G$1000,0),COLUMN()+1))","v":""}]
[{"$f":"IF(ISNA(INDEX(geb.Rechnung!$A$4:$G$1000,MATCH(ROW()-5,geb.Rechnung!$G$4:$G$1000,0),COLUMN()-1)),\"\",INDEX(geb.Rechnung!$A$4:$G$1000,MATCH(ROW()-5,geb.Rechnung!$G$4:$G$1000,0),COLUMN()-1))","v":""},{"$f":"IF(ISNA(INDEX(geb.Rechnung!$A$4:$G$1000,MATCH(ROW()-5,geb.Rechnung!$G$4:$G$1000,0),COLUMN()-2)),\"\",INDEX(geb.Rechnung!$A$4:$G$1000,MATCH(ROW()-5,geb.Rechnung!$G$4:$G$1000,0),COLUMN()-2))","v":""},{"$f":"IF(ISNA(INDEX(geb.Rechnung!$A$4:$G$1000,MATCH(ROW()-5,geb.Rechnung!$G$4:$G$1000,0),COLUMN()+1)),\"\",INDEX(geb.Rechnung!$A$4:$G$1000,MATCH(ROW()-5,geb.Rechnung!$G$4:$G$1000,0),COLUMN()+1))","v":""},{"$f":"IF(ISNA(INDEX(geb.Rechnung!$A$4:$G$1000,MATCH(ROW()-5,geb.Rechnung!$G$4:$G$1000,0),COLUMN()+1)),\"\",INDEX(geb.Rechnung!$A$4:$G$1000,MATCH(ROW()-5,geb.Rechnung!$G$4:$G$1000,0),COLUMN()+1))","v":""}]
[{"$f":"IF(ISNA(INDEX(geb.Rechnung!$A$4:$G$1000,MATCH(ROW()-5,geb.Rechnung!$G$4:$G$1000,0),COLUMN()-1)),\"\",INDEX(geb.Rechnung!$A$4:$G$1000,MATCH(ROW()-5,geb.Rechnung!$G$4:$G$1000,0),COLUMN()-1))","v":""},{"$f":"IF(ISNA(INDEX(geb.Rechnung!$A$4:$G$1000,MATCH(ROW()-5,geb.Rechnung!$G$4:$G$1000,0),COLUMN()-2)),\"\",INDEX(geb.Rechnung!$A$4:$G$1000,MATCH(ROW()-5,geb.Rechnung!$G$4:$G$1000,0),COLUMN()-2))","v":""},{"$f":"IF(ISNA(INDEX(geb.Rechnung!$A$4:$G$1000,MATCH(ROW()-5,geb.Rechnung!$G$4:$G$1000,0),COLUMN()+1)),\"\",INDEX(geb.Rechnung!$A$4:$G$1000,MATCH(ROW()-5,geb.Rechnung!$G$4:$G$1000,0),COLUMN()+1))","v":""},{"$f":"IF(ISNA(INDEX(geb.Rechnung!$A$4:$G$1000,MATCH(ROW()-5,geb.Rechnung!$G$4:$G$1000,0),COLUMN()+1)),\"\",INDEX(geb.Rechnung!$A$4:$G$1000,MATCH(ROW()-5,geb.Rechnung!$G$4:$G$1000,0),COLUMN()+1))","v":""}]
[{"$f":"IF(ISNA(INDEX(geb.Rechnung!$A$4:$G$1000,MATCH(ROW()-5,geb.Rechnung!$G$4:$G$1000,0),COLUMN()-1)),\"\",INDEX(geb.Rechnung!$A$4:$G$1000,MATCH(ROW()-5,geb.Rechnung!$G$4:$G$1000,0),COLUMN()-1))","v":""},{"$f":"IF(ISNA(INDEX(geb.Rechnung!$A$4:$G$1000,MATCH(ROW()-5,geb.Rechnung!$G$4:$G$1000,0),COLUMN()-2)),\"\",INDEX(geb.Rechnung!$A$4:$G$1000,MATCH(ROW()-5,geb.Rechnung!$G$4:$G$1000,0),COLUMN()-2))","v":""},{"$f":"IF(ISNA(INDEX(geb.Rechnung!$A$4:$G$1000,MATCH(ROW()-5,geb.Rechnung!$G$4:$G$1000,0),COLUMN()+1)),\"\",INDEX(geb.Rechnung!$A$4:$G$1000,MATCH(ROW()-5,geb.Rechnung!$G$4:$G$1000,0),COLUMN()+1))","v":""},{"$f":"IF(ISNA(INDEX(geb.Rechnung!$A$4:$G$1000,MATCH(ROW()-5,geb.Rechnung!$G$4:$G$1000,0),COLUMN()+1)),\"\",INDEX(geb.Rechnung!$A$4:$G$1000,MATCH(ROW()-5,geb.Rechnung!$G$4:$G$1000,0),COLUMN()+1))","v":""}]
[{"$f":"IF(ISNA(INDEX(geb.Rechnung!$A$4:$G$1000,MATCH(ROW()-5,geb.Rechnung!$G$4:$G$1000,0),COLUMN()-1)),\"\",INDEX(geb.Rechnung!$A$4:$G$1000,MATCH(ROW()-5,geb.Rechnung!$G$4:$G$1000,0),COLUMN()-1))","v":""},{"$f":"IF(ISNA(INDEX(geb.Rechnung!$A$4:$G$1000,MATCH(ROW()-5,geb.Rechnung!$G$4:$G$1000,0),COLUMN()-2)),\"\",INDEX(geb.Rechnung!$A$4:$G$1000,MATCH(ROW()-5,geb.Rechnung!$G$4:$G$1000,0),COLUMN()-2))","v":""},{"$f":"IF(ISNA(INDEX(geb.Rechnung!$A$4:$G$1000,MATCH(ROW()-5,geb.Rechnung!$G$4:$G$1000,0),COLUMN()+1)),\"\",INDEX(geb.Rechnung!$A$4:$G$1000,MATCH(ROW()-5,geb.Rechnung!$G$4:$G$1000,0),COLUMN()+1))","v":""},{"$f":"IF(ISNA(INDEX(geb.Rechnung!$A$4:$G$1000,MATCH(ROW()-5,geb.Rechnung!$G$4:$G$1000,0),COLUMN()+1)),\"\",INDEX(geb.Rechnung!$A$4:$G$1000,MATCH(ROW()-5,geb.Rechnung!$G$4:$G$1000,0),COLUMN()+1))","v":""}]
[{"$f":"IF(ISNA(INDEX(geb.Rechnung!$A$4:$G$1000,MATCH(ROW()-5,geb.Rechnung!$G$4:$G$1000,0),COLUMN()-1)),\"\",INDEX(geb.Rechnung!$A$4:$G$1000,MATCH(ROW()-5,geb.Rechnung!$G$4:$G$1000,0),COLUMN()-1))","v":""},{"$f":"IF(ISNA(INDEX(geb.Rechnung!$A$4:$G$1000,MATCH(ROW()-5,geb.Rechnung!$G$4:$G$1000,0),COLUMN()-2)),\"\",INDEX(geb.Rechnung!$A$4:$G$1000,MATCH(ROW()-5,geb.Rechnung!$G$4:$G$1000,0),COLUMN()-2))","v":""},{"$f":"IF(ISNA(INDEX(geb.Rechnung!$A$4:$G$1000,MATCH(ROW()-5,geb.Rechnung!$G$4:$G$1000,0),COLUMN()+1)),\"\",INDEX(geb.Rechnung!$A$4:$G$1000,MATCH(ROW()-5,geb.Rechnung!$G$4:$G$1000,0),COLUMN()+1))","v":""},{"$f":"IF(ISNA(INDEX(geb.Rechnung!$A$4:$G$1000,MATCH(ROW()-5,geb.Rechnung!$G$4:$G$1000,0),COLUMN()+1)),\"\",INDEX(geb.Rechnung!$A$4:$G$1000,MATCH(ROW()-5,geb.Rechnung!$G$4:$G$1000,0),COLUMN()+1))","v":""}]
[{"$f":"IF(ISNA(INDEX(geb.Rechnung!$A$4:$G$1000,MATCH(ROW()-5,geb.Rechnung!$G$4:$G$1000,0),COLUMN()-1)),\"\",INDEX(geb.Rechnung!$A$4:$G$1000,MATCH(ROW()-5,geb.Rechnung!$G$4:$G$1000,0),COLUMN()-1))","v":""},{"$f":"IF(ISNA(INDEX(geb.Rechnung!$A$4:$G$1000,MATCH(ROW()-5,geb.Rechnung!$G$4:$G$1000,0),COLUMN()-2)),\"\",INDEX(geb.Rechnung!$A$4:$G$1000,MATCH(ROW()-5,geb.Rechnung!$G$4:$G$1000,0),COLUMN()-2))","v":""},{"$f":"IF(ISNA(INDEX(geb.Rechnung!$A$4:$G$1000,MATCH(ROW()-5,geb.Rechnung!$G$4:$G$1000,0),COLUMN()+1)),\"\",INDEX(geb.Rechnung!$A$4:$G$1000,MATCH(ROW()-5,geb.Rechnung!$G$4:$G$1000,0),COLUMN()+1))","v":""},{"$f":"IF(ISNA(INDEX(geb.Rechnung!$A$4:$G$1000,MATCH(ROW()-5,geb.Rechnung!$G$4:$G$1000,0),COLUMN()+1)),\"\",INDEX(geb.Rechnung!$A$4:$G$1000,MATCH(ROW()-5,geb.Rechnung!$G$4:$G$1000,0),COLUMN()+1))","v":""}]
[{"$f":"IF(ISNA(INDEX(geb.Rechnung!$A$4:$G$1000,MATCH(ROW()-5,geb.Rechnung!$G$4:$G$1000,0),COLUMN()-1)),\"\",INDEX(geb.Rechnung!$A$4:$G$1000,MATCH(ROW()-5,geb.Rechnung!$G$4:$G$1000,0),COLUMN()-1))","v":""},{"$f":"IF(ISNA(INDEX(geb.Rechnung!$A$4:$G$1000,MATCH(ROW()-5,geb.Rechnung!$G$4:$G$1000,0),COLUMN()-2)),\"\",INDEX(geb.Rechnung!$A$4:$G$1000,MATCH(ROW()-5,geb.Rechnung!$G$4:$G$1000,0),COLUMN()-2))","v":""},{"$f":"IF(ISNA(INDEX(geb.Rechnung!$A$4:$G$1000,MATCH(ROW()-5,geb.Rechnung!$G$4:$G$1000,0),COLUMN()+1)),\"\",INDEX(geb.Rechnung!$A$4:$G$1000,MATCH(ROW()-5,geb.Rechnung!$G$4:$G$1000,0),COLUMN()+1))","v":""},{"$f":"IF(ISNA(INDEX(geb.Rechnung!$A$4:$G$1000,MATCH(ROW()-5,geb.Rechnung!$G$4:$G$1000,0),COLUMN()+1)),\"\",INDEX(geb.Rechnung!$A$4:$G$1000,MATCH(ROW()-5,geb.Rechnung!$G$4:$G$1000,0),COLUMN()+1))","v":""}]
[{"$f":"IF(ISNA(INDEX(geb.Rechnung!$A$4:$G$1000,MATCH(ROW()-5,geb.Rechnung!$G$4:$G$1000,0),COLUMN()-1)),\"\",INDEX(geb.Rechnung!$A$4:$G$1000,MATCH(ROW()-5,geb.Rechnung!$G$4:$G$1000,0),COLUMN()-1))","v":""},{"$f":"IF(ISNA(INDEX(geb.Rechnung!$A$4:$G$1000,MATCH(ROW()-5,geb.Rechnung!$G$4:$G$1000,0),COLUMN()-2)),\"\",INDEX(geb.Rechnung!$A$4:$G$1000,MATCH(ROW()-5,geb.Rechnung!$G$4:$G$1000,0),COLUMN()-2))","v":""},{"$f":"IF(ISNA(INDEX(geb.Rechnung!$A$4:$G$1000,MATCH(ROW()-5,geb.Rechnung!$G$4:$G$1000,0),COLUMN()+1)),\"\",INDEX(geb.Rechnung!$A$4:$G$1000,MATCH(ROW()-5,geb.Rechnung!$G$4:$G$1000,0),COLUMN()+1))","v":""},{"$f":"IF(ISNA(INDEX(geb.Rechnung!$A$4:$G$1000,MATCH(ROW()-5,geb.Rechnung!$G$4:$G$1000,0),COLUMN()+1)),\"\",INDEX(geb.Rechnung!$A$4:$G$1000,MATCH(ROW()-5,geb.Rechnung!$G$4:$G$1000,0),COLUMN()+1))","v":""}]
[{"$f":"IF(ISNA(INDEX(geb.Rechnung!$A$4:$G$1000,MATCH(ROW()-5,geb.Rechnung!$G$4:$G$1000,0),COLUMN()-1)),\"\",INDEX(geb.Rechnung!$A$4:$G$1000,MATCH(ROW()-5,geb.Rechnung!$G$4:$G$1000,0),COLUMN()-1))","v":""},{"$f":"IF(ISNA(INDEX(geb.Rechnung!$A$4:$G$1000,MATCH(ROW()-5,geb.Rechnung!$G$4:$G$1000,0),COLUMN()-2)),\"\",INDEX(geb.Rechnung!$A$4:$G$1000,MATCH(ROW()-5,geb.Rechnung!$G$4:$G$1000,0),COLUMN()-2))","v":""},{"$f":"IF(ISNA(INDEX(geb.Rechnung!$A$4:$G$1000,MATCH(ROW()-5,geb.Rechnung!$G$4:$G$1000,0),COLUMN()+1)),\"\",INDEX(geb.Rechnung!$A$4:$G$1000,MATCH(ROW()-5,geb.Rechnung!$G$4:$G$1000,0),COLUMN()+1))","v":""},{"$f":"IF(ISNA(INDEX(geb.Rechnung!$A$4:$G$1000,MATCH(ROW()-5,geb.Rechnung!$G$4:$G$1000,0),COLUMN()+1)),\"\",INDEX(geb.Rechnung!$A$4:$G$1000,MATCH(ROW()-5,geb.Rechnung!$G$4:$G$1000,0),COLUMN()+1))","v":""}]
[{"$f":"IF(ISNA(INDEX(geb.Rechnung!$A$4:$G$1000,MATCH(ROW()-5,geb.Rechnung!$G$4:$G$1000,0),COLUMN()-1)),\"\",INDEX(geb.Rechnung!$A$4:$G$1000,MATCH(ROW()-5,geb.Rechnung!$G$4:$G$1000,0),COLUMN()-1))","v":""},{"$f":"IF(ISNA(INDEX(geb.Rechnung!$A$4:$G$1000,MATCH(ROW()-5,geb.Rechnung!$G$4:$G$1000,0),COLUMN()-2)),\"\",INDEX(geb.Rechnung!$A$4:$G$1000,MATCH(ROW()-5,geb.Rechnung!$G$4:$G$1000,0),COLUMN()-2))","v":""},{"$f":"IF(ISNA(INDEX(geb.Rechnung!$A$4:$G$1000,MATCH(ROW()-5,geb.Rechnung!$G$4:$G$1000,0),COLUMN()+1)),\"\",INDEX(geb.Rechnung!$A$4:$G$1000,MATCH(ROW()-5,geb.Rechnung!$G$4:$G$1000,0),COLUMN()+1))","v":""},{"$f":"IF(ISNA(INDEX(geb.Rechnung!$A$4:$G$1000,MATCH(ROW()-5,geb.Rechnung!$G$4:$G$1000,0),COLUMN()+1)),\"\",INDEX(geb.Rechnung!$A$4:$G$1000,MATCH(ROW()-5,geb.Rechnung!$G$4:$G$1000,0),COLUMN()+1))","v":""}]
[{"$f":"IF(ISNA(INDEX(geb.Rechnung!$A$4:$G$1000,MATCH(ROW()-5,geb.Rechnung!$G$4:$G$1000,0),COLUMN()-1)),\"\",INDEX(geb.Rechnung!$A$4:$G$1000,MATCH(ROW()-5,geb.Rechnung!$G$4:$G$1000,0),COLUMN()-1))","v":""},{"$f":"IF(ISNA(INDEX(geb.Rechnung!$A$4:$G$1000,MATCH(ROW()-5,geb.Rechnung!$G$4:$G$1000,0),COLUMN()-2)),\"\",INDEX(geb.Rechnung!$A$4:$G$1000,MATCH(ROW()-5,geb.Rechnung!$G$4:$G$1000,0),COLUMN()-2))","v":""},{"$f":"IF(ISNA(INDEX(geb.Rechnung!$A$4:$G$1000,MATCH(ROW()-5,geb.Rechnung!$G$4:$G$1000,0),COLUMN()+1)),\"\",INDEX(geb.Rechnung!$A$4:$G$1000,MATCH(ROW()-5,geb.Rechnung!$G$4:$G$1000,0),COLUMN()+1))","v":""},{"$f":"IF(ISNA(INDEX(geb.Rechnung!$A$4:$G$1000,MATCH(ROW()-5,geb.Rechnung!$G$4:$G$1000,0),COLUMN()+1)),\"\",INDEX(geb.Rechnung!$A$4:$G$1000,MATCH(ROW()-5,geb.Rechnung!$G$4:$G$1000,0),COLUMN()+1))","v":""}]
[{"$f":"IF(ISNA(INDEX(geb.Rechnung!$A$4:$G$1000,MATCH(ROW()-5,geb.Rechnung!$G$4:$G$1000,0),COLUMN()-1)),\"\",INDEX(geb.Rechnung!$A$4:$G$1000,MATCH(ROW()-5,geb.Rechnung!$G$4:$G$1000,0),COLUMN()-1))","v":""},{"$f":"IF(ISNA(INDEX(geb.Rechnung!$A$4:$G$1000,MATCH(ROW()-5,geb.Rechnung!$G$4:$G$1000,0),COLUMN()-2)),\"\",INDEX(geb.Rechnung!$A$4:$G$1000,MATCH(ROW()-5,geb.Rechnung!$G$4:$G$1000,0),COLUMN()-2))","v":""},{"$f":"IF(ISNA(INDEX(geb.Rechnung!$A$4:$G$1000,MATCH(ROW()-5,geb.Rechnung!$G$4:$G$1000,0),COLUMN()+1)),\"\",INDEX(geb.Rechnung!$A$4:$G$1000,MATCH(ROW()-5,geb.Rechnung!$G$4:$G$1000,0),COLUMN()+1))","v":""},{"$f":"IF(ISNA(INDEX(geb.Rechnung!$A$4:$G$1000,MATCH(ROW()-5,geb.Rechnung!$G$4:$G$1000,0),COLUMN()+1)),\"\",INDEX(geb.Rechnung!$A$4:$G$1000,MATCH(ROW()-5,geb.Rechnung!$G$4:$G$1000,0),COLUMN()+1))","v":""}]
[{"$f":"IF(ISNA(INDEX(geb.Rechnung!$A$4:$G$1000,MATCH(ROW()-5,geb.Rechnung!$G$4:$G$1000,0),COLUMN()-1)),\"\",INDEX(geb.Rechnung!$A$4:$G$1000,MATCH(ROW()-5,geb.Rechnung!$G$4:$G$1000,0),COLUMN()-1))","v":""},{"$f":"IF(ISNA(INDEX(geb.Rechnung!$A$4:$G$1000,MATCH(ROW()-5,geb.Rechnung!$G$4:$G$1000,0),COLUMN()-2)),\"\",INDEX(geb.Rechnung!$A$4:$G$1000,MATCH(ROW()-5,geb.Rechnung!$G$4:$G$1000,0),COLUMN()-2))","v":""},{"$f":"IF(ISNA(INDEX(geb.Rechnung!$A$4:$G$1000,MATCH(ROW()-5,geb.Rechnung!$G$4:$G$1000,0),COLUMN()+1)),\"\",INDEX(geb.Rechnung!$A$4:$G$1000,MATCH(ROW()-5,geb.Rechnung!$G$4:$G$1000,0),COLUMN()+1))","v":""},{"$f":"IF(ISNA(INDEX(geb.Rechnung!$A$4:$G$1000,MATCH(ROW()-5,geb.Rechnung!$G$4:$G$1000,0),COLUMN()+1)),\"\",INDEX(geb.Rechnung!$A$4:$G$1000,MATCH(ROW()-5,geb.Rechnung!$G$4:$G$1000,0),COLUMN()+1))","v":""}]
[{"$f":"IF(ISNA(INDEX(geb.Rechnung!$A$4:$G$1000,MATCH(ROW()-5,geb.Rechnung!$G$4:$G$1000,0),COLUMN()-1)),\"\",INDEX(geb.Rechnung!$A$4:$G$1000,MATCH(ROW()-5,geb.Rechnung!$G$4:$G$1000,0),COLUMN()-1))","v":""},{"$f":"IF(ISNA(INDEX(geb.Rechnung!$A$4:$G$1000,MATCH(ROW()-5,geb.Rechnung!$G$4:$G$1000,0),COLUMN()-2)),\"\",INDEX(geb.Rechnung!$A$4:$G$1000,MATCH(ROW()-5,geb.Rechnung!$G$4:$G$1000,0),COLUMN()-2))","v":""},{"$f":"IF(ISNA(INDEX(geb.Rechnung!$A$4:$G$1000,MATCH(ROW()-5,geb.Rechnung!$G$4:$G$1000,0),COLUMN()+1)),\"\",INDEX(geb.Rechnung!$A$4:$G$1000,MATCH(ROW()-5,geb.Rechnung!$G$4:$G$1000,0),COLUMN()+1))","v":""},{"$f":"IF(ISNA(INDEX(geb.Rechnung!$A$4:$G$1000,MATCH(ROW()-5,geb.Rechnung!$G$4:$G$1000,0),COLUMN()+1)),\"\",INDEX(geb.Rechnung!$A$4:$G$1000,MATCH(ROW()-5,geb.Rechnung!$G$4:$G$1000,0),COLUMN()+1))","v":""}]
[{"$f":"IF(ISNA(INDEX(geb.Rechnung!$A$4:$G$1000,MATCH(ROW()-5,geb.Rechnung!$G$4:$G$1000,0),COLUMN()-1)),\"\",INDEX(geb.Rechnung!$A$4:$G$1000,MATCH(ROW()-5,geb.Rechnung!$G$4:$G$1000,0),COLUMN()-1))","v":""},{"$f":"IF(ISNA(INDEX(geb.Rechnung!$A$4:$G$1000,MATCH(ROW()-5,geb.Rechnung!$G$4:$G$1000,0),COLUMN()-2)),\"\",INDEX(geb.Rechnung!$A$4:$G$1000,MATCH(ROW()-5,geb.Rechnung!$G$4:$G$1000,0),COLUMN()-2))","v":""},{"$f":"IF(ISNA(INDEX(geb.Rechnung!$A$4:$G$1000,MATCH(ROW()-5,geb.Rechnung!$G$4:$G$1000,0),COLUMN()+1)),\"\",INDEX(geb.Rechnung!$A$4:$G$1000,MATCH(ROW()-5,geb.Rechnung!$G$4:$G$1000,0),COLUMN()+1))","v":""},{"$f":"IF(ISNA(INDEX(geb.Rechnung!$A$4:$G$1000,MATCH(ROW()-5,geb.Rechnung!$G$4:$G$1000,0),COLUMN()+1)),\"\",INDEX(geb.Rechnung!$A$4:$G$1000,MATCH(ROW()-5,geb.Rechnung!$G$4:$G$1000,0),COLUMN()+1))","v":""}]
[{"$f":"IF(ISNA(INDEX(geb.Rechnung!$A$4:$G$1000,MATCH(ROW()-5,geb.Rechnung!$G$4:$G$1000,0),COLUMN()-1)),\"\",INDEX(geb.Rechnung!$A$4:$G$1000,MATCH(ROW()-5,geb.Rechnung!$G$4:$G$1000,0),COLUMN()-1))","v":""},{"$f":"IF(ISNA(INDEX(geb.Rechnung!$A$4:$G$1000,MATCH(ROW()-5,geb.Rechnung!$G$4:$G$1000,0),COLUMN()-2)),\"\",INDEX(geb.Rechnung!$A$4:$G$1000,MATCH(ROW()-5,geb.Rechnung!$G$4:$G$1000,0),COLUMN()-2))","v":""},{"$f":"IF(ISNA(INDEX(geb.Rechnung!$A$4:$G$1000,MATCH(ROW()-5,geb.Rechnung!$G$4:$G$1000,0),COLUMN()+1)),\"\",INDEX(geb.Rechnung!$A$4:$G$1000,MATCH(ROW()-5,geb.Rechnung!$G$4:$G$1000,0),COLUMN()+1))","v":""},{"$f":"IF(ISNA(INDEX(geb.Rechnung!$A$4:$G$1000,MATCH(ROW()-5,geb.Rechnung!$G$4:$G$1000,0),COLUMN()+1)),\"\",INDEX(geb.Rechnung!$A$4:$G$1000,MATCH(ROW()-5,geb.Rechnung!$G$4:$G$1000,0),COLUMN()+1))","v":""}]
[{"$f":"IF(ISNA(INDEX(geb.Rechnung!$A$4:$G$1000,MATCH(ROW()-5,geb.Rechnung!$G$4:$G$1000,0),COLUMN()-1)),\"\",INDEX(geb.Rechnung!$A$4:$G$1000,MATCH(ROW()-5,geb.Rechnung!$G$4:$G$1000,0),COLUMN()-1))","v":""},{"$f":"IF(ISNA(INDEX(geb.Rechnung!$A$4:$G$1000,MATCH(ROW()-5,geb.Rechnung!$G$4:$G$1000,0),COLUMN()-2)),\"\",INDEX(geb.Rechnung!$A$4:$G$1000,MATCH(ROW()-5,geb.Rechnung!$G$4:$G$1000,0),COLUMN()-2))","v":""},{"$f":"IF(ISNA(INDEX(geb.Rechnung!$A$4:$G$1000,MATCH(ROW()-5,geb.Rechnung!$G$4:$G$1000,0),COLUMN()+1)),\"\",INDEX(geb.Rechnung!$A$4:$G$1000,MATCH(ROW()-5,geb.Rechnung!$G$4:$G$1000,0),COLUMN()+1))","v":""},{"$f":"IF(ISNA(INDEX(geb.Rechnung!$A$4:$G$1000,MATCH(ROW()-5,geb.Rechnung!$G$4:$G$1000,0),COLUMN()+1)),\"\",INDEX(geb.Rechnung!$A$4:$G$1000,MATCH(ROW()-5,geb.Rechnung!$G$4:$G$1000,0),COLUMN()+1))","v":""}]
[{"$f":"IF(ISNA(INDEX(geb.Rechnung!$A$4:$G$1000,MATCH(ROW()-5,geb.Rechnung!$G$4:$G$1000,0),COLUMN()-1)),\"\",INDEX(geb.Rechnung!$A$4:$G$1000,MATCH(ROW()-5,geb.Rechnung!$G$4:$G$1000,0),COLUMN()-1))","v":""},{"$f":"IF(ISNA(INDEX(geb.Rechnung!$A$4:$G$1000,MATCH(ROW()-5,geb.Rechnung!$G$4:$G$1000,0),COLUMN()-2)),\"\",INDEX(geb.Rechnung!$A$4:$G$1000,MATCH(ROW()-5,geb.Rechnung!$G$4:$G$1000,0),COLUMN()-2))","v":""},{"$f":"IF(ISNA(INDEX(geb.Rechnung!$A$4:$G$1000,MATCH(ROW()-5,geb.Rechnung!$G$4:$G$1000,0),COLUMN()+1)),\"\",INDEX(geb.Rechnung!$A$4:$G$1000,MATCH(ROW()-5,geb.Rechnung!$G$4:$G$1000,0),COLUMN()+1))","v":""},{"$f":"IF(ISNA(INDEX(geb.Rechnung!$A$4:$G$1000,MATCH(ROW()-5,geb.Rechnung!$G$4:$G$1000,0),COLUMN()+1)),\"\",INDEX(geb.Rechnung!$A$4:$G$1000,MATCH(ROW()-5,geb.Rechnung!$G$4:$G$1000,0),COLUMN()+1))","v":""}]
[{"$f":"IF(ISNA(INDEX(geb.Rechnung!$A$4:$G$1000,MATCH(ROW()-5,geb.Rechnung!$G$4:$G$1000,0),COLUMN()-1)),\"\",INDEX(geb.Rechnung!$A$4:$G$1000,MATCH(ROW()-5,geb.Rechnung!$G$4:$G$1000,0),COLUMN()-1))","v":""},{"$f":"IF(ISNA(INDEX(geb.Rechnung!$A$4:$G$1000,MATCH(ROW()-5,geb.Rechnung!$G$4:$G$1000,0),COLUMN()-2)),\"\",INDEX(geb.Rechnung!$A$4:$G$1000,MATCH(ROW()-5,geb.Rechnung!$G$4:$G$1000,0),COLUMN()-2))","v":""},{"$f":"IF(ISNA(INDEX(geb.Rechnung!$A$4:$G$1000,MATCH(ROW()-5,geb.Rechnung!$G$4:$G$1000,0),COLUMN()+1)),\"\",INDEX(geb.Rechnung!$A$4:$G$1000,MATCH(ROW()-5,geb.Rechnung!$G$4:$G$1000,0),COLUMN()+1))","v":""},{"$f":"IF(ISNA(INDEX(geb.Rechnung!$A$4:$G$1000,MATCH(ROW()-5,geb.Rechnung!$G$4:$G$1000,0),COLUMN()+1)),\"\",INDEX(geb.Rechnung!$A$4:$G$1000,MATCH(ROW()-5,geb.Rechnung!$G$4:$G$1000,0),COLUMN()+1))","v":""}]
[{"$f":"IF(ISNA(INDEX(geb.Rechnung!$A$4:$G$1000,MATCH(ROW()-5,geb.Rechnung!$G$4:$G$1000,0),COLUMN()-1)),\"\",INDEX(geb.Rechnung!$A$4:$G$1000,MATCH(ROW()-5,geb.Rechnung!$G$4:$G$1000,0),COLUMN()-1))","v":""},{"$f":"IF(ISNA(INDEX(geb.Rechnung!$A$4:$G$1000,MATCH(ROW()-5,geb.Rechnung!$G$4:$G$1000,0),COLUMN()-2)),\"\",INDEX(geb.Rechnung!$A$4:$G$1000,MATCH(ROW()-5,geb.Rechnung!$G$4:$G$1000,0),COLUMN()-2))","v":""},{"$f":"IF(ISNA(INDEX(geb.Rechnung!$A$4:$G$1000,MATCH(ROW()-5,geb.Rechnung!$G$4:$G$1000,0),COLUMN()+1)),\"\",INDEX(geb.Rechnung!$A$4:$G$1000,MATCH(ROW()-5,geb.Rechnung!$G$4:$G$1000,0),COLUMN()+1))","v":""},{"$f":"IF(ISNA(INDEX(geb.Rechnung!$A$4:$G$1000,MATCH(ROW()-5,geb.Rechnung!$G$4:$G$1000,0),COLUMN()+1)),\"\",INDEX(geb.Rechnung!$A$4:$G$1000,MATCH(ROW()-5,geb.Rechnung!$G$4:$G$1000,0),COLUMN()+1))","v":""}]
[{"$f":"IF(ISNA(INDEX(geb.Rechnung!$A$4:$G$1000,MATCH(ROW()-5,geb.Rechnung!$G$4:$G$1000,0),COLUMN()-1)),\"\",INDEX(geb.Rechnung!$A$4:$G$1000,MATCH(ROW()-5,geb.Rechnung!$G$4:$G$1000,0),COLUMN()-1))","v":""},{"$f":"IF(ISNA(INDEX(geb.Rechnung!$A$4:$G$1000,MATCH(ROW()-5,geb.Rechnung!$G$4:$G$1000,0),COLUMN()-2)),\"\",INDEX(geb.Rechnung!$A$4:$G$1000,MATCH(ROW()-5,geb.Rechnung!$G$4:$G$1000,0),COLUMN()-2))","v":""},{"$f":"IF(ISNA(INDEX(geb.Rechnung!$A$4:$G$1000,MATCH(ROW()-5,geb.Rechnung!$G$4:$G$1000,0),COLUMN()+1)),\"\",INDEX(geb.Rechnung!$A$4:$G$1000,MATCH(ROW()-5,geb.Rechnung!$G$4:$G$1000,0),COLUMN()+1))","v":""},{"$f":"IF(ISNA(INDEX(geb.Rechnung!$A$4:$G$1000,MATCH(ROW()-5,geb.Rechnung!$G$4:$G$1000,0),COLUMN()+1)),\"\",INDEX(geb.Rechnung!$A$4:$G$1000,MATCH(ROW()-5,geb.Rechnung!$G$4:$G$1000,0),COLUMN()+1))","v":""}]
[{"$f":"IF(ISNA(INDEX(geb.Rechnung!$A$4:$G$1000,MATCH(ROW()-5,geb.Rechnung!$G$4:$G$1000,0),COLUMN()-1)),\"\",INDEX(geb.Rechnung!$A$4:$G$1000,MATCH(ROW()-5,geb.Rechnung!$G$4:$G$1000,0),COLUMN()-1))","v":""},{"$f":"IF(ISNA(INDEX(geb.Rechnung!$A$4:$G$1000,MATCH(ROW()-5,geb.Rechnung!$G$4:$G$1000,0),COLUMN()-2)),\"\",INDEX(geb.Rechnung!$A$4:$G$1000,MATCH(ROW()-5,geb.Rechnung!$G$4:$G$1000,0),COLUMN()-2))","v":""},{"$f":"IF(ISNA(INDEX(geb.Rechnung!$A$4:$G$1000,MATCH(ROW()-5,geb.Rechnung!$G$4:$G$1000,0),COLUMN()+1)),\"\",INDEX(geb.Rechnung!$A$4:$G$1000,MATCH(ROW()-5,geb.Rechnung!$G$4:$G$1000,0),COLUMN()+1))","v":""},{"$f":"IF(ISNA(INDEX(geb.Rechnung!$A$4:$G$1000,MATCH(ROW()-5,geb.Rechnung!$G$4:$G$1000,0),COLUMN()+1)),\"\",INDEX(geb.Rechnung!$A$4:$G$1000,MATCH(ROW()-5,geb.Rechnung!$G$4:$G$1000,0),COLUMN()+1))","v":""}]
[{"$f":"IF(ISNA(INDEX(geb.Rechnung!$A$4:$G$1000,MATCH(ROW()-5,geb.Rechnung!$G$4:$G$1000,0),COLUMN()-1)),\"\",INDEX(geb.Rechnung!$A$4:$G$1000,MATCH(ROW()-5,geb.Rechnung!$G$4:$G$1000,0),COLUMN()-1))","v":""},{"$f":"IF(ISNA(INDEX(geb.Rechnung!$A$4:$G$1000,MATCH(ROW()-5,geb.Rechnung!$G$4:$G$1000,0),COLUMN()-2)),\"\",INDEX(geb.Rechnung!$A$4:$G$1000,MATCH(ROW()-5,geb.Rechnung!$G$4:$G$1000,0),COLUMN()-2))","v":""},{"$f":"IF(ISNA(INDEX(geb.Rechnung!$A$4:$G$1000,MATCH(ROW()-5,geb.Rechnung!$G$4:$G$1000,0),COLUMN()+1)),\"\",INDEX(geb.Rechnung!$A$4:$G$1000,MATCH(ROW()-5,geb.Rechnung!$G$4:$G$1000,0),COLUMN()+1))","v":""},{"$f":"IF(ISNA(INDEX(geb.Rechnung!$A$4:$G$1000,MATCH(ROW()-5,geb.Rechnung!$G$4:$G$1000,0),COLUMN()+1)),\"\",INDEX(geb.Rechnung!$A$4:$G$1000,MATCH(ROW()-5,geb.Rechnung!$G$4:$G$1000,0),COLUMN()+1))","v":""}]
[{"$f":"IF(ISNA(INDEX(geb.Rechnung!$A$4:$G$1000,MATCH(ROW()-5,geb.Rechnung!$G$4:$G$1000,0),COLUMN()-1)),\"\",INDEX(geb.Rechnung!$A$4:$G$1000,MATCH(ROW()-5,geb.Rechnung!$G$4:$G$1000,0),COLUMN()-1))","v":""},{"$f":"IF(ISNA(INDEX(geb.Rechnung!$A$4:$G$1000,MATCH(ROW()-5,geb.Rechnung!$G$4:$G$1000,0),COLUMN()-2)),\"\",INDEX(geb.Rechnung!$A$4:$G$1000,MATCH(ROW()-5,geb.Rechnung!$G$4:$G$1000,0),COLUMN()-2))","v":""},{"$f":"IF(ISNA(INDEX(geb.Rechnung!$A$4:$G$1000,MATCH(ROW()-5,geb.Rechnung!$G$4:$G$1000,0),COLUMN()+1)),\"\",INDEX(geb.Rechnung!$A$4:$G$1000,MATCH(ROW()-5,geb.Rechnung!$G$4:$G$1000,0),COLUMN()+1))","v":""},{"$f":"IF(ISNA(INDEX(geb.Rechnung!$A$4:$G$1000,MATCH(ROW()-5,geb.Rechnung!$G$4:$G$1000,0),COLUMN()+1)),\"\",INDEX(geb.Rechnung!$A$4:$G$1000,MATCH(ROW()-5,geb.Rechnung!$G$4:$G$1000,0),COLUMN()+1))","v":""}]
[{"$f":"IF(ISNA(INDEX(geb.Rechnung!$A$4:$G$1000,MATCH(ROW()-5,geb.Rechnung!$G$4:$G$1000,0),COLUMN()-1)),\"\",INDEX(geb.Rechnung!$A$4:$G$1000,MATCH(ROW()-5,geb.Rechnung!$G$4:$G$1000,0),COLUMN()-1))","v":""},{"$f":"IF(ISNA(INDEX(geb.Rechnung!$A$4:$G$1000,MATCH(ROW()-5,geb.Rechnung!$G$4:$G$1000,0),COLUMN()-2)),\"\",INDEX(geb.Rechnung!$A$4:$G$1000,MATCH(ROW()-5,geb.Rechnung!$G$4:$G$1000,0),COLUMN()-2))","v":""},{"$f":"IF(ISNA(INDEX(geb.Rechnung!$A$4:$G$1000,MATCH(ROW()-5,geb.Rechnung!$G$4:$G$1000,0),COLUMN()+1)),\"\",INDEX(geb.Rechnung!$A$4:$G$1000,MATCH(ROW()-5,geb.Rechnung!$G$4:$G$1000,0),COLUMN()+1))","v":""},{"$f":"IF(ISNA(INDEX(geb.Rechnung!$A$4:$G$1000,MATCH(ROW()-5,geb.Rechnung!$G$4:$G$1000,0),COLUMN()+1)),\"\",INDEX(geb.Rechnung!$A$4:$G$1000,MATCH(ROW()-5,geb.Rechnung!$G$4:$G$1000,0),COLUMN()+1))","v":""}]
[{"$f":"IF(ISNA(INDEX(geb.Rechnung!$A$4:$G$1000,MATCH(ROW()-5,geb.Rechnung!$G$4:$G$1000,0),COLUMN()-1)),\"\",INDEX(geb.Rechnung!$A$4:$G$1000,MATCH(ROW()-5,geb.Rechnung!$G$4:$G$1000,0),COLUMN()-1))","v":""},{"$f":"IF(ISNA(INDEX(geb.Rechnung!$A$4:$G$1000,MATCH(ROW()-5,geb.Rechnung!$G$4:$G$1000,0),COLUMN()-2)),\"\",INDEX(geb.Rechnung!$A$4:$G$1000,MATCH(ROW()-5,geb.Rechnung!$G$4:$G$1000,0),COLUMN()-2))","v":""},{"$f":"IF(ISNA(INDEX(geb.Rechnung!$A$4:$G$1000,MATCH(ROW()-5,geb.Rechnung!$G$4:$G$1000,0),COLUMN()+1)),\"\",INDEX(geb.Rechnung!$A$4:$G$1000,MATCH(ROW()-5,geb.Rechnung!$G$4:$G$1000,0),COLUMN()+1))","v":""},{"$f":"IF(ISNA(INDEX(geb.Rechnung!$A$4:$G$1000,MATCH(ROW()-5,geb.Rechnung!$G$4:$G$1000,0),COLUMN()+1)),\"\",INDEX(geb.Rechnung!$A$4:$G$1000,MATCH(ROW()-5,geb.Rechnung!$G$4:$G$1000,0),COLUMN()+1))","v":""}]
[{"$f":"IF(ISNA(INDEX(geb.Rechnung!$A$4:$G$1000,MATCH(ROW()-5,geb.Rechnung!$G$4:$G$1000,0),COLUMN()-1)),\"\",INDEX(geb.Rechnung!$A$4:$G$1000,MATCH(ROW()-5,geb.Rechnung!$G$4:$G$1000,0),COLUMN()-1))","v":""},{"$f":"IF(ISNA(INDEX(geb.Rechnung!$A$4:$G$1000,MATCH(ROW()-5,geb.Rechnung!$G$4:$G$1000,0),COLUMN()-2)),\"\",INDEX(geb.Rechnung!$A$4:$G$1000,MATCH(ROW()-5,geb.Rechnung!$G$4:$G$1000,0),COLUMN()-2))","v":""},{"$f":"IF(ISNA(INDEX(geb.Rechnung!$A$4:$G$1000,MATCH(ROW()-5,geb.Rechnung!$G$4:$G$1000,0),COLUMN()+1)),\"\",INDEX(geb.Rechnung!$A$4:$G$1000,MATCH(ROW()-5,geb.Rechnung!$G$4:$G$1000,0),COLUMN()+1))","v":""},{"$f":"IF(ISNA(INDEX(geb.Rechnung!$A$4:$G$1000,MATCH(ROW()-5,geb.Rechnung!$G$4:$G$1000,0),COLUMN()+1)),\"\",INDEX(geb.Rechnung!$A$4:$G$1000,MATCH(ROW()-5,geb.Rechnung!$G$4:$G$1000,0),COLUMN()+1))","v":""}]
[{"$f":"IF(ISNA(INDEX(geb.Rechnung!$A$4:$G$1000,MATCH(ROW()-5,geb.Rechnung!$G$4:$G$1000,0),COLUMN()-1)),\"\",INDEX(geb.Rechnung!$A$4:$G$1000,MATCH(ROW()-5,geb.Rechnung!$G$4:$G$1000,0),COLUMN()-1))","v":""},{"$f":"IF(ISNA(INDEX(geb.Rechnung!$A$4:$G$1000,MATCH(ROW()-5,geb.Rechnung!$G$4:$G$1000,0),COLUMN()-2)),\"\",INDEX(geb.Rechnung!$A$4:$G$1000,MATCH(ROW()-5,geb.Rechnung!$G$4:$G$1000,0),COLUMN()-2))","v":""},{"$f":"IF(ISNA(INDEX(geb.Rechnung!$A$4:$G$1000,MATCH(ROW()-5,geb.Rechnung!$G$4:$G$1000,0),COLUMN()+1)),\"\",INDEX(geb.Rechnung!$A$4:$G$1000,MATCH(ROW()-5,geb.Rechnung!$G$4:$G$1000,0),COLUMN()+1))","v":""},{"$f":"IF(ISNA(INDEX(geb.Rechnung!$A$4:$G$1000,MATCH(ROW()-5,geb.Rechnung!$G$4:$G$1000,0),COLUMN()+1)),\"\",INDEX(geb.Rechnung!$A$4:$G$1000,MATCH(ROW()-5,geb.Rechnung!$G$4:$G$1000,0),COLUMN()+1))","v":""}]
[{"$f":"IF(ISNA(INDEX(geb.Rechnung!$A$4:$G$1000,MATCH(ROW()-5,geb.Rechnung!$G$4:$G$1000,0),COLUMN()-1)),\"\",INDEX(geb.Rechnung!$A$4:$G$1000,MATCH(ROW()-5,geb.Rechnung!$G$4:$G$1000,0),COLUMN()-1))","v":""},{"$f":"IF(ISNA(INDEX(geb.Rechnung!$A$4:$G$1000,MATCH(ROW()-5,geb.Rechnung!$G$4:$G$1000,0),COLUMN()-2)),\"\",INDEX(geb.Rechnung!$A$4:$G$1000,MATCH(ROW()-5,geb.Rechnung!$G$4:$G$1000,0),COLUMN()-2))","v":""},{"$f":"IF(ISNA(INDEX(geb.Rechnung!$A$4:$G$1000,MATCH(ROW()-5,geb.Rechnung!$G$4:$G$1000,0),COLUMN()+1)),\"\",INDEX(geb.Rechnung!$A$4:$G$1000,MATCH(ROW()-5,geb.Rechnung!$G$4:$G$1000,0),COLUMN()+1))","v":""},{"$f":"IF(ISNA(INDEX(geb.Rechnung!$A$4:$G$1000,MATCH(ROW()-5,geb.Rechnung!$G$4:$G$1000,0),COLUMN()+1)),\"\",INDEX(geb.Rechnung!$A$4:$G$1000,MATCH(ROW()-5,geb.Rechnung!$G$4:$G$1000,0),COLUMN()+1))","v":""}]
[{"$f":"IF(ISNA(INDEX(geb.Rechnung!$A$4:$G$1000,MATCH(ROW()-5,geb.Rechnung!$G$4:$G$1000,0),COLUMN()-1)),\"\",INDEX(geb.Rechnung!$A$4:$G$1000,MATCH(ROW()-5,geb.Rechnung!$G$4:$G$1000,0),COLUMN()-1))","v":""},{"$f":"IF(ISNA(INDEX(geb.Rechnung!$A$4:$G$1000,MATCH(ROW()-5,geb.Rechnung!$G$4:$G$1000,0),COLUMN()-2)),\"\",INDEX(geb.Rechnung!$A$4:$G$1000,MATCH(ROW()-5,geb.Rechnung!$G$4:$G$1000,0),COLUMN()-2))","v":""},{"$f":"IF(ISNA(INDEX(geb.Rechnung!$A$4:$G$1000,MATCH(ROW()-5,geb.Rechnung!$G$4:$G$1000,0),COLUMN()+1)),\"\",INDEX(geb.Rechnung!$A$4:$G$1000,MATCH(ROW()-5,geb.Rechnung!$G$4:$G$1000,0),COLUMN()+1))","v":""},{"$f":"IF(ISNA(INDEX(geb.Rechnung!$A$4:$G$1000,MATCH(ROW()-5,geb.Rechnung!$G$4:$G$1000,0),COLUMN()+1)),\"\",INDEX(geb.Rechnung!$A$4:$G$1000,MATCH(ROW()-5,geb.Rechnung!$G$4:$G$1000,0),COLUMN()+1))","v":""}]
[{"$f":"IF(ISNA(INDEX(geb.Rechnung!$A$4:$G$1000,MATCH(ROW()-5,geb.Rechnung!$G$4:$G$1000,0),COLUMN()-1)),\"\",INDEX(geb.Rechnung!$A$4:$G$1000,MATCH(ROW()-5,geb.Rechnung!$G$4:$G$1000,0),COLUMN()-1))","v":""},{"$f":"IF(ISNA(INDEX(geb.Rechnung!$A$4:$G$1000,MATCH(ROW()-5,geb.Rechnung!$G$4:$G$1000,0),COLUMN()-2)),\"\",INDEX(geb.Rechnung!$A$4:$G$1000,MATCH(ROW()-5,geb.Rechnung!$G$4:$G$1000,0),COLUMN()-2))","v":""},{"$f":"IF(ISNA(INDEX(geb.Rechnung!$A$4:$G$1000,MATCH(ROW()-5,geb.Rechnung!$G$4:$G$1000,0),COLUMN()+1)),\"\",INDEX(geb.Rechnung!$A$4:$G$1000,MATCH(ROW()-5,geb.Rechnung!$G$4:$G$1000,0),COLUMN()+1))","v":""},{"$f":"IF(ISNA(INDEX(geb.Rechnung!$A$4:$G$1000,MATCH(ROW()-5,geb.Rechnung!$G$4:$G$1000,0),COLUMN()+1)),\"\",INDEX(geb.Rechnung!$A$4:$G$1000,MATCH(ROW()-5,geb.Rechnung!$G$4:$G$1000,0),COLUMN()+1))","v":""}]
[{"$f":"IF(ISNA(INDEX(geb.Rechnung!$A$4:$G$1000,MATCH(ROW()-5,geb.Rechnung!$G$4:$G$1000,0),COLUMN()-1)),\"\",INDEX(geb.Rechnung!$A$4:$G$1000,MATCH(ROW()-5,geb.Rechnung!$G$4:$G$1000,0),COLUMN()-1))","v":""},{"$f":"IF(ISNA(INDEX(geb.Rechnung!$A$4:$G$1000,MATCH(ROW()-5,geb.Rechnung!$G$4:$G$1000,0),COLUMN()-2)),\"\",INDEX(geb.Rechnung!$A$4:$G$1000,MATCH(ROW()-5,geb.Rechnung!$G$4:$G$1000,0),COLUMN()-2))","v":""},{"$f":"IF(ISNA(INDEX(geb.Rechnung!$A$4:$G$1000,MATCH(ROW()-5,geb.Rechnung!$G$4:$G$1000,0),COLUMN()+1)),\"\",INDEX(geb.Rechnung!$A$4:$G$1000,MATCH(ROW()-5,geb.Rechnung!$G$4:$G$1000,0),COLUMN()+1))","v":""},{"$f":"IF(ISNA(INDEX(geb.Rechnung!$A$4:$G$1000,MATCH(ROW()-5,geb.Rechnung!$G$4:$G$1000,0),COLUMN()+1)),\"\",INDEX(geb.Rechnung!$A$4:$G$1000,MATCH(ROW()-5,geb.Rechnung!$G$4:$G$1000,0),COLUMN()+1))","v":""}]
[{"$f":"IF(ISNA(INDEX(geb.Rechnung!$A$4:$G$1000,MATCH(ROW()-5,geb.Rechnung!$G$4:$G$1000,0),COLUMN()-1)),\"\",INDEX(geb.Rechnung!$A$4:$G$1000,MATCH(ROW()-5,geb.Rechnung!$G$4:$G$1000,0),COLUMN()-1))","v":""},{"$f":"IF(ISNA(INDEX(geb.Rechnung!$A$4:$G$1000,MATCH(ROW()-5,geb.Rechnung!$G$4:$G$1000,0),COLUMN()-2)),\"\",INDEX(geb.Rechnung!$A$4:$G$1000,MATCH(ROW()-5,geb.Rechnung!$G$4:$G$1000,0),COLUMN()-2))","v":""},{"$f":"IF(ISNA(INDEX(geb.Rechnung!$A$4:$G$1000,MATCH(ROW()-5,geb.Rechnung!$G$4:$G$1000,0),COLUMN()+1)),\"\",INDEX(geb.Rechnung!$A$4:$G$1000,MATCH(ROW()-5,geb.Rechnung!$G$4:$G$1000,0),COLUMN()+1))","v":""},{"$f":"IF(ISNA(INDEX(geb.Rechnung!$A$4:$G$1000,MATCH(ROW()-5,geb.Rechnung!$G$4:$G$1000,0),COLUMN()+1)),\"\",INDEX(geb.Rechnung!$A$4:$G$1000,MATCH(ROW()-5,geb.Rechnung!$G$4:$G$1000,0),COLUMN()+1))","v":""}]
[{"$f":"IF(ISNA(INDEX(geb.Rechnung!$A$4:$G$1000,MATCH(ROW()-5,geb.Rechnung!$G$4:$G$1000,0),COLUMN()-1)),\"\",INDEX(geb.Rechnung!$A$4:$G$1000,MATCH(ROW()-5,geb.Rechnung!$G$4:$G$1000,0),COLUMN()-1))","v":""},{"$f":"IF(ISNA(INDEX(geb.Rechnung!$A$4:$G$1000,MATCH(ROW()-5,geb.Rechnung!$G$4:$G$1000,0),COLUMN()-2)),\"\",INDEX(geb.Rechnung!$A$4:$G$1000,MATCH(ROW()-5,geb.Rechnung!$G$4:$G$1000,0),COLUMN()-2))","v":""},{"$f":"IF(ISNA(INDEX(geb.Rechnung!$A$4:$G$1000,MATCH(ROW()-5,geb.Rechnung!$G$4:$G$1000,0),COLUMN()+1)),\"\",INDEX(geb.Rechnung!$A$4:$G$1000,MATCH(ROW()-5,geb.Rechnung!$G$4:$G$1000,0),COLUMN()+1))","v":""},{"$f":"IF(ISNA(INDEX(geb.Rechnung!$A$4:$G$1000,MATCH(ROW()-5,geb.Rechnung!$G$4:$G$1000,0),COLUMN()+1)),\"\",INDEX(geb.Rechnung!$A$4:$G$1000,MATCH(ROW()-5,geb.Rechnung!$G$4:$G$1000,0),COLUMN()+1))","v":""}]
[{"$f":"IF(ISNA(INDEX(geb.Rechnung!$A$4:$G$1000,MATCH(ROW()-5,geb.Rechnung!$G$4:$G$1000,0),COLUMN()-1)),\"\",INDEX(geb.Rechnung!$A$4:$G$1000,MATCH(ROW()-5,geb.Rechnung!$G$4:$G$1000,0),COLUMN()-1))","v":""},{"$f":"IF(ISNA(INDEX(geb.Rechnung!$A$4:$G$1000,MATCH(ROW()-5,geb.Rechnung!$G$4:$G$1000,0),COLUMN()-2)),\"\",INDEX(geb.Rechnung!$A$4:$G$1000,MATCH(ROW()-5,geb.Rechnung!$G$4:$G$1000,0),COLUMN()-2))","v":""},{"$f":"IF(ISNA(INDEX(geb.Rechnung!$A$4:$G$1000,MATCH(ROW()-5,geb.Rechnung!$G$4:$G$1000,0),COLUMN()+1)),\"\",INDEX(geb.Rechnung!$A$4:$G$1000,MATCH(ROW()-5,geb.Rechnung!$G$4:$G$1000,0),COLUMN()+1))","v":""},{"$f":"IF(ISNA(INDEX(geb.Rechnung!$A$4:$G$1000,MATCH(ROW()-5,geb.Rechnung!$G$4:$G$1000,0),COLUMN()+1)),\"\",INDEX(geb.Rechnung!$A$4:$G$1000,MATCH(ROW()-5,geb.Rechnung!$G$4:$G$1000,0),COLUMN()+1))","v":""}]
[{"$f":"IF(ISNA(INDEX(geb.Rechnung!$A$4:$G$1000,MATCH(ROW()-5,geb.Rechnung!$G$4:$G$1000,0),COLUMN()-1)),\"\",INDEX(geb.Rechnung!$A$4:$G$1000,MATCH(ROW()-5,geb.Rechnung!$G$4:$G$1000,0),COLUMN()-1))","v":""},{"$f":"IF(ISNA(INDEX(geb.Rechnung!$A$4:$G$1000,MATCH(ROW()-5,geb.Rechnung!$G$4:$G$1000,0),COLUMN()-2)),\"\",INDEX(geb.Rechnung!$A$4:$G$1000,MATCH(ROW()-5,geb.Rechnung!$G$4:$G$1000,0),COLUMN()-2))","v":""},{"$f":"IF(ISNA(INDEX(geb.Rechnung!$A$4:$G$1000,MATCH(ROW()-5,geb.Rechnung!$G$4:$G$1000,0),COLUMN()+1)),\"\",INDEX(geb.Rechnung!$A$4:$G$1000,MATCH(ROW()-5,geb.Rechnung!$G$4:$G$1000,0),COLUMN()+1))","v":""},{"$f":"IF(ISNA(INDEX(geb.Rechnung!$A$4:$G$1000,MATCH(ROW()-5,geb.Rechnung!$G$4:$G$1000,0),COLUMN()+1)),\"\",INDEX(geb.Rechnung!$A$4:$G$1000,MATCH(ROW()-5,geb.Rechnung!$G$4:$G$1000,0),COLUMN()+1))","v":""}]
[{"$f":"IF(ISNA(INDEX(geb.Rechnung!$A$4:$G$1000,MATCH(ROW()-5,geb.Rechnung!$G$4:$G$1000,0),COLUMN()-1)),\"\",INDEX(geb.Rechnung!$A$4:$G$1000,MATCH(ROW()-5,geb.Rechnung!$G$4:$G$1000,0),COLUMN()-1))","v":""},{"$f":"IF(ISNA(INDEX(geb.Rechnung!$A$4:$G$1000,MATCH(ROW()-5,geb.Rechnung!$G$4:$G$1000,0),COLUMN()-2)),\"\",INDEX(geb.Rechnung!$A$4:$G$1000,MATCH(ROW()-5,geb.Rechnung!$G$4:$G$1000,0),COLUMN()-2))","v":""},{"$f":"IF(ISNA(INDEX(geb.Rechnung!$A$4:$G$1000,MATCH(ROW()-5,geb.Rechnung!$G$4:$G$1000,0),COLUMN()+1)),\"\",INDEX(geb.Rechnung!$A$4:$G$1000,MATCH(ROW()-5,geb.Rechnung!$G$4:$G$1000,0),COLUMN()+1))","v":""},{"$f":"IF(ISNA(INDEX(geb.Rechnung!$A$4:$G$1000,MATCH(ROW()-5,geb.Rechnung!$G$4:$G$1000,0),COLUMN()+1)),\"\",INDEX(geb.Rechnung!$A$4:$G$1000,MATCH(ROW()-5,geb.Rechnung!$G$4:$G$1000,0),COLUMN()+1))","v":""}]
[{"$f":"IF(ISNA(INDEX(geb.Rechnung!$A$4:$G$1000,MATCH(ROW()-5,geb.Rechnung!$G$4:$G$1000,0),COLUMN()-1)),\"\",INDEX(geb.Rechnung!$A$4:$G$1000,MATCH(ROW()-5,geb.Rechnung!$G$4:$G$1000,0),COLUMN()-1))","v":""},{"$f":"IF(ISNA(INDEX(geb.Rechnung!$A$4:$G$1000,MATCH(ROW()-5,geb.Rechnung!$G$4:$G$1000,0),COLUMN()-2)),\"\",INDEX(geb.Rechnung!$A$4:$G$1000,MATCH(ROW()-5,geb.Rechnung!$G$4:$G$1000,0),COLUMN()-2))","v":""},{"$f":"IF(ISNA(INDEX(geb.Rechnung!$A$4:$G$1000,MATCH(ROW()-5,geb.Rechnung!$G$4:$G$1000,0),COLUMN()+1)),\"\",INDEX(geb.Rechnung!$A$4:$G$1000,MATCH(ROW()-5,geb.Rechnung!$G$4:$G$1000,0),COLUMN()+1))","v":""},{"$f":"IF(ISNA(INDEX(geb.Rechnung!$A$4:$G$1000,MATCH(ROW()-5,geb.Rechnung!$G$4:$G$1000,0),COLUMN()+1)),\"\",INDEX(geb.Rechnung!$A$4:$G$1000,MATCH(ROW()-5,geb.Rechnung!$G$4:$G$1000,0),COLUMN()+1))","v":""}]
[{"$f":"IF(ISNA(INDEX(geb.Rechnung!$A$4:$G$1000,MATCH(ROW()-5,geb.Rechnung!$G$4:$G$1000,0),COLUMN()-1)),\"\",INDEX(geb.Rechnung!$A$4:$G$1000,MATCH(ROW()-5,geb.Rechnung!$G$4:$G$1000,0),COLUMN()-1))","v":""},{"$f":"IF(ISNA(INDEX(geb.Rechnung!$A$4:$G$1000,MATCH(ROW()-5,geb.Rechnung!$G$4:$G$1000,0),COLUMN()-2)),\"\",INDEX(geb.Rechnung!$A$4:$G$1000,MATCH(ROW()-5,geb.Rechnung!$G$4:$G$1000,0),COLUMN()-2))","v":""},{"$f":"IF(ISNA(INDEX(geb.Rechnung!$A$4:$G$1000,MATCH(ROW()-5,geb.Rechnung!$G$4:$G$1000,0),COLUMN()+1)),\"\",INDEX(geb.Rechnung!$A$4:$G$1000,MATCH(ROW()-5,geb.Rechnung!$G$4:$G$1000,0),COLUMN()+1))","v":""},{"$f":"IF(ISNA(INDEX(geb.Rechnung!$A$4:$G$1000,MATCH(ROW()-5,geb.Rechnung!$G$4:$G$1000,0),COLUMN()+1)),\"\",INDEX(geb.Rechnung!$A$4:$G$1000,MATCH(ROW()-5,geb.Rechnung!$G$4:$G$1000,0),COLUMN()+1))","v":""}]
[{"$f":"IF(ISNA(INDEX(geb.Rechnung!$A$4:$G$1000,MATCH(ROW()-5,geb.Rechnung!$G$4:$G$1000,0),COLUMN()-1)),\"\",INDEX(geb.Rechnung!$A$4:$G$1000,MATCH(ROW()-5,geb.Rechnung!$G$4:$G$1000,0),COLUMN()-1))","v":""},{"$f":"IF(ISNA(INDEX(geb.Rechnung!$A$4:$G$1000,MATCH(ROW()-5,geb.Rechnung!$G$4:$G$1000,0),COLUMN()-2)),\"\",INDEX(geb.Rechnung!$A$4:$G$1000,MATCH(ROW()-5,geb.Rechnung!$G$4:$G$1000,0),COLUMN()-2))","v":""},{"$f":"IF(ISNA(INDEX(geb.Rechnung!$A$4:$G$1000,MATCH(ROW()-5,geb.Rechnung!$G$4:$G$1000,0),COLUMN()+1)),\"\",INDEX(geb.Rechnung!$A$4:$G$1000,MATCH(ROW()-5,geb.Rechnung!$G$4:$G$1000,0),COLUMN()+1))","v":""},{"$f":"IF(ISNA(INDEX(geb.Rechnung!$A$4:$G$1000,MATCH(ROW()-5,geb.Rechnung!$G$4:$G$1000,0),COLUMN()+1)),\"\",INDEX(geb.Rechnung!$A$4:$G$1000,MATCH(ROW()-5,geb.Rechnung!$G$4:$G$1000,0),COLUMN()+1))","v":""}]
[{"$f":"IF(ISNA(INDEX(geb.Rechnung!$A$4:$G$1000,MATCH(ROW()-5,geb.Rechnung!$G$4:$G$1000,0),COLUMN()-1)),\"\",INDEX(geb.Rechnung!$A$4:$G$1000,MATCH(ROW()-5,geb.Rechnung!$G$4:$G$1000,0),COLUMN()-1))","v":""},{"$f":"IF(ISNA(INDEX(geb.Rechnung!$A$4:$G$1000,MATCH(ROW()-5,geb.Rechnung!$G$4:$G$1000,0),COLUMN()-2)),\"\",INDEX(geb.Rechnung!$A$4:$G$1000,MATCH(ROW()-5,geb.Rechnung!$G$4:$G$1000,0),COLUMN()-2))","v":""},{"$f":"IF(ISNA(INDEX(geb.Rechnung!$A$4:$G$1000,MATCH(ROW()-5,geb.Rechnung!$G$4:$G$1000,0),COLUMN()+1)),\"\",INDEX(geb.Rechnung!$A$4:$G$1000,MATCH(ROW()-5,geb.Rechnung!$G$4:$G$1000,0),COLUMN()+1))","v":""},{"$f":"IF(ISNA(INDEX(geb.Rechnung!$A$4:$G$1000,MATCH(ROW()-5,geb.Rechnung!$G$4:$G$1000,0),COLUMN()+1)),\"\",INDEX(geb.Rechnung!$A$4:$G$1000,MATCH(ROW()-5,geb.Rechnung!$G$4:$G$1000,0),COLUMN()+1))","v":""}]
[{"$f":"IF(ISNA(INDEX(geb.Rechnung!$A$4:$G$1000,MATCH(ROW()-5,geb.Rechnung!$G$4:$G$1000,0),COLUMN()-1)),\"\",INDEX(geb.Rechnung!$A$4:$G$1000,MATCH(ROW()-5,geb.Rechnung!$G$4:$G$1000,0),COLUMN()-1))","v":""},{"$f":"IF(ISNA(INDEX(geb.Rechnung!$A$4:$G$1000,MATCH(ROW()-5,geb.Rechnung!$G$4:$G$1000,0),COLUMN()-2)),\"\",INDEX(geb.Rechnung!$A$4:$G$1000,MATCH(ROW()-5,geb.Rechnung!$G$4:$G$1000,0),COLUMN()-2))","v":""},{"$f":"IF(ISNA(INDEX(geb.Rechnung!$A$4:$G$1000,MATCH(ROW()-5,geb.Rechnung!$G$4:$G$1000,0),COLUMN()+1)),\"\",INDEX(geb.Rechnung!$A$4:$G$1000,MATCH(ROW()-5,geb.Rechnung!$G$4:$G$1000,0),COLUMN()+1))","v":""},{"$f":"IF(ISNA(INDEX(geb.Rechnung!$A$4:$G$1000,MATCH(ROW()-5,geb.Rechnung!$G$4:$G$1000,0),COLUMN()+1)),\"\",INDEX(geb.Rechnung!$A$4:$G$1000,MATCH(ROW()-5,geb.Rechnung!$G$4:$G$1000,0),COLUMN()+1))","v":""}]
[{"$f":"IF(ISNA(INDEX(geb.Rechnung!$A$4:$G$1000,MATCH(ROW()-5,geb.Rechnung!$G$4:$G$1000,0),COLUMN()-1)),\"\",INDEX(geb.Rechnung!$A$4:$G$1000,MATCH(ROW()-5,geb.Rechnung!$G$4:$G$1000,0),COLUMN()-1))","v":""},{"$f":"IF(ISNA(INDEX(geb.Rechnung!$A$4:$G$1000,MATCH(ROW()-5,geb.Rechnung!$G$4:$G$1000,0),COLUMN()-2)),\"\",INDEX(geb.Rechnung!$A$4:$G$1000,MATCH(ROW()-5,geb.Rechnung!$G$4:$G$1000,0),COLUMN()-2))","v":""},{"$f":"IF(ISNA(INDEX(geb.Rechnung!$A$4:$G$1000,MATCH(ROW()-5,geb.Rechnung!$G$4:$G$1000,0),COLUMN()+1)),\"\",INDEX(geb.Rechnung!$A$4:$G$1000,MATCH(ROW()-5,geb.Rechnung!$G$4:$G$1000,0),COLUMN()+1))","v":""},{"$f":"IF(ISNA(INDEX(geb.Rechnung!$A$4:$G$1000,MATCH(ROW()-5,geb.Rechnung!$G$4:$G$1000,0),COLUMN()+1)),\"\",INDEX(geb.Rechnung!$A$4:$G$1000,MATCH(ROW()-5,geb.Rechnung!$G$4:$G$1000,0),COLUMN()+1))","v":""}]
[{"$f":"IF(ISNA(INDEX(geb.Rechnung!$A$4:$G$1000,MATCH(ROW()-5,geb.Rechnung!$G$4:$G$1000,0),COLUMN()-1)),\"\",INDEX(geb.Rechnung!$A$4:$G$1000,MATCH(ROW()-5,geb.Rechnung!$G$4:$G$1000,0),COLUMN()-1))","v":""},{"$f":"IF(ISNA(INDEX(geb.Rechnung!$A$4:$G$1000,MATCH(ROW()-5,geb.Rechnung!$G$4:$G$1000,0),COLUMN()-2)),\"\",INDEX(geb.Rechnung!$A$4:$G$1000,MATCH(ROW()-5,geb.Rechnung!$G$4:$G$1000,0),COLUMN()-2))","v":""},{"$f":"IF(ISNA(INDEX(geb.Rechnung!$A$4:$G$1000,MATCH(ROW()-5,geb.Rechnung!$G$4:$G$1000,0),COLUMN()+1)),\"\",INDEX(geb.Rechnung!$A$4:$G$1000,MATCH(ROW()-5,geb.Rechnung!$G$4:$G$1000,0),COLUMN()+1))","v":""},{"$f":"IF(ISNA(INDEX(geb.Rechnung!$A$4:$G$1000,MATCH(ROW()-5,geb.Rechnung!$G$4:$G$1000,0),COLUMN()+1)),\"\",INDEX(geb.Rechnung!$A$4:$G$1000,MATCH(ROW()-5,geb.Rechnung!$G$4:$G$1000,0),COLUMN()+1))","v":""}]
[{"$f":"IF(ISNA(INDEX(geb.Rechnung!$A$4:$G$1000,MATCH(ROW()-5,geb.Rechnung!$G$4:$G$1000,0),COLUMN()-1)),\"\",INDEX(geb.Rechnung!$A$4:$G$1000,MATCH(ROW()-5,geb.Rechnung!$G$4:$G$1000,0),COLUMN()-1))","v":""},{"$f":"IF(ISNA(INDEX(geb.Rechnung!$A$4:$G$1000,MATCH(ROW()-5,geb.Rechnung!$G$4:$G$1000,0),COLUMN()-2)),\"\",INDEX(geb.Rechnung!$A$4:$G$1000,MATCH(ROW()-5,geb.Rechnung!$G$4:$G$1000,0),COLUMN()-2))","v":""},{"$f":"IF(ISNA(INDEX(geb.Rechnung!$A$4:$G$1000,MATCH(ROW()-5,geb.Rechnung!$G$4:$G$1000,0),COLUMN()+1)),\"\",INDEX(geb.Rechnung!$A$4:$G$1000,MATCH(ROW()-5,geb.Rechnung!$G$4:$G$1000,0),COLUMN()+1))","v":""},{"$f":"IF(ISNA(INDEX(geb.Rechnung!$A$4:$G$1000,MATCH(ROW()-5,geb.Rechnung!$G$4:$G$1000,0),COLUMN()+1)),\"\",INDEX(geb.Rechnung!$A$4:$G$1000,MATCH(ROW()-5,geb.Rechnung!$G$4:$G$1000,0),COLUMN()+1))","v":""}]
[{"$f":"IF(ISNA(INDEX(geb.Rechnung!$A$4:$G$1000,MATCH(ROW()-5,geb.Rechnung!$G$4:$G$1000,0),COLUMN()-1)),\"\",INDEX(geb.Rechnung!$A$4:$G$1000,MATCH(ROW()-5,geb.Rechnung!$G$4:$G$1000,0),COLUMN()-1))","v":""},{"$f":"IF(ISNA(INDEX(geb.Rechnung!$A$4:$G$1000,MATCH(ROW()-5,geb.Rechnung!$G$4:$G$1000,0),COLUMN()-2)),\"\",INDEX(geb.Rechnung!$A$4:$G$1000,MATCH(ROW()-5,geb.Rechnung!$G$4:$G$1000,0),COLUMN()-2))","v":""},{"$f":"IF(ISNA(INDEX(geb.Rechnung!$A$4:$G$1000,MATCH(ROW()-5,geb.Rechnung!$G$4:$G$1000,0),COLUMN()+1)),\"\",INDEX(geb.Rechnung!$A$4:$G$1000,MATCH(ROW()-5,geb.Rechnung!$G$4:$G$1000,0),COLUMN()+1))","v":""},{"$f":"IF(ISNA(INDEX(geb.Rechnung!$A$4:$G$1000,MATCH(ROW()-5,geb.Rechnung!$G$4:$G$1000,0),COLUMN()+1)),\"\",INDEX(geb.Rechnung!$A$4:$G$1000,MATCH(ROW()-5,geb.Rechnung!$G$4:$G$1000,0),COLUMN()+1))","v":""}]
[{"$f":"IF(ISNA(INDEX(geb.Rechnung!$A$4:$G$1000,MATCH(ROW()-5,geb.Rechnung!$G$4:$G$1000,0),COLUMN()-1)),\"\",INDEX(geb.Rechnung!$A$4:$G$1000,MATCH(ROW()-5,geb.Rechnung!$G$4:$G$1000,0),COLUMN()-1))","v":""},{"$f":"IF(ISNA(INDEX(geb.Rechnung!$A$4:$G$1000,MATCH(ROW()-5,geb.Rechnung!$G$4:$G$1000,0),COLUMN()-2)),\"\",INDEX(geb.Rechnung!$A$4:$G$1000,MATCH(ROW()-5,geb.Rechnung!$G$4:$G$1000,0),COLUMN()-2))","v":""},{"$f":"IF(ISNA(INDEX(geb.Rechnung!$A$4:$G$1000,MATCH(ROW()-5,geb.Rechnung!$G$4:$G$1000,0),COLUMN()+1)),\"\",INDEX(geb.Rechnung!$A$4:$G$1000,MATCH(ROW()-5,geb.Rechnung!$G$4:$G$1000,0),COLUMN()+1))","v":""},{"$f":"IF(ISNA(INDEX(geb.Rechnung!$A$4:$G$1000,MATCH(ROW()-5,geb.Rechnung!$G$4:$G$1000,0),COLUMN()+1)),\"\",INDEX(geb.Rechnung!$A$4:$G$1000,MATCH(ROW()-5,geb.Rechnung!$G$4:$G$1000,0),COLUMN()+1))","v":""}]
[{"$f":"IF(ISNA(INDEX(geb.Rechnung!$A$4:$G$1000,MATCH(ROW()-5,geb.Rechnung!$G$4:$G$1000,0),COLUMN()-1)),\"\",INDEX(geb.Rechnung!$A$4:$G$1000,MATCH(ROW()-5,geb.Rechnung!$G$4:$G$1000,0),COLUMN()-1))","v":""},{"$f":"IF(ISNA(INDEX(geb.Rechnung!$A$4:$G$1000,MATCH(ROW()-5,geb.Rechnung!$G$4:$G$1000,0),COLUMN()-2)),\"\",INDEX(geb.Rechnung!$A$4:$G$1000,MATCH(ROW()-5,geb.Rechnung!$G$4:$G$1000,0),COLUMN()-2))","v":""},{"$f":"IF(ISNA(INDEX(geb.Rechnung!$A$4:$G$1000,MATCH(ROW()-5,geb.Rechnung!$G$4:$G$1000,0),COLUMN()+1)),\"\",INDEX(geb.Rechnung!$A$4:$G$1000,MATCH(ROW()-5,geb.Rechnung!$G$4:$G$1000,0),COLUMN()+1))","v":""},{"$f":"IF(ISNA(INDEX(geb.Rechnung!$A$4:$G$1000,MATCH(ROW()-5,geb.Rechnung!$G$4:$G$1000,0),COLUMN()+1)),\"\",INDEX(geb.Rechnung!$A$4:$G$1000,MATCH(ROW()-5,geb.Rechnung!$G$4:$G$1000,0),COLUMN()+1))","v":""}]
[{"$f":"IF(ISNA(INDEX(geb.Rechnung!$A$4:$G$1000,MATCH(ROW()-5,geb.Rechnung!$G$4:$G$1000,0),COLUMN()-1)),\"\",INDEX(geb.Rechnung!$A$4:$G$1000,MATCH(ROW()-5,geb.Rechnung!$G$4:$G$1000,0),COLUMN()-1))","v":""},{"$f":"IF(ISNA(INDEX(geb.Rechnung!$A$4:$G$1000,MATCH(ROW()-5,geb.Rechnung!$G$4:$G$1000,0),COLUMN()-2)),\"\",INDEX(geb.Rechnung!$A$4:$G$1000,MATCH(ROW()-5,geb.Rechnung!$G$4:$G$1000,0),COLUMN()-2))","v":""},{"$f":"IF(ISNA(INDEX(geb.Rechnung!$A$4:$G$1000,MATCH(ROW()-5,geb.Rechnung!$G$4:$G$1000,0),COLUMN()+1)),\"\",INDEX(geb.Rechnung!$A$4:$G$1000,MATCH(ROW()-5,geb.Rechnung!$G$4:$G$1000,0),COLUMN()+1))","v":""},{"$f":"IF(ISNA(INDEX(geb.Rechnung!$A$4:$G$1000,MATCH(ROW()-5,geb.Rechnung!$G$4:$G$1000,0),COLUMN()+1)),\"\",INDEX(geb.Rechnung!$A$4:$G$1000,MATCH(ROW()-5,geb.Rechnung!$G$4:$G$1000,0),COLUMN()+1))","v":""}]
[{"$f":"IF(ISNA(INDEX(geb.Rechnung!$A$4:$G$1000,MATCH(ROW()-5,geb.Rechnung!$G$4:$G$1000,0),COLUMN()-1)),\"\",INDEX(geb.Rechnung!$A$4:$G$1000,MATCH(ROW()-5,geb.Rechnung!$G$4:$G$1000,0),COLUMN()-1))","v":""},{"$f":"IF(ISNA(INDEX(geb.Rechnung!$A$4:$G$1000,MATCH(ROW()-5,geb.Rechnung!$G$4:$G$1000,0),COLUMN()-2)),\"\",INDEX(geb.Rechnung!$A$4:$G$1000,MATCH(ROW()-5,geb.Rechnung!$G$4:$G$1000,0),COLUMN()-2))","v":""},{"$f":"IF(ISNA(INDEX(geb.Rechnung!$A$4:$G$1000,MATCH(ROW()-5,geb.Rechnung!$G$4:$G$1000,0),COLUMN()+1)),\"\",INDEX(geb.Rechnung!$A$4:$G$1000,MATCH(ROW()-5,geb.Rechnung!$G$4:$G$1000,0),COLUMN()+1))","v":""},{"$f":"IF(ISNA(INDEX(geb.Rechnung!$A$4:$G$1000,MATCH(ROW()-5,geb.Rechnung!$G$4:$G$1000,0),COLUMN()+1)),\"\",INDEX(geb.Rechnung!$A$4:$G$1000,MATCH(ROW()-5,geb.Rechnung!$G$4:$G$1000,0),COLUMN()+1))","v":""}]
[{"$f":"IF(ISNA(INDEX(geb.Rechnung!$A$4:$G$1000,MATCH(ROW()-5,geb.Rechnung!$G$4:$G$1000,0),COLUMN()-1)),\"\",INDEX(geb.Rechnung!$A$4:$G$1000,MATCH(ROW()-5,geb.Rechnung!$G$4:$G$1000,0),COLUMN()-1))","v":""},{"$f":"IF(ISNA(INDEX(geb.Rechnung!$A$4:$G$1000,MATCH(ROW()-5,geb.Rechnung!$G$4:$G$1000,0),COLUMN()-2)),\"\",INDEX(geb.Rechnung!$A$4:$G$1000,MATCH(ROW()-5,geb.Rechnung!$G$4:$G$1000,0),COLUMN()-2))","v":""},{"$f":"IF(ISNA(INDEX(geb.Rechnung!$A$4:$G$1000,MATCH(ROW()-5,geb.Rechnung!$G$4:$G$1000,0),COLUMN()+1)),\"\",INDEX(geb.Rechnung!$A$4:$G$1000,MATCH(ROW()-5,geb.Rechnung!$G$4:$G$1000,0),COLUMN()+1))","v":""},{"$f":"IF(ISNA(INDEX(geb.Rechnung!$A$4:$G$1000,MATCH(ROW()-5,geb.Rechnung!$G$4:$G$1000,0),COLUMN()+1)),\"\",INDEX(geb.Rechnung!$A$4:$G$1000,MATCH(ROW()-5,geb.Rechnung!$G$4:$G$1000,0),COLUMN()+1))","v":""}]
[{"$f":"IF(ISNA(INDEX(geb.Rechnung!$A$4:$G$1000,MATCH(ROW()-5,geb.Rechnung!$G$4:$G$1000,0),COLUMN()-1)),\"\",INDEX(geb.Rechnung!$A$4:$G$1000,MATCH(ROW()-5,geb.Rechnung!$G$4:$G$1000,0),COLUMN()-1))","v":""},{"$f":"IF(ISNA(INDEX(geb.Rechnung!$A$4:$G$1000,MATCH(ROW()-5,geb.Rechnung!$G$4:$G$1000,0),COLUMN()-2)),\"\",INDEX(geb.Rechnung!$A$4:$G$1000,MATCH(ROW()-5,geb.Rechnung!$G$4:$G$1000,0),COLUMN()-2))","v":""},{"$f":"IF(ISNA(INDEX(geb.Rechnung!$A$4:$G$1000,MATCH(ROW()-5,geb.Rechnung!$G$4:$G$1000,0),COLUMN()+1)),\"\",INDEX(geb.Rechnung!$A$4:$G$1000,MATCH(ROW()-5,geb.Rechnung!$G$4:$G$1000,0),COLUMN()+1))","v":""},{"$f":"IF(ISNA(INDEX(geb.Rechnung!$A$4:$G$1000,MATCH(ROW()-5,geb.Rechnung!$G$4:$G$1000,0),COLUMN()+1)),\"\",INDEX(geb.Rechnung!$A$4:$G$1000,MATCH(ROW()-5,geb.Rechnung!$G$4:$G$1000,0),COLUMN()+1))","v":""}]
[{"$f":"IF(ISNA(INDEX(geb.Rechnung!$A$4:$G$1000,MATCH(ROW()-5,geb.Rechnung!$G$4:$G$1000,0),COLUMN()-1)),\"\",INDEX(geb.Rechnung!$A$4:$G$1000,MATCH(ROW()-5,geb.Rechnung!$G$4:$G$1000,0),COLUMN()-1))","v":""},{"$f":"IF(ISNA(INDEX(geb.Rechnung!$A$4:$G$1000,MATCH(ROW()-5,geb.Rechnung!$G$4:$G$1000,0),COLUMN()-2)),\"\",INDEX(geb.Rechnung!$A$4:$G$1000,MATCH(ROW()-5,geb.Rechnung!$G$4:$G$1000,0),COLUMN()-2))","v":""},{"$f":"IF(ISNA(INDEX(geb.Rechnung!$A$4:$G$1000,MATCH(ROW()-5,geb.Rechnung!$G$4:$G$1000,0),COLUMN()+1)),\"\",INDEX(geb.Rechnung!$A$4:$G$1000,MATCH(ROW()-5,geb.Rechnung!$G$4:$G$1000,0),COLUMN()+1))","v":""},{"$f":"IF(ISNA(INDEX(geb.Rechnung!$A$4:$G$1000,MATCH(ROW()-5,geb.Rechnung!$G$4:$G$1000,0),COLUMN()+1)),\"\",INDEX(geb.Rechnung!$A$4:$G$1000,MATCH(ROW()-5,geb.Rechnung!$G$4:$G$1000,0),COLUMN()+1))","v":""}]
[{"$f":"IF(ISNA(INDEX(geb.Rechnung!$A$4:$G$1000,MATCH(ROW()-5,geb.Rechnung!$G$4:$G$1000,0),COLUMN()-1)),\"\",INDEX(geb.Rechnung!$A$4:$G$1000,MATCH(ROW()-5,geb.Rechnung!$G$4:$G$1000,0),COLUMN()-1))","v":""},{"$f":"IF(ISNA(INDEX(geb.Rechnung!$A$4:$G$1000,MATCH(ROW()-5,geb.Rechnung!$G$4:$G$1000,0),COLUMN()-2)),\"\",INDEX(geb.Rechnung!$A$4:$G$1000,MATCH(ROW()-5,geb.Rechnung!$G$4:$G$1000,0),COLUMN()-2))","v":""},{"$f":"IF(ISNA(INDEX(geb.Rechnung!$A$4:$G$1000,MATCH(ROW()-5,geb.Rechnung!$G$4:$G$1000,0),COLUMN()+1)),\"\",INDEX(geb.Rechnung!$A$4:$G$1000,MATCH(ROW()-5,geb.Rechnung!$G$4:$G$1000,0),COLUMN()+1))","v":""},{"$f":"IF(ISNA(INDEX(geb.Rechnung!$A$4:$G$1000,MATCH(ROW()-5,geb.Rechnung!$G$4:$G$1000,0),COLUMN()+1)),\"\",INDEX(geb.Rechnung!$A$4:$G$1000,MATCH(ROW()-5,geb.Rechnung!$G$4:$G$1000,0),COLUMN()+1))","v":""}]
[{"$f":"IF(ISNA(INDEX(geb.Rechnung!$A$4:$G$1000,MATCH(ROW()-5,geb.Rechnung!$G$4:$G$1000,0),COLUMN()-1)),\"\",INDEX(geb.Rechnung!$A$4:$G$1000,MATCH(ROW()-5,geb.Rechnung!$G$4:$G$1000,0),COLUMN()-1))","v":""},{"$f":"IF(ISNA(INDEX(geb.Rechnung!$A$4:$G$1000,MATCH(ROW()-5,geb.Rechnung!$G$4:$G$1000,0),COLUMN()-2)),\"\",INDEX(geb.Rechnung!$A$4:$G$1000,MATCH(ROW()-5,geb.Rechnung!$G$4:$G$1000,0),COLUMN()-2))","v":""},{"$f":"IF(ISNA(INDEX(geb.Rechnung!$A$4:$G$1000,MATCH(ROW()-5,geb.Rechnung!$G$4:$G$1000,0),COLUMN()+1)),\"\",INDEX(geb.Rechnung!$A$4:$G$1000,MATCH(ROW()-5,geb.Rechnung!$G$4:$G$1000,0),COLUMN()+1))","v":""},{"$f":"IF(ISNA(INDEX(geb.Rechnung!$A$4:$G$1000,MATCH(ROW()-5,geb.Rechnung!$G$4:$G$1000,0),COLUMN()+1)),\"\",INDEX(geb.Rechnung!$A$4:$G$1000,MATCH(ROW()-5,geb.Rechnung!$G$4:$G$1000,0),COLUMN()+1))","v":""}]
[{"$f":"IF(ISNA(INDEX(geb.Rechnung!$A$4:$G$1000,MATCH(ROW()-5,geb.Rechnung!$G$4:$G$1000,0),COLUMN()-1)),\"\",INDEX(geb.Rechnung!$A$4:$G$1000,MATCH(ROW()-5,geb.Rechnung!$G$4:$G$1000,0),COLUMN()-1))","v":""},{"$f":"IF(ISNA(INDEX(geb.Rechnung!$A$4:$G$1000,MATCH(ROW()-5,geb.Rechnung!$G$4:$G$1000,0),COLUMN()-2)),\"\",INDEX(geb.Rechnung!$A$4:$G$1000,MATCH(ROW()-5,geb.Rechnung!$G$4:$G$1000,0),COLUMN()-2))","v":""},{"$f":"IF(ISNA(INDEX(geb.Rechnung!$A$4:$G$1000,MATCH(ROW()-5,geb.Rechnung!$G$4:$G$1000,0),COLUMN()+1)),\"\",INDEX(geb.Rechnung!$A$4:$G$1000,MATCH(ROW()-5,geb.Rechnung!$G$4:$G$1000,0),COLUMN()+1))","v":""},{"$f":"IF(ISNA(INDEX(geb.Rechnung!$A$4:$G$1000,MATCH(ROW()-5,geb.Rechnung!$G$4:$G$1000,0),COLUMN()+1)),\"\",INDEX(geb.Rechnung!$A$4:$G$1000,MATCH(ROW()-5,geb.Rechnung!$G$4:$G$1000,0),COLUMN()+1))","v":""}]
[{"$f":"IF(ISNA(INDEX(geb.Rechnung!$A$4:$G$1000,MATCH(ROW()-5,geb.Rechnung!$G$4:$G$1000,0),COLUMN()-1)),\"\",INDEX(geb.Rechnung!$A$4:$G$1000,MATCH(ROW()-5,geb.Rechnung!$G$4:$G$1000,0),COLUMN()-1))","v":""},{"$f":"IF(ISNA(INDEX(geb.Rechnung!$A$4:$G$1000,MATCH(ROW()-5,geb.Rechnung!$G$4:$G$1000,0),COLUMN()-2)),\"\",INDEX(geb.Rechnung!$A$4:$G$1000,MATCH(ROW()-5,geb.Rechnung!$G$4:$G$1000,0),COLUMN()-2))","v":""},{"$f":"IF(ISNA(INDEX(geb.Rechnung!$A$4:$G$1000,MATCH(ROW()-5,geb.Rechnung!$G$4:$G$1000,0),COLUMN()+1)),\"\",INDEX(geb.Rechnung!$A$4:$G$1000,MATCH(ROW()-5,geb.Rechnung!$G$4:$G$1000,0),COLUMN()+1))","v":""},{"$f":"IF(ISNA(INDEX(geb.Rechnung!$A$4:$G$1000,MATCH(ROW()-5,geb.Rechnung!$G$4:$G$1000,0),COLUMN()+1)),\"\",INDEX(geb.Rechnung!$A$4:$G$1000,MATCH(ROW()-5,geb.Rechnung!$G$4:$G$1000,0),COLUMN()+1))","v":""}]
[{"$f":"IF(ISNA(INDEX(geb.Rechnung!$A$4:$G$1000,MATCH(ROW()-5,geb.Rechnung!$G$4:$G$1000,0),COLUMN()-1)),\"\",INDEX(geb.Rechnung!$A$4:$G$1000,MATCH(ROW()-5,geb.Rechnung!$G$4:$G$1000,0),COLUMN()-1))","v":""},{"$f":"IF(ISNA(INDEX(geb.Rechnung!$A$4:$G$1000,MATCH(ROW()-5,geb.Rechnung!$G$4:$G$1000,0),COLUMN()-2)),\"\",INDEX(geb.Rechnung!$A$4:$G$1000,MATCH(ROW()-5,geb.Rechnung!$G$4:$G$1000,0),COLUMN()-2))","v":""},{"$f":"IF(ISNA(INDEX(geb.Rechnung!$A$4:$G$1000,MATCH(ROW()-5,geb.Rechnung!$G$4:$G$1000,0),COLUMN()+1)),\"\",INDEX(geb.Rechnung!$A$4:$G$1000,MATCH(ROW()-5,geb.Rechnung!$G$4:$G$1000,0),COLUMN()+1))","v":""},{"$f":"IF(ISNA(INDEX(geb.Rechnung!$A$4:$G$1000,MATCH(ROW()-5,geb.Rechnung!$G$4:$G$1000,0),COLUMN()+1)),\"\",INDEX(geb.Rechnung!$A$4:$G$1000,MATCH(ROW()-5,geb.Rechnung!$G$4:$G$1000,0),COLUMN()+1))","v":""}]
[{"$f":"IF(ISNA(INDEX(geb.Rechnung!$A$4:$G$1000,MATCH(ROW()-5,geb.Rechnung!$G$4:$G$1000,0),COLUMN()-1)),\"\",INDEX(geb.Rechnung!$A$4:$G$1000,MATCH(ROW()-5,geb.Rechnung!$G$4:$G$1000,0),COLUMN()-1))","v":""},{"$f":"IF(ISNA(INDEX(geb.Rechnung!$A$4:$G$1000,MATCH(ROW()-5,geb.Rechnung!$G$4:$G$1000,0),COLUMN()-2)),\"\",INDEX(geb.Rechnung!$A$4:$G$1000,MATCH(ROW()-5,geb.Rechnung!$G$4:$G$1000,0),COLUMN()-2))","v":""},{"$f":"IF(ISNA(INDEX(geb.Rechnung!$A$4:$G$1000,MATCH(ROW()-5,geb.Rechnung!$G$4:$G$1000,0),COLUMN()+1)),\"\",INDEX(geb.Rechnung!$A$4:$G$1000,MATCH(ROW()-5,geb.Rechnung!$G$4:$G$1000,0),COLUMN()+1))","v":""},{"$f":"IF(ISNA(INDEX(geb.Rechnung!$A$4:$G$1000,MATCH(ROW()-5,geb.Rechnung!$G$4:$G$1000,0),COLUMN()+1)),\"\",INDEX(geb.Rechnung!$A$4:$G$1000,MATCH(ROW()-5,geb.Rechnung!$G$4:$G$1000,0),COLUMN()+1))","v":""}]
[{"$f":"IF(ISNA(INDEX(geb.Rechnung!$A$4:$G$1000,MATCH(ROW()-5,geb.Rechnung!$G$4:$G$1000,0),COLUMN()-1)),\"\",INDEX(geb.Rechnung!$A$4:$G$1000,MATCH(ROW()-5,geb.Rechnung!$G$4:$G$1000,0),COLUMN()-1))","v":""},{"$f":"IF(ISNA(INDEX(geb.Rechnung!$A$4:$G$1000,MATCH(ROW()-5,geb.Rechnung!$G$4:$G$1000,0),COLUMN()-2)),\"\",INDEX(geb.Rechnung!$A$4:$G$1000,MATCH(ROW()-5,geb.Rechnung!$G$4:$G$1000,0),COLUMN()-2))","v":""},{"$f":"IF(ISNA(INDEX(geb.Rechnung!$A$4:$G$1000,MATCH(ROW()-5,geb.Rechnung!$G$4:$G$1000,0),COLUMN()+1)),\"\",INDEX(geb.Rechnung!$A$4:$G$1000,MATCH(ROW()-5,geb.Rechnung!$G$4:$G$1000,0),COLUMN()+1))","v":""},{"$f":"IF(ISNA(INDEX(geb.Rechnung!$A$4:$G$1000,MATCH(ROW()-5,geb.Rechnung!$G$4:$G$1000,0),COLUMN()+1)),\"\",INDEX(geb.Rechnung!$A$4:$G$1000,MATCH(ROW()-5,geb.Rechnung!$G$4:$G$1000,0),COLUMN()+1))","v":""}]
[{"$f":"IF(ISNA(INDEX(geb.Rechnung!$A$4:$G$1000,MATCH(ROW()-5,geb.Rechnung!$G$4:$G$1000,0),COLUMN()-1)),\"\",INDEX(geb.Rechnung!$A$4:$G$1000,MATCH(ROW()-5,geb.Rechnung!$G$4:$G$1000,0),COLUMN()-1))","v":""},{"$f":"IF(ISNA(INDEX(geb.Rechnung!$A$4:$G$1000,MATCH(ROW()-5,geb.Rechnung!$G$4:$G$1000,0),COLUMN()-2)),\"\",INDEX(geb.Rechnung!$A$4:$G$1000,MATCH(ROW()-5,geb.Rechnung!$G$4:$G$1000,0),COLUMN()-2))","v":""},{"$f":"IF(ISNA(INDEX(geb.Rechnung!$A$4:$G$1000,MATCH(ROW()-5,geb.Rechnung!$G$4:$G$1000,0),COLUMN()+1)),\"\",INDEX(geb.Rechnung!$A$4:$G$1000,MATCH(ROW()-5,geb.Rechnung!$G$4:$G$1000,0),COLUMN()+1))","v":""},{"$f":"IF(ISNA(INDEX(geb.Rechnung!$A$4:$G$1000,MATCH(ROW()-5,geb.Rechnung!$G$4:$G$1000,0),COLUMN()+1)),\"\",INDEX(geb.Rechnung!$A$4:$G$1000,MATCH(ROW()-5,geb.Rechnung!$G$4:$G$1000,0),COLUMN()+1))","v":""}]
[{"$f":"IF(ISNA(INDEX(geb.Rechnung!$A$4:$G$1000,MATCH(ROW()-5,geb.Rechnung!$G$4:$G$1000,0),COLUMN()-1)),\"\",INDEX(geb.Rechnung!$A$4:$G$1000,MATCH(ROW()-5,geb.Rechnung!$G$4:$G$1000,0),COLUMN()-1))","v":""},{"$f":"IF(ISNA(INDEX(geb.Rechnung!$A$4:$G$1000,MATCH(ROW()-5,geb.Rechnung!$G$4:$G$1000,0),COLUMN()-2)),\"\",INDEX(geb.Rechnung!$A$4:$G$1000,MATCH(ROW()-5,geb.Rechnung!$G$4:$G$1000,0),COLUMN()-2))","v":""},{"$f":"IF(ISNA(INDEX(geb.Rechnung!$A$4:$G$1000,MATCH(ROW()-5,geb.Rechnung!$G$4:$G$1000,0),COLUMN()+1)),\"\",INDEX(geb.Rechnung!$A$4:$G$1000,MATCH(ROW()-5,geb.Rechnung!$G$4:$G$1000,0),COLUMN()+1))","v":""},{"$f":"IF(ISNA(INDEX(geb.Rechnung!$A$4:$G$1000,MATCH(ROW()-5,geb.Rechnung!$G$4:$G$1000,0),COLUMN()+1)),\"\",INDEX(geb.Rechnung!$A$4:$G$1000,MATCH(ROW()-5,geb.Rechnung!$G$4:$G$1000,0),COLUMN()+1))","v":""}]
[{"$f":"IF(ISNA(INDEX(geb.Rechnung!$A$4:$G$1000,MATCH(ROW()-5,geb.Rechnung!$G$4:$G$1000,0),COLUMN()-1)),\"\",INDEX(geb.Rechnung!$A$4:$G$1000,MATCH(ROW()-5,geb.Rechnung!$G$4:$G$1000,0),COLUMN()-1))","v":""},{"$f":"IF(ISNA(INDEX(geb.Rechnung!$A$4:$G$1000,MATCH(ROW()-5,geb.Rechnung!$G$4:$G$1000,0),COLUMN()-2)),\"\",INDEX(geb.Rechnung!$A$4:$G$1000,MATCH(ROW()-5,geb.Rechnung!$G$4:$G$1000,0),COLUMN()-2))","v":""},{"$f":"IF(ISNA(INDEX(geb.Rechnung!$A$4:$G$1000,MATCH(ROW()-5,geb.Rechnung!$G$4:$G$1000,0),COLUMN()+1)),\"\",INDEX(geb.Rechnung!$A$4:$G$1000,MATCH(ROW()-5,geb.Rechnung!$G$4:$G$1000,0),COLUMN()+1))","v":""},{"$f":"IF(ISNA(INDEX(geb.Rechnung!$A$4:$G$1000,MATCH(ROW()-5,geb.Rechnung!$G$4:$G$1000,0),COLUMN()+1)),\"\",INDEX(geb.Rechnung!$A$4:$G$1000,MATCH(ROW()-5,geb.Rechnung!$G$4:$G$1000,0),COLUMN()+1))","v":""}]
[{"$f":"IF(ISNA(INDEX(geb.Rechnung!$A$4:$G$1000,MATCH(ROW()-5,geb.Rechnung!$G$4:$G$1000,0),COLUMN()-1)),\"\",INDEX(geb.Rechnung!$A$4:$G$1000,MATCH(ROW()-5,geb.Rechnung!$G$4:$G$1000,0),COLUMN()-1))","v":""},{"$f":"IF(ISNA(INDEX(geb.Rechnung!$A$4:$G$1000,MATCH(ROW()-5,geb.Rechnung!$G$4:$G$1000,0),COLUMN()-2)),\"\",INDEX(geb.Rechnung!$A$4:$G$1000,MATCH(ROW()-5,geb.Rechnung!$G$4:$G$1000,0),COLUMN()-2))","v":""},{"$f":"IF(ISNA(INDEX(geb.Rechnung!$A$4:$G$1000,MATCH(ROW()-5,geb.Rechnung!$G$4:$G$1000,0),COLUMN()+1)),\"\",INDEX(geb.Rechnung!$A$4:$G$1000,MATCH(ROW()-5,geb.Rechnung!$G$4:$G$1000,0),COLUMN()+1))","v":""},{"$f":"IF(ISNA(INDEX(geb.Rechnung!$A$4:$G$1000,MATCH(ROW()-5,geb.Rechnung!$G$4:$G$1000,0),COLUMN()+1)),\"\",INDEX(geb.Rechnung!$A$4:$G$1000,MATCH(ROW()-5,geb.Rechnung!$G$4:$G$1000,0),COLUMN()+1))","v":""}]
[{"$f":"IF(ISNA(INDEX(geb.Rechnung!$A$4:$G$1000,MATCH(ROW()-5,geb.Rechnung!$G$4:$G$1000,0),COLUMN()-1)),\"\",INDEX(geb.Rechnung!$A$4:$G$1000,MATCH(ROW()-5,geb.Rechnung!$G$4:$G$1000,0),COLUMN()-1))","v":""},{"$f":"IF(ISNA(INDEX(geb.Rechnung!$A$4:$G$1000,MATCH(ROW()-5,geb.Rechnung!$G$4:$G$1000,0),COLUMN()-2)),\"\",INDEX(geb.Rechnung!$A$4:$G$1000,MATCH(ROW()-5,geb.Rechnung!$G$4:$G$1000,0),COLUMN()-2))","v":""},{"$f":"IF(ISNA(INDEX(geb.Rechnung!$A$4:$G$1000,MATCH(ROW()-5,geb.Rechnung!$G$4:$G$1000,0),COLUMN()+1)),\"\",INDEX(geb.Rechnung!$A$4:$G$1000,MATCH(ROW()-5,geb.Rechnung!$G$4:$G$1000,0),COLUMN()+1))","v":""},{"$f":"IF(ISNA(INDEX(geb.Rechnung!$A$4:$G$1000,MATCH(ROW()-5,geb.Rechnung!$G$4:$G$1000,0),COLUMN()+1)),\"\",INDEX(geb.Rechnung!$A$4:$G$1000,MATCH(ROW()-5,geb.Rechnung!$G$4:$G$1000,0),COLUMN()+1))","v":""}]
[{"$f":"IF(ISNA(INDEX(geb.Rechnung!$A$4:$G$1000,MATCH(ROW()-5,geb.Rechnung!$G$4:$G$1000,0),COLUMN()-1)),\"\",INDEX(geb.Rechnung!$A$4:$G$1000,MATCH(ROW()-5,geb.Rechnung!$G$4:$G$1000,0),COLUMN()-1))","v":""},{"$f":"IF(ISNA(INDEX(geb.Rechnung!$A$4:$G$1000,MATCH(ROW()-5,geb.Rechnung!$G$4:$G$1000,0),COLUMN()-2)),\"\",INDEX(geb.Rechnung!$A$4:$G$1000,MATCH(ROW()-5,geb.Rechnung!$G$4:$G$1000,0),COLUMN()-2))","v":""},{"$f":"IF(ISNA(INDEX(geb.Rechnung!$A$4:$G$1000,MATCH(ROW()-5,geb.Rechnung!$G$4:$G$1000,0),COLUMN()+1)),\"\",INDEX(geb.Rechnung!$A$4:$G$1000,MATCH(ROW()-5,geb.Rechnung!$G$4:$G$1000,0),COLUMN()+1))","v":""},{"$f":"IF(ISNA(INDEX(geb.Rechnung!$A$4:$G$1000,MATCH(ROW()-5,geb.Rechnung!$G$4:$G$1000,0),COLUMN()+1)),\"\",INDEX(geb.Rechnung!$A$4:$G$1000,MATCH(ROW()-5,geb.Rechnung!$G$4:$G$1000,0),COLUMN()+1))","v":""}]
[{"$f":"IF(ISNA(INDEX(geb.Rechnung!$A$4:$G$1000,MATCH(ROW()-5,geb.Rechnung!$G$4:$G$1000,0),COLUMN()-1)),\"\",INDEX(geb.Rechnung!$A$4:$G$1000,MATCH(ROW()-5,geb.Rechnung!$G$4:$G$1000,0),COLUMN()-1))","v":""},{"$f":"IF(ISNA(INDEX(geb.Rechnung!$A$4:$G$1000,MATCH(ROW()-5,geb.Rechnung!$G$4:$G$1000,0),COLUMN()-2)),\"\",INDEX(geb.Rechnung!$A$4:$G$1000,MATCH(ROW()-5,geb.Rechnung!$G$4:$G$1000,0),COLUMN()-2))","v":""},{"$f":"IF(ISNA(INDEX(geb.Rechnung!$A$4:$G$1000,MATCH(ROW()-5,geb.Rechnung!$G$4:$G$1000,0),COLUMN()+1)),\"\",INDEX(geb.Rechnung!$A$4:$G$1000,MATCH(ROW()-5,geb.Rechnung!$G$4:$G$1000,0),COLUMN()+1))","v":""},{"$f":"IF(ISNA(INDEX(geb.Rechnung!$A$4:$G$1000,MATCH(ROW()-5,geb.Rechnung!$G$4:$G$1000,0),COLUMN()+1)),\"\",INDEX(geb.Rechnung!$A$4:$G$1000,MATCH(ROW()-5,geb.Rechnung!$G$4:$G$1000,0),COLUMN()+1))","v":""}]
[{"$f":"IF(ISNA(INDEX(geb.Rechnung!$A$4:$G$1000,MATCH(ROW()-5,geb.Rechnung!$G$4:$G$1000,0),COLUMN()-1)),\"\",INDEX(geb.Rechnung!$A$4:$G$1000,MATCH(ROW()-5,geb.Rechnung!$G$4:$G$1000,0),COLUMN()-1))","v":""},{"$f":"IF(ISNA(INDEX(geb.Rechnung!$A$4:$G$1000,MATCH(ROW()-5,geb.Rechnung!$G$4:$G$1000,0),COLUMN()-2)),\"\",INDEX(geb.Rechnung!$A$4:$G$1000,MATCH(ROW()-5,geb.Rechnung!$G$4:$G$1000,0),COLUMN()-2))","v":""},{"$f":"IF(ISNA(INDEX(geb.Rechnung!$A$4:$G$1000,MATCH(ROW()-5,geb.Rechnung!$G$4:$G$1000,0),COLUMN()+1)),\"\",INDEX(geb.Rechnung!$A$4:$G$1000,MATCH(ROW()-5,geb.Rechnung!$G$4:$G$1000,0),COLUMN()+1))","v":""},{"$f":"IF(ISNA(INDEX(geb.Rechnung!$A$4:$G$1000,MATCH(ROW()-5,geb.Rechnung!$G$4:$G$1000,0),COLUMN()+1)),\"\",INDEX(geb.Rechnung!$A$4:$G$1000,MATCH(ROW()-5,geb.Rechnung!$G$4:$G$1000,0),COLUMN()+1))","v":""}]
[{"$f":"IF(ISNA(INDEX(geb.Rechnung!$A$4:$G$1000,MATCH(ROW()-5,geb.Rechnung!$G$4:$G$1000,0),COLUMN()-1)),\"\",INDEX(geb.Rechnung!$A$4:$G$1000,MATCH(ROW()-5,geb.Rechnung!$G$4:$G$1000,0),COLUMN()-1))","v":""},{"$f":"IF(ISNA(INDEX(geb.Rechnung!$A$4:$G$1000,MATCH(ROW()-5,geb.Rechnung!$G$4:$G$1000,0),COLUMN()-2)),\"\",INDEX(geb.Rechnung!$A$4:$G$1000,MATCH(ROW()-5,geb.Rechnung!$G$4:$G$1000,0),COLUMN()-2))","v":""},{"$f":"IF(ISNA(INDEX(geb.Rechnung!$A$4:$G$1000,MATCH(ROW()-5,geb.Rechnung!$G$4:$G$1000,0),COLUMN()+1)),\"\",INDEX(geb.Rechnung!$A$4:$G$1000,MATCH(ROW()-5,geb.Rechnung!$G$4:$G$1000,0),COLUMN()+1))","v":""},{"$f":"IF(ISNA(INDEX(geb.Rechnung!$A$4:$G$1000,MATCH(ROW()-5,geb.Rechnung!$G$4:$G$1000,0),COLUMN()+1)),\"\",INDEX(geb.Rechnung!$A$4:$G$1000,MATCH(ROW()-5,geb.Rechnung!$G$4:$G$1000,0),COLUMN()+1))","v":""}]
[{"$f":"IF(ISNA(INDEX(geb.Rechnung!$A$4:$G$1000,MATCH(ROW()-5,geb.Rechnung!$G$4:$G$1000,0),COLUMN()-1)),\"\",INDEX(geb.Rechnung!$A$4:$G$1000,MATCH(ROW()-5,geb.Rechnung!$G$4:$G$1000,0),COLUMN()-1))","v":""},{"$f":"IF(ISNA(INDEX(geb.Rechnung!$A$4:$G$1000,MATCH(ROW()-5,geb.Rechnung!$G$4:$G$1000,0),COLUMN()-2)),\"\",INDEX(geb.Rechnung!$A$4:$G$1000,MATCH(ROW()-5,geb.Rechnung!$G$4:$G$1000,0),COLUMN()-2))","v":""},{"$f":"IF(ISNA(INDEX(geb.Rechnung!$A$4:$G$1000,MATCH(ROW()-5,geb.Rechnung!$G$4:$G$1000,0),COLUMN()+1)),\"\",INDEX(geb.Rechnung!$A$4:$G$1000,MATCH(ROW()-5,geb.Rechnung!$G$4:$G$1000,0),COLUMN()+1))","v":""},{"$f":"IF(ISNA(INDEX(geb.Rechnung!$A$4:$G$1000,MATCH(ROW()-5,geb.Rechnung!$G$4:$G$1000,0),COLUMN()+1)),\"\",INDEX(geb.Rechnung!$A$4:$G$1000,MATCH(ROW()-5,geb.Rechnung!$G$4:$G$1000,0),COLUMN()+1))","v":""}]
[{"$f":"IF(ISNA(INDEX(geb.Rechnung!$A$4:$G$1000,MATCH(ROW()-5,geb.Rechnung!$G$4:$G$1000,0),COLUMN()-1)),\"\",INDEX(geb.Rechnung!$A$4:$G$1000,MATCH(ROW()-5,geb.Rechnung!$G$4:$G$1000,0),COLUMN()-1))","v":""},{"$f":"IF(ISNA(INDEX(geb.Rechnung!$A$4:$G$1000,MATCH(ROW()-5,geb.Rechnung!$G$4:$G$1000,0),COLUMN()-2)),\"\",INDEX(geb.Rechnung!$A$4:$G$1000,MATCH(ROW()-5,geb.Rechnung!$G$4:$G$1000,0),COLUMN()-2))","v":""},{"$f":"IF(ISNA(INDEX(geb.Rechnung!$A$4:$G$1000,MATCH(ROW()-5,geb.Rechnung!$G$4:$G$1000,0),COLUMN()+1)),\"\",INDEX(geb.Rechnung!$A$4:$G$1000,MATCH(ROW()-5,geb.Rechnung!$G$4:$G$1000,0),COLUMN()+1))","v":""},{"$f":"IF(ISNA(INDEX(geb.Rechnung!$A$4:$G$1000,MATCH(ROW()-5,geb.Rechnung!$G$4:$G$1000,0),COLUMN()+1)),\"\",INDEX(geb.Rechnung!$A$4:$G$1000,MATCH(ROW()-5,geb.Rechnung!$G$4:$G$1000,0),COLUMN()+1))","v":""}]
[{"$f":"IF(ISNA(INDEX(geb.Rechnung!$A$4:$G$1000,MATCH(ROW()-5,geb.Rechnung!$G$4:$G$1000,0),COLUMN()-1)),\"\",INDEX(geb.Rechnung!$A$4:$G$1000,MATCH(ROW()-5,geb.Rechnung!$G$4:$G$1000,0),COLUMN()-1))","v":""},{"$f":"IF(ISNA(INDEX(geb.Rechnung!$A$4:$G$1000,MATCH(ROW()-5,geb.Rechnung!$G$4:$G$1000,0),COLUMN()-2)),\"\",INDEX(geb.Rechnung!$A$4:$G$1000,MATCH(ROW()-5,geb.Rechnung!$G$4:$G$1000,0),COLUMN()-2))","v":""},{"$f":"IF(ISNA(INDEX(geb.Rechnung!$A$4:$G$1000,MATCH(ROW()-5,geb.Rechnung!$G$4:$G$1000,0),COLUMN()+1)),\"\",INDEX(geb.Rechnung!$A$4:$G$1000,MATCH(ROW()-5,geb.Rechnung!$G$4:$G$1000,0),COLUMN()+1))","v":""},{"$f":"IF(ISNA(INDEX(geb.Rechnung!$A$4:$G$1000,MATCH(ROW()-5,geb.Rechnung!$G$4:$G$1000,0),COLUMN()+1)),\"\",INDEX(geb.Rechnung!$A$4:$G$1000,MATCH(ROW()-5,geb.Rechnung!$G$4:$G$1000,0),COLUMN()+1))","v":""}]
[{"$f":"IF(ISNA(INDEX(geb.Rechnung!$A$4:$G$1000,MATCH(ROW()-5,geb.Rechnung!$G$4:$G$1000,0),COLUMN()-1)),\"\",INDEX(geb.Rechnung!$A$4:$G$1000,MATCH(ROW()-5,geb.Rechnung!$G$4:$G$1000,0),COLUMN()-1))","v":""},{"$f":"IF(ISNA(INDEX(geb.Rechnung!$A$4:$G$1000,MATCH(ROW()-5,geb.Rechnung!$G$4:$G$1000,0),COLUMN()-2)),\"\",INDEX(geb.Rechnung!$A$4:$G$1000,MATCH(ROW()-5,geb.Rechnung!$G$4:$G$1000,0),COLUMN()-2))","v":""},{"$f":"IF(ISNA(INDEX(geb.Rechnung!$A$4:$G$1000,MATCH(ROW()-5,geb.Rechnung!$G$4:$G$1000,0),COLUMN()+1)),\"\",INDEX(geb.Rechnung!$A$4:$G$1000,MATCH(ROW()-5,geb.Rechnung!$G$4:$G$1000,0),COLUMN()+1))","v":""},{"$f":"IF(ISNA(INDEX(geb.Rechnung!$A$4:$G$1000,MATCH(ROW()-5,geb.Rechnung!$G$4:$G$1000,0),COLUMN()+1)),\"\",INDEX(geb.Rechnung!$A$4:$G$1000,MATCH(ROW()-5,geb.Rechnung!$G$4:$G$1000,0),COLUMN()+1))","v":""}]
[{"$f":"IF(ISNA(INDEX(geb.Rechnung!$A$4:$G$1000,MATCH(ROW()-5,geb.Rechnung!$G$4:$G$1000,0),COLUMN()-1)),\"\",INDEX(geb.Rechnung!$A$4:$G$1000,MATCH(ROW()-5,geb.Rechnung!$G$4:$G$1000,0),COLUMN()-1))","v":""},{"$f":"IF(ISNA(INDEX(geb.Rechnung!$A$4:$G$1000,MATCH(ROW()-5,geb.Rechnung!$G$4:$G$1000,0),COLUMN()-2)),\"\",INDEX(geb.Rechnung!$A$4:$G$1000,MATCH(ROW()-5,geb.Rechnung!$G$4:$G$1000,0),COLUMN()-2))","v":""},{"$f":"IF(ISNA(INDEX(geb.Rechnung!$A$4:$G$1000,MATCH(ROW()-5,geb.Rechnung!$G$4:$G$1000,0),COLUMN()+1)),\"\",INDEX(geb.Rechnung!$A$4:$G$1000,MATCH(ROW()-5,geb.Rechnung!$G$4:$G$1000,0),COLUMN()+1))","v":""},{"$f":"IF(ISNA(INDEX(geb.Rechnung!$A$4:$G$1000,MATCH(ROW()-5,geb.Rechnung!$G$4:$G$1000,0),COLUMN()+1)),\"\",INDEX(geb.Rechnung!$A$4:$G$1000,MATCH(ROW()-5,geb.Rechnung!$G$4:$G$1000,0),COLUMN()+1))","v":""}]
[{"$f":"IF(ISNA(INDEX(geb.Rechnung!$A$4:$G$1000,MATCH(ROW()-5,geb.Rechnung!$G$4:$G$1000,0),COLUMN()-1)),\"\",INDEX(geb.Rechnung!$A$4:$G$1000,MATCH(ROW()-5,geb.Rechnung!$G$4:$G$1000,0),COLUMN()-1))","v":""},{"$f":"IF(ISNA(INDEX(geb.Rechnung!$A$4:$G$1000,MATCH(ROW()-5,geb.Rechnung!$G$4:$G$1000,0),COLUMN()-2)),\"\",INDEX(geb.Rechnung!$A$4:$G$1000,MATCH(ROW()-5,geb.Rechnung!$G$4:$G$1000,0),COLUMN()-2))","v":""},{"$f":"IF(ISNA(INDEX(geb.Rechnung!$A$4:$G$1000,MATCH(ROW()-5,geb.Rechnung!$G$4:$G$1000,0),COLUMN()+1)),\"\",INDEX(geb.Rechnung!$A$4:$G$1000,MATCH(ROW()-5,geb.Rechnung!$G$4:$G$1000,0),COLUMN()+1))","v":""},{"$f":"IF(ISNA(INDEX(geb.Rechnung!$A$4:$G$1000,MATCH(ROW()-5,geb.Rechnung!$G$4:$G$1000,0),COLUMN()+1)),\"\",INDEX(geb.Rechnung!$A$4:$G$1000,MATCH(ROW()-5,geb.Rechnung!$G$4:$G$1000,0),COLUMN()+1))","v":""}]
[{"$f":"IF(ISNA(INDEX(geb.Rechnung!$A$4:$G$1000,MATCH(ROW()-5,geb.Rechnung!$G$4:$G$1000,0),COLUMN()-1)),\"\",INDEX(geb.Rechnung!$A$4:$G$1000,MATCH(ROW()-5,geb.Rechnung!$G$4:$G$1000,0),COLUMN()-1))","v":""},{"$f":"IF(ISNA(INDEX(geb.Rechnung!$A$4:$G$1000,MATCH(ROW()-5,geb.Rechnung!$G$4:$G$1000,0),COLUMN()-2)),\"\",INDEX(geb.Rechnung!$A$4:$G$1000,MATCH(ROW()-5,geb.Rechnung!$G$4:$G$1000,0),COLUMN()-2))","v":""},{"$f":"IF(ISNA(INDEX(geb.Rechnung!$A$4:$G$1000,MATCH(ROW()-5,geb.Rechnung!$G$4:$G$1000,0),COLUMN()+1)),\"\",INDEX(geb.Rechnung!$A$4:$G$1000,MATCH(ROW()-5,geb.Rechnung!$G$4:$G$1000,0),COLUMN()+1))","v":""},{"$f":"IF(ISNA(INDEX(geb.Rechnung!$A$4:$G$1000,MATCH(ROW()-5,geb.Rechnung!$G$4:$G$1000,0),COLUMN()+1)),\"\",INDEX(geb.Rechnung!$A$4:$G$1000,MATCH(ROW()-5,geb.Rechnung!$G$4:$G$1000,0),COLUMN()+1))","v":""}]
[{"$f":"IF(ISNA(INDEX(geb.Rechnung!$A$4:$G$1000,MATCH(ROW()-5,geb.Rechnung!$G$4:$G$1000,0),COLUMN()-1)),\"\",INDEX(geb.Rechnung!$A$4:$G$1000,MATCH(ROW()-5,geb.Rechnung!$G$4:$G$1000,0),COLUMN()-1))","v":""},{"$f":"IF(ISNA(INDEX(geb.Rechnung!$A$4:$G$1000,MATCH(ROW()-5,geb.Rechnung!$G$4:$G$1000,0),COLUMN()-2)),\"\",INDEX(geb.Rechnung!$A$4:$G$1000,MATCH(ROW()-5,geb.Rechnung!$G$4:$G$1000,0),COLUMN()-2))","v":""},{"$f":"IF(ISNA(INDEX(geb.Rechnung!$A$4:$G$1000,MATCH(ROW()-5,geb.Rechnung!$G$4:$G$1000,0),COLUMN()+1)),\"\",INDEX(geb.Rechnung!$A$4:$G$1000,MATCH(ROW()-5,geb.Rechnung!$G$4:$G$1000,0),COLUMN()+1))","v":""},{"$f":"IF(ISNA(INDEX(geb.Rechnung!$A$4:$G$1000,MATCH(ROW()-5,geb.Rechnung!$G$4:$G$1000,0),COLUMN()+1)),\"\",INDEX(geb.Rechnung!$A$4:$G$1000,MATCH(ROW()-5,geb.Rechnung!$G$4:$G$1000,0),COLUMN()+1))","v":""}]
[{"$f":"IF(ISNA(INDEX(geb.Rechnung!$A$4:$G$1000,MATCH(ROW()-5,geb.Rechnung!$G$4:$G$1000,0),COLUMN()-1)),\"\",INDEX(geb.Rechnung!$A$4:$G$1000,MATCH(ROW()-5,geb.Rechnung!$G$4:$G$1000,0),COLUMN()-1))","v":""},{"$f":"IF(ISNA(INDEX(geb.Rechnung!$A$4:$G$1000,MATCH(ROW()-5,geb.Rechnung!$G$4:$G$1000,0),COLUMN()-2)),\"\",INDEX(geb.Rechnung!$A$4:$G$1000,MATCH(ROW()-5,geb.Rechnung!$G$4:$G$1000,0),COLUMN()-2))","v":""},{"$f":"IF(ISNA(INDEX(geb.Rechnung!$A$4:$G$1000,MATCH(ROW()-5,geb.Rechnung!$G$4:$G$1000,0),COLUMN()+1)),\"\",INDEX(geb.Rechnung!$A$4:$G$1000,MATCH(ROW()-5,geb.Rechnung!$G$4:$G$1000,0),COLUMN()+1))","v":""},{"$f":"IF(ISNA(INDEX(geb.Rechnung!$A$4:$G$1000,MATCH(ROW()-5,geb.Rechnung!$G$4:$G$1000,0),COLUMN()+1)),\"\",INDEX(geb.Rechnung!$A$4:$G$1000,MATCH(ROW()-5,geb.Rechnung!$G$4:$G$1000,0),COLUMN()+1))","v":""}]
[{"$f":"IF(ISNA(INDEX(geb.Rechnung!$A$4:$G$1000,MATCH(ROW()-5,geb.Rechnung!$G$4:$G$1000,0),COLUMN()-1)),\"\",INDEX(geb.Rechnung!$A$4:$G$1000,MATCH(ROW()-5,geb.Rechnung!$G$4:$G$1000,0),COLUMN()-1))","v":""},{"$f":"IF(ISNA(INDEX(geb.Rechnung!$A$4:$G$1000,MATCH(ROW()-5,geb.Rechnung!$G$4:$G$1000,0),COLUMN()-2)),\"\",INDEX(geb.Rechnung!$A$4:$G$1000,MATCH(ROW()-5,geb.Rechnung!$G$4:$G$1000,0),COLUMN()-2))","v":""},{"$f":"IF(ISNA(INDEX(geb.Rechnung!$A$4:$G$1000,MATCH(ROW()-5,geb.Rechnung!$G$4:$G$1000,0),COLUMN()+1)),\"\",INDEX(geb.Rechnung!$A$4:$G$1000,MATCH(ROW()-5,geb.Rechnung!$G$4:$G$1000,0),COLUMN()+1))","v":""},{"$f":"IF(ISNA(INDEX(geb.Rechnung!$A$4:$G$1000,MATCH(ROW()-5,geb.Rechnung!$G$4:$G$1000,0),COLUMN()+1)),\"\",INDEX(geb.Rechnung!$A$4:$G$1000,MATCH(ROW()-5,geb.Rechnung!$G$4:$G$1000,0),COLUMN()+1))","v":""}]
[{"$f":"IF(ISNA(INDEX(geb.Rechnung!$A$4:$G$1000,MATCH(ROW()-5,geb.Rechnung!$G$4:$G$1000,0),COLUMN()-1)),\"\",INDEX(geb.Rechnung!$A$4:$G$1000,MATCH(ROW()-5,geb.Rechnung!$G$4:$G$1000,0),COLUMN()-1))","v":""},{"$f":"IF(ISNA(INDEX(geb.Rechnung!$A$4:$G$1000,MATCH(ROW()-5,geb.Rechnung!$G$4:$G$1000,0),COLUMN()-2)),\"\",INDEX(geb.Rechnung!$A$4:$G$1000,MATCH(ROW()-5,geb.Rechnung!$G$4:$G$1000,0),COLUMN()-2))","v":""},{"$f":"IF(ISNA(INDEX(geb.Rechnung!$A$4:$G$1000,MATCH(ROW()-5,geb.Rechnung!$G$4:$G$1000,0),COLUMN()+1)),\"\",INDEX(geb.Rechnung!$A$4:$G$1000,MATCH(ROW()-5,geb.Rechnung!$G$4:$G$1000,0),COLUMN()+1))","v":""},{"$f":"IF(ISNA(INDEX(geb.Rechnung!$A$4:$G$1000,MATCH(ROW()-5,geb.Rechnung!$G$4:$G$1000,0),COLUMN()+1)),\"\",INDEX(geb.Rechnung!$A$4:$G$1000,MATCH(ROW()-5,geb.Rechnung!$G$4:$G$1000,0),COLUMN()+1))","v":""}]
[{"$f":"IF(ISNA(INDEX(geb.Rechnung!$A$4:$G$1000,MATCH(ROW()-5,geb.Rechnung!$G$4:$G$1000,0),COLUMN()-1)),\"\",INDEX(geb.Rechnung!$A$4:$G$1000,MATCH(ROW()-5,geb.Rechnung!$G$4:$G$1000,0),COLUMN()-1))","v":""},{"$f":"IF(ISNA(INDEX(geb.Rechnung!$A$4:$G$1000,MATCH(ROW()-5,geb.Rechnung!$G$4:$G$1000,0),COLUMN()-2)),\"\",INDEX(geb.Rechnung!$A$4:$G$1000,MATCH(ROW()-5,geb.Rechnung!$G$4:$G$1000,0),COLUMN()-2))","v":""},{"$f":"IF(ISNA(INDEX(geb.Rechnung!$A$4:$G$1000,MATCH(ROW()-5,geb.Rechnung!$G$4:$G$1000,0),COLUMN()+1)),\"\",INDEX(geb.Rechnung!$A$4:$G$1000,MATCH(ROW()-5,geb.Rechnung!$G$4:$G$1000,0),COLUMN()+1))","v":""},{"$f":"IF(ISNA(INDEX(geb.Rechnung!$A$4:$G$1000,MATCH(ROW()-5,geb.Rechnung!$G$4:$G$1000,0),COLUMN()+1)),\"\",INDEX(geb.Rechnung!$A$4:$G$1000,MATCH(ROW()-5,geb.Rechnung!$G$4:$G$1000,0),COLUMN()+1))","v":""}]
[{"$f":"IF(ISNA(INDEX(geb.Rechnung!$A$4:$G$1000,MATCH(ROW()-5,geb.Rechnung!$G$4:$G$1000,0),COLUMN()-1)),\"\",INDEX(geb.Rechnung!$A$4:$G$1000,MATCH(ROW()-5,geb.Rechnung!$G$4:$G$1000,0),COLUMN()-1))","v":""},{"$f":"IF(ISNA(INDEX(geb.Rechnung!$A$4:$G$1000,MATCH(ROW()-5,geb.Rechnung!$G$4:$G$1000,0),COLUMN()-2)),\"\",INDEX(geb.Rechnung!$A$4:$G$1000,MATCH(ROW()-5,geb.Rechnung!$G$4:$G$1000,0),COLUMN()-2))","v":""},{"$f":"IF(ISNA(INDEX(geb.Rechnung!$A$4:$G$1000,MATCH(ROW()-5,geb.Rechnung!$G$4:$G$1000,0),COLUMN()+1)),\"\",INDEX(geb.Rechnung!$A$4:$G$1000,MATCH(ROW()-5,geb.Rechnung!$G$4:$G$1000,0),COLUMN()+1))","v":""},{"$f":"IF(ISNA(INDEX(geb.Rechnung!$A$4:$G$1000,MATCH(ROW()-5,geb.Rechnung!$G$4:$G$1000,0),COLUMN()+1)),\"\",INDEX(geb.Rechnung!$A$4:$G$1000,MATCH(ROW()-5,geb.Rechnung!$G$4:$G$1000,0),COLUMN()+1))","v":""}]
[{"$f":"IF(ISNA(INDEX(geb.Rechnung!$A$4:$G$1000,MATCH(ROW()-5,geb.Rechnung!$G$4:$G$1000,0),COLUMN()-1)),\"\",INDEX(geb.Rechnung!$A$4:$G$1000,MATCH(ROW()-5,geb.Rechnung!$G$4:$G$1000,0),COLUMN()-1))","v":""},{"$f":"IF(ISNA(INDEX(geb.Rechnung!$A$4:$G$1000,MATCH(ROW()-5,geb.Rechnung!$G$4:$G$1000,0),COLUMN()-2)),\"\",INDEX(geb.Rechnung!$A$4:$G$1000,MATCH(ROW()-5,geb.Rechnung!$G$4:$G$1000,0),COLUMN()-2))","v":""},{"$f":"IF(ISNA(INDEX(geb.Rechnung!$A$4:$G$1000,MATCH(ROW()-5,geb.Rechnung!$G$4:$G$1000,0),COLUMN()+1)),\"\",INDEX(geb.Rechnung!$A$4:$G$1000,MATCH(ROW()-5,geb.Rechnung!$G$4:$G$1000,0),COLUMN()+1))","v":""},{"$f":"IF(ISNA(INDEX(geb.Rechnung!$A$4:$G$1000,MATCH(ROW()-5,geb.Rechnung!$G$4:$G$1000,0),COLUMN()+1)),\"\",INDEX(geb.Rechnung!$A$4:$G$1000,MATCH(ROW()-5,geb.Rechnung!$G$4:$G$1000,0),COLUMN()+1))","v":""}]
[{"$f":"IF(ISNA(INDEX(geb.Rechnung!$A$4:$G$1000,MATCH(ROW()-5,geb.Rechnung!$G$4:$G$1000,0),COLUMN()-1)),\"\",INDEX(geb.Rechnung!$A$4:$G$1000,MATCH(ROW()-5,geb.Rechnung!$G$4:$G$1000,0),COLUMN()-1))","v":""},{"$f":"IF(ISNA(INDEX(geb.Rechnung!$A$4:$G$1000,MATCH(ROW()-5,geb.Rechnung!$G$4:$G$1000,0),COLUMN()-2)),\"\",INDEX(geb.Rechnung!$A$4:$G$1000,MATCH(ROW()-5,geb.Rechnung!$G$4:$G$1000,0),COLUMN()-2))","v":""},{"$f":"IF(ISNA(INDEX(geb.Rechnung!$A$4:$G$1000,MATCH(ROW()-5,geb.Rechnung!$G$4:$G$1000,0),COLUMN()+1)),\"\",INDEX(geb.Rechnung!$A$4:$G$1000,MATCH(ROW()-5,geb.Rechnung!$G$4:$G$1000,0),COLUMN()+1))","v":""},{"$f":"IF(ISNA(INDEX(geb.Rechnung!$A$4:$G$1000,MATCH(ROW()-5,geb.Rechnung!$G$4:$G$1000,0),COLUMN()+1)),\"\",INDEX(geb.Rechnung!$A$4:$G$1000,MATCH(ROW()-5,geb.Rechnung!$G$4:$G$1000,0),COLUMN()+1))","v":""}]
[{"$f":"IF(ISNA(INDEX(geb.Rechnung!$A$4:$G$1000,MATCH(ROW()-5,geb.Rechnung!$G$4:$G$1000,0),COLUMN()-1)),\"\",INDEX(geb.Rechnung!$A$4:$G$1000,MATCH(ROW()-5,geb.Rechnung!$G$4:$G$1000,0),COLUMN()-1))","v":""},{"$f":"IF(ISNA(INDEX(geb.Rechnung!$A$4:$G$1000,MATCH(ROW()-5,geb.Rechnung!$G$4:$G$1000,0),COLUMN()-2)),\"\",INDEX(geb.Rechnung!$A$4:$G$1000,MATCH(ROW()-5,geb.Rechnung!$G$4:$G$1000,0),COLUMN()-2))","v":""},{"$f":"IF(ISNA(INDEX(geb.Rechnung!$A$4:$G$1000,MATCH(ROW()-5,geb.Rechnung!$G$4:$G$1000,0),COLUMN()+1)),\"\",INDEX(geb.Rechnung!$A$4:$G$1000,MATCH(ROW()-5,geb.Rechnung!$G$4:$G$1000,0),COLUMN()+1))","v":""},{"$f":"IF(ISNA(INDEX(geb.Rechnung!$A$4:$G$1000,MATCH(ROW()-5,geb.Rechnung!$G$4:$G$1000,0),COLUMN()+1)),\"\",INDEX(geb.Rechnung!$A$4:$G$1000,MATCH(ROW()-5,geb.Rechnung!$G$4:$G$1000,0),COLUMN()+1))","v":""}]
[{"$f":"IF(ISNA(INDEX(geb.Rechnung!$A$4:$G$1000,MATCH(ROW()-5,geb.Rechnung!$G$4:$G$1000,0),COLUMN()-1)),\"\",INDEX(geb.Rechnung!$A$4:$G$1000,MATCH(ROW()-5,geb.Rechnung!$G$4:$G$1000,0),COLUMN()-1))","v":""},{"$f":"IF(ISNA(INDEX(geb.Rechnung!$A$4:$G$1000,MATCH(ROW()-5,geb.Rechnung!$G$4:$G$1000,0),COLUMN()-2)),\"\",INDEX(geb.Rechnung!$A$4:$G$1000,MATCH(ROW()-5,geb.Rechnung!$G$4:$G$1000,0),COLUMN()-2))","v":""},{"$f":"IF(ISNA(INDEX(geb.Rechnung!$A$4:$G$1000,MATCH(ROW()-5,geb.Rechnung!$G$4:$G$1000,0),COLUMN()+1)),\"\",INDEX(geb.Rechnung!$A$4:$G$1000,MATCH(ROW()-5,geb.Rechnung!$G$4:$G$1000,0),COLUMN()+1))","v":""},{"$f":"IF(ISNA(INDEX(geb.Rechnung!$A$4:$G$1000,MATCH(ROW()-5,geb.Rechnung!$G$4:$G$1000,0),COLUMN()+1)),\"\",INDEX(geb.Rechnung!$A$4:$G$1000,MATCH(ROW()-5,geb.Rechnung!$G$4:$G$1000,0),COLUMN()+1))","v":""}]
[{"$f":"IF(ISNA(INDEX(geb.Rechnung!$A$4:$G$1000,MATCH(ROW()-5,geb.Rechnung!$G$4:$G$1000,0),COLUMN()-1)),\"\",INDEX(geb.Rechnung!$A$4:$G$1000,MATCH(ROW()-5,geb.Rechnung!$G$4:$G$1000,0),COLUMN()-1))","v":""},{"$f":"IF(ISNA(INDEX(geb.Rechnung!$A$4:$G$1000,MATCH(ROW()-5,geb.Rechnung!$G$4:$G$1000,0),COLUMN()-2)),\"\",INDEX(geb.Rechnung!$A$4:$G$1000,MATCH(ROW()-5,geb.Rechnung!$G$4:$G$1000,0),COLUMN()-2))","v":""},{"$f":"IF(ISNA(INDEX(geb.Rechnung!$A$4:$G$1000,MATCH(ROW()-5,geb.Rechnung!$G$4:$G$1000,0),COLUMN()+1)),\"\",INDEX(geb.Rechnung!$A$4:$G$1000,MATCH(ROW()-5,geb.Rechnung!$G$4:$G$1000,0),COLUMN()+1))","v":""},{"$f":"IF(ISNA(INDEX(geb.Rechnung!$A$4:$G$1000,MATCH(ROW()-5,geb.Rechnung!$G$4:$G$1000,0),COLUMN()+1)),\"\",INDEX(geb.Rechnung!$A$4:$G$1000,MATCH(ROW()-5,geb.Rechnung!$G$4:$G$1000,0),COLUMN()+1))","v":""}]
[{"$f":"IF(ISNA(INDEX(geb.Rechnung!$A$4:$G$1000,MATCH(ROW()-5,geb.Rechnung!$G$4:$G$1000,0),COLUMN()-1)),\"\",INDEX(geb.Rechnung!$A$4:$G$1000,MATCH(ROW()-5,geb.Rechnung!$G$4:$G$1000,0),COLUMN()-1))","v":""},{"$f":"IF(ISNA(INDEX(geb.Rechnung!$A$4:$G$1000,MATCH(ROW()-5,geb.Rechnung!$G$4:$G$1000,0),COLUMN()-2)),\"\",INDEX(geb.Rechnung!$A$4:$G$1000,MATCH(ROW()-5,geb.Rechnung!$G$4:$G$1000,0),COLUMN()-2))","v":""},{"$f":"IF(ISNA(INDEX(geb.Rechnung!$A$4:$G$1000,MATCH(ROW()-5,geb.Rechnung!$G$4:$G$1000,0),COLUMN()+1)),\"\",INDEX(geb.Rechnung!$A$4:$G$1000,MATCH(ROW()-5,geb.Rechnung!$G$4:$G$1000,0),COLUMN()+1))","v":""},{"$f":"IF(ISNA(INDEX(geb.Rechnung!$A$4:$G$1000,MATCH(ROW()-5,geb.Rechnung!$G$4:$G$1000,0),COLUMN()+1)),\"\",INDEX(geb.Rechnung!$A$4:$G$1000,MATCH(ROW()-5,geb.Rechnung!$G$4:$G$1000,0),COLUMN()+1))","v":""}]
[{"$f":"IF(ISNA(INDEX(geb.Rechnung!$A$4:$G$1000,MATCH(ROW()-5,geb.Rechnung!$G$4:$G$1000,0),COLUMN()-1)),\"\",INDEX(geb.Rechnung!$A$4:$G$1000,MATCH(ROW()-5,geb.Rechnung!$G$4:$G$1000,0),COLUMN()-1))","v":""},{"$f":"IF(ISNA(INDEX(geb.Rechnung!$A$4:$G$1000,MATCH(ROW()-5,geb.Rechnung!$G$4:$G$1000,0),COLUMN()-2)),\"\",INDEX(geb.Rechnung!$A$4:$G$1000,MATCH(ROW()-5,geb.Rechnung!$G$4:$G$1000,0),COLUMN()-2))","v":""},{"$f":"IF(ISNA(INDEX(geb.Rechnung!$A$4:$G$1000,MATCH(ROW()-5,geb.Rechnung!$G$4:$G$1000,0),COLUMN()+1)),\"\",INDEX(geb.Rechnung!$A$4:$G$1000,MATCH(ROW()-5,geb.Rechnung!$G$4:$G$1000,0),COLUMN()+1))","v":""},{"$f":"IF(ISNA(INDEX(geb.Rechnung!$A$4:$G$1000,MATCH(ROW()-5,geb.Rechnung!$G$4:$G$1000,0),COLUMN()+1)),\"\",INDEX(geb.Rechnung!$A$4:$G$1000,MATCH(ROW()-5,geb.Rechnung!$G$4:$G$1000,0),COLUMN()+1))","v":""}]
[{"$f":"IF(ISNA(INDEX(geb.Rechnung!$A$4:$G$1000,MATCH(ROW()-5,geb.Rechnung!$G$4:$G$1000,0),COLUMN()-1)),\"\",INDEX(geb.Rechnung!$A$4:$G$1000,MATCH(ROW()-5,geb.Rechnung!$G$4:$G$1000,0),COLUMN()-1))","v":""},{"$f":"IF(ISNA(INDEX(geb.Rechnung!$A$4:$G$1000,MATCH(ROW()-5,geb.Rechnung!$G$4:$G$1000,0),COLUMN()-2)),\"\",INDEX(geb.Rechnung!$A$4:$G$1000,MATCH(ROW()-5,geb.Rechnung!$G$4:$G$1000,0),COLUMN()-2))","v":""},{"$f":"IF(ISNA(INDEX(geb.Rechnung!$A$4:$G$1000,MATCH(ROW()-5,geb.Rechnung!$G$4:$G$1000,0),COLUMN()+1)),\"\",INDEX(geb.Rechnung!$A$4:$G$1000,MATCH(ROW()-5,geb.Rechnung!$G$4:$G$1000,0),COLUMN()+1))","v":""},{"$f":"IF(ISNA(INDEX(geb.Rechnung!$A$4:$G$1000,MATCH(ROW()-5,geb.Rechnung!$G$4:$G$1000,0),COLUMN()+1)),\"\",INDEX(geb.Rechnung!$A$4:$G$1000,MATCH(ROW()-5,geb.Rechnung!$G$4:$G$1000,0),COLUMN()+1))","v":""}]
[{"$f":"IF(ISNA(INDEX(geb.Rechnung!$A$4:$G$1000,MATCH(ROW()-5,geb.Rechnung!$G$4:$G$1000,0),COLUMN()-1)),\"\",INDEX(geb.Rechnung!$A$4:$G$1000,MATCH(ROW()-5,geb.Rechnung!$G$4:$G$1000,0),COLUMN()-1))","v":""},{"$f":"IF(ISNA(INDEX(geb.Rechnung!$A$4:$G$1000,MATCH(ROW()-5,geb.Rechnung!$G$4:$G$1000,0),COLUMN()-2)),\"\",INDEX(geb.Rechnung!$A$4:$G$1000,MATCH(ROW()-5,geb.Rechnung!$G$4:$G$1000,0),COLUMN()-2))","v":""},{"$f":"IF(ISNA(INDEX(geb.Rechnung!$A$4:$G$1000,MATCH(ROW()-5,geb.Rechnung!$G$4:$G$1000,0),COLUMN()+1)),\"\",INDEX(geb.Rechnung!$A$4:$G$1000,MATCH(ROW()-5,geb.Rechnung!$G$4:$G$1000,0),COLUMN()+1))","v":""},{"$f":"IF(ISNA(INDEX(geb.Rechnung!$A$4:$G$1000,MATCH(ROW()-5,geb.Rechnung!$G$4:$G$1000,0),COLUMN()+1)),\"\",INDEX(geb.Rechnung!$A$4:$G$1000,MATCH(ROW()-5,geb.Rechnung!$G$4:$G$1000,0),COLUMN()+1))","v":""}]
[{"$f":"IF(ISNA(INDEX(geb.Rechnung!$A$4:$G$1000,MATCH(ROW()-5,geb.Rechnung!$G$4:$G$1000,0),COLUMN()-1)),\"\",INDEX(geb.Rechnung!$A$4:$G$1000,MATCH(ROW()-5,geb.Rechnung!$G$4:$G$1000,0),COLUMN()-1))","v":""},{"$f":"IF(ISNA(INDEX(geb.Rechnung!$A$4:$G$1000,MATCH(ROW()-5,geb.Rechnung!$G$4:$G$1000,0),COLUMN()-2)),\"\",INDEX(geb.Rechnung!$A$4:$G$1000,MATCH(ROW()-5,geb.Rechnung!$G$4:$G$1000,0),COLUMN()-2))","v":""},{"$f":"IF(ISNA(INDEX(geb.Rechnung!$A$4:$G$1000,MATCH(ROW()-5,geb.Rechnung!$G$4:$G$1000,0),COLUMN()+1)),\"\",INDEX(geb.Rechnung!$A$4:$G$1000,MATCH(ROW()-5,geb.Rechnung!$G$4:$G$1000,0),COLUMN()+1))","v":""},{"$f":"IF(ISNA(INDEX(geb.Rechnung!$A$4:$G$1000,MATCH(ROW()-5,geb.Rechnung!$G$4:$G$1000,0),COLUMN()+1)),\"\",INDEX(geb.Rechnung!$A$4:$G$1000,MATCH(ROW()-5,geb.Rechnung!$G$4:$G$1000,0),COLUMN()+1))","v":""}]
[{"$f":"IF(ISNA(INDEX(geb.Rechnung!$A$4:$G$1000,MATCH(ROW()-5,geb.Rechnung!$G$4:$G$1000,0),COLUMN()-1)),\"\",INDEX(geb.Rechnung!$A$4:$G$1000,MATCH(ROW()-5,geb.Rechnung!$G$4:$G$1000,0),COLUMN()-1))","v":""},{"$f":"IF(ISNA(INDEX(geb.Rechnung!$A$4:$G$1000,MATCH(ROW()-5,geb.Rechnung!$G$4:$G$1000,0),COLUMN()-2)),\"\",INDEX(geb.Rechnung!$A$4:$G$1000,MATCH(ROW()-5,geb.Rechnung!$G$4:$G$1000,0),COLUMN()-2))","v":""},{"$f":"IF(ISNA(INDEX(geb.Rechnung!$A$4:$G$1000,MATCH(ROW()-5,geb.Rechnung!$G$4:$G$1000,0),COLUMN()+1)),\"\",INDEX(geb.Rechnung!$A$4:$G$1000,MATCH(ROW()-5,geb.Rechnung!$G$4:$G$1000,0),COLUMN()+1))","v":""},{"$f":"IF(ISNA(INDEX(geb.Rechnung!$A$4:$G$1000,MATCH(ROW()-5,geb.Rechnung!$G$4:$G$1000,0),COLUMN()+1)),\"\",INDEX(geb.Rechnung!$A$4:$G$1000,MATCH(ROW()-5,geb.Rechnung!$G$4:$G$1000,0),COLUMN()+1))","v":""}]
[{"$f":"IF(ISNA(INDEX(geb.Rechnung!$A$4:$G$1000,MATCH(ROW()-5,geb.Rechnung!$G$4:$G$1000,0),COLUMN()-1)),\"\",INDEX(geb.Rechnung!$A$4:$G$1000,MATCH(ROW()-5,geb.Rechnung!$G$4:$G$1000,0),COLUMN()-1))","v":""},{"$f":"IF(ISNA(INDEX(geb.Rechnung!$A$4:$G$1000,MATCH(ROW()-5,geb.Rechnung!$G$4:$G$1000,0),COLUMN()-2)),\"\",INDEX(geb.Rechnung!$A$4:$G$1000,MATCH(ROW()-5,geb.Rechnung!$G$4:$G$1000,0),COLUMN()-2))","v":""},{"$f":"IF(ISNA(INDEX(geb.Rechnung!$A$4:$G$1000,MATCH(ROW()-5,geb.Rechnung!$G$4:$G$1000,0),COLUMN()+1)),\"\",INDEX(geb.Rechnung!$A$4:$G$1000,MATCH(ROW()-5,geb.Rechnung!$G$4:$G$1000,0),COLUMN()+1))","v":""},{"$f":"IF(ISNA(INDEX(geb.Rechnung!$A$4:$G$1000,MATCH(ROW()-5,geb.Rechnung!$G$4:$G$1000,0),COLUMN()+1)),\"\",INDEX(geb.Rechnung!$A$4:$G$1000,MATCH(ROW()-5,geb.Rechnung!$G$4:$G$1000,0),COLUMN()+1))","v":""}]
[{"$f":"IF(ISNA(INDEX(geb.Rechnung!$A$4:$G$1000,MATCH(ROW()-5,geb.Rechnung!$G$4:$G$1000,0),COLUMN()-1)),\"\",INDEX(geb.Rechnung!$A$4:$G$1000,MATCH(ROW()-5,geb.Rechnung!$G$4:$G$1000,0),COLUMN()-1))","v":""},{"$f":"IF(ISNA(INDEX(geb.Rechnung!$A$4:$G$1000,MATCH(ROW()-5,geb.Rechnung!$G$4:$G$1000,0),COLUMN()-2)),\"\",INDEX(geb.Rechnung!$A$4:$G$1000,MATCH(ROW()-5,geb.Rechnung!$G$4:$G$1000,0),COLUMN()-2))","v":""},{"$f":"IF(ISNA(INDEX(geb.Rechnung!$A$4:$G$1000,MATCH(ROW()-5,geb.Rechnung!$G$4:$G$1000,0),COLUMN()+1)),\"\",INDEX(geb.Rechnung!$A$4:$G$1000,MATCH(ROW()-5,geb.Rechnung!$G$4:$G$1000,0),COLUMN()+1))","v":""},{"$f":"IF(ISNA(INDEX(geb.Rechnung!$A$4:$G$1000,MATCH(ROW()-5,geb.Rechnung!$G$4:$G$1000,0),COLUMN()+1)),\"\",INDEX(geb.Rechnung!$A$4:$G$1000,MATCH(ROW()-5,geb.Rechnung!$G$4:$G$1000,0),COLUMN()+1))","v":""}]
[{"$f":"IF(ISNA(INDEX(geb.Rechnung!$A$4:$G$1000,MATCH(ROW()-5,geb.Rechnung!$G$4:$G$1000,0),COLUMN()-1)),\"\",INDEX(geb.Rechnung!$A$4:$G$1000,MATCH(ROW()-5,geb.Rechnung!$G$4:$G$1000,0),COLUMN()-1))","v":""},{"$f":"IF(ISNA(INDEX(geb.Rechnung!$A$4:$G$1000,MATCH(ROW()-5,geb.Rechnung!$G$4:$G$1000,0),COLUMN()-2)),\"\",INDEX(geb.Rechnung!$A$4:$G$1000,MATCH(ROW()-5,geb.Rechnung!$G$4:$G$1000,0),COLUMN()-2))","v":""},{"$f":"IF(ISNA(INDEX(geb.Rechnung!$A$4:$G$1000,MATCH(ROW()-5,geb.Rechnung!$G$4:$G$1000,0),COLUMN()+1)),\"\",INDEX(geb.Rechnung!$A$4:$G$1000,MATCH(ROW()-5,geb.Rechnung!$G$4:$G$1000,0),COLUMN()+1))","v":""},{"$f":"IF(ISNA(INDEX(geb.Rechnung!$A$4:$G$1000,MATCH(ROW()-5,geb.Rechnung!$G$4:$G$1000,0),COLUMN()+1)),\"\",INDEX(geb.Rechnung!$A$4:$G$1000,MATCH(ROW()-5,geb.Rechnung!$G$4:$G$1000,0),COLUMN()+1))","v":""}]
[{"$f":"IF(ISNA(INDEX(geb.Rechnung!$A$4:$G$1000,MATCH(ROW()-5,geb.Rechnung!$G$4:$G$1000,0),COLUMN()-1)),\"\",INDEX(geb.Rechnung!$A$4:$G$1000,MATCH(ROW()-5,geb.Rechnung!$G$4:$G$1000,0),COLUMN()-1))","v":""},{"$f":"IF(ISNA(INDEX(geb.Rechnung!$A$4:$G$1000,MATCH(ROW()-5,geb.Rechnung!$G$4:$G$1000,0),COLUMN()-2)),\"\",INDEX(geb.Rechnung!$A$4:$G$1000,MATCH(ROW()-5,geb.Rechnung!$G$4:$G$1000,0),COLUMN()-2))","v":""},{"$f":"IF(ISNA(INDEX(geb.Rechnung!$A$4:$G$1000,MATCH(ROW()-5,geb.Rechnung!$G$4:$G$1000,0),COLUMN()+1)),\"\",INDEX(geb.Rechnung!$A$4:$G$1000,MATCH(ROW()-5,geb.Rechnung!$G$4:$G$1000,0),COLUMN()+1))","v":""},{"$f":"IF(ISNA(INDEX(geb.Rechnung!$A$4:$G$1000,MATCH(ROW()-5,geb.Rechnung!$G$4:$G$1000,0),COLUMN()+1)),\"\",INDEX(geb.Rechnung!$A$4:$G$1000,MATCH(ROW()-5,geb.Rechnung!$G$4:$G$1000,0),COLUMN()+1))","v":""}]
[{"$f":"IF(ISNA(INDEX(geb.Rechnung!$A$4:$G$1000,MATCH(ROW()-5,geb.Rechnung!$G$4:$G$1000,0),COLUMN()-1)),\"\",INDEX(geb.Rechnung!$A$4:$G$1000,MATCH(ROW()-5,geb.Rechnung!$G$4:$G$1000,0),COLUMN()-1))","v":""},{"$f":"IF(ISNA(INDEX(geb.Rechnung!$A$4:$G$1000,MATCH(ROW()-5,geb.Rechnung!$G$4:$G$1000,0),COLUMN()-2)),\"\",INDEX(geb.Rechnung!$A$4:$G$1000,MATCH(ROW()-5,geb.Rechnung!$G$4:$G$1000,0),COLUMN()-2))","v":""},{"$f":"IF(ISNA(INDEX(geb.Rechnung!$A$4:$G$1000,MATCH(ROW()-5,geb.Rechnung!$G$4:$G$1000,0),COLUMN()+1)),\"\",INDEX(geb.Rechnung!$A$4:$G$1000,MATCH(ROW()-5,geb.Rechnung!$G$4:$G$1000,0),COLUMN()+1))","v":""},{"$f":"IF(ISNA(INDEX(geb.Rechnung!$A$4:$G$1000,MATCH(ROW()-5,geb.Rechnung!$G$4:$G$1000,0),COLUMN()+1)),\"\",INDEX(geb.Rechnung!$A$4:$G$1000,MATCH(ROW()-5,geb.Rechnung!$G$4:$G$1000,0),COLUMN()+1))","v":""}]
[{"$f":"IF(ISNA(INDEX(geb.Rechnung!$A$4:$G$1000,MATCH(ROW()-5,geb.Rechnung!$G$4:$G$1000,0),COLUMN()-1)),\"\",INDEX(geb.Rechnung!$A$4:$G$1000,MATCH(ROW()-5,geb.Rechnung!$G$4:$G$1000,0),COLUMN()-1))","v":""},{"$f":"IF(ISNA(INDEX(geb.Rechnung!$A$4:$G$1000,MATCH(ROW()-5,geb.Rechnung!$G$4:$G$1000,0),COLUMN()-2)),\"\",INDEX(geb.Rechnung!$A$4:$G$1000,MATCH(ROW()-5,geb.Rechnung!$G$4:$G$1000,0),COLUMN()-2))","v":""},{"$f":"IF(ISNA(INDEX(geb.Rechnung!$A$4:$G$1000,MATCH(ROW()-5,geb.Rechnung!$G$4:$G$1000,0),COLUMN()+1)),\"\",INDEX(geb.Rechnung!$A$4:$G$1000,MATCH(ROW()-5,geb.Rechnung!$G$4:$G$1000,0),COLUMN()+1))","v":""},{"$f":"IF(ISNA(INDEX(geb.Rechnung!$A$4:$G$1000,MATCH(ROW()-5,geb.Rechnung!$G$4:$G$1000,0),COLUMN()+1)),\"\",INDEX(geb.Rechnung!$A$4:$G$1000,MATCH(ROW()-5,geb.Rechnung!$G$4:$G$1000,0),COLUMN()+1))","v":""}]
[{"$f":"IF(ISNA(INDEX(geb.Rechnung!$A$4:$G$1000,MATCH(ROW()-5,geb.Rechnung!$G$4:$G$1000,0),COLUMN()-1)),\"\",INDEX(geb.Rechnung!$A$4:$G$1000,MATCH(ROW()-5,geb.Rechnung!$G$4:$G$1000,0),COLUMN()-1))","v":""},{"$f":"IF(ISNA(INDEX(geb.Rechnung!$A$4:$G$1000,MATCH(ROW()-5,geb.Rechnung!$G$4:$G$1000,0),COLUMN()-2)),\"\",INDEX(geb.Rechnung!$A$4:$G$1000,MATCH(ROW()-5,geb.Rechnung!$G$4:$G$1000,0),COLUMN()-2))","v":""},{"$f":"IF(ISNA(INDEX(geb.Rechnung!$A$4:$G$1000,MATCH(ROW()-5,geb.Rechnung!$G$4:$G$1000,0),COLUMN()+1)),\"\",INDEX(geb.Rechnung!$A$4:$G$1000,MATCH(ROW()-5,geb.Rechnung!$G$4:$G$1000,0),COLUMN()+1))","v":""},{"$f":"IF(ISNA(INDEX(geb.Rechnung!$A$4:$G$1000,MATCH(ROW()-5,geb.Rechnung!$G$4:$G$1000,0),COLUMN()+1)),\"\",INDEX(geb.Rechnung!$A$4:$G$1000,MATCH(ROW()-5,geb.Rechnung!$G$4:$G$1000,0),COLUMN()+1))","v":""}]
[{"$f":"IF(ISNA(INDEX(geb.Rechnung!$A$4:$G$1000,MATCH(ROW()-5,geb.Rechnung!$G$4:$G$1000,0),COLUMN()-1)),\"\",INDEX(geb.Rechnung!$A$4:$G$1000,MATCH(ROW()-5,geb.Rechnung!$G$4:$G$1000,0),COLUMN()-1))","v":""},{"$f":"IF(ISNA(INDEX(geb.Rechnung!$A$4:$G$1000,MATCH(ROW()-5,geb.Rechnung!$G$4:$G$1000,0),COLUMN()-2)),\"\",INDEX(geb.Rechnung!$A$4:$G$1000,MATCH(ROW()-5,geb.Rechnung!$G$4:$G$1000,0),COLUMN()-2))","v":""},{"$f":"IF(ISNA(INDEX(geb.Rechnung!$A$4:$G$1000,MATCH(ROW()-5,geb.Rechnung!$G$4:$G$1000,0),COLUMN()+1)),\"\",INDEX(geb.Rechnung!$A$4:$G$1000,MATCH(ROW()-5,geb.Rechnung!$G$4:$G$1000,0),COLUMN()+1))","v":""},{"$f":"IF(ISNA(INDEX(geb.Rechnung!$A$4:$G$1000,MATCH(ROW()-5,geb.Rechnung!$G$4:$G$1000,0),COLUMN()+1)),\"\",INDEX(geb.Rechnung!$A$4:$G$1000,MATCH(ROW()-5,geb.Rechnung!$G$4:$G$1000,0),COLUMN()+1))","v":""}]
[{"$f":"IF(ISNA(INDEX(geb.Rechnung!$A$4:$G$1000,MATCH(ROW()-5,geb.Rechnung!$G$4:$G$1000,0),COLUMN()-1)),\"\",INDEX(geb.Rechnung!$A$4:$G$1000,MATCH(ROW()-5,geb.Rechnung!$G$4:$G$1000,0),COLUMN()-1))","v":""},{"$f":"IF(ISNA(INDEX(geb.Rechnung!$A$4:$G$1000,MATCH(ROW()-5,geb.Rechnung!$G$4:$G$1000,0),COLUMN()-2)),\"\",INDEX(geb.Rechnung!$A$4:$G$1000,MATCH(ROW()-5,geb.Rechnung!$G$4:$G$1000,0),COLUMN()-2))","v":""},{"$f":"IF(ISNA(INDEX(geb.Rechnung!$A$4:$G$1000,MATCH(ROW()-5,geb.Rechnung!$G$4:$G$1000,0),COLUMN()+1)),\"\",INDEX(geb.Rechnung!$A$4:$G$1000,MATCH(ROW()-5,geb.Rechnung!$G$4:$G$1000,0),COLUMN()+1))","v":""},{"$f":"IF(ISNA(INDEX(geb.Rechnung!$A$4:$G$1000,MATCH(ROW()-5,geb.Rechnung!$G$4:$G$1000,0),COLUMN()+1)),\"\",INDEX(geb.Rechnung!$A$4:$G$1000,MATCH(ROW()-5,geb.Rechnung!$G$4:$G$1000,0),COLUMN()+1))","v":""}]
[{"$f":"IF(ISNA(INDEX(geb.Rechnung!$A$4:$G$1000,MATCH(ROW()-5,geb.Rechnung!$G$4:$G$1000,0),COLUMN()-1)),\"\",INDEX(geb.Rechnung!$A$4:$G$1000,MATCH(ROW()-5,geb.Rechnung!$G$4:$G$1000,0),COLUMN()-1))","v":""},{"$f":"IF(ISNA(INDEX(geb.Rechnung!$A$4:$G$1000,MATCH(ROW()-5,geb.Rechnung!$G$4:$G$1000,0),COLUMN()-2)),\"\",INDEX(geb.Rechnung!$A$4:$G$1000,MATCH(ROW()-5,geb.Rechnung!$G$4:$G$1000,0),COLUMN()-2))","v":""},{"$f":"IF(ISNA(INDEX(geb.Rechnung!$A$4:$G$1000,MATCH(ROW()-5,geb.Rechnung!$G$4:$G$1000,0),COLUMN()+1)),\"\",INDEX(geb.Rechnung!$A$4:$G$1000,MATCH(ROW()-5,geb.Rechnung!$G$4:$G$1000,0),COLUMN()+1))","v":""},{"$f":"IF(ISNA(INDEX(geb.Rechnung!$A$4:$G$1000,MATCH(ROW()-5,geb.Rechnung!$G$4:$G$1000,0),COLUMN()+1)),\"\",INDEX(geb.Rechnung!$A$4:$G$1000,MATCH(ROW()-5,geb.Rechnung!$G$4:$G$1000,0),COLUMN()+1))","v":""}]
[{"$f":"IF(ISNA(INDEX(geb.Rechnung!$A$4:$G$1000,MATCH(ROW()-5,geb.Rechnung!$G$4:$G$1000,0),COLUMN()-1)),\"\",INDEX(geb.Rechnung!$A$4:$G$1000,MATCH(ROW()-5,geb.Rechnung!$G$4:$G$1000,0),COLUMN()-1))","v":""},{"$f":"IF(ISNA(INDEX(geb.Rechnung!$A$4:$G$1000,MATCH(ROW()-5,geb.Rechnung!$G$4:$G$1000,0),COLUMN()-2)),\"\",INDEX(geb.Rechnung!$A$4:$G$1000,MATCH(ROW()-5,geb.Rechnung!$G$4:$G$1000,0),COLUMN()-2))","v":""},{"$f":"IF(ISNA(INDEX(geb.Rechnung!$A$4:$G$1000,MATCH(ROW()-5,geb.Rechnung!$G$4:$G$1000,0),COLUMN()+1)),\"\",INDEX(geb.Rechnung!$A$4:$G$1000,MATCH(ROW()-5,geb.Rechnung!$G$4:$G$1000,0),COLUMN()+1))","v":""},{"$f":"IF(ISNA(INDEX(geb.Rechnung!$A$4:$G$1000,MATCH(ROW()-5,geb.Rechnung!$G$4:$G$1000,0),COLUMN()+1)),\"\",INDEX(geb.Rechnung!$A$4:$G$1000,MATCH(ROW()-5,geb.Rechnung!$G$4:$G$1000,0),COLUMN()+1))","v":""}]
[{"$f":"IF(ISNA(INDEX(geb.Rechnung!$A$4:$G$1000,MATCH(ROW()-5,geb.Rechnung!$G$4:$G$1000,0),COLUMN()-1)),\"\",INDEX(geb.Rechnung!$A$4:$G$1000,MATCH(ROW()-5,geb.Rechnung!$G$4:$G$1000,0),COLUMN()-1))","v":""},{"$f":"IF(ISNA(INDEX(geb.Rechnung!$A$4:$G$1000,MATCH(ROW()-5,geb.Rechnung!$G$4:$G$1000,0),COLUMN()-2)),\"\",INDEX(geb.Rechnung!$A$4:$G$1000,MATCH(ROW()-5,geb.Rechnung!$G$4:$G$1000,0),COLUMN()-2))","v":""},{"$f":"IF(ISNA(INDEX(geb.Rechnung!$A$4:$G$1000,MATCH(ROW()-5,geb.Rechnung!$G$4:$G$1000,0),COLUMN()+1)),\"\",INDEX(geb.Rechnung!$A$4:$G$1000,MATCH(ROW()-5,geb.Rechnung!$G$4:$G$1000,0),COLUMN()+1))","v":""},{"$f":"IF(ISNA(INDEX(geb.Rechnung!$A$4:$G$1000,MATCH(ROW()-5,geb.Rechnung!$G$4:$G$1000,0),COLUMN()+1)),\"\",INDEX(geb.Rechnung!$A$4:$G$1000,MATCH(ROW()-5,geb.Rechnung!$G$4:$G$1000,0),COLUMN()+1))","v":""}]
[{"$f":"IF(ISNA(INDEX(geb.Rechnung!$A$4:$G$1000,MATCH(ROW()-5,geb.Rechnung!$G$4:$G$1000,0),COLUMN()-1)),\"\",INDEX(geb.Rechnung!$A$4:$G$1000,MATCH(ROW()-5,geb.Rechnung!$G$4:$G$1000,0),COLUMN()-1))","v":""},{"$f":"IF(ISNA(INDEX(geb.Rechnung!$A$4:$G$1000,MATCH(ROW()-5,geb.Rechnung!$G$4:$G$1000,0),COLUMN()-2)),\"\",INDEX(geb.Rechnung!$A$4:$G$1000,MATCH(ROW()-5,geb.Rechnung!$G$4:$G$1000,0),COLUMN()-2))","v":""},{"$f":"IF(ISNA(INDEX(geb.Rechnung!$A$4:$G$1000,MATCH(ROW()-5,geb.Rechnung!$G$4:$G$1000,0),COLUMN()+1)),\"\",INDEX(geb.Rechnung!$A$4:$G$1000,MATCH(ROW()-5,geb.Rechnung!$G$4:$G$1000,0),COLUMN()+1))","v":""},{"$f":"IF(ISNA(INDEX(geb.Rechnung!$A$4:$G$1000,MATCH(ROW()-5,geb.Rechnung!$G$4:$G$1000,0),COLUMN()+1)),\"\",INDEX(geb.Rechnung!$A$4:$G$1000,MATCH(ROW()-5,geb.Rechnung!$G$4:$G$1000,0),COLUMN()+1))","v":""}]
[{"$f":"IF(ISNA(INDEX(geb.Rechnung!$A$4:$G$1000,MATCH(ROW()-5,geb.Rechnung!$G$4:$G$1000,0),COLUMN()-1)),\"\",INDEX(geb.Rechnung!$A$4:$G$1000,MATCH(ROW()-5,geb.Rechnung!$G$4:$G$1000,0),COLUMN()-1))","v":""},{"$f":"IF(ISNA(INDEX(geb.Rechnung!$A$4:$G$1000,MATCH(ROW()-5,geb.Rechnung!$G$4:$G$1000,0),COLUMN()-2)),\"\",INDEX(geb.Rechnung!$A$4:$G$1000,MATCH(ROW()-5,geb.Rechnung!$G$4:$G$1000,0),COLUMN()-2))","v":""},{"$f":"IF(ISNA(INDEX(geb.Rechnung!$A$4:$G$1000,MATCH(ROW()-5,geb.Rechnung!$G$4:$G$1000,0),COLUMN()+1)),\"\",INDEX(geb.Rechnung!$A$4:$G$1000,MATCH(ROW()-5,geb.Rechnung!$G$4:$G$1000,0),COLUMN()+1))","v":""},{"$f":"IF(ISNA(INDEX(geb.Rechnung!$A$4:$G$1000,MATCH(ROW()-5,geb.Rechnung!$G$4:$G$1000,0),COLUMN()+1)),\"\",INDEX(geb.Rechnung!$A$4:$G$1000,MATCH(ROW()-5,geb.Rechnung!$G$4:$G$1000,0),COLUMN()+1))","v":""}]
[{"$f":"IF(ISNA(INDEX(geb.Rechnung!$A$4:$G$1000,MATCH(ROW()-5,geb.Rechnung!$G$4:$G$1000,0),COLUMN()-1)),\"\",INDEX(geb.Rechnung!$A$4:$G$1000,MATCH(ROW()-5,geb.Rechnung!$G$4:$G$1000,0),COLUMN()-1))","v":""},{"$f":"IF(ISNA(INDEX(geb.Rechnung!$A$4:$G$1000,MATCH(ROW()-5,geb.Rechnung!$G$4:$G$1000,0),COLUMN()-2)),\"\",INDEX(geb.Rechnung!$A$4:$G$1000,MATCH(ROW()-5,geb.Rechnung!$G$4:$G$1000,0),COLUMN()-2))","v":""},{"$f":"IF(ISNA(INDEX(geb.Rechnung!$A$4:$G$1000,MATCH(ROW()-5,geb.Rechnung!$G$4:$G$1000,0),COLUMN()+1)),\"\",INDEX(geb.Rechnung!$A$4:$G$1000,MATCH(ROW()-5,geb.Rechnung!$G$4:$G$1000,0),COLUMN()+1))","v":""},{"$f":"IF(ISNA(INDEX(geb.Rechnung!$A$4:$G$1000,MATCH(ROW()-5,geb.Rechnung!$G$4:$G$1000,0),COLUMN()+1)),\"\",INDEX(geb.Rechnung!$A$4:$G$1000,MATCH(ROW()-5,geb.Rechnung!$G$4:$G$1000,0),COLUMN()+1))","v":""}]
[{"$f":"IF(ISNA(INDEX(geb.Rechnung!$A$4:$G$1000,MATCH(ROW()-5,geb.Rechnung!$G$4:$G$1000,0),COLUMN()-1)),\"\",INDEX(geb.Rechnung!$A$4:$G$1000,MATCH(ROW()-5,geb.Rechnung!$G$4:$G$1000,0),COLUMN()-1))","v":""},{"$f":"IF(ISNA(INDEX(geb.Rechnung!$A$4:$G$1000,MATCH(ROW()-5,geb.Rechnung!$G$4:$G$1000,0),COLUMN()-2)),\"\",INDEX(geb.Rechnung!$A$4:$G$1000,MATCH(ROW()-5,geb.Rechnung!$G$4:$G$1000,0),COLUMN()-2))","v":""},{"$f":"IF(ISNA(INDEX(geb.Rechnung!$A$4:$G$1000,MATCH(ROW()-5,geb.Rechnung!$G$4:$G$1000,0),COLUMN()+1)),\"\",INDEX(geb.Rechnung!$A$4:$G$1000,MATCH(ROW()-5,geb.Rechnung!$G$4:$G$1000,0),COLUMN()+1))","v":""},{"$f":"IF(ISNA(INDEX(geb.Rechnung!$A$4:$G$1000,MATCH(ROW()-5,geb.Rechnung!$G$4:$G$1000,0),COLUMN()+1)),\"\",INDEX(geb.Rechnung!$A$4:$G$1000,MATCH(ROW()-5,geb.Rechnung!$G$4:$G$1000,0),COLUMN()+1))","v":""}]
[{"$f":"IF(ISNA(INDEX(geb.Rechnung!$A$4:$G$1000,MATCH(ROW()-5,geb.Rechnung!$G$4:$G$1000,0),COLUMN()-1)),\"\",INDEX(geb.Rechnung!$A$4:$G$1000,MATCH(ROW()-5,geb.Rechnung!$G$4:$G$1000,0),COLUMN()-1))","v":""},{"$f":"IF(ISNA(INDEX(geb.Rechnung!$A$4:$G$1000,MATCH(ROW()-5,geb.Rechnung!$G$4:$G$1000,0),COLUMN()-2)),\"\",INDEX(geb.Rechnung!$A$4:$G$1000,MATCH(ROW()-5,geb.Rechnung!$G$4:$G$1000,0),COLUMN()-2))","v":""},{"$f":"IF(ISNA(INDEX(geb.Rechnung!$A$4:$G$1000,MATCH(ROW()-5,geb.Rechnung!$G$4:$G$1000,0),COLUMN()+1)),\"\",INDEX(geb.Rechnung!$A$4:$G$1000,MATCH(ROW()-5,geb.Rechnung!$G$4:$G$1000,0),COLUMN()+1))","v":""},{"$f":"IF(ISNA(INDEX(geb.Rechnung!$A$4:$G$1000,MATCH(ROW()-5,geb.Rechnung!$G$4:$G$1000,0),COLUMN()+1)),\"\",INDEX(geb.Rechnung!$A$4:$G$1000,MATCH(ROW()-5,geb.Rechnung!$G$4:$G$1000,0),COLUMN()+1))","v":""}]
[{"$f":"IF(ISNA(INDEX(geb.Rechnung!$A$4:$G$1000,MATCH(ROW()-5,geb.Rechnung!$G$4:$G$1000,0),COLUMN()-1)),\"\",INDEX(geb.Rechnung!$A$4:$G$1000,MATCH(ROW()-5,geb.Rechnung!$G$4:$G$1000,0),COLUMN()-1))","v":""},{"$f":"IF(ISNA(INDEX(geb.Rechnung!$A$4:$G$1000,MATCH(ROW()-5,geb.Rechnung!$G$4:$G$1000,0),COLUMN()-2)),\"\",INDEX(geb.Rechnung!$A$4:$G$1000,MATCH(ROW()-5,geb.Rechnung!$G$4:$G$1000,0),COLUMN()-2))","v":""},{"$f":"IF(ISNA(INDEX(geb.Rechnung!$A$4:$G$1000,MATCH(ROW()-5,geb.Rechnung!$G$4:$G$1000,0),COLUMN()+1)),\"\",INDEX(geb.Rechnung!$A$4:$G$1000,MATCH(ROW()-5,geb.Rechnung!$G$4:$G$1000,0),COLUMN()+1))","v":""},{"$f":"IF(ISNA(INDEX(geb.Rechnung!$A$4:$G$1000,MATCH(ROW()-5,geb.Rechnung!$G$4:$G$1000,0),COLUMN()+1)),\"\",INDEX(geb.Rechnung!$A$4:$G$1000,MATCH(ROW()-5,geb.Rechnung!$G$4:$G$1000,0),COLUMN()+1))","v":""}]
[{"$f":"IF(ISNA(INDEX(geb.Rechnung!$A$4:$G$1000,MATCH(ROW()-5,geb.Rechnung!$G$4:$G$1000,0),COLUMN()-1)),\"\",INDEX(geb.Rechnung!$A$4:$G$1000,MATCH(ROW()-5,geb.Rechnung!$G$4:$G$1000,0),COLUMN()-1))","v":""},{"$f":"IF(ISNA(INDEX(geb.Rechnung!$A$4:$G$1000,MATCH(ROW()-5,geb.Rechnung!$G$4:$G$1000,0),COLUMN()-2)),\"\",INDEX(geb.Rechnung!$A$4:$G$1000,MATCH(ROW()-5,geb.Rechnung!$G$4:$G$1000,0),COLUMN()-2))","v":""},{"$f":"IF(ISNA(INDEX(geb.Rechnung!$A$4:$G$1000,MATCH(ROW()-5,geb.Rechnung!$G$4:$G$1000,0),COLUMN()+1)),\"\",INDEX(geb.Rechnung!$A$4:$G$1000,MATCH(ROW()-5,geb.Rechnung!$G$4:$G$1000,0),COLUMN()+1))","v":""},{"$f":"IF(ISNA(INDEX(geb.Rechnung!$A$4:$G$1000,MATCH(ROW()-5,geb.Rechnung!$G$4:$G$1000,0),COLUMN()+1)),\"\",INDEX(geb.Rechnung!$A$4:$G$1000,MATCH(ROW()-5,geb.Rechnung!$G$4:$G$1000,0),COLUMN()+1))","v":""}]
[{"$f":"IF(ISNA(INDEX(geb.Rechnung!$A$4:$G$1000,MATCH(ROW()-5,geb.Rechnung!$G$4:$G$1000,0),COLUMN()-1)),\"\",INDEX(geb.Rechnung!$A$4:$G$1000,MATCH(ROW()-5,geb.Rechnung!$G$4:$G$1000,0),COLUMN()-1))","v":""},{"$f":"IF(ISNA(INDEX(geb.Rechnung!$A$4:$G$1000,MATCH(ROW()-5,geb.Rechnung!$G$4:$G$1000,0),COLUMN()-2)),\"\",INDEX(geb.Rechnung!$A$4:$G$1000,MATCH(ROW()-5,geb.Rechnung!$G$4:$G$1000,0),COLUMN()-2))","v":""},{"$f":"IF(ISNA(INDEX(geb.Rechnung!$A$4:$G$1000,MATCH(ROW()-5,geb.Rechnung!$G$4:$G$1000,0),COLUMN()+1)),\"\",INDEX(geb.Rechnung!$A$4:$G$1000,MATCH(ROW()-5,geb.Rechnung!$G$4:$G$1000,0),COLUMN()+1))","v":""},{"$f":"IF(ISNA(INDEX(geb.Rechnung!$A$4:$G$1000,MATCH(ROW()-5,geb.Rechnung!$G$4:$G$1000,0),COLUMN()+1)),\"\",INDEX(geb.Rechnung!$A$4:$G$1000,MATCH(ROW()-5,geb.Rechnung!$G$4:$G$1000,0),COLUMN()+1))","v":""}]
[{"$f":"IF(ISNA(INDEX(geb.Rechnung!$A$4:$G$1000,MATCH(ROW()-5,geb.Rechnung!$G$4:$G$1000,0),COLUMN()-1)),\"\",INDEX(geb.Rechnung!$A$4:$G$1000,MATCH(ROW()-5,geb.Rechnung!$G$4:$G$1000,0),COLUMN()-1))","v":""},{"$f":"IF(ISNA(INDEX(geb.Rechnung!$A$4:$G$1000,MATCH(ROW()-5,geb.Rechnung!$G$4:$G$1000,0),COLUMN()-2)),\"\",INDEX(geb.Rechnung!$A$4:$G$1000,MATCH(ROW()-5,geb.Rechnung!$G$4:$G$1000,0),COLUMN()-2))","v":""},{"$f":"IF(ISNA(INDEX(geb.Rechnung!$A$4:$G$1000,MATCH(ROW()-5,geb.Rechnung!$G$4:$G$1000,0),COLUMN()+1)),\"\",INDEX(geb.Rechnung!$A$4:$G$1000,MATCH(ROW()-5,geb.Rechnung!$G$4:$G$1000,0),COLUMN()+1))","v":""},{"$f":"IF(ISNA(INDEX(geb.Rechnung!$A$4:$G$1000,MATCH(ROW()-5,geb.Rechnung!$G$4:$G$1000,0),COLUMN()+1)),\"\",INDEX(geb.Rechnung!$A$4:$G$1000,MATCH(ROW()-5,geb.Rechnung!$G$4:$G$1000,0),COLUMN()+1))","v":""}]
[{"$f":"IF(ISNA(INDEX(geb.Rechnung!$A$4:$G$1000,MATCH(ROW()-5,geb.Rechnung!$G$4:$G$1000,0),COLUMN()-1)),\"\",INDEX(geb.Rechnung!$A$4:$G$1000,MATCH(ROW()-5,geb.Rechnung!$G$4:$G$1000,0),COLUMN()-1))","v":""},{"$f":"IF(ISNA(INDEX(geb.Rechnung!$A$4:$G$1000,MATCH(ROW()-5,geb.Rechnung!$G$4:$G$1000,0),COLUMN()-2)),\"\",INDEX(geb.Rechnung!$A$4:$G$1000,MATCH(ROW()-5,geb.Rechnung!$G$4:$G$1000,0),COLUMN()-2))","v":""},{"$f":"IF(ISNA(INDEX(geb.Rechnung!$A$4:$G$1000,MATCH(ROW()-5,geb.Rechnung!$G$4:$G$1000,0),COLUMN()+1)),\"\",INDEX(geb.Rechnung!$A$4:$G$1000,MATCH(ROW()-5,geb.Rechnung!$G$4:$G$1000,0),COLUMN()+1))","v":""},{"$f":"IF(ISNA(INDEX(geb.Rechnung!$A$4:$G$1000,MATCH(ROW()-5,geb.Rechnung!$G$4:$G$1000,0),COLUMN()+1)),\"\",INDEX(geb.Rechnung!$A$4:$G$1000,MATCH(ROW()-5,geb.Rechnung!$G$4:$G$1000,0),COLUMN()+1))","v":""}]
[{"$f":"IF(ISNA(INDEX(geb.Rechnung!$A$4:$G$1000,MATCH(ROW()-5,geb.Rechnung!$G$4:$G$1000,0),COLUMN()-1)),\"\",INDEX(geb.Rechnung!$A$4:$G$1000,MATCH(ROW()-5,geb.Rechnung!$G$4:$G$1000,0),COLUMN()-1))","v":""},{"$f":"IF(ISNA(INDEX(geb.Rechnung!$A$4:$G$1000,MATCH(ROW()-5,geb.Rechnung!$G$4:$G$1000,0),COLUMN()-2)),\"\",INDEX(geb.Rechnung!$A$4:$G$1000,MATCH(ROW()-5,geb.Rechnung!$G$4:$G$1000,0),COLUMN()-2))","v":""},{"$f":"IF(ISNA(INDEX(geb.Rechnung!$A$4:$G$1000,MATCH(ROW()-5,geb.Rechnung!$G$4:$G$1000,0),COLUMN()+1)),\"\",INDEX(geb.Rechnung!$A$4:$G$1000,MATCH(ROW()-5,geb.Rechnung!$G$4:$G$1000,0),COLUMN()+1))","v":""},{"$f":"IF(ISNA(INDEX(geb.Rechnung!$A$4:$G$1000,MATCH(ROW()-5,geb.Rechnung!$G$4:$G$1000,0),COLUMN()+1)),\"\",INDEX(geb.Rechnung!$A$4:$G$1000,MATCH(ROW()-5,geb.Rechnung!$G$4:$G$1000,0),COLUMN()+1))","v":""}]
[{"$f":"IF(ISNA(INDEX(geb.Rechnung!$A$4:$G$1000,MATCH(ROW()-5,geb.Rechnung!$G$4:$G$1000,0),COLUMN()-1)),\"\",INDEX(geb.Rechnung!$A$4:$G$1000,MATCH(ROW()-5,geb.Rechnung!$G$4:$G$1000,0),COLUMN()-1))","v":""},{"$f":"IF(ISNA(INDEX(geb.Rechnung!$A$4:$G$1000,MATCH(ROW()-5,geb.Rechnung!$G$4:$G$1000,0),COLUMN()-2)),\"\",INDEX(geb.Rechnung!$A$4:$G$1000,MATCH(ROW()-5,geb.Rechnung!$G$4:$G$1000,0),COLUMN()-2))","v":""},{"$f":"IF(ISNA(INDEX(geb.Rechnung!$A$4:$G$1000,MATCH(ROW()-5,geb.Rechnung!$G$4:$G$1000,0),COLUMN()+1)),\"\",INDEX(geb.Rechnung!$A$4:$G$1000,MATCH(ROW()-5,geb.Rechnung!$G$4:$G$1000,0),COLUMN()+1))","v":""},{"$f":"IF(ISNA(INDEX(geb.Rechnung!$A$4:$G$1000,MATCH(ROW()-5,geb.Rechnung!$G$4:$G$1000,0),COLUMN()+1)),\"\",INDEX(geb.Rechnung!$A$4:$G$1000,MATCH(ROW()-5,geb.Rechnung!$G$4:$G$1000,0),COLUMN()+1))","v":""}]
[{"$f":"IF(ISNA(INDEX(geb.Rechnung!$A$4:$G$1000,MATCH(ROW()-5,geb.Rechnung!$G$4:$G$1000,0),COLUMN()-1)),\"\",INDEX(geb.Rechnung!$A$4:$G$1000,MATCH(ROW()-5,geb.Rechnung!$G$4:$G$1000,0),COLUMN()-1))","v":""},{"$f":"IF(ISNA(INDEX(geb.Rechnung!$A$4:$G$1000,MATCH(ROW()-5,geb.Rechnung!$G$4:$G$1000,0),COLUMN()-2)),\"\",INDEX(geb.Rechnung!$A$4:$G$1000,MATCH(ROW()-5,geb.Rechnung!$G$4:$G$1000,0),COLUMN()-2))","v":""},{"$f":"IF(ISNA(INDEX(geb.Rechnung!$A$4:$G$1000,MATCH(ROW()-5,geb.Rechnung!$G$4:$G$1000,0),COLUMN()+1)),\"\",INDEX(geb.Rechnung!$A$4:$G$1000,MATCH(ROW()-5,geb.Rechnung!$G$4:$G$1000,0),COLUMN()+1))","v":""},{"$f":"IF(ISNA(INDEX(geb.Rechnung!$A$4:$G$1000,MATCH(ROW()-5,geb.Rechnung!$G$4:$G$1000,0),COLUMN()+1)),\"\",INDEX(geb.Rechnung!$A$4:$G$1000,MATCH(ROW()-5,geb.Rechnung!$G$4:$G$1000,0),COLUMN()+1))","v":""}]
[{"$f":"IF(ISNA(INDEX(geb.Rechnung!$A$4:$G$1000,MATCH(ROW()-5,geb.Rechnung!$G$4:$G$1000,0),COLUMN()-1)),\"\",INDEX(geb.Rechnung!$A$4:$G$1000,MATCH(ROW()-5,geb.Rechnung!$G$4:$G$1000,0),COLUMN()-1))","v":""},{"$f":"IF(ISNA(INDEX(geb.Rechnung!$A$4:$G$1000,MATCH(ROW()-5,geb.Rechnung!$G$4:$G$1000,0),COLUMN()-2)),\"\",INDEX(geb.Rechnung!$A$4:$G$1000,MATCH(ROW()-5,geb.Rechnung!$G$4:$G$1000,0),COLUMN()-2))","v":""},{"$f":"IF(ISNA(INDEX(geb.Rechnung!$A$4:$G$1000,MATCH(ROW()-5,geb.Rechnung!$G$4:$G$1000,0),COLUMN()+1)),\"\",INDEX(geb.Rechnung!$A$4:$G$1000,MATCH(ROW()-5,geb.Rechnung!$G$4:$G$1000,0),COLUMN()+1))","v":""},{"$f":"IF(ISNA(INDEX(geb.Rechnung!$A$4:$G$1000,MATCH(ROW()-5,geb.Rechnung!$G$4:$G$1000,0),COLUMN()+1)),\"\",INDEX(geb.Rechnung!$A$4:$G$1000,MATCH(ROW()-5,geb.Rechnung!$G$4:$G$1000,0),COLUMN()+1))","v":""}]
[{"$f":"IF(ISNA(INDEX(geb.Rechnung!$A$4:$G$1000,MATCH(ROW()-5,geb.Rechnung!$G$4:$G$1000,0),COLUMN()-1)),\"\",INDEX(geb.Rechnung!$A$4:$G$1000,MATCH(ROW()-5,geb.Rechnung!$G$4:$G$1000,0),COLUMN()-1))","v":""},{"$f":"IF(ISNA(INDEX(geb.Rechnung!$A$4:$G$1000,MATCH(ROW()-5,geb.Rechnung!$G$4:$G$1000,0),COLUMN()-2)),\"\",INDEX(geb.Rechnung!$A$4:$G$1000,MATCH(ROW()-5,geb.Rechnung!$G$4:$G$1000,0),COLUMN()-2))","v":""},{"$f":"IF(ISNA(INDEX(geb.Rechnung!$A$4:$G$1000,MATCH(ROW()-5,geb.Rechnung!$G$4:$G$1000,0),COLUMN()+1)),\"\",INDEX(geb.Rechnung!$A$4:$G$1000,MATCH(ROW()-5,geb.Rechnung!$G$4:$G$1000,0),COLUMN()+1))","v":""},{"$f":"IF(ISNA(INDEX(geb.Rechnung!$A$4:$G$1000,MATCH(ROW()-5,geb.Rechnung!$G$4:$G$1000,0),COLUMN()+1)),\"\",INDEX(geb.Rechnung!$A$4:$G$1000,MATCH(ROW()-5,geb.Rechnung!$G$4:$G$1000,0),COLUMN()+1))","v":""}]
[{"$f":"IF(ISNA(INDEX(geb.Rechnung!$A$4:$G$1000,MATCH(ROW()-5,geb.Rechnung!$G$4:$G$1000,0),COLUMN()-1)),\"\",INDEX(geb.Rechnung!$A$4:$G$1000,MATCH(ROW()-5,geb.Rechnung!$G$4:$G$1000,0),COLUMN()-1))","v":""},{"$f":"IF(ISNA(INDEX(geb.Rechnung!$A$4:$G$1000,MATCH(ROW()-5,geb.Rechnung!$G$4:$G$1000,0),COLUMN()-2)),\"\",INDEX(geb.Rechnung!$A$4:$G$1000,MATCH(ROW()-5,geb.Rechnung!$G$4:$G$1000,0),COLUMN()-2))","v":""},{"$f":"IF(ISNA(INDEX(geb.Rechnung!$A$4:$G$1000,MATCH(ROW()-5,geb.Rechnung!$G$4:$G$1000,0),COLUMN()+1)),\"\",INDEX(geb.Rechnung!$A$4:$G$1000,MATCH(ROW()-5,geb.Rechnung!$G$4:$G$1000,0),COLUMN()+1))","v":""},{"$f":"IF(ISNA(INDEX(geb.Rechnung!$A$4:$G$1000,MATCH(ROW()-5,geb.Rechnung!$G$4:$G$1000,0),COLUMN()+1)),\"\",INDEX(geb.Rechnung!$A$4:$G$1000,MATCH(ROW()-5,geb.Rechnung!$G$4:$G$1000,0),COLUMN()+1))","v":""}]
[{"$f":"IF(ISNA(INDEX(geb.Rechnung!$A$4:$G$1000,MATCH(ROW()-5,geb.Rechnung!$G$4:$G$1000,0),COLUMN()-1)),\"\",INDEX(geb.Rechnung!$A$4:$G$1000,MATCH(ROW()-5,geb.Rechnung!$G$4:$G$1000,0),COLUMN()-1))","v":""},{"$f":"IF(ISNA(INDEX(geb.Rechnung!$A$4:$G$1000,MATCH(ROW()-5,geb.Rechnung!$G$4:$G$1000,0),COLUMN()-2)),\"\",INDEX(geb.Rechnung!$A$4:$G$1000,MATCH(ROW()-5,geb.Rechnung!$G$4:$G$1000,0),COLUMN()-2))","v":""},{"$f":"IF(ISNA(INDEX(geb.Rechnung!$A$4:$G$1000,MATCH(ROW()-5,geb.Rechnung!$G$4:$G$1000,0),COLUMN()+1)),\"\",INDEX(geb.Rechnung!$A$4:$G$1000,MATCH(ROW()-5,geb.Rechnung!$G$4:$G$1000,0),COLUMN()+1))","v":""},{"$f":"IF(ISNA(INDEX(geb.Rechnung!$A$4:$G$1000,MATCH(ROW()-5,geb.Rechnung!$G$4:$G$1000,0),COLUMN()+1)),\"\",INDEX(geb.Rechnung!$A$4:$G$1000,MATCH(ROW()-5,geb.Rechnung!$G$4:$G$1000,0),COLUMN()+1))","v":""}]
[{"$f":"IF(ISNA(INDEX(geb.Rechnung!$A$4:$G$1000,MATCH(ROW()-5,geb.Rechnung!$G$4:$G$1000,0),COLUMN()-1)),\"\",INDEX(geb.Rechnung!$A$4:$G$1000,MATCH(ROW()-5,geb.Rechnung!$G$4:$G$1000,0),COLUMN()-1))","v":""},{"$f":"IF(ISNA(INDEX(geb.Rechnung!$A$4:$G$1000,MATCH(ROW()-5,geb.Rechnung!$G$4:$G$1000,0),COLUMN()-2)),\"\",INDEX(geb.Rechnung!$A$4:$G$1000,MATCH(ROW()-5,geb.Rechnung!$G$4:$G$1000,0),COLUMN()-2))","v":""},{"$f":"IF(ISNA(INDEX(geb.Rechnung!$A$4:$G$1000,MATCH(ROW()-5,geb.Rechnung!$G$4:$G$1000,0),COLUMN()+1)),\"\",INDEX(geb.Rechnung!$A$4:$G$1000,MATCH(ROW()-5,geb.Rechnung!$G$4:$G$1000,0),COLUMN()+1))","v":""},{"$f":"IF(ISNA(INDEX(geb.Rechnung!$A$4:$G$1000,MATCH(ROW()-5,geb.Rechnung!$G$4:$G$1000,0),COLUMN()+1)),\"\",INDEX(geb.Rechnung!$A$4:$G$1000,MATCH(ROW()-5,geb.Rechnung!$G$4:$G$1000,0),COLUMN()+1))","v":""}]
[{"$f":"IF(ISNA(INDEX(geb.Rechnung!$A$4:$G$1000,MATCH(ROW()-5,geb.Rechnung!$G$4:$G$1000,0),COLUMN()-1)),\"\",INDEX(geb.Rechnung!$A$4:$G$1000,MATCH(ROW()-5,geb.Rechnung!$G$4:$G$1000,0),COLUMN()-1))","v":""},{"$f":"IF(ISNA(INDEX(geb.Rechnung!$A$4:$G$1000,MATCH(ROW()-5,geb.Rechnung!$G$4:$G$1000,0),COLUMN()-2)),\"\",INDEX(geb.Rechnung!$A$4:$G$1000,MATCH(ROW()-5,geb.Rechnung!$G$4:$G$1000,0),COLUMN()-2))","v":""},{"$f":"IF(ISNA(INDEX(geb.Rechnung!$A$4:$G$1000,MATCH(ROW()-5,geb.Rechnung!$G$4:$G$1000,0),COLUMN()+1)),\"\",INDEX(geb.Rechnung!$A$4:$G$1000,MATCH(ROW()-5,geb.Rechnung!$G$4:$G$1000,0),COLUMN()+1))","v":""},{"$f":"IF(ISNA(INDEX(geb.Rechnung!$A$4:$G$1000,MATCH(ROW()-5,geb.Rechnung!$G$4:$G$1000,0),COLUMN()+1)),\"\",INDEX(geb.Rechnung!$A$4:$G$1000,MATCH(ROW()-5,geb.Rechnung!$G$4:$G$1000,0),COLUMN()+1))","v":""}]
[{"$f":"IF(ISNA(INDEX(geb.Rechnung!$A$4:$G$1000,MATCH(ROW()-5,geb.Rechnung!$G$4:$G$1000,0),COLUMN()-1)),\"\",INDEX(geb.Rechnung!$A$4:$G$1000,MATCH(ROW()-5,geb.Rechnung!$G$4:$G$1000,0),COLUMN()-1))","v":""},{"$f":"IF(ISNA(INDEX(geb.Rechnung!$A$4:$G$1000,MATCH(ROW()-5,geb.Rechnung!$G$4:$G$1000,0),COLUMN()-2)),\"\",INDEX(geb.Rechnung!$A$4:$G$1000,MATCH(ROW()-5,geb.Rechnung!$G$4:$G$1000,0),COLUMN()-2))","v":""},{"$f":"IF(ISNA(INDEX(geb.Rechnung!$A$4:$G$1000,MATCH(ROW()-5,geb.Rechnung!$G$4:$G$1000,0),COLUMN()+1)),\"\",INDEX(geb.Rechnung!$A$4:$G$1000,MATCH(ROW()-5,geb.Rechnung!$G$4:$G$1000,0),COLUMN()+1))","v":""},{"$f":"IF(ISNA(INDEX(geb.Rechnung!$A$4:$G$1000,MATCH(ROW()-5,geb.Rechnung!$G$4:$G$1000,0),COLUMN()+1)),\"\",INDEX(geb.Rechnung!$A$4:$G$1000,MATCH(ROW()-5,geb.Rechnung!$G$4:$G$1000,0),COLUMN()+1))","v":""}]
[{"$f":"IF(ISNA(INDEX(geb.Rechnung!$A$4:$G$1000,MATCH(ROW()-5,geb.Rechnung!$G$4:$G$1000,0),COLUMN()-1)),\"\",INDEX(geb.Rechnung!$A$4:$G$1000,MATCH(ROW()-5,geb.Rechnung!$G$4:$G$1000,0),COLUMN()-1))","v":""},{"$f":"IF(ISNA(INDEX(geb.Rechnung!$A$4:$G$1000,MATCH(ROW()-5,geb.Rechnung!$G$4:$G$1000,0),COLUMN()-2)),\"\",INDEX(geb.Rechnung!$A$4:$G$1000,MATCH(ROW()-5,geb.Rechnung!$G$4:$G$1000,0),COLUMN()-2))","v":""},{"$f":"IF(ISNA(INDEX(geb.Rechnung!$A$4:$G$1000,MATCH(ROW()-5,geb.Rechnung!$G$4:$G$1000,0),COLUMN()+1)),\"\",INDEX(geb.Rechnung!$A$4:$G$1000,MATCH(ROW()-5,geb.Rechnung!$G$4:$G$1000,0),COLUMN()+1))","v":""},{"$f":"IF(ISNA(INDEX(geb.Rechnung!$A$4:$G$1000,MATCH(ROW()-5,geb.Rechnung!$G$4:$G$1000,0),COLUMN()+1)),\"\",INDEX(geb.Rechnung!$A$4:$G$1000,MATCH(ROW()-5,geb.Rechnung!$G$4:$G$1000,0),COLUMN()+1))","v":""}]
[{"$f":"IF(ISNA(INDEX(geb.Rechnung!$A$4:$G$1000,MATCH(ROW()-5,geb.Rechnung!$G$4:$G$1000,0),COLUMN()-1)),\"\",INDEX(geb.Rechnung!$A$4:$G$1000,MATCH(ROW()-5,geb.Rechnung!$G$4:$G$1000,0),COLUMN()-1))","v":""},{"$f":"IF(ISNA(INDEX(geb.Rechnung!$A$4:$G$1000,MATCH(ROW()-5,geb.Rechnung!$G$4:$G$1000,0),COLUMN()-2)),\"\",INDEX(geb.Rechnung!$A$4:$G$1000,MATCH(ROW()-5,geb.Rechnung!$G$4:$G$1000,0),COLUMN()-2))","v":""},{"$f":"IF(ISNA(INDEX(geb.Rechnung!$A$4:$G$1000,MATCH(ROW()-5,geb.Rechnung!$G$4:$G$1000,0),COLUMN()+1)),\"\",INDEX(geb.Rechnung!$A$4:$G$1000,MATCH(ROW()-5,geb.Rechnung!$G$4:$G$1000,0),COLUMN()+1))","v":""},{"$f":"IF(ISNA(INDEX(geb.Rechnung!$A$4:$G$1000,MATCH(ROW()-5,geb.Rechnung!$G$4:$G$1000,0),COLUMN()+1)),\"\",INDEX(geb.Rechnung!$A$4:$G$1000,MATCH(ROW()-5,geb.Rechnung!$G$4:$G$1000,0),COLUMN()+1))","v":""}]
[{"$f":"IF(ISNA(INDEX(geb.Rechnung!$A$4:$G$1000,MATCH(ROW()-5,geb.Rechnung!$G$4:$G$1000,0),COLUMN()-1)),\"\",INDEX(geb.Rechnung!$A$4:$G$1000,MATCH(ROW()-5,geb.Rechnung!$G$4:$G$1000,0),COLUMN()-1))","v":""},{"$f":"IF(ISNA(INDEX(geb.Rechnung!$A$4:$G$1000,MATCH(ROW()-5,geb.Rechnung!$G$4:$G$1000,0),COLUMN()-2)),\"\",INDEX(geb.Rechnung!$A$4:$G$1000,MATCH(ROW()-5,geb.Rechnung!$G$4:$G$1000,0),COLUMN()-2))","v":""},{"$f":"IF(ISNA(INDEX(geb.Rechnung!$A$4:$G$1000,MATCH(ROW()-5,geb.Rechnung!$G$4:$G$1000,0),COLUMN()+1)),\"\",INDEX(geb.Rechnung!$A$4:$G$1000,MATCH(ROW()-5,geb.Rechnung!$G$4:$G$1000,0),COLUMN()+1))","v":""},{"$f":"IF(ISNA(INDEX(geb.Rechnung!$A$4:$G$1000,MATCH(ROW()-5,geb.Rechnung!$G$4:$G$1000,0),COLUMN()+1)),\"\",INDEX(geb.Rechnung!$A$4:$G$1000,MATCH(ROW()-5,geb.Rechnung!$G$4:$G$1000,0),COLUMN()+1))","v":""}]
[{"$f":"IF(ISNA(INDEX(geb.Rechnung!$A$4:$G$1000,MATCH(ROW()-5,geb.Rechnung!$G$4:$G$1000,0),COLUMN()-1)),\"\",INDEX(geb.Rechnung!$A$4:$G$1000,MATCH(ROW()-5,geb.Rechnung!$G$4:$G$1000,0),COLUMN()-1))","v":""},{"$f":"IF(ISNA(INDEX(geb.Rechnung!$A$4:$G$1000,MATCH(ROW()-5,geb.Rechnung!$G$4:$G$1000,0),COLUMN()-2)),\"\",INDEX(geb.Rechnung!$A$4:$G$1000,MATCH(ROW()-5,geb.Rechnung!$G$4:$G$1000,0),COLUMN()-2))","v":""},{"$f":"IF(ISNA(INDEX(geb.Rechnung!$A$4:$G$1000,MATCH(ROW()-5,geb.Rechnung!$G$4:$G$1000,0),COLUMN()+1)),\"\",INDEX(geb.Rechnung!$A$4:$G$1000,MATCH(ROW()-5,geb.Rechnung!$G$4:$G$1000,0),COLUMN()+1))","v":""},{"$f":"IF(ISNA(INDEX(geb.Rechnung!$A$4:$G$1000,MATCH(ROW()-5,geb.Rechnung!$G$4:$G$1000,0),COLUMN()+1)),\"\",INDEX(geb.Rechnung!$A$4:$G$1000,MATCH(ROW()-5,geb.Rechnung!$G$4:$G$1000,0),COLUMN()+1))","v":""}]
[{"$f":"IF(ISNA(INDEX(geb.Rechnung!$A$4:$G$1000,MATCH(ROW()-5,geb.Rechnung!$G$4:$G$1000,0),COLUMN()-1)),\"\",INDEX(geb.Rechnung!$A$4:$G$1000,MATCH(ROW()-5,geb.Rechnung!$G$4:$G$1000,0),COLUMN()-1))","v":""},{"$f":"IF(ISNA(INDEX(geb.Rechnung!$A$4:$G$1000,MATCH(ROW()-5,geb.Rechnung!$G$4:$G$1000,0),COLUMN()-2)),\"\",INDEX(geb.Rechnung!$A$4:$G$1000,MATCH(ROW()-5,geb.Rechnung!$G$4:$G$1000,0),COLUMN()-2))","v":""},{"$f":"IF(ISNA(INDEX(geb.Rechnung!$A$4:$G$1000,MATCH(ROW()-5,geb.Rechnung!$G$4:$G$1000,0),COLUMN()+1)),\"\",INDEX(geb.Rechnung!$A$4:$G$1000,MATCH(ROW()-5,geb.Rechnung!$G$4:$G$1000,0),COLUMN()+1))","v":""},{"$f":"IF(ISNA(INDEX(geb.Rechnung!$A$4:$G$1000,MATCH(ROW()-5,geb.Rechnung!$G$4:$G$1000,0),COLUMN()+1)),\"\",INDEX(geb.Rechnung!$A$4:$G$1000,MATCH(ROW()-5,geb.Rechnung!$G$4:$G$1000,0),COLUMN()+1))","v":""}]
[{"$f":"IF(ISNA(INDEX(geb.Rechnung!$A$4:$G$1000,MATCH(ROW()-5,geb.Rechnung!$G$4:$G$1000,0),COLUMN()-1)),\"\",INDEX(geb.Rechnung!$A$4:$G$1000,MATCH(ROW()-5,geb.Rechnung!$G$4:$G$1000,0),COLUMN()-1))","v":""},{"$f":"IF(ISNA(INDEX(geb.Rechnung!$A$4:$G$1000,MATCH(ROW()-5,geb.Rechnung!$G$4:$G$1000,0),COLUMN()-2)),\"\",INDEX(geb.Rechnung!$A$4:$G$1000,MATCH(ROW()-5,geb.Rechnung!$G$4:$G$1000,0),COLUMN()-2))","v":""},{"$f":"IF(ISNA(INDEX(geb.Rechnung!$A$4:$G$1000,MATCH(ROW()-5,geb.Rechnung!$G$4:$G$1000,0),COLUMN()+1)),\"\",INDEX(geb.Rechnung!$A$4:$G$1000,MATCH(ROW()-5,geb.Rechnung!$G$4:$G$1000,0),COLUMN()+1))","v":""},{"$f":"IF(ISNA(INDEX(geb.Rechnung!$A$4:$G$1000,MATCH(ROW()-5,geb.Rechnung!$G$4:$G$1000,0),COLUMN()+1)),\"\",INDEX(geb.Rechnung!$A$4:$G$1000,MATCH(ROW()-5,geb.Rechnung!$G$4:$G$1000,0),COLUMN()+1))","v":""}]
[{"$f":"IF(ISNA(INDEX(geb.Rechnung!$A$4:$G$1000,MATCH(ROW()-5,geb.Rechnung!$G$4:$G$1000,0),COLUMN()-1)),\"\",INDEX(geb.Rechnung!$A$4:$G$1000,MATCH(ROW()-5,geb.Rechnung!$G$4:$G$1000,0),COLUMN()-1))","v":""},{"$f":"IF(ISNA(INDEX(geb.Rechnung!$A$4:$G$1000,MATCH(ROW()-5,geb.Rechnung!$G$4:$G$1000,0),COLUMN()-2)),\"\",INDEX(geb.Rechnung!$A$4:$G$1000,MATCH(ROW()-5,geb.Rechnung!$G$4:$G$1000,0),COLUMN()-2))","v":""},{"$f":"IF(ISNA(INDEX(geb.Rechnung!$A$4:$G$1000,MATCH(ROW()-5,geb.Rechnung!$G$4:$G$1000,0),COLUMN()+1)),\"\",INDEX(geb.Rechnung!$A$4:$G$1000,MATCH(ROW()-5,geb.Rechnung!$G$4:$G$1000,0),COLUMN()+1))","v":""},{"$f":"IF(ISNA(INDEX(geb.Rechnung!$A$4:$G$1000,MATCH(ROW()-5,geb.Rechnung!$G$4:$G$1000,0),COLUMN()+1)),\"\",INDEX(geb.Rechnung!$A$4:$G$1000,MATCH(ROW()-5,geb.Rechnung!$G$4:$G$1000,0),COLUMN()+1))","v":""}]
[{"$f":"IF(ISNA(INDEX(geb.Rechnung!$A$4:$G$1000,MATCH(ROW()-5,geb.Rechnung!$G$4:$G$1000,0),COLUMN()-1)),\"\",INDEX(geb.Rechnung!$A$4:$G$1000,MATCH(ROW()-5,geb.Rechnung!$G$4:$G$1000,0),COLUMN()-1))","v":""},{"$f":"IF(ISNA(INDEX(geb.Rechnung!$A$4:$G$1000,MATCH(ROW()-5,geb.Rechnung!$G$4:$G$1000,0),COLUMN()-2)),\"\",INDEX(geb.Rechnung!$A$4:$G$1000,MATCH(ROW()-5,geb.Rechnung!$G$4:$G$1000,0),COLUMN()-2))","v":""},{"$f":"IF(ISNA(INDEX(geb.Rechnung!$A$4:$G$1000,MATCH(ROW()-5,geb.Rechnung!$G$4:$G$1000,0),COLUMN()+1)),\"\",INDEX(geb.Rechnung!$A$4:$G$1000,MATCH(ROW()-5,geb.Rechnung!$G$4:$G$1000,0),COLUMN()+1))","v":""},{"$f":"IF(ISNA(INDEX(geb.Rechnung!$A$4:$G$1000,MATCH(ROW()-5,geb.Rechnung!$G$4:$G$1000,0),COLUMN()+1)),\"\",INDEX(geb.Rechnung!$A$4:$G$1000,MATCH(ROW()-5,geb.Rechnung!$G$4:$G$1000,0),COLUMN()+1))","v":""}]
[{"$f":"IF(ISNA(INDEX(geb.Rechnung!$A$4:$G$1000,MATCH(ROW()-5,geb.Rechnung!$G$4:$G$1000,0),COLUMN()-1)),\"\",INDEX(geb.Rechnung!$A$4:$G$1000,MATCH(ROW()-5,geb.Rechnung!$G$4:$G$1000,0),COLUMN()-1))","v":""},{"$f":"IF(ISNA(INDEX(geb.Rechnung!$A$4:$G$1000,MATCH(ROW()-5,geb.Rechnung!$G$4:$G$1000,0),COLUMN()-2)),\"\",INDEX(geb.Rechnung!$A$4:$G$1000,MATCH(ROW()-5,geb.Rechnung!$G$4:$G$1000,0),COLUMN()-2))","v":""},{"$f":"IF(ISNA(INDEX(geb.Rechnung!$A$4:$G$1000,MATCH(ROW()-5,geb.Rechnung!$G$4:$G$1000,0),COLUMN()+1)),\"\",INDEX(geb.Rechnung!$A$4:$G$1000,MATCH(ROW()-5,geb.Rechnung!$G$4:$G$1000,0),COLUMN()+1))","v":""},{"$f":"IF(ISNA(INDEX(geb.Rechnung!$A$4:$G$1000,MATCH(ROW()-5,geb.Rechnung!$G$4:$G$1000,0),COLUMN()+1)),\"\",INDEX(geb.Rechnung!$A$4:$G$1000,MATCH(ROW()-5,geb.Rechnung!$G$4:$G$1000,0),COLUMN()+1))","v":""}]
[{"$f":"IF(ISNA(INDEX(geb.Rechnung!$A$4:$G$1000,MATCH(ROW()-5,geb.Rechnung!$G$4:$G$1000,0),COLUMN()-1)),\"\",INDEX(geb.Rechnung!$A$4:$G$1000,MATCH(ROW()-5,geb.Rechnung!$G$4:$G$1000,0),COLUMN()-1))","v":""},{"$f":"IF(ISNA(INDEX(geb.Rechnung!$A$4:$G$1000,MATCH(ROW()-5,geb.Rechnung!$G$4:$G$1000,0),COLUMN()-2)),\"\",INDEX(geb.Rechnung!$A$4:$G$1000,MATCH(ROW()-5,geb.Rechnung!$G$4:$G$1000,0),COLUMN()-2))","v":""},{"$f":"IF(ISNA(INDEX(geb.Rechnung!$A$4:$G$1000,MATCH(ROW()-5,geb.Rechnung!$G$4:$G$1000,0),COLUMN()+1)),\"\",INDEX(geb.Rechnung!$A$4:$G$1000,MATCH(ROW()-5,geb.Rechnung!$G$4:$G$1000,0),COLUMN()+1))","v":""},{"$f":"IF(ISNA(INDEX(geb.Rechnung!$A$4:$G$1000,MATCH(ROW()-5,geb.Rechnung!$G$4:$G$1000,0),COLUMN()+1)),\"\",INDEX(geb.Rechnung!$A$4:$G$1000,MATCH(ROW()-5,geb.Rechnung!$G$4:$G$1000,0),COLUMN()+1))","v":""}]
[{"$f":"IF(ISNA(INDEX(geb.Rechnung!$A$4:$G$1000,MATCH(ROW()-5,geb.Rechnung!$G$4:$G$1000,0),COLUMN()-1)),\"\",INDEX(geb.Rechnung!$A$4:$G$1000,MATCH(ROW()-5,geb.Rechnung!$G$4:$G$1000,0),COLUMN()-1))","v":""},{"$f":"IF(ISNA(INDEX(geb.Rechnung!$A$4:$G$1000,MATCH(ROW()-5,geb.Rechnung!$G$4:$G$1000,0),COLUMN()-2)),\"\",INDEX(geb.Rechnung!$A$4:$G$1000,MATCH(ROW()-5,geb.Rechnung!$G$4:$G$1000,0),COLUMN()-2))","v":""},{"$f":"IF(ISNA(INDEX(geb.Rechnung!$A$4:$G$1000,MATCH(ROW()-5,geb.Rechnung!$G$4:$G$1000,0),COLUMN()+1)),\"\",INDEX(geb.Rechnung!$A$4:$G$1000,MATCH(ROW()-5,geb.Rechnung!$G$4:$G$1000,0),COLUMN()+1))","v":""},{"$f":"IF(ISNA(INDEX(geb.Rechnung!$A$4:$G$1000,MATCH(ROW()-5,geb.Rechnung!$G$4:$G$1000,0),COLUMN()+1)),\"\",INDEX(geb.Rechnung!$A$4:$G$1000,MATCH(ROW()-5,geb.Rechnung!$G$4:$G$1000,0),COLUMN()+1))","v":""}]
[{"$f":"IF(ISNA(INDEX(geb.Rechnung!$A$4:$G$1000,MATCH(ROW()-5,geb.Rechnung!$G$4:$G$1000,0),COLUMN()-1)),\"\",INDEX(geb.Rechnung!$A$4:$G$1000,MATCH(ROW()-5,geb.Rechnung!$G$4:$G$1000,0),COLUMN()-1))","v":""},{"$f":"IF(ISNA(INDEX(geb.Rechnung!$A$4:$G$1000,MATCH(ROW()-5,geb.Rechnung!$G$4:$G$1000,0),COLUMN()-2)),\"\",INDEX(geb.Rechnung!$A$4:$G$1000,MATCH(ROW()-5,geb.Rechnung!$G$4:$G$1000,0),COLUMN()-2))","v":""},{"$f":"IF(ISNA(INDEX(geb.Rechnung!$A$4:$G$1000,MATCH(ROW()-5,geb.Rechnung!$G$4:$G$1000,0),COLUMN()+1)),\"\",INDEX(geb.Rechnung!$A$4:$G$1000,MATCH(ROW()-5,geb.Rechnung!$G$4:$G$1000,0),COLUMN()+1))","v":""},{"$f":"IF(ISNA(INDEX(geb.Rechnung!$A$4:$G$1000,MATCH(ROW()-5,geb.Rechnung!$G$4:$G$1000,0),COLUMN()+1)),\"\",INDEX(geb.Rechnung!$A$4:$G$1000,MATCH(ROW()-5,geb.Rechnung!$G$4:$G$1000,0),COLUMN()+1))","v":""}]
[{"$f":"IF(ISNA(INDEX(geb.Rechnung!$A$4:$G$1000,MATCH(ROW()-5,geb.Rechnung!$G$4:$G$1000,0),COLUMN()-1)),\"\",INDEX(geb.Rechnung!$A$4:$G$1000,MATCH(ROW()-5,geb.Rechnung!$G$4:$G$1000,0),COLUMN()-1))","v":""},{"$f":"IF(ISNA(INDEX(geb.Rechnung!$A$4:$G$1000,MATCH(ROW()-5,geb.Rechnung!$G$4:$G$1000,0),COLUMN()-2)),\"\",INDEX(geb.Rechnung!$A$4:$G$1000,MATCH(ROW()-5,geb.Rechnung!$G$4:$G$1000,0),COLUMN()-2))","v":""},{"$f":"IF(ISNA(INDEX(geb.Rechnung!$A$4:$G$1000,MATCH(ROW()-5,geb.Rechnung!$G$4:$G$1000,0),COLUMN()+1)),\"\",INDEX(geb.Rechnung!$A$4:$G$1000,MATCH(ROW()-5,geb.Rechnung!$G$4:$G$1000,0),COLUMN()+1))","v":""},{"$f":"IF(ISNA(INDEX(geb.Rechnung!$A$4:$G$1000,MATCH(ROW()-5,geb.Rechnung!$G$4:$G$1000,0),COLUMN()+1)),\"\",INDEX(geb.Rechnung!$A$4:$G$1000,MATCH(ROW()-5,geb.Rechnung!$G$4:$G$1000,0),COLUMN()+1))","v":""}]
[{"$f":"IF(ISNA(INDEX(geb.Rechnung!$A$4:$G$1000,MATCH(ROW()-5,geb.Rechnung!$G$4:$G$1000,0),COLUMN()-1)),\"\",INDEX(geb.Rechnung!$A$4:$G$1000,MATCH(ROW()-5,geb.Rechnung!$G$4:$G$1000,0),COLUMN()-1))","v":""},{"$f":"IF(ISNA(INDEX(geb.Rechnung!$A$4:$G$1000,MATCH(ROW()-5,geb.Rechnung!$G$4:$G$1000,0),COLUMN()-2)),\"\",INDEX(geb.Rechnung!$A$4:$G$1000,MATCH(ROW()-5,geb.Rechnung!$G$4:$G$1000,0),COLUMN()-2))","v":""},{"$f":"IF(ISNA(INDEX(geb.Rechnung!$A$4:$G$1000,MATCH(ROW()-5,geb.Rechnung!$G$4:$G$1000,0),COLUMN()+1)),\"\",INDEX(geb.Rechnung!$A$4:$G$1000,MATCH(ROW()-5,geb.Rechnung!$G$4:$G$1000,0),COLUMN()+1))","v":""},{"$f":"IF(ISNA(INDEX(geb.Rechnung!$A$4:$G$1000,MATCH(ROW()-5,geb.Rechnung!$G$4:$G$1000,0),COLUMN()+1)),\"\",INDEX(geb.Rechnung!$A$4:$G$1000,MATCH(ROW()-5,geb.Rechnung!$G$4:$G$1000,0),COLUMN()+1))","v":""}]
[{"$f":"IF(ISNA(INDEX(geb.Rechnung!$A$4:$G$1000,MATCH(ROW()-5,geb.Rechnung!$G$4:$G$1000,0),COLUMN()-1)),\"\",INDEX(geb.Rechnung!$A$4:$G$1000,MATCH(ROW()-5,geb.Rechnung!$G$4:$G$1000,0),COLUMN()-1))","v":""},{"$f":"IF(ISNA(INDEX(geb.Rechnung!$A$4:$G$1000,MATCH(ROW()-5,geb.Rechnung!$G$4:$G$1000,0),COLUMN()-2)),\"\",INDEX(geb.Rechnung!$A$4:$G$1000,MATCH(ROW()-5,geb.Rechnung!$G$4:$G$1000,0),COLUMN()-2))","v":""},{"$f":"IF(ISNA(INDEX(geb.Rechnung!$A$4:$G$1000,MATCH(ROW()-5,geb.Rechnung!$G$4:$G$1000,0),COLUMN()+1)),\"\",INDEX(geb.Rechnung!$A$4:$G$1000,MATCH(ROW()-5,geb.Rechnung!$G$4:$G$1000,0),COLUMN()+1))","v":""},{"$f":"IF(ISNA(INDEX(geb.Rechnung!$A$4:$G$1000,MATCH(ROW()-5,geb.Rechnung!$G$4:$G$1000,0),COLUMN()+1)),\"\",INDEX(geb.Rechnung!$A$4:$G$1000,MATCH(ROW()-5,geb.Rechnung!$G$4:$G$1000,0),COLUMN()+1))","v":""}]
[{"$f":"IF(ISNA(INDEX(geb.Rechnung!$A$4:$G$1000,MATCH(ROW()-5,geb.Rechnung!$G$4:$G$1000,0),COLUMN()-1)),\"\",INDEX(geb.Rechnung!$A$4:$G$1000,MATCH(ROW()-5,geb.Rechnung!$G$4:$G$1000,0),COLUMN()-1))","v":""},{"$f":"IF(ISNA(INDEX(geb.Rechnung!$A$4:$G$1000,MATCH(ROW()-5,geb.Rechnung!$G$4:$G$1000,0),COLUMN()-2)),\"\",INDEX(geb.Rechnung!$A$4:$G$1000,MATCH(ROW()-5,geb.Rechnung!$G$4:$G$1000,0),COLUMN()-2))","v":""},{"$f":"IF(ISNA(INDEX(geb.Rechnung!$A$4:$G$1000,MATCH(ROW()-5,geb.Rechnung!$G$4:$G$1000,0),COLUMN()+1)),\"\",INDEX(geb.Rechnung!$A$4:$G$1000,MATCH(ROW()-5,geb.Rechnung!$G$4:$G$1000,0),COLUMN()+1))","v":""},{"$f":"IF(ISNA(INDEX(geb.Rechnung!$A$4:$G$1000,MATCH(ROW()-5,geb.Rechnung!$G$4:$G$1000,0),COLUMN()+1)),\"\",INDEX(geb.Rechnung!$A$4:$G$1000,MATCH(ROW()-5,geb.Rechnung!$G$4:$G$1000,0),COLUMN()+1))","v":""}]
[{"$f":"IF(ISNA(INDEX(geb.Rechnung!$A$4:$G$1000,MATCH(ROW()-5,geb.Rechnung!$G$4:$G$1000,0),COLUMN()-1)),\"\",INDEX(geb.Rechnung!$A$4:$G$1000,MATCH(ROW()-5,geb.Rechnung!$G$4:$G$1000,0),COLUMN()-1))","v":""},{"$f":"IF(ISNA(INDEX(geb.Rechnung!$A$4:$G$1000,MATCH(ROW()-5,geb.Rechnung!$G$4:$G$1000,0),COLUMN()-2)),\"\",INDEX(geb.Rechnung!$A$4:$G$1000,MATCH(ROW()-5,geb.Rechnung!$G$4:$G$1000,0),COLUMN()-2))","v":""},{"$f":"IF(ISNA(INDEX(geb.Rechnung!$A$4:$G$1000,MATCH(ROW()-5,geb.Rechnung!$G$4:$G$1000,0),COLUMN()+1)),\"\",INDEX(geb.Rechnung!$A$4:$G$1000,MATCH(ROW()-5,geb.Rechnung!$G$4:$G$1000,0),COLUMN()+1))","v":""},{"$f":"IF(ISNA(INDEX(geb.Rechnung!$A$4:$G$1000,MATCH(ROW()-5,geb.Rechnung!$G$4:$G$1000,0),COLUMN()+1)),\"\",INDEX(geb.Rechnung!$A$4:$G$1000,MATCH(ROW()-5,geb.Rechnung!$G$4:$G$1000,0),COLUMN()+1))","v":""}]
[{"$f":"IF(ISNA(INDEX(geb.Rechnung!$A$4:$G$1000,MATCH(ROW()-5,geb.Rechnung!$G$4:$G$1000,0),COLUMN()-1)),\"\",INDEX(geb.Rechnung!$A$4:$G$1000,MATCH(ROW()-5,geb.Rechnung!$G$4:$G$1000,0),COLUMN()-1))","v":""},{"$f":"IF(ISNA(INDEX(geb.Rechnung!$A$4:$G$1000,MATCH(ROW()-5,geb.Rechnung!$G$4:$G$1000,0),COLUMN()-2)),\"\",INDEX(geb.Rechnung!$A$4:$G$1000,MATCH(ROW()-5,geb.Rechnung!$G$4:$G$1000,0),COLUMN()-2))","v":""},{"$f":"IF(ISNA(INDEX(geb.Rechnung!$A$4:$G$1000,MATCH(ROW()-5,geb.Rechnung!$G$4:$G$1000,0),COLUMN()+1)),\"\",INDEX(geb.Rechnung!$A$4:$G$1000,MATCH(ROW()-5,geb.Rechnung!$G$4:$G$1000,0),COLUMN()+1))","v":""},{"$f":"IF(ISNA(INDEX(geb.Rechnung!$A$4:$G$1000,MATCH(ROW()-5,geb.Rechnung!$G$4:$G$1000,0),COLUMN()+1)),\"\",INDEX(geb.Rechnung!$A$4:$G$1000,MATCH(ROW()-5,geb.Rechnung!$G$4:$G$1000,0),COLUMN()+1))","v":""}]
[{"$f":"IF(ISNA(INDEX(geb.Rechnung!$A$4:$G$1000,MATCH(ROW()-5,geb.Rechnung!$G$4:$G$1000,0),COLUMN()-1)),\"\",INDEX(geb.Rechnung!$A$4:$G$1000,MATCH(ROW()-5,geb.Rechnung!$G$4:$G$1000,0),COLUMN()-1))","v":""},{"$f":"IF(ISNA(INDEX(geb.Rechnung!$A$4:$G$1000,MATCH(ROW()-5,geb.Rechnung!$G$4:$G$1000,0),COLUMN()-2)),\"\",INDEX(geb.Rechnung!$A$4:$G$1000,MATCH(ROW()-5,geb.Rechnung!$G$4:$G$1000,0),COLUMN()-2))","v":""},{"$f":"IF(ISNA(INDEX(geb.Rechnung!$A$4:$G$1000,MATCH(ROW()-5,geb.Rechnung!$G$4:$G$1000,0),COLUMN()+1)),\"\",INDEX(geb.Rechnung!$A$4:$G$1000,MATCH(ROW()-5,geb.Rechnung!$G$4:$G$1000,0),COLUMN()+1))","v":""},{"$f":"IF(ISNA(INDEX(geb.Rechnung!$A$4:$G$1000,MATCH(ROW()-5,geb.Rechnung!$G$4:$G$1000,0),COLUMN()+1)),\"\",INDEX(geb.Rechnung!$A$4:$G$1000,MATCH(ROW()-5,geb.Rechnung!$G$4:$G$1000,0),COLUMN()+1))","v":""}]
[{"$f":"IF(ISNA(INDEX(geb.Rechnung!$A$4:$G$1000,MATCH(ROW()-5,geb.Rechnung!$G$4:$G$1000,0),COLUMN()-1)),\"\",INDEX(geb.Rechnung!$A$4:$G$1000,MATCH(ROW()-5,geb.Rechnung!$G$4:$G$1000,0),COLUMN()-1))","v":""},{"$f":"IF(ISNA(INDEX(geb.Rechnung!$A$4:$G$1000,MATCH(ROW()-5,geb.Rechnung!$G$4:$G$1000,0),COLUMN()-2)),\"\",INDEX(geb.Rechnung!$A$4:$G$1000,MATCH(ROW()-5,geb.Rechnung!$G$4:$G$1000,0),COLUMN()-2))","v":""},{"$f":"IF(ISNA(INDEX(geb.Rechnung!$A$4:$G$1000,MATCH(ROW()-5,geb.Rechnung!$G$4:$G$1000,0),COLUMN()+1)),\"\",INDEX(geb.Rechnung!$A$4:$G$1000,MATCH(ROW()-5,geb.Rechnung!$G$4:$G$1000,0),COLUMN()+1))","v":""},{"$f":"IF(ISNA(INDEX(geb.Rechnung!$A$4:$G$1000,MATCH(ROW()-5,geb.Rechnung!$G$4:$G$1000,0),COLUMN()+1)),\"\",INDEX(geb.Rechnung!$A$4:$G$1000,MATCH(ROW()-5,geb.Rechnung!$G$4:$G$1000,0),COLUMN()+1))","v":""}]
[{"$f":"IF(ISNA(INDEX(geb.Rechnung!$A$4:$G$1000,MATCH(ROW()-5,geb.Rechnung!$G$4:$G$1000,0),COLUMN()-1)),\"\",INDEX(geb.Rechnung!$A$4:$G$1000,MATCH(ROW()-5,geb.Rechnung!$G$4:$G$1000,0),COLUMN()-1))","v":""},{"$f":"IF(ISNA(INDEX(geb.Rechnung!$A$4:$G$1000,MATCH(ROW()-5,geb.Rechnung!$G$4:$G$1000,0),COLUMN()-2)),\"\",INDEX(geb.Rechnung!$A$4:$G$1000,MATCH(ROW()-5,geb.Rechnung!$G$4:$G$1000,0),COLUMN()-2))","v":""},{"$f":"IF(ISNA(INDEX(geb.Rechnung!$A$4:$G$1000,MATCH(ROW()-5,geb.Rechnung!$G$4:$G$1000,0),COLUMN()+1)),\"\",INDEX(geb.Rechnung!$A$4:$G$1000,MATCH(ROW()-5,geb.Rechnung!$G$4:$G$1000,0),COLUMN()+1))","v":""},{"$f":"IF(ISNA(INDEX(geb.Rechnung!$A$4:$G$1000,MATCH(ROW()-5,geb.Rechnung!$G$4:$G$1000,0),COLUMN()+1)),\"\",INDEX(geb.Rechnung!$A$4:$G$1000,MATCH(ROW()-5,geb.Rechnung!$G$4:$G$1000,0),COLUMN()+1))","v":""}]
[{"$f":"IF(ISNA(INDEX(geb.Rechnung!$A$4:$G$1000,MATCH(ROW()-5,geb.Rechnung!$G$4:$G$1000,0),COLUMN()-1)),\"\",INDEX(geb.Rechnung!$A$4:$G$1000,MATCH(ROW()-5,geb.Rechnung!$G$4:$G$1000,0),COLUMN()-1))","v":""},{"$f":"IF(ISNA(INDEX(geb.Rechnung!$A$4:$G$1000,MATCH(ROW()-5,geb.Rechnung!$G$4:$G$1000,0),COLUMN()-2)),\"\",INDEX(geb.Rechnung!$A$4:$G$1000,MATCH(ROW()-5,geb.Rechnung!$G$4:$G$1000,0),COLUMN()-2))","v":""},{"$f":"IF(ISNA(INDEX(geb.Rechnung!$A$4:$G$1000,MATCH(ROW()-5,geb.Rechnung!$G$4:$G$1000,0),COLUMN()+1)),\"\",INDEX(geb.Rechnung!$A$4:$G$1000,MATCH(ROW()-5,geb.Rechnung!$G$4:$G$1000,0),COLUMN()+1))","v":""},{"$f":"IF(ISNA(INDEX(geb.Rechnung!$A$4:$G$1000,MATCH(ROW()-5,geb.Rechnung!$G$4:$G$1000,0),COLUMN()+1)),\"\",INDEX(geb.Rechnung!$A$4:$G$1000,MATCH(ROW()-5,geb.Rechnung!$G$4:$G$1000,0),COLUMN()+1))","v":""}]
[{"$f":"IF(ISNA(INDEX(geb.Rechnung!$A$4:$G$1000,MATCH(ROW()-5,geb.Rechnung!$G$4:$G$1000,0),COLUMN()-1)),\"\",INDEX(geb.Rechnung!$A$4:$G$1000,MATCH(ROW()-5,geb.Rechnung!$G$4:$G$1000,0),COLUMN()-1))","v":""},{"$f":"IF(ISNA(INDEX(geb.Rechnung!$A$4:$G$1000,MATCH(ROW()-5,geb.Rechnung!$G$4:$G$1000,0),COLUMN()-2)),\"\",INDEX(geb.Rechnung!$A$4:$G$1000,MATCH(ROW()-5,geb.Rechnung!$G$4:$G$1000,0),COLUMN()-2))","v":""},{"$f":"IF(ISNA(INDEX(geb.Rechnung!$A$4:$G$1000,MATCH(ROW()-5,geb.Rechnung!$G$4:$G$1000,0),COLUMN()+1)),\"\",INDEX(geb.Rechnung!$A$4:$G$1000,MATCH(ROW()-5,geb.Rechnung!$G$4:$G$1000,0),COLUMN()+1))","v":""},{"$f":"IF(ISNA(INDEX(geb.Rechnung!$A$4:$G$1000,MATCH(ROW()-5,geb.Rechnung!$G$4:$G$1000,0),COLUMN()+1)),\"\",INDEX(geb.Rechnung!$A$4:$G$1000,MATCH(ROW()-5,geb.Rechnung!$G$4:$G$1000,0),COLUMN()+1))","v":""}]
[{"$f":"IF(ISNA(INDEX(geb.Rechnung!$A$4:$G$1000,MATCH(ROW()-5,geb.Rechnung!$G$4:$G$1000,0),COLUMN()-1)),\"\",INDEX(geb.Rechnung!$A$4:$G$1000,MATCH(ROW()-5,geb.Rechnung!$G$4:$G$1000,0),COLUMN()-1))","v":""},{"$f":"IF(ISNA(INDEX(geb.Rechnung!$A$4:$G$1000,MATCH(ROW()-5,geb.Rechnung!$G$4:$G$1000,0),COLUMN()-2)),\"\",INDEX(geb.Rechnung!$A$4:$G$1000,MATCH(ROW()-5,geb.Rechnung!$G$4:$G$1000,0),COLUMN()-2))","v":""},{"$f":"IF(ISNA(INDEX(geb.Rechnung!$A$4:$G$1000,MATCH(ROW()-5,geb.Rechnung!$G$4:$G$1000,0),COLUMN()+1)),\"\",INDEX(geb.Rechnung!$A$4:$G$1000,MATCH(ROW()-5,geb.Rechnung!$G$4:$G$1000,0),COLUMN()+1))","v":""},{"$f":"IF(ISNA(INDEX(geb.Rechnung!$A$4:$G$1000,MATCH(ROW()-5,geb.Rechnung!$G$4:$G$1000,0),COLUMN()+1)),\"\",INDEX(geb.Rechnung!$A$4:$G$1000,MATCH(ROW()-5,geb.Rechnung!$G$4:$G$1000,0),COLUMN()+1))","v":""}]
[{"$f":"IF(ISNA(INDEX(geb.Rechnung!$A$4:$G$1000,MATCH(ROW()-5,geb.Rechnung!$G$4:$G$1000,0),COLUMN()-1)),\"\",INDEX(geb.Rechnung!$A$4:$G$1000,MATCH(ROW()-5,geb.Rechnung!$G$4:$G$1000,0),COLUMN()-1))","v":""},{"$f":"IF(ISNA(INDEX(geb.Rechnung!$A$4:$G$1000,MATCH(ROW()-5,geb.Rechnung!$G$4:$G$1000,0),COLUMN()-2)),\"\",INDEX(geb.Rechnung!$A$4:$G$1000,MATCH(ROW()-5,geb.Rechnung!$G$4:$G$1000,0),COLUMN()-2))","v":""},{"$f":"IF(ISNA(INDEX(geb.Rechnung!$A$4:$G$1000,MATCH(ROW()-5,geb.Rechnung!$G$4:$G$1000,0),COLUMN()+1)),\"\",INDEX(geb.Rechnung!$A$4:$G$1000,MATCH(ROW()-5,geb.Rechnung!$G$4:$G$1000,0),COLUMN()+1))","v":""},{"$f":"IF(ISNA(INDEX(geb.Rechnung!$A$4:$G$1000,MATCH(ROW()-5,geb.Rechnung!$G$4:$G$1000,0),COLUMN()+1)),\"\",INDEX(geb.Rechnung!$A$4:$G$1000,MATCH(ROW()-5,geb.Rechnung!$G$4:$G$1000,0),COLUMN()+1))","v":""}]
[{"$f":"IF(ISNA(INDEX(geb.Rechnung!$A$4:$G$1000,MATCH(ROW()-5,geb.Rechnung!$G$4:$G$1000,0),COLUMN()-1)),\"\",INDEX(geb.Rechnung!$A$4:$G$1000,MATCH(ROW()-5,geb.Rechnung!$G$4:$G$1000,0),COLUMN()-1))","v":""},{"$f":"IF(ISNA(INDEX(geb.Rechnung!$A$4:$G$1000,MATCH(ROW()-5,geb.Rechnung!$G$4:$G$1000,0),COLUMN()-2)),\"\",INDEX(geb.Rechnung!$A$4:$G$1000,MATCH(ROW()-5,geb.Rechnung!$G$4:$G$1000,0),COLUMN()-2))","v":""},{"$f":"IF(ISNA(INDEX(geb.Rechnung!$A$4:$G$1000,MATCH(ROW()-5,geb.Rechnung!$G$4:$G$1000,0),COLUMN()+1)),\"\",INDEX(geb.Rechnung!$A$4:$G$1000,MATCH(ROW()-5,geb.Rechnung!$G$4:$G$1000,0),COLUMN()+1))","v":""},{"$f":"IF(ISNA(INDEX(geb.Rechnung!$A$4:$G$1000,MATCH(ROW()-5,geb.Rechnung!$G$4:$G$1000,0),COLUMN()+1)),\"\",INDEX(geb.Rechnung!$A$4:$G$1000,MATCH(ROW()-5,geb.Rechnung!$G$4:$G$1000,0),COLUMN()+1))","v":""}]
[{"$f":"IF(ISNA(INDEX(geb.Rechnung!$A$4:$G$1000,MATCH(ROW()-5,geb.Rechnung!$G$4:$G$1000,0),COLUMN()-1)),\"\",INDEX(geb.Rechnung!$A$4:$G$1000,MATCH(ROW()-5,geb.Rechnung!$G$4:$G$1000,0),COLUMN()-1))","v":""},{"$f":"IF(ISNA(INDEX(geb.Rechnung!$A$4:$G$1000,MATCH(ROW()-5,geb.Rechnung!$G$4:$G$1000,0),COLUMN()-2)),\"\",INDEX(geb.Rechnung!$A$4:$G$1000,MATCH(ROW()-5,geb.Rechnung!$G$4:$G$1000,0),COLUMN()-2))","v":""},{"$f":"IF(ISNA(INDEX(geb.Rechnung!$A$4:$G$1000,MATCH(ROW()-5,geb.Rechnung!$G$4:$G$1000,0),COLUMN()+1)),\"\",INDEX(geb.Rechnung!$A$4:$G$1000,MATCH(ROW()-5,geb.Rechnung!$G$4:$G$1000,0),COLUMN()+1))","v":""},{"$f":"IF(ISNA(INDEX(geb.Rechnung!$A$4:$G$1000,MATCH(ROW()-5,geb.Rechnung!$G$4:$G$1000,0),COLUMN()+1)),\"\",INDEX(geb.Rechnung!$A$4:$G$1000,MATCH(ROW()-5,geb.Rechnung!$G$4:$G$1000,0),COLUMN()+1))","v":""}]
[{"$f":"IF(ISNA(INDEX(geb.Rechnung!$A$4:$G$1000,MATCH(ROW()-5,geb.Rechnung!$G$4:$G$1000,0),COLUMN()-1)),\"\",INDEX(geb.Rechnung!$A$4:$G$1000,MATCH(ROW()-5,geb.Rechnung!$G$4:$G$1000,0),COLUMN()-1))","v":""},{"$f":"IF(ISNA(INDEX(geb.Rechnung!$A$4:$G$1000,MATCH(ROW()-5,geb.Rechnung!$G$4:$G$1000,0),COLUMN()-2)),\"\",INDEX(geb.Rechnung!$A$4:$G$1000,MATCH(ROW()-5,geb.Rechnung!$G$4:$G$1000,0),COLUMN()-2))","v":""},{"$f":"IF(ISNA(INDEX(geb.Rechnung!$A$4:$G$1000,MATCH(ROW()-5,geb.Rechnung!$G$4:$G$1000,0),COLUMN()+1)),\"\",INDEX(geb.Rechnung!$A$4:$G$1000,MATCH(ROW()-5,geb.Rechnung!$G$4:$G$1000,0),COLUMN()+1))","v":""},{"$f":"IF(ISNA(INDEX(geb.Rechnung!$A$4:$G$1000,MATCH(ROW()-5,geb.Rechnung!$G$4:$G$1000,0),COLUMN()+1)),\"\",INDEX(geb.Rechnung!$A$4:$G$1000,MATCH(ROW()-5,geb.Rechnung!$G$4:$G$1000,0),COLUMN()+1))","v":""}]
[{"$f":"IF(ISNA(INDEX(geb.Rechnung!$A$4:$G$1000,MATCH(ROW()-5,geb.Rechnung!$G$4:$G$1000,0),COLUMN()-1)),\"\",INDEX(geb.Rechnung!$A$4:$G$1000,MATCH(ROW()-5,geb.Rechnung!$G$4:$G$1000,0),COLUMN()-1))","v":""},{"$f":"IF(ISNA(INDEX(geb.Rechnung!$A$4:$G$1000,MATCH(ROW()-5,geb.Rechnung!$G$4:$G$1000,0),COLUMN()-2)),\"\",INDEX(geb.Rechnung!$A$4:$G$1000,MATCH(ROW()-5,geb.Rechnung!$G$4:$G$1000,0),COLUMN()-2))","v":""},{"$f":"IF(ISNA(INDEX(geb.Rechnung!$A$4:$G$1000,MATCH(ROW()-5,geb.Rechnung!$G$4:$G$1000,0),COLUMN()+1)),\"\",INDEX(geb.Rechnung!$A$4:$G$1000,MATCH(ROW()-5,geb.Rechnung!$G$4:$G$1000,0),COLUMN()+1))","v":""},{"$f":"IF(ISNA(INDEX(geb.Rechnung!$A$4:$G$1000,MATCH(ROW()-5,geb.Rechnung!$G$4:$G$1000,0),COLUMN()+1)),\"\",INDEX(geb.Rechnung!$A$4:$G$1000,MATCH(ROW()-5,geb.Rechnung!$G$4:$G$1000,0),COLUMN()+1))","v":""}]
[{"$f":"IF(ISNA(INDEX(geb.Rechnung!$A$4:$G$1000,MATCH(ROW()-5,geb.Rechnung!$G$4:$G$1000,0),COLUMN()-1)),\"\",INDEX(geb.Rechnung!$A$4:$G$1000,MATCH(ROW()-5,geb.Rechnung!$G$4:$G$1000,0),COLUMN()-1))","v":""},{"$f":"IF(ISNA(INDEX(geb.Rechnung!$A$4:$G$1000,MATCH(ROW()-5,geb.Rechnung!$G$4:$G$1000,0),COLUMN()-2)),\"\",INDEX(geb.Rechnung!$A$4:$G$1000,MATCH(ROW()-5,geb.Rechnung!$G$4:$G$1000,0),COLUMN()-2))","v":""},{"$f":"IF(ISNA(INDEX(geb.Rechnung!$A$4:$G$1000,MATCH(ROW()-5,geb.Rechnung!$G$4:$G$1000,0),COLUMN()+1)),\"\",INDEX(geb.Rechnung!$A$4:$G$1000,MATCH(ROW()-5,geb.Rechnung!$G$4:$G$1000,0),COLUMN()+1))","v":""},{"$f":"IF(ISNA(INDEX(geb.Rechnung!$A$4:$G$1000,MATCH(ROW()-5,geb.Rechnung!$G$4:$G$1000,0),COLUMN()+1)),\"\",INDEX(geb.Rechnung!$A$4:$G$1000,MATCH(ROW()-5,geb.Rechnung!$G$4:$G$1000,0),COLUMN()+1))","v":""}]
[{"$f":"IF(ISNA(INDEX(geb.Rechnung!$A$4:$G$1000,MATCH(ROW()-5,geb.Rechnung!$G$4:$G$1000,0),COLUMN()-1)),\"\",INDEX(geb.Rechnung!$A$4:$G$1000,MATCH(ROW()-5,geb.Rechnung!$G$4:$G$1000,0),COLUMN()-1))","v":""},{"$f":"IF(ISNA(INDEX(geb.Rechnung!$A$4:$G$1000,MATCH(ROW()-5,geb.Rechnung!$G$4:$G$1000,0),COLUMN()-2)),\"\",INDEX(geb.Rechnung!$A$4:$G$1000,MATCH(ROW()-5,geb.Rechnung!$G$4:$G$1000,0),COLUMN()-2))","v":""},{"$f":"IF(ISNA(INDEX(geb.Rechnung!$A$4:$G$1000,MATCH(ROW()-5,geb.Rechnung!$G$4:$G$1000,0),COLUMN()+1)),\"\",INDEX(geb.Rechnung!$A$4:$G$1000,MATCH(ROW()-5,geb.Rechnung!$G$4:$G$1000,0),COLUMN()+1))","v":""},{"$f":"IF(ISNA(INDEX(geb.Rechnung!$A$4:$G$1000,MATCH(ROW()-5,geb.Rechnung!$G$4:$G$1000,0),COLUMN()+1)),\"\",INDEX(geb.Rechnung!$A$4:$G$1000,MATCH(ROW()-5,geb.Rechnung!$G$4:$G$1000,0),COLUMN()+1))","v":""}]
[{"$f":"IF(ISNA(INDEX(geb.Rechnung!$A$4:$G$1000,MATCH(ROW()-5,geb.Rechnung!$G$4:$G$1000,0),COLUMN()-1)),\"\",INDEX(geb.Rechnung!$A$4:$G$1000,MATCH(ROW()-5,geb.Rechnung!$G$4:$G$1000,0),COLUMN()-1))","v":""},{"$f":"IF(ISNA(INDEX(geb.Rechnung!$A$4:$G$1000,MATCH(ROW()-5,geb.Rechnung!$G$4:$G$1000,0),COLUMN()-2)),\"\",INDEX(geb.Rechnung!$A$4:$G$1000,MATCH(ROW()-5,geb.Rechnung!$G$4:$G$1000,0),COLUMN()-2))","v":""},{"$f":"IF(ISNA(INDEX(geb.Rechnung!$A$4:$G$1000,MATCH(ROW()-5,geb.Rechnung!$G$4:$G$1000,0),COLUMN()+1)),\"\",INDEX(geb.Rechnung!$A$4:$G$1000,MATCH(ROW()-5,geb.Rechnung!$G$4:$G$1000,0),COLUMN()+1))","v":""},{"$f":"IF(ISNA(INDEX(geb.Rechnung!$A$4:$G$1000,MATCH(ROW()-5,geb.Rechnung!$G$4:$G$1000,0),COLUMN()+1)),\"\",INDEX(geb.Rechnung!$A$4:$G$1000,MATCH(ROW()-5,geb.Rechnung!$G$4:$G$1000,0),COLUMN()+1))","v":""}]
[{"$f":"IF(ISNA(INDEX(geb.Rechnung!$A$4:$G$1000,MATCH(ROW()-5,geb.Rechnung!$G$4:$G$1000,0),COLUMN()-1)),\"\",INDEX(geb.Rechnung!$A$4:$G$1000,MATCH(ROW()-5,geb.Rechnung!$G$4:$G$1000,0),COLUMN()-1))","v":""},{"$f":"IF(ISNA(INDEX(geb.Rechnung!$A$4:$G$1000,MATCH(ROW()-5,geb.Rechnung!$G$4:$G$1000,0),COLUMN()-2)),\"\",INDEX(geb.Rechnung!$A$4:$G$1000,MATCH(ROW()-5,geb.Rechnung!$G$4:$G$1000,0),COLUMN()-2))","v":""},{"$f":"IF(ISNA(INDEX(geb.Rechnung!$A$4:$G$1000,MATCH(ROW()-5,geb.Rechnung!$G$4:$G$1000,0),COLUMN()+1)),\"\",INDEX(geb.Rechnung!$A$4:$G$1000,MATCH(ROW()-5,geb.Rechnung!$G$4:$G$1000,0),COLUMN()+1))","v":""},{"$f":"IF(ISNA(INDEX(geb.Rechnung!$A$4:$G$1000,MATCH(ROW()-5,geb.Rechnung!$G$4:$G$1000,0),COLUMN()+1)),\"\",INDEX(geb.Rechnung!$A$4:$G$1000,MATCH(ROW()-5,geb.Rechnung!$G$4:$G$1000,0),COLUMN()+1))","v":""}]
[{"$f":"IF(ISNA(INDEX(geb.Rechnung!$A$4:$G$1000,MATCH(ROW()-5,geb.Rechnung!$G$4:$G$1000,0),COLUMN()-1)),\"\",INDEX(geb.Rechnung!$A$4:$G$1000,MATCH(ROW()-5,geb.Rechnung!$G$4:$G$1000,0),COLUMN()-1))","v":""},{"$f":"IF(ISNA(INDEX(geb.Rechnung!$A$4:$G$1000,MATCH(ROW()-5,geb.Rechnung!$G$4:$G$1000,0),COLUMN()-2)),\"\",INDEX(geb.Rechnung!$A$4:$G$1000,MATCH(ROW()-5,geb.Rechnung!$G$4:$G$1000,0),COLUMN()-2))","v":""},{"$f":"IF(ISNA(INDEX(geb.Rechnung!$A$4:$G$1000,MATCH(ROW()-5,geb.Rechnung!$G$4:$G$1000,0),COLUMN()+1)),\"\",INDEX(geb.Rechnung!$A$4:$G$1000,MATCH(ROW()-5,geb.Rechnung!$G$4:$G$1000,0),COLUMN()+1))","v":""},{"$f":"IF(ISNA(INDEX(geb.Rechnung!$A$4:$G$1000,MATCH(ROW()-5,geb.Rechnung!$G$4:$G$1000,0),COLUMN()+1)),\"\",INDEX(geb.Rechnung!$A$4:$G$1000,MATCH(ROW()-5,geb.Rechnung!$G$4:$G$1000,0),COLUMN()+1))","v":""}]
[{"$f":"IF(ISNA(INDEX(geb.Rechnung!$A$4:$G$1000,MATCH(ROW()-5,geb.Rechnung!$G$4:$G$1000,0),COLUMN()-1)),\"\",INDEX(geb.Rechnung!$A$4:$G$1000,MATCH(ROW()-5,geb.Rechnung!$G$4:$G$1000,0),COLUMN()-1))","v":""},{"$f":"IF(ISNA(INDEX(geb.Rechnung!$A$4:$G$1000,MATCH(ROW()-5,geb.Rechnung!$G$4:$G$1000,0),COLUMN()-2)),\"\",INDEX(geb.Rechnung!$A$4:$G$1000,MATCH(ROW()-5,geb.Rechnung!$G$4:$G$1000,0),COLUMN()-2))","v":""},{"$f":"IF(ISNA(INDEX(geb.Rechnung!$A$4:$G$1000,MATCH(ROW()-5,geb.Rechnung!$G$4:$G$1000,0),COLUMN()+1)),\"\",INDEX(geb.Rechnung!$A$4:$G$1000,MATCH(ROW()-5,geb.Rechnung!$G$4:$G$1000,0),COLUMN()+1))","v":""},{"$f":"IF(ISNA(INDEX(geb.Rechnung!$A$4:$G$1000,MATCH(ROW()-5,geb.Rechnung!$G$4:$G$1000,0),COLUMN()+1)),\"\",INDEX(geb.Rechnung!$A$4:$G$1000,MATCH(ROW()-5,geb.Rechnung!$G$4:$G$1000,0),COLUMN()+1))","v":""}]
[{"$f":"IF(ISNA(INDEX(geb.Rechnung!$A$4:$G$1000,MATCH(ROW()-5,geb.Rechnung!$G$4:$G$1000,0),COLUMN()-1)),\"\",INDEX(geb.Rechnung!$A$4:$G$1000,MATCH(ROW()-5,geb.Rechnung!$G$4:$G$1000,0),COLUMN()-1))","v":""},{"$f":"IF(ISNA(INDEX(geb.Rechnung!$A$4:$G$1000,MATCH(ROW()-5,geb.Rechnung!$G$4:$G$1000,0),COLUMN()-2)),\"\",INDEX(geb.Rechnung!$A$4:$G$1000,MATCH(ROW()-5,geb.Rechnung!$G$4:$G$1000,0),COLUMN()-2))","v":""},{"$f":"IF(ISNA(INDEX(geb.Rechnung!$A$4:$G$1000,MATCH(ROW()-5,geb.Rechnung!$G$4:$G$1000,0),COLUMN()+1)),\"\",INDEX(geb.Rechnung!$A$4:$G$1000,MATCH(ROW()-5,geb.Rechnung!$G$4:$G$1000,0),COLUMN()+1))","v":""},{"$f":"IF(ISNA(INDEX(geb.Rechnung!$A$4:$G$1000,MATCH(ROW()-5,geb.Rechnung!$G$4:$G$1000,0),COLUMN()+1)),\"\",INDEX(geb.Rechnung!$A$4:$G$1000,MATCH(ROW()-5,geb.Rechnung!$G$4:$G$1000,0),COLUMN()+1))","v":""}]
[{"$f":"IF(ISNA(INDEX(geb.Rechnung!$A$4:$G$1000,MATCH(ROW()-5,geb.Rechnung!$G$4:$G$1000,0),COLUMN()-1)),\"\",INDEX(geb.Rechnung!$A$4:$G$1000,MATCH(ROW()-5,geb.Rechnung!$G$4:$G$1000,0),COLUMN()-1))","v":""},{"$f":"IF(ISNA(INDEX(geb.Rechnung!$A$4:$G$1000,MATCH(ROW()-5,geb.Rechnung!$G$4:$G$1000,0),COLUMN()-2)),\"\",INDEX(geb.Rechnung!$A$4:$G$1000,MATCH(ROW()-5,geb.Rechnung!$G$4:$G$1000,0),COLUMN()-2))","v":""},{"$f":"IF(ISNA(INDEX(geb.Rechnung!$A$4:$G$1000,MATCH(ROW()-5,geb.Rechnung!$G$4:$G$1000,0),COLUMN()+1)),\"\",INDEX(geb.Rechnung!$A$4:$G$1000,MATCH(ROW()-5,geb.Rechnung!$G$4:$G$1000,0),COLUMN()+1))","v":""},{"$f":"IF(ISNA(INDEX(geb.Rechnung!$A$4:$G$1000,MATCH(ROW()-5,geb.Rechnung!$G$4:$G$1000,0),COLUMN()+1)),\"\",INDEX(geb.Rechnung!$A$4:$G$1000,MATCH(ROW()-5,geb.Rechnung!$G$4:$G$1000,0),COLUMN()+1))","v":""}]
[{"$f":"IF(ISNA(INDEX(geb.Rechnung!$A$4:$G$1000,MATCH(ROW()-5,geb.Rechnung!$G$4:$G$1000,0),COLUMN()-1)),\"\",INDEX(geb.Rechnung!$A$4:$G$1000,MATCH(ROW()-5,geb.Rechnung!$G$4:$G$1000,0),COLUMN()-1))","v":""},{"$f":"IF(ISNA(INDEX(geb.Rechnung!$A$4:$G$1000,MATCH(ROW()-5,geb.Rechnung!$G$4:$G$1000,0),COLUMN()-2)),\"\",INDEX(geb.Rechnung!$A$4:$G$1000,MATCH(ROW()-5,geb.Rechnung!$G$4:$G$1000,0),COLUMN()-2))","v":""},{"$f":"IF(ISNA(INDEX(geb.Rechnung!$A$4:$G$1000,MATCH(ROW()-5,geb.Rechnung!$G$4:$G$1000,0),COLUMN()+1)),\"\",INDEX(geb.Rechnung!$A$4:$G$1000,MATCH(ROW()-5,geb.Rechnung!$G$4:$G$1000,0),COLUMN()+1))","v":""},{"$f":"IF(ISNA(INDEX(geb.Rechnung!$A$4:$G$1000,MATCH(ROW()-5,geb.Rechnung!$G$4:$G$1000,0),COLUMN()+1)),\"\",INDEX(geb.Rechnung!$A$4:$G$1000,MATCH(ROW()-5,geb.Rechnung!$G$4:$G$1000,0),COLUMN()+1))","v":""}]
[{"$f":"IF(ISNA(INDEX(geb.Rechnung!$A$4:$G$1000,MATCH(ROW()-5,geb.Rechnung!$G$4:$G$1000,0),COLUMN()-1)),\"\",INDEX(geb.Rechnung!$A$4:$G$1000,MATCH(ROW()-5,geb.Rechnung!$G$4:$G$1000,0),COLUMN()-1))","v":""},{"$f":"IF(ISNA(INDEX(geb.Rechnung!$A$4:$G$1000,MATCH(ROW()-5,geb.Rechnung!$G$4:$G$1000,0),COLUMN()-2)),\"\",INDEX(geb.Rechnung!$A$4:$G$1000,MATCH(ROW()-5,geb.Rechnung!$G$4:$G$1000,0),COLUMN()-2))","v":""},{"$f":"IF(ISNA(INDEX(geb.Rechnung!$A$4:$G$1000,MATCH(ROW()-5,geb.Rechnung!$G$4:$G$1000,0),COLUMN()+1)),\"\",INDEX(geb.Rechnung!$A$4:$G$1000,MATCH(ROW()-5,geb.Rechnung!$G$4:$G$1000,0),COLUMN()+1))","v":""},{"$f":"IF(ISNA(INDEX(geb.Rechnung!$A$4:$G$1000,MATCH(ROW()-5,geb.Rechnung!$G$4:$G$1000,0),COLUMN()+1)),\"\",INDEX(geb.Rechnung!$A$4:$G$1000,MATCH(ROW()-5,geb.Rechnung!$G$4:$G$1000,0),COLUMN()+1))","v":""}]
[{"$f":"IF(ISNA(INDEX(geb.Rechnung!$A$4:$G$1000,MATCH(ROW()-5,geb.Rechnung!$G$4:$G$1000,0),COLUMN()-1)),\"\",INDEX(geb.Rechnung!$A$4:$G$1000,MATCH(ROW()-5,geb.Rechnung!$G$4:$G$1000,0),COLUMN()-1))","v":""},{"$f":"IF(ISNA(INDEX(geb.Rechnung!$A$4:$G$1000,MATCH(ROW()-5,geb.Rechnung!$G$4:$G$1000,0),COLUMN()-2)),\"\",INDEX(geb.Rechnung!$A$4:$G$1000,MATCH(ROW()-5,geb.Rechnung!$G$4:$G$1000,0),COLUMN()-2))","v":""},{"$f":"IF(ISNA(INDEX(geb.Rechnung!$A$4:$G$1000,MATCH(ROW()-5,geb.Rechnung!$G$4:$G$1000,0),COLUMN()+1)),\"\",INDEX(geb.Rechnung!$A$4:$G$1000,MATCH(ROW()-5,geb.Rechnung!$G$4:$G$1000,0),COLUMN()+1))","v":""},{"$f":"IF(ISNA(INDEX(geb.Rechnung!$A$4:$G$1000,MATCH(ROW()-5,geb.Rechnung!$G$4:$G$1000,0),COLUMN()+1)),\"\",INDEX(geb.Rechnung!$A$4:$G$1000,MATCH(ROW()-5,geb.Rechnung!$G$4:$G$1000,0),COLUMN()+1))","v":""}]
[{"$f":"IF(ISNA(INDEX(geb.Rechnung!$A$4:$G$1000,MATCH(ROW()-5,geb.Rechnung!$G$4:$G$1000,0),COLUMN()-1)),\"\",INDEX(geb.Rechnung!$A$4:$G$1000,MATCH(ROW()-5,geb.Rechnung!$G$4:$G$1000,0),COLUMN()-1))","v":""},{"$f":"IF(ISNA(INDEX(geb.Rechnung!$A$4:$G$1000,MATCH(ROW()-5,geb.Rechnung!$G$4:$G$1000,0),COLUMN()-2)),\"\",INDEX(geb.Rechnung!$A$4:$G$1000,MATCH(ROW()-5,geb.Rechnung!$G$4:$G$1000,0),COLUMN()-2))","v":""},{"$f":"IF(ISNA(INDEX(geb.Rechnung!$A$4:$G$1000,MATCH(ROW()-5,geb.Rechnung!$G$4:$G$1000,0),COLUMN()+1)),\"\",INDEX(geb.Rechnung!$A$4:$G$1000,MATCH(ROW()-5,geb.Rechnung!$G$4:$G$1000,0),COLUMN()+1))","v":""},{"$f":"IF(ISNA(INDEX(geb.Rechnung!$A$4:$G$1000,MATCH(ROW()-5,geb.Rechnung!$G$4:$G$1000,0),COLUMN()+1)),\"\",INDEX(geb.Rechnung!$A$4:$G$1000,MATCH(ROW()-5,geb.Rechnung!$G$4:$G$1000,0),COLUMN()+1))","v":""}]
[{"$f":"IF(ISNA(INDEX(geb.Rechnung!$A$4:$G$1000,MATCH(ROW()-5,geb.Rechnung!$G$4:$G$1000,0),COLUMN()-1)),\"\",INDEX(geb.Rechnung!$A$4:$G$1000,MATCH(ROW()-5,geb.Rechnung!$G$4:$G$1000,0),COLUMN()-1))","v":""},{"$f":"IF(ISNA(INDEX(geb.Rechnung!$A$4:$G$1000,MATCH(ROW()-5,geb.Rechnung!$G$4:$G$1000,0),COLUMN()-2)),\"\",INDEX(geb.Rechnung!$A$4:$G$1000,MATCH(ROW()-5,geb.Rechnung!$G$4:$G$1000,0),COLUMN()-2))","v":""},{"$f":"IF(ISNA(INDEX(geb.Rechnung!$A$4:$G$1000,MATCH(ROW()-5,geb.Rechnung!$G$4:$G$1000,0),COLUMN()+1)),\"\",INDEX(geb.Rechnung!$A$4:$G$1000,MATCH(ROW()-5,geb.Rechnung!$G$4:$G$1000,0),COLUMN()+1))","v":""},{"$f":"IF(ISNA(INDEX(geb.Rechnung!$A$4:$G$1000,MATCH(ROW()-5,geb.Rechnung!$G$4:$G$1000,0),COLUMN()+1)),\"\",INDEX(geb.Rechnung!$A$4:$G$1000,MATCH(ROW()-5,geb.Rechnung!$G$4:$G$1000,0),COLUMN()+1))","v":""}]
[{"$f":"IF(ISNA(INDEX(geb.Rechnung!$A$4:$G$1000,MATCH(ROW()-5,geb.Rechnung!$G$4:$G$1000,0),COLUMN()-1)),\"\",INDEX(geb.Rechnung!$A$4:$G$1000,MATCH(ROW()-5,geb.Rechnung!$G$4:$G$1000,0),COLUMN()-1))","v":""},{"$f":"IF(ISNA(INDEX(geb.Rechnung!$A$4:$G$1000,MATCH(ROW()-5,geb.Rechnung!$G$4:$G$1000,0),COLUMN()-2)),\"\",INDEX(geb.Rechnung!$A$4:$G$1000,MATCH(ROW()-5,geb.Rechnung!$G$4:$G$1000,0),COLUMN()-2))","v":""},{"$f":"IF(ISNA(INDEX(geb.Rechnung!$A$4:$G$1000,MATCH(ROW()-5,geb.Rechnung!$G$4:$G$1000,0),COLUMN()+1)),\"\",INDEX(geb.Rechnung!$A$4:$G$1000,MATCH(ROW()-5,geb.Rechnung!$G$4:$G$1000,0),COLUMN()+1))","v":""},{"$f":"IF(ISNA(INDEX(geb.Rechnung!$A$4:$G$1000,MATCH(ROW()-5,geb.Rechnung!$G$4:$G$1000,0),COLUMN()+1)),\"\",INDEX(geb.Rechnung!$A$4:$G$1000,MATCH(ROW()-5,geb.Rechnung!$G$4:$G$1000,0),COLUMN()+1))","v":""}]
[{"$f":"IF(ISNA(INDEX(geb.Rechnung!$A$4:$G$1000,MATCH(ROW()-5,geb.Rechnung!$G$4:$G$1000,0),COLUMN()-1)),\"\",INDEX(geb.Rechnung!$A$4:$G$1000,MATCH(ROW()-5,geb.Rechnung!$G$4:$G$1000,0),COLUMN()-1))","v":""},{"$f":"IF(ISNA(INDEX(geb.Rechnung!$A$4:$G$1000,MATCH(ROW()-5,geb.Rechnung!$G$4:$G$1000,0),COLUMN()-2)),\"\",INDEX(geb.Rechnung!$A$4:$G$1000,MATCH(ROW()-5,geb.Rechnung!$G$4:$G$1000,0),COLUMN()-2))","v":""},{"$f":"IF(ISNA(INDEX(geb.Rechnung!$A$4:$G$1000,MATCH(ROW()-5,geb.Rechnung!$G$4:$G$1000,0),COLUMN()+1)),\"\",INDEX(geb.Rechnung!$A$4:$G$1000,MATCH(ROW()-5,geb.Rechnung!$G$4:$G$1000,0),COLUMN()+1))","v":""},{"$f":"IF(ISNA(INDEX(geb.Rechnung!$A$4:$G$1000,MATCH(ROW()-5,geb.Rechnung!$G$4:$G$1000,0),COLUMN()+1)),\"\",INDEX(geb.Rechnung!$A$4:$G$1000,MATCH(ROW()-5,geb.Rechnung!$G$4:$G$1000,0),COLUMN()+1))","v":""}]
[{"$f":"IF(ISNA(INDEX(geb.Rechnung!$A$4:$G$1000,MATCH(ROW()-5,geb.Rechnung!$G$4:$G$1000,0),COLUMN()-1)),\"\",INDEX(geb.Rechnung!$A$4:$G$1000,MATCH(ROW()-5,geb.Rechnung!$G$4:$G$1000,0),COLUMN()-1))","v":""},{"$f":"IF(ISNA(INDEX(geb.Rechnung!$A$4:$G$1000,MATCH(ROW()-5,geb.Rechnung!$G$4:$G$1000,0),COLUMN()-2)),\"\",INDEX(geb.Rechnung!$A$4:$G$1000,MATCH(ROW()-5,geb.Rechnung!$G$4:$G$1000,0),COLUMN()-2))","v":""},{"$f":"IF(ISNA(INDEX(geb.Rechnung!$A$4:$G$1000,MATCH(ROW()-5,geb.Rechnung!$G$4:$G$1000,0),COLUMN()+1)),\"\",INDEX(geb.Rechnung!$A$4:$G$1000,MATCH(ROW()-5,geb.Rechnung!$G$4:$G$1000,0),COLUMN()+1))","v":""},{"$f":"IF(ISNA(INDEX(geb.Rechnung!$A$4:$G$1000,MATCH(ROW()-5,geb.Rechnung!$G$4:$G$1000,0),COLUMN()+1)),\"\",INDEX(geb.Rechnung!$A$4:$G$1000,MATCH(ROW()-5,geb.Rechnung!$G$4:$G$1000,0),COLUMN()+1))","v":""}]
[{"$f":"IF(ISNA(INDEX(geb.Rechnung!$A$4:$G$1000,MATCH(ROW()-5,geb.Rechnung!$G$4:$G$1000,0),COLUMN()-1)),\"\",INDEX(geb.Rechnung!$A$4:$G$1000,MATCH(ROW()-5,geb.Rechnung!$G$4:$G$1000,0),COLUMN()-1))","v":""},{"$f":"IF(ISNA(INDEX(geb.Rechnung!$A$4:$G$1000,MATCH(ROW()-5,geb.Rechnung!$G$4:$G$1000,0),COLUMN()-2)),\"\",INDEX(geb.Rechnung!$A$4:$G$1000,MATCH(ROW()-5,geb.Rechnung!$G$4:$G$1000,0),COLUMN()-2))","v":""},{"$f":"IF(ISNA(INDEX(geb.Rechnung!$A$4:$G$1000,MATCH(ROW()-5,geb.Rechnung!$G$4:$G$1000,0),COLUMN()+1)),\"\",INDEX(geb.Rechnung!$A$4:$G$1000,MATCH(ROW()-5,geb.Rechnung!$G$4:$G$1000,0),COLUMN()+1))","v":""},{"$f":"IF(ISNA(INDEX(geb.Rechnung!$A$4:$G$1000,MATCH(ROW()-5,geb.Rechnung!$G$4:$G$1000,0),COLUMN()+1)),\"\",INDEX(geb.Rechnung!$A$4:$G$1000,MATCH(ROW()-5,geb.Rechnung!$G$4:$G$1000,0),COLUMN()+1))","v":""}]
[{"$f":"IF(ISNA(INDEX(geb.Rechnung!$A$4:$G$1000,MATCH(ROW()-5,geb.Rechnung!$G$4:$G$1000,0),COLUMN()-1)),\"\",INDEX(geb.Rechnung!$A$4:$G$1000,MATCH(ROW()-5,geb.Rechnung!$G$4:$G$1000,0),COLUMN()-1))","v":""},{"$f":"IF(ISNA(INDEX(geb.Rechnung!$A$4:$G$1000,MATCH(ROW()-5,geb.Rechnung!$G$4:$G$1000,0),COLUMN()-2)),\"\",INDEX(geb.Rechnung!$A$4:$G$1000,MATCH(ROW()-5,geb.Rechnung!$G$4:$G$1000,0),COLUMN()-2))","v":""},{"$f":"IF(ISNA(INDEX(geb.Rechnung!$A$4:$G$1000,MATCH(ROW()-5,geb.Rechnung!$G$4:$G$1000,0),COLUMN()+1)),\"\",INDEX(geb.Rechnung!$A$4:$G$1000,MATCH(ROW()-5,geb.Rechnung!$G$4:$G$1000,0),COLUMN()+1))","v":""},{"$f":"IF(ISNA(INDEX(geb.Rechnung!$A$4:$G$1000,MATCH(ROW()-5,geb.Rechnung!$G$4:$G$1000,0),COLUMN()+1)),\"\",INDEX(geb.Rechnung!$A$4:$G$1000,MATCH(ROW()-5,geb.Rechnung!$G$4:$G$1000,0),COLUMN()+1))","v":""}]
[{"$f":"IF(ISNA(INDEX(geb.Rechnung!$A$4:$G$1000,MATCH(ROW()-5,geb.Rechnung!$G$4:$G$1000,0),COLUMN()-1)),\"\",INDEX(geb.Rechnung!$A$4:$G$1000,MATCH(ROW()-5,geb.Rechnung!$G$4:$G$1000,0),COLUMN()-1))","v":""},{"$f":"IF(ISNA(INDEX(geb.Rechnung!$A$4:$G$1000,MATCH(ROW()-5,geb.Rechnung!$G$4:$G$1000,0),COLUMN()-2)),\"\",INDEX(geb.Rechnung!$A$4:$G$1000,MATCH(ROW()-5,geb.Rechnung!$G$4:$G$1000,0),COLUMN()-2))","v":""},{"$f":"IF(ISNA(INDEX(geb.Rechnung!$A$4:$G$1000,MATCH(ROW()-5,geb.Rechnung!$G$4:$G$1000,0),COLUMN()+1)),\"\",INDEX(geb.Rechnung!$A$4:$G$1000,MATCH(ROW()-5,geb.Rechnung!$G$4:$G$1000,0),COLUMN()+1))","v":""},{"$f":"IF(ISNA(INDEX(geb.Rechnung!$A$4:$G$1000,MATCH(ROW()-5,geb.Rechnung!$G$4:$G$1000,0),COLUMN()+1)),\"\",INDEX(geb.Rechnung!$A$4:$G$1000,MATCH(ROW()-5,geb.Rechnung!$G$4:$G$1000,0),COLUMN()+1))","v":""}]
[{"$f":"IF(ISNA(INDEX(geb.Rechnung!$A$4:$G$1000,MATCH(ROW()-5,geb.Rechnung!$G$4:$G$1000,0),COLUMN()-1)),\"\",INDEX(geb.Rechnung!$A$4:$G$1000,MATCH(ROW()-5,geb.Rechnung!$G$4:$G$1000,0),COLUMN()-1))","v":""},{"$f":"IF(ISNA(INDEX(geb.Rechnung!$A$4:$G$1000,MATCH(ROW()-5,geb.Rechnung!$G$4:$G$1000,0),COLUMN()-2)),\"\",INDEX(geb.Rechnung!$A$4:$G$1000,MATCH(ROW()-5,geb.Rechnung!$G$4:$G$1000,0),COLUMN()-2))","v":""},{"$f":"IF(ISNA(INDEX(geb.Rechnung!$A$4:$G$1000,MATCH(ROW()-5,geb.Rechnung!$G$4:$G$1000,0),COLUMN()+1)),\"\",INDEX(geb.Rechnung!$A$4:$G$1000,MATCH(ROW()-5,geb.Rechnung!$G$4:$G$1000,0),COLUMN()+1))","v":""},{"$f":"IF(ISNA(INDEX(geb.Rechnung!$A$4:$G$1000,MATCH(ROW()-5,geb.Rechnung!$G$4:$G$1000,0),COLUMN()+1)),\"\",INDEX(geb.Rechnung!$A$4:$G$1000,MATCH(ROW()-5,geb.Rechnung!$G$4:$G$1000,0),COLUMN()+1))","v":""}]
[{"$f":"IF(ISNA(INDEX(geb.Rechnung!$A$4:$G$1000,MATCH(ROW()-5,geb.Rechnung!$G$4:$G$1000,0),COLUMN()-1)),\"\",INDEX(geb.Rechnung!$A$4:$G$1000,MATCH(ROW()-5,geb.Rechnung!$G$4:$G$1000,0),COLUMN()-1))","v":""},{"$f":"IF(ISNA(INDEX(geb.Rechnung!$A$4:$G$1000,MATCH(ROW()-5,geb.Rechnung!$G$4:$G$1000,0),COLUMN()-2)),\"\",INDEX(geb.Rechnung!$A$4:$G$1000,MATCH(ROW()-5,geb.Rechnung!$G$4:$G$1000,0),COLUMN()-2))","v":""},{"$f":"IF(ISNA(INDEX(geb.Rechnung!$A$4:$G$1000,MATCH(ROW()-5,geb.Rechnung!$G$4:$G$1000,0),COLUMN()+1)),\"\",INDEX(geb.Rechnung!$A$4:$G$1000,MATCH(ROW()-5,geb.Rechnung!$G$4:$G$1000,0),COLUMN()+1))","v":""},{"$f":"IF(ISNA(INDEX(geb.Rechnung!$A$4:$G$1000,MATCH(ROW()-5,geb.Rechnung!$G$4:$G$1000,0),COLUMN()+1)),\"\",INDEX(geb.Rechnung!$A$4:$G$1000,MATCH(ROW()-5,geb.Rechnung!$G$4:$G$1000,0),COLUMN()+1))","v":""}]
[{"$f":"IF(ISNA(INDEX(geb.Rechnung!$A$4:$G$1000,MATCH(ROW()-5,geb.Rechnung!$G$4:$G$1000,0),COLUMN()-1)),\"\",INDEX(geb.Rechnung!$A$4:$G$1000,MATCH(ROW()-5,geb.Rechnung!$G$4:$G$1000,0),COLUMN()-1))","v":""},{"$f":"IF(ISNA(INDEX(geb.Rechnung!$A$4:$G$1000,MATCH(ROW()-5,geb.Rechnung!$G$4:$G$1000,0),COLUMN()-2)),\"\",INDEX(geb.Rechnung!$A$4:$G$1000,MATCH(ROW()-5,geb.Rechnung!$G$4:$G$1000,0),COLUMN()-2))","v":""},{"$f":"IF(ISNA(INDEX(geb.Rechnung!$A$4:$G$1000,MATCH(ROW()-5,geb.Rechnung!$G$4:$G$1000,0),COLUMN()+1)),\"\",INDEX(geb.Rechnung!$A$4:$G$1000,MATCH(ROW()-5,geb.Rechnung!$G$4:$G$1000,0),COLUMN()+1))","v":""},{"$f":"IF(ISNA(INDEX(geb.Rechnung!$A$4:$G$1000,MATCH(ROW()-5,geb.Rechnung!$G$4:$G$1000,0),COLUMN()+1)),\"\",INDEX(geb.Rechnung!$A$4:$G$1000,MATCH(ROW()-5,geb.Rechnung!$G$4:$G$1000,0),COLUMN()+1))","v":""}]
[{"$f":"IF(ISNA(INDEX(geb.Rechnung!$A$4:$G$1000,MATCH(ROW()-5,geb.Rechnung!$G$4:$G$1000,0),COLUMN()-1)),\"\",INDEX(geb.Rechnung!$A$4:$G$1000,MATCH(ROW()-5,geb.Rechnung!$G$4:$G$1000,0),COLUMN()-1))","v":""},{"$f":"IF(ISNA(INDEX(geb.Rechnung!$A$4:$G$1000,MATCH(ROW()-5,geb.Rechnung!$G$4:$G$1000,0),COLUMN()-2)),\"\",INDEX(geb.Rechnung!$A$4:$G$1000,MATCH(ROW()-5,geb.Rechnung!$G$4:$G$1000,0),COLUMN()-2))","v":""},{"$f":"IF(ISNA(INDEX(geb.Rechnung!$A$4:$G$1000,MATCH(ROW()-5,geb.Rechnung!$G$4:$G$1000,0),COLUMN()+1)),\"\",INDEX(geb.Rechnung!$A$4:$G$1000,MATCH(ROW()-5,geb.Rechnung!$G$4:$G$1000,0),COLUMN()+1))","v":""},{"$f":"IF(ISNA(INDEX(geb.Rechnung!$A$4:$G$1000,MATCH(ROW()-5,geb.Rechnung!$G$4:$G$1000,0),COLUMN()+1)),\"\",INDEX(geb.Rechnung!$A$4:$G$1000,MATCH(ROW()-5,geb.Rechnung!$G$4:$G$1000,0),COLUMN()+1))","v":""}]
[{"$f":"IF(ISNA(INDEX(geb.Rechnung!$A$4:$G$1000,MATCH(ROW()-5,geb.Rechnung!$G$4:$G$1000,0),COLUMN()-1)),\"\",INDEX(geb.Rechnung!$A$4:$G$1000,MATCH(ROW()-5,geb.Rechnung!$G$4:$G$1000,0),COLUMN()-1))","v":""},{"$f":"IF(ISNA(INDEX(geb.Rechnung!$A$4:$G$1000,MATCH(ROW()-5,geb.Rechnung!$G$4:$G$1000,0),COLUMN()-2)),\"\",INDEX(geb.Rechnung!$A$4:$G$1000,MATCH(ROW()-5,geb.Rechnung!$G$4:$G$1000,0),COLUMN()-2))","v":""},{"$f":"IF(ISNA(INDEX(geb.Rechnung!$A$4:$G$1000,MATCH(ROW()-5,geb.Rechnung!$G$4:$G$1000,0),COLUMN()+1)),\"\",INDEX(geb.Rechnung!$A$4:$G$1000,MATCH(ROW()-5,geb.Rechnung!$G$4:$G$1000,0),COLUMN()+1))","v":""},{"$f":"IF(ISNA(INDEX(geb.Rechnung!$A$4:$G$1000,MATCH(ROW()-5,geb.Rechnung!$G$4:$G$1000,0),COLUMN()+1)),\"\",INDEX(geb.Rechnung!$A$4:$G$1000,MATCH(ROW()-5,geb.Rechnung!$G$4:$G$1000,0),COLUMN()+1))","v":""}]
[{"$f":"IF(ISNA(INDEX(geb.Rechnung!$A$4:$G$1000,MATCH(ROW()-5,geb.Rechnung!$G$4:$G$1000,0),COLUMN()-1)),\"\",INDEX(geb.Rechnung!$A$4:$G$1000,MATCH(ROW()-5,geb.Rechnung!$G$4:$G$1000,0),COLUMN()-1))","v":""},{"$f":"IF(ISNA(INDEX(geb.Rechnung!$A$4:$G$1000,MATCH(ROW()-5,geb.Rechnung!$G$4:$G$1000,0),COLUMN()-2)),\"\",INDEX(geb.Rechnung!$A$4:$G$1000,MATCH(ROW()-5,geb.Rechnung!$G$4:$G$1000,0),COLUMN()-2))","v":""},{"$f":"IF(ISNA(INDEX(geb.Rechnung!$A$4:$G$1000,MATCH(ROW()-5,geb.Rechnung!$G$4:$G$1000,0),COLUMN()+1)),\"\",INDEX(geb.Rechnung!$A$4:$G$1000,MATCH(ROW()-5,geb.Rechnung!$G$4:$G$1000,0),COLUMN()+1))","v":""},{"$f":"IF(ISNA(INDEX(geb.Rechnung!$A$4:$G$1000,MATCH(ROW()-5,geb.Rechnung!$G$4:$G$1000,0),COLUMN()+1)),\"\",INDEX(geb.Rechnung!$A$4:$G$1000,MATCH(ROW()-5,geb.Rechnung!$G$4:$G$1000,0),COLUMN()+1))","v":""}]
[{"$f":"IF(ISNA(INDEX(geb.Rechnung!$A$4:$G$1000,MATCH(ROW()-5,geb.Rechnung!$G$4:$G$1000,0),COLUMN()-1)),\"\",INDEX(geb.Rechnung!$A$4:$G$1000,MATCH(ROW()-5,geb.Rechnung!$G$4:$G$1000,0),COLUMN()-1))","v":""},{"$f":"IF(ISNA(INDEX(geb.Rechnung!$A$4:$G$1000,MATCH(ROW()-5,geb.Rechnung!$G$4:$G$1000,0),COLUMN()-2)),\"\",INDEX(geb.Rechnung!$A$4:$G$1000,MATCH(ROW()-5,geb.Rechnung!$G$4:$G$1000,0),COLUMN()-2))","v":""},{"$f":"IF(ISNA(INDEX(geb.Rechnung!$A$4:$G$1000,MATCH(ROW()-5,geb.Rechnung!$G$4:$G$1000,0),COLUMN()+1)),\"\",INDEX(geb.Rechnung!$A$4:$G$1000,MATCH(ROW()-5,geb.Rechnung!$G$4:$G$1000,0),COLUMN()+1))","v":""},{"$f":"IF(ISNA(INDEX(geb.Rechnung!$A$4:$G$1000,MATCH(ROW()-5,geb.Rechnung!$G$4:$G$1000,0),COLUMN()+1)),\"\",INDEX(geb.Rechnung!$A$4:$G$1000,MATCH(ROW()-5,geb.Rechnung!$G$4:$G$1000,0),COLUMN()+1))","v":""}]
[{"$f":"IF(ISNA(INDEX(geb.Rechnung!$A$4:$G$1000,MATCH(ROW()-5,geb.Rechnung!$G$4:$G$1000,0),COLUMN()-1)),\"\",INDEX(geb.Rechnung!$A$4:$G$1000,MATCH(ROW()-5,geb.Rechnung!$G$4:$G$1000,0),COLUMN()-1))","v":""},{"$f":"IF(ISNA(INDEX(geb.Rechnung!$A$4:$G$1000,MATCH(ROW()-5,geb.Rechnung!$G$4:$G$1000,0),COLUMN()-2)),\"\",INDEX(geb.Rechnung!$A$4:$G$1000,MATCH(ROW()-5,geb.Rechnung!$G$4:$G$1000,0),COLUMN()-2))","v":""},{"$f":"IF(ISNA(INDEX(geb.Rechnung!$A$4:$G$1000,MATCH(ROW()-5,geb.Rechnung!$G$4:$G$1000,0),COLUMN()+1)),\"\",INDEX(geb.Rechnung!$A$4:$G$1000,MATCH(ROW()-5,geb.Rechnung!$G$4:$G$1000,0),COLUMN()+1))","v":""},{"$f":"IF(ISNA(INDEX(geb.Rechnung!$A$4:$G$1000,MATCH(ROW()-5,geb.Rechnung!$G$4:$G$1000,0),COLUMN()+1)),\"\",INDEX(geb.Rechnung!$A$4:$G$1000,MATCH(ROW()-5,geb.Rechnung!$G$4:$G$1000,0),COLUMN()+1))","v":""}]
[{"$f":"IF(ISNA(INDEX(geb.Rechnung!$A$4:$G$1000,MATCH(ROW()-5,geb.Rechnung!$G$4:$G$1000,0),COLUMN()-1)),\"\",INDEX(geb.Rechnung!$A$4:$G$1000,MATCH(ROW()-5,geb.Rechnung!$G$4:$G$1000,0),COLUMN()-1))","v":""},{"$f":"IF(ISNA(INDEX(geb.Rechnung!$A$4:$G$1000,MATCH(ROW()-5,geb.Rechnung!$G$4:$G$1000,0),COLUMN()-2)),\"\",INDEX(geb.Rechnung!$A$4:$G$1000,MATCH(ROW()-5,geb.Rechnung!$G$4:$G$1000,0),COLUMN()-2))","v":""},{"$f":"IF(ISNA(INDEX(geb.Rechnung!$A$4:$G$1000,MATCH(ROW()-5,geb.Rechnung!$G$4:$G$1000,0),COLUMN()+1)),\"\",INDEX(geb.Rechnung!$A$4:$G$1000,MATCH(ROW()-5,geb.Rechnung!$G$4:$G$1000,0),COLUMN()+1))","v":""},{"$f":"IF(ISNA(INDEX(geb.Rechnung!$A$4:$G$1000,MATCH(ROW()-5,geb.Rechnung!$G$4:$G$1000,0),COLUMN()+1)),\"\",INDEX(geb.Rechnung!$A$4:$G$1000,MATCH(ROW()-5,geb.Rechnung!$G$4:$G$1000,0),COLUMN()+1))","v":""}]
[{"$f":"IF(ISNA(INDEX(geb.Rechnung!$A$4:$G$1000,MATCH(ROW()-5,geb.Rechnung!$G$4:$G$1000,0),COLUMN()-1)),\"\",INDEX(geb.Rechnung!$A$4:$G$1000,MATCH(ROW()-5,geb.Rechnung!$G$4:$G$1000,0),COLUMN()-1))","v":""},{"$f":"IF(ISNA(INDEX(geb.Rechnung!$A$4:$G$1000,MATCH(ROW()-5,geb.Rechnung!$G$4:$G$1000,0),COLUMN()-2)),\"\",INDEX(geb.Rechnung!$A$4:$G$1000,MATCH(ROW()-5,geb.Rechnung!$G$4:$G$1000,0),COLUMN()-2))","v":""},{"$f":"IF(ISNA(INDEX(geb.Rechnung!$A$4:$G$1000,MATCH(ROW()-5,geb.Rechnung!$G$4:$G$1000,0),COLUMN()+1)),\"\",INDEX(geb.Rechnung!$A$4:$G$1000,MATCH(ROW()-5,geb.Rechnung!$G$4:$G$1000,0),COLUMN()+1))","v":""},{"$f":"IF(ISNA(INDEX(geb.Rechnung!$A$4:$G$1000,MATCH(ROW()-5,geb.Rechnung!$G$4:$G$1000,0),COLUMN()+1)),\"\",INDEX(geb.Rechnung!$A$4:$G$1000,MATCH(ROW()-5,geb.Rechnung!$G$4:$G$1000,0),COLUMN()+1))","v":""}]
[{"$f":"IF(ISNA(INDEX(geb.Rechnung!$A$4:$G$1000,MATCH(ROW()-5,geb.Rechnung!$G$4:$G$1000,0),COLUMN()-1)),\"\",INDEX(geb.Rechnung!$A$4:$G$1000,MATCH(ROW()-5,geb.Rechnung!$G$4:$G$1000,0),COLUMN()-1))","v":""},{"$f":"IF(ISNA(INDEX(geb.Rechnung!$A$4:$G$1000,MATCH(ROW()-5,geb.Rechnung!$G$4:$G$1000,0),COLUMN()-2)),\"\",INDEX(geb.Rechnung!$A$4:$G$1000,MATCH(ROW()-5,geb.Rechnung!$G$4:$G$1000,0),COLUMN()-2))","v":""},{"$f":"IF(ISNA(INDEX(geb.Rechnung!$A$4:$G$1000,MATCH(ROW()-5,geb.Rechnung!$G$4:$G$1000,0),COLUMN()+1)),\"\",INDEX(geb.Rechnung!$A$4:$G$1000,MATCH(ROW()-5,geb.Rechnung!$G$4:$G$1000,0),COLUMN()+1))","v":""},{"$f":"IF(ISNA(INDEX(geb.Rechnung!$A$4:$G$1000,MATCH(ROW()-5,geb.Rechnung!$G$4:$G$1000,0),COLUMN()+1)),\"\",INDEX(geb.Rechnung!$A$4:$G$1000,MATCH(ROW()-5,geb.Rechnung!$G$4:$G$1000,0),COLUMN()+1))","v":""}]
[{"$f":"IF(ISNA(INDEX(geb.Rechnung!$A$4:$G$1000,MATCH(ROW()-5,geb.Rechnung!$G$4:$G$1000,0),COLUMN()-1)),\"\",INDEX(geb.Rechnung!$A$4:$G$1000,MATCH(ROW()-5,geb.Rechnung!$G$4:$G$1000,0),COLUMN()-1))","v":""},{"$f":"IF(ISNA(INDEX(geb.Rechnung!$A$4:$G$1000,MATCH(ROW()-5,geb.Rechnung!$G$4:$G$1000,0),COLUMN()-2)),\"\",INDEX(geb.Rechnung!$A$4:$G$1000,MATCH(ROW()-5,geb.Rechnung!$G$4:$G$1000,0),COLUMN()-2))","v":""},{"$f":"IF(ISNA(INDEX(geb.Rechnung!$A$4:$G$1000,MATCH(ROW()-5,geb.Rechnung!$G$4:$G$1000,0),COLUMN()+1)),\"\",INDEX(geb.Rechnung!$A$4:$G$1000,MATCH(ROW()-5,geb.Rechnung!$G$4:$G$1000,0),COLUMN()+1))","v":""},{"$f":"IF(ISNA(INDEX(geb.Rechnung!$A$4:$G$1000,MATCH(ROW()-5,geb.Rechnung!$G$4:$G$1000,0),COLUMN()+1)),\"\",INDEX(geb.Rechnung!$A$4:$G$1000,MATCH(ROW()-5,geb.Rechnung!$G$4:$G$1000,0),COLUMN()+1))","v":""}]
[{"$f":"IF(ISNA(INDEX(geb.Rechnung!$A$4:$G$1000,MATCH(ROW()-5,geb.Rechnung!$G$4:$G$1000,0),COLUMN()-1)),\"\",INDEX(geb.Rechnung!$A$4:$G$1000,MATCH(ROW()-5,geb.Rechnung!$G$4:$G$1000,0),COLUMN()-1))","v":""},{"$f":"IF(ISNA(INDEX(geb.Rechnung!$A$4:$G$1000,MATCH(ROW()-5,geb.Rechnung!$G$4:$G$1000,0),COLUMN()-2)),\"\",INDEX(geb.Rechnung!$A$4:$G$1000,MATCH(ROW()-5,geb.Rechnung!$G$4:$G$1000,0),COLUMN()-2))","v":""},{"$f":"IF(ISNA(INDEX(geb.Rechnung!$A$4:$G$1000,MATCH(ROW()-5,geb.Rechnung!$G$4:$G$1000,0),COLUMN()+1)),\"\",INDEX(geb.Rechnung!$A$4:$G$1000,MATCH(ROW()-5,geb.Rechnung!$G$4:$G$1000,0),COLUMN()+1))","v":""},{"$f":"IF(ISNA(INDEX(geb.Rechnung!$A$4:$G$1000,MATCH(ROW()-5,geb.Rechnung!$G$4:$G$1000,0),COLUMN()+1)),\"\",INDEX(geb.Rechnung!$A$4:$G$1000,MATCH(ROW()-5,geb.Rechnung!$G$4:$G$1000,0),COLUMN()+1))","v":""}]
[{"$f":"IF(ISNA(INDEX(geb.Rechnung!$A$4:$G$1000,MATCH(ROW()-5,geb.Rechnung!$G$4:$G$1000,0),COLUMN()-1)),\"\",INDEX(geb.Rechnung!$A$4:$G$1000,MATCH(ROW()-5,geb.Rechnung!$G$4:$G$1000,0),COLUMN()-1))","v":""},{"$f":"IF(ISNA(INDEX(geb.Rechnung!$A$4:$G$1000,MATCH(ROW()-5,geb.Rechnung!$G$4:$G$1000,0),COLUMN()-2)),\"\",INDEX(geb.Rechnung!$A$4:$G$1000,MATCH(ROW()-5,geb.Rechnung!$G$4:$G$1000,0),COLUMN()-2))","v":""},{"$f":"IF(ISNA(INDEX(geb.Rechnung!$A$4:$G$1000,MATCH(ROW()-5,geb.Rechnung!$G$4:$G$1000,0),COLUMN()+1)),\"\",INDEX(geb.Rechnung!$A$4:$G$1000,MATCH(ROW()-5,geb.Rechnung!$G$4:$G$1000,0),COLUMN()+1))","v":""},{"$f":"IF(ISNA(INDEX(geb.Rechnung!$A$4:$G$1000,MATCH(ROW()-5,geb.Rechnung!$G$4:$G$1000,0),COLUMN()+1)),\"\",INDEX(geb.Rechnung!$A$4:$G$1000,MATCH(ROW()-5,geb.Rechnung!$G$4:$G$1000,0),COLUMN()+1))","v":""}]
[{"$f":"IF(ISNA(INDEX(geb.Rechnung!$A$4:$G$1000,MATCH(ROW()-5,geb.Rechnung!$G$4:$G$1000,0),COLUMN()-1)),\"\",INDEX(geb.Rechnung!$A$4:$G$1000,MATCH(ROW()-5,geb.Rechnung!$G$4:$G$1000,0),COLUMN()-1))","v":""},{"$f":"IF(ISNA(INDEX(geb.Rechnung!$A$4:$G$1000,MATCH(ROW()-5,geb.Rechnung!$G$4:$G$1000,0),COLUMN()-2)),\"\",INDEX(geb.Rechnung!$A$4:$G$1000,MATCH(ROW()-5,geb.Rechnung!$G$4:$G$1000,0),COLUMN()-2))","v":""},{"$f":"IF(ISNA(INDEX(geb.Rechnung!$A$4:$G$1000,MATCH(ROW()-5,geb.Rechnung!$G$4:$G$1000,0),COLUMN()+1)),\"\",INDEX(geb.Rechnung!$A$4:$G$1000,MATCH(ROW()-5,geb.Rechnung!$G$4:$G$1000,0),COLUMN()+1))","v":""},{"$f":"IF(ISNA(INDEX(geb.Rechnung!$A$4:$G$1000,MATCH(ROW()-5,geb.Rechnung!$G$4:$G$1000,0),COLUMN()+1)),\"\",INDEX(geb.Rechnung!$A$4:$G$1000,MATCH(ROW()-5,geb.Rechnung!$G$4:$G$1000,0),COLUMN()+1))","v":""}]
[{"$f":"IF(ISNA(INDEX(geb.Rechnung!$A$4:$G$1000,MATCH(ROW()-5,geb.Rechnung!$G$4:$G$1000,0),COLUMN()-1)),\"\",INDEX(geb.Rechnung!$A$4:$G$1000,MATCH(ROW()-5,geb.Rechnung!$G$4:$G$1000,0),COLUMN()-1))","v":""},{"$f":"IF(ISNA(INDEX(geb.Rechnung!$A$4:$G$1000,MATCH(ROW()-5,geb.Rechnung!$G$4:$G$1000,0),COLUMN()-2)),\"\",INDEX(geb.Rechnung!$A$4:$G$1000,MATCH(ROW()-5,geb.Rechnung!$G$4:$G$1000,0),COLUMN()-2))","v":""},{"$f":"IF(ISNA(INDEX(geb.Rechnung!$A$4:$G$1000,MATCH(ROW()-5,geb.Rechnung!$G$4:$G$1000,0),COLUMN()+1)),\"\",INDEX(geb.Rechnung!$A$4:$G$1000,MATCH(ROW()-5,geb.Rechnung!$G$4:$G$1000,0),COLUMN()+1))","v":""},{"$f":"IF(ISNA(INDEX(geb.Rechnung!$A$4:$G$1000,MATCH(ROW()-5,geb.Rechnung!$G$4:$G$1000,0),COLUMN()+1)),\"\",INDEX(geb.Rechnung!$A$4:$G$1000,MATCH(ROW()-5,geb.Rechnung!$G$4:$G$1000,0),COLUMN()+1))","v":""}]
[{"$f":"IF(ISNA(INDEX(geb.Rechnung!$A$4:$G$1000,MATCH(ROW()-5,geb.Rechnung!$G$4:$G$1000,0),COLUMN()-1)),\"\",INDEX(geb.Rechnung!$A$4:$G$1000,MATCH(ROW()-5,geb.Rechnung!$G$4:$G$1000,0),COLUMN()-1))","v":""},{"$f":"IF(ISNA(INDEX(geb.Rechnung!$A$4:$G$1000,MATCH(ROW()-5,geb.Rechnung!$G$4:$G$1000,0),COLUMN()-2)),\"\",INDEX(geb.Rechnung!$A$4:$G$1000,MATCH(ROW()-5,geb.Rechnung!$G$4:$G$1000,0),COLUMN()-2))","v":""},{"$f":"IF(ISNA(INDEX(geb.Rechnung!$A$4:$G$1000,MATCH(ROW()-5,geb.Rechnung!$G$4:$G$1000,0),COLUMN()+1)),\"\",INDEX(geb.Rechnung!$A$4:$G$1000,MATCH(ROW()-5,geb.Rechnung!$G$4:$G$1000,0),COLUMN()+1))","v":""},{"$f":"IF(ISNA(INDEX(geb.Rechnung!$A$4:$G$1000,MATCH(ROW()-5,geb.Rechnung!$G$4:$G$1000,0),COLUMN()+1)),\"\",INDEX(geb.Rechnung!$A$4:$G$1000,MATCH(ROW()-5,geb.Rechnung!$G$4:$G$1000,0),COLUMN()+1))","v":""}]
[{"$f":"IF(ISNA(INDEX(geb.Rechnung!$A$4:$G$1000,MATCH(ROW()-5,geb.Rechnung!$G$4:$G$1000,0),COLUMN()-1)),\"\",INDEX(geb.Rechnung!$A$4:$G$1000,MATCH(ROW()-5,geb.Rechnung!$G$4:$G$1000,0),COLUMN()-1))","v":""},{"$f":"IF(ISNA(INDEX(geb.Rechnung!$A$4:$G$1000,MATCH(ROW()-5,geb.Rechnung!$G$4:$G$1000,0),COLUMN()-2)),\"\",INDEX(geb.Rechnung!$A$4:$G$1000,MATCH(ROW()-5,geb.Rechnung!$G$4:$G$1000,0),COLUMN()-2))","v":""},{"$f":"IF(ISNA(INDEX(geb.Rechnung!$A$4:$G$1000,MATCH(ROW()-5,geb.Rechnung!$G$4:$G$1000,0),COLUMN()+1)),\"\",INDEX(geb.Rechnung!$A$4:$G$1000,MATCH(ROW()-5,geb.Rechnung!$G$4:$G$1000,0),COLUMN()+1))","v":""},{"$f":"IF(ISNA(INDEX(geb.Rechnung!$A$4:$G$1000,MATCH(ROW()-5,geb.Rechnung!$G$4:$G$1000,0),COLUMN()+1)),\"\",INDEX(geb.Rechnung!$A$4:$G$1000,MATCH(ROW()-5,geb.Rechnung!$G$4:$G$1000,0),COLUMN()+1))","v":""}]
[{"$f":"IF(ISNA(INDEX(geb.Rechnung!$A$4:$G$1000,MATCH(ROW()-5,geb.Rechnung!$G$4:$G$1000,0),COLUMN()-1)),\"\",INDEX(geb.Rechnung!$A$4:$G$1000,MATCH(ROW()-5,geb.Rechnung!$G$4:$G$1000,0),COLUMN()-1))","v":""},{"$f":"IF(ISNA(INDEX(geb.Rechnung!$A$4:$G$1000,MATCH(ROW()-5,geb.Rechnung!$G$4:$G$1000,0),COLUMN()-2)),\"\",INDEX(geb.Rechnung!$A$4:$G$1000,MATCH(ROW()-5,geb.Rechnung!$G$4:$G$1000,0),COLUMN()-2))","v":""},{"$f":"IF(ISNA(INDEX(geb.Rechnung!$A$4:$G$1000,MATCH(ROW()-5,geb.Rechnung!$G$4:$G$1000,0),COLUMN()+1)),\"\",INDEX(geb.Rechnung!$A$4:$G$1000,MATCH(ROW()-5,geb.Rechnung!$G$4:$G$1000,0),COLUMN()+1))","v":""},{"$f":"IF(ISNA(INDEX(geb.Rechnung!$A$4:$G$1000,MATCH(ROW()-5,geb.Rechnung!$G$4:$G$1000,0),COLUMN()+1)),\"\",INDEX(geb.Rechnung!$A$4:$G$1000,MATCH(ROW()-5,geb.Rechnung!$G$4:$G$1000,0),COLUMN()+1))","v":""}]
[{"$f":"IF(ISNA(INDEX(geb.Rechnung!$A$4:$G$1000,MATCH(ROW()-5,geb.Rechnung!$G$4:$G$1000,0),COLUMN()-1)),\"\",INDEX(geb.Rechnung!$A$4:$G$1000,MATCH(ROW()-5,geb.Rechnung!$G$4:$G$1000,0),COLUMN()-1))","v":""},{"$f":"IF(ISNA(INDEX(geb.Rechnung!$A$4:$G$1000,MATCH(ROW()-5,geb.Rechnung!$G$4:$G$1000,0),COLUMN()-2)),\"\",INDEX(geb.Rechnung!$A$4:$G$1000,MATCH(ROW()-5,geb.Rechnung!$G$4:$G$1000,0),COLUMN()-2))","v":""},{"$f":"IF(ISNA(INDEX(geb.Rechnung!$A$4:$G$1000,MATCH(ROW()-5,geb.Rechnung!$G$4:$G$1000,0),COLUMN()+1)),\"\",INDEX(geb.Rechnung!$A$4:$G$1000,MATCH(ROW()-5,geb.Rechnung!$G$4:$G$1000,0),COLUMN()+1))","v":""},{"$f":"IF(ISNA(INDEX(geb.Rechnung!$A$4:$G$1000,MATCH(ROW()-5,geb.Rechnung!$G$4:$G$1000,0),COLUMN()+1)),\"\",INDEX(geb.Rechnung!$A$4:$G$1000,MATCH(ROW()-5,geb.Rechnung!$G$4:$G$1000,0),COLUMN()+1))","v":""}]
[{"$f":"IF(ISNA(INDEX(geb.Rechnung!$A$4:$G$1000,MATCH(ROW()-5,geb.Rechnung!$G$4:$G$1000,0),COLUMN()-1)),\"\",INDEX(geb.Rechnung!$A$4:$G$1000,MATCH(ROW()-5,geb.Rechnung!$G$4:$G$1000,0),COLUMN()-1))","v":""},{"$f":"IF(ISNA(INDEX(geb.Rechnung!$A$4:$G$1000,MATCH(ROW()-5,geb.Rechnung!$G$4:$G$1000,0),COLUMN()-2)),\"\",INDEX(geb.Rechnung!$A$4:$G$1000,MATCH(ROW()-5,geb.Rechnung!$G$4:$G$1000,0),COLUMN()-2))","v":""},{"$f":"IF(ISNA(INDEX(geb.Rechnung!$A$4:$G$1000,MATCH(ROW()-5,geb.Rechnung!$G$4:$G$1000,0),COLUMN()+1)),\"\",INDEX(geb.Rechnung!$A$4:$G$1000,MATCH(ROW()-5,geb.Rechnung!$G$4:$G$1000,0),COLUMN()+1))","v":""},{"$f":"IF(ISNA(INDEX(geb.Rechnung!$A$4:$G$1000,MATCH(ROW()-5,geb.Rechnung!$G$4:$G$1000,0),COLUMN()+1)),\"\",INDEX(geb.Rechnung!$A$4:$G$1000,MATCH(ROW()-5,geb.Rechnung!$G$4:$G$1000,0),COLUMN()+1))","v":""}]
[{"$f":"IF(ISNA(INDEX(geb.Rechnung!$A$4:$G$1000,MATCH(ROW()-5,geb.Rechnung!$G$4:$G$1000,0),COLUMN()-1)),\"\",INDEX(geb.Rechnung!$A$4:$G$1000,MATCH(ROW()-5,geb.Rechnung!$G$4:$G$1000,0),COLUMN()-1))","v":""},{"$f":"IF(ISNA(INDEX(geb.Rechnung!$A$4:$G$1000,MATCH(ROW()-5,geb.Rechnung!$G$4:$G$1000,0),COLUMN()-2)),\"\",INDEX(geb.Rechnung!$A$4:$G$1000,MATCH(ROW()-5,geb.Rechnung!$G$4:$G$1000,0),COLUMN()-2))","v":""},{"$f":"IF(ISNA(INDEX(geb.Rechnung!$A$4:$G$1000,MATCH(ROW()-5,geb.Rechnung!$G$4:$G$1000,0),COLUMN()+1)),\"\",INDEX(geb.Rechnung!$A$4:$G$1000,MATCH(ROW()-5,geb.Rechnung!$G$4:$G$1000,0),COLUMN()+1))","v":""},{"$f":"IF(ISNA(INDEX(geb.Rechnung!$A$4:$G$1000,MATCH(ROW()-5,geb.Rechnung!$G$4:$G$1000,0),COLUMN()+1)),\"\",INDEX(geb.Rechnung!$A$4:$G$1000,MATCH(ROW()-5,geb.Rechnung!$G$4:$G$1000,0),COLUMN()+1))","v":""}]
[{"$f":"IF(ISNA(INDEX(geb.Rechnung!$A$4:$G$1000,MATCH(ROW()-5,geb.Rechnung!$G$4:$G$1000,0),COLUMN()-1)),\"\",INDEX(geb.Rechnung!$A$4:$G$1000,MATCH(ROW()-5,geb.Rechnung!$G$4:$G$1000,0),COLUMN()-1))","v":""},{"$f":"IF(ISNA(INDEX(geb.Rechnung!$A$4:$G$1000,MATCH(ROW()-5,geb.Rechnung!$G$4:$G$1000,0),COLUMN()-2)),\"\",INDEX(geb.Rechnung!$A$4:$G$1000,MATCH(ROW()-5,geb.Rechnung!$G$4:$G$1000,0),COLUMN()-2))","v":""},{"$f":"IF(ISNA(INDEX(geb.Rechnung!$A$4:$G$1000,MATCH(ROW()-5,geb.Rechnung!$G$4:$G$1000,0),COLUMN()+1)),\"\",INDEX(geb.Rechnung!$A$4:$G$1000,MATCH(ROW()-5,geb.Rechnung!$G$4:$G$1000,0),COLUMN()+1))","v":""},{"$f":"IF(ISNA(INDEX(geb.Rechnung!$A$4:$G$1000,MATCH(ROW()-5,geb.Rechnung!$G$4:$G$1000,0),COLUMN()+1)),\"\",INDEX(geb.Rechnung!$A$4:$G$1000,MATCH(ROW()-5,geb.Rechnung!$G$4:$G$1000,0),COLUMN()+1))","v":""}]
[{"$f":"IF(ISNA(INDEX(geb.Rechnung!$A$4:$G$1000,MATCH(ROW()-5,geb.Rechnung!$G$4:$G$1000,0),COLUMN()-1)),\"\",INDEX(geb.Rechnung!$A$4:$G$1000,MATCH(ROW()-5,geb.Rechnung!$G$4:$G$1000,0),COLUMN()-1))","v":""},{"$f":"IF(ISNA(INDEX(geb.Rechnung!$A$4:$G$1000,MATCH(ROW()-5,geb.Rechnung!$G$4:$G$1000,0),COLUMN()-2)),\"\",INDEX(geb.Rechnung!$A$4:$G$1000,MATCH(ROW()-5,geb.Rechnung!$G$4:$G$1000,0),COLUMN()-2))","v":""},{"$f":"IF(ISNA(INDEX(geb.Rechnung!$A$4:$G$1000,MATCH(ROW()-5,geb.Rechnung!$G$4:$G$1000,0),COLUMN()+1)),\"\",INDEX(geb.Rechnung!$A$4:$G$1000,MATCH(ROW()-5,geb.Rechnung!$G$4:$G$1000,0),COLUMN()+1))","v":""},{"$f":"IF(ISNA(INDEX(geb.Rechnung!$A$4:$G$1000,MATCH(ROW()-5,geb.Rechnung!$G$4:$G$1000,0),COLUMN()+1)),\"\",INDEX(geb.Rechnung!$A$4:$G$1000,MATCH(ROW()-5,geb.Rechnung!$G$4:$G$1000,0),COLUMN()+1))","v":""}]
[{"$f":"IF(ISNA(INDEX(geb.Rechnung!$A$4:$G$1000,MATCH(ROW()-5,geb.Rechnung!$G$4:$G$1000,0),COLUMN()-1)),\"\",INDEX(geb.Rechnung!$A$4:$G$1000,MATCH(ROW()-5,geb.Rechnung!$G$4:$G$1000,0),COLUMN()-1))","v":""},{"$f":"IF(ISNA(INDEX(geb.Rechnung!$A$4:$G$1000,MATCH(ROW()-5,geb.Rechnung!$G$4:$G$1000,0),COLUMN()-2)),\"\",INDEX(geb.Rechnung!$A$4:$G$1000,MATCH(ROW()-5,geb.Rechnung!$G$4:$G$1000,0),COLUMN()-2))","v":""},{"$f":"IF(ISNA(INDEX(geb.Rechnung!$A$4:$G$1000,MATCH(ROW()-5,geb.Rechnung!$G$4:$G$1000,0),COLUMN()+1)),\"\",INDEX(geb.Rechnung!$A$4:$G$1000,MATCH(ROW()-5,geb.Rechnung!$G$4:$G$1000,0),COLUMN()+1))","v":""},{"$f":"IF(ISNA(INDEX(geb.Rechnung!$A$4:$G$1000,MATCH(ROW()-5,geb.Rechnung!$G$4:$G$1000,0),COLUMN()+1)),\"\",INDEX(geb.Rechnung!$A$4:$G$1000,MATCH(ROW()-5,geb.Rechnung!$G$4:$G$1000,0),COLUMN()+1))","v":""}]
[{"$f":"IF(ISNA(INDEX(geb.Rechnung!$A$4:$G$1000,MATCH(ROW()-5,geb.Rechnung!$G$4:$G$1000,0),COLUMN()-1)),\"\",INDEX(geb.Rechnung!$A$4:$G$1000,MATCH(ROW()-5,geb.Rechnung!$G$4:$G$1000,0),COLUMN()-1))","v":""},{"$f":"IF(ISNA(INDEX(geb.Rechnung!$A$4:$G$1000,MATCH(ROW()-5,geb.Rechnung!$G$4:$G$1000,0),COLUMN()-2)),\"\",INDEX(geb.Rechnung!$A$4:$G$1000,MATCH(ROW()-5,geb.Rechnung!$G$4:$G$1000,0),COLUMN()-2))","v":""},{"$f":"IF(ISNA(INDEX(geb.Rechnung!$A$4:$G$1000,MATCH(ROW()-5,geb.Rechnung!$G$4:$G$1000,0),COLUMN()+1)),\"\",INDEX(geb.Rechnung!$A$4:$G$1000,MATCH(ROW()-5,geb.Rechnung!$G$4:$G$1000,0),COLUMN()+1))","v":""},{"$f":"IF(ISNA(INDEX(geb.Rechnung!$A$4:$G$1000,MATCH(ROW()-5,geb.Rechnung!$G$4:$G$1000,0),COLUMN()+1)),\"\",INDEX(geb.Rechnung!$A$4:$G$1000,MATCH(ROW()-5,geb.Rechnung!$G$4:$G$1000,0),COLUMN()+1))","v":""}]
[{"$f":"IF(ISNA(INDEX(geb.Rechnung!$A$4:$G$1000,MATCH(ROW()-5,geb.Rechnung!$G$4:$G$1000,0),COLUMN()-1)),\"\",INDEX(geb.Rechnung!$A$4:$G$1000,MATCH(ROW()-5,geb.Rechnung!$G$4:$G$1000,0),COLUMN()-1))","v":""},{"$f":"IF(ISNA(INDEX(geb.Rechnung!$A$4:$G$1000,MATCH(ROW()-5,geb.Rechnung!$G$4:$G$1000,0),COLUMN()-2)),\"\",INDEX(geb.Rechnung!$A$4:$G$1000,MATCH(ROW()-5,geb.Rechnung!$G$4:$G$1000,0),COLUMN()-2))","v":""},{"$f":"IF(ISNA(INDEX(geb.Rechnung!$A$4:$G$1000,MATCH(ROW()-5,geb.Rechnung!$G$4:$G$1000,0),COLUMN()+1)),\"\",INDEX(geb.Rechnung!$A$4:$G$1000,MATCH(ROW()-5,geb.Rechnung!$G$4:$G$1000,0),COLUMN()+1))","v":""},{"$f":"IF(ISNA(INDEX(geb.Rechnung!$A$4:$G$1000,MATCH(ROW()-5,geb.Rechnung!$G$4:$G$1000,0),COLUMN()+1)),\"\",INDEX(geb.Rechnung!$A$4:$G$1000,MATCH(ROW()-5,geb.Rechnung!$G$4:$G$1000,0),COLUMN()+1))","v":""}]
[{"$f":"IF(ISNA(INDEX(geb.Rechnung!$A$4:$G$1000,MATCH(ROW()-5,geb.Rechnung!$G$4:$G$1000,0),COLUMN()-1)),\"\",INDEX(geb.Rechnung!$A$4:$G$1000,MATCH(ROW()-5,geb.Rechnung!$G$4:$G$1000,0),COLUMN()-1))","v":""},{"$f":"IF(ISNA(INDEX(geb.Rechnung!$A$4:$G$1000,MATCH(ROW()-5,geb.Rechnung!$G$4:$G$1000,0),COLUMN()-2)),\"\",INDEX(geb.Rechnung!$A$4:$G$1000,MATCH(ROW()-5,geb.Rechnung!$G$4:$G$1000,0),COLUMN()-2))","v":""},{"$f":"IF(ISNA(INDEX(geb.Rechnung!$A$4:$G$1000,MATCH(ROW()-5,geb.Rechnung!$G$4:$G$1000,0),COLUMN()+1)),\"\",INDEX(geb.Rechnung!$A$4:$G$1000,MATCH(ROW()-5,geb.Rechnung!$G$4:$G$1000,0),COLUMN()+1))","v":""},{"$f":"IF(ISNA(INDEX(geb.Rechnung!$A$4:$G$1000,MATCH(ROW()-5,geb.Rechnung!$G$4:$G$1000,0),COLUMN()+1)),\"\",INDEX(geb.Rechnung!$A$4:$G$1000,MATCH(ROW()-5,geb.Rechnung!$G$4:$G$1000,0),COLUMN()+1))","v":""}]
[{"$f":"IF(ISNA(INDEX(geb.Rechnung!$A$4:$G$1000,MATCH(ROW()-5,geb.Rechnung!$G$4:$G$1000,0),COLUMN()-1)),\"\",INDEX(geb.Rechnung!$A$4:$G$1000,MATCH(ROW()-5,geb.Rechnung!$G$4:$G$1000,0),COLUMN()-1))","v":""},{"$f":"IF(ISNA(INDEX(geb.Rechnung!$A$4:$G$1000,MATCH(ROW()-5,geb.Rechnung!$G$4:$G$1000,0),COLUMN()-2)),\"\",INDEX(geb.Rechnung!$A$4:$G$1000,MATCH(ROW()-5,geb.Rechnung!$G$4:$G$1000,0),COLUMN()-2))","v":""},{"$f":"IF(ISNA(INDEX(geb.Rechnung!$A$4:$G$1000,MATCH(ROW()-5,geb.Rechnung!$G$4:$G$1000,0),COLUMN()+1)),\"\",INDEX(geb.Rechnung!$A$4:$G$1000,MATCH(ROW()-5,geb.Rechnung!$G$4:$G$1000,0),COLUMN()+1))","v":""},{"$f":"IF(ISNA(INDEX(geb.Rechnung!$A$4:$G$1000,MATCH(ROW()-5,geb.Rechnung!$G$4:$G$1000,0),COLUMN()+1)),\"\",INDEX(geb.Rechnung!$A$4:$G$1000,MATCH(ROW()-5,geb.Rechnung!$G$4:$G$1000,0),COLUMN()+1))","v":""}]
[{"$f":"IF(ISNA(INDEX(geb.Rechnung!$A$4:$G$1000,MATCH(ROW()-5,geb.Rechnung!$G$4:$G$1000,0),COLUMN()-1)),\"\",INDEX(geb.Rechnung!$A$4:$G$1000,MATCH(ROW()-5,geb.Rechnung!$G$4:$G$1000,0),COLUMN()-1))","v":""},{"$f":"IF(ISNA(INDEX(geb.Rechnung!$A$4:$G$1000,MATCH(ROW()-5,geb.Rechnung!$G$4:$G$1000,0),COLUMN()-2)),\"\",INDEX(geb.Rechnung!$A$4:$G$1000,MATCH(ROW()-5,geb.Rechnung!$G$4:$G$1000,0),COLUMN()-2))","v":""},{"$f":"IF(ISNA(INDEX(geb.Rechnung!$A$4:$G$1000,MATCH(ROW()-5,geb.Rechnung!$G$4:$G$1000,0),COLUMN()+1)),\"\",INDEX(geb.Rechnung!$A$4:$G$1000,MATCH(ROW()-5,geb.Rechnung!$G$4:$G$1000,0),COLUMN()+1))","v":""},{"$f":"IF(ISNA(INDEX(geb.Rechnung!$A$4:$G$1000,MATCH(ROW()-5,geb.Rechnung!$G$4:$G$1000,0),COLUMN()+1)),\"\",INDEX(geb.Rechnung!$A$4:$G$1000,MATCH(ROW()-5,geb.Rechnung!$G$4:$G$1000,0),COLUMN()+1))","v":""}]
[{"$f":"IF(ISNA(INDEX(geb.Rechnung!$A$4:$G$1000,MATCH(ROW()-5,geb.Rechnung!$G$4:$G$1000,0),COLUMN()-1)),\"\",INDEX(geb.Rechnung!$A$4:$G$1000,MATCH(ROW()-5,geb.Rechnung!$G$4:$G$1000,0),COLUMN()-1))","v":""},{"$f":"IF(ISNA(INDEX(geb.Rechnung!$A$4:$G$1000,MATCH(ROW()-5,geb.Rechnung!$G$4:$G$1000,0),COLUMN()-2)),\"\",INDEX(geb.Rechnung!$A$4:$G$1000,MATCH(ROW()-5,geb.Rechnung!$G$4:$G$1000,0),COLUMN()-2))","v":""},{"$f":"IF(ISNA(INDEX(geb.Rechnung!$A$4:$G$1000,MATCH(ROW()-5,geb.Rechnung!$G$4:$G$1000,0),COLUMN()+1)),\"\",INDEX(geb.Rechnung!$A$4:$G$1000,MATCH(ROW()-5,geb.Rechnung!$G$4:$G$1000,0),COLUMN()+1))","v":""},{"$f":"IF(ISNA(INDEX(geb.Rechnung!$A$4:$G$1000,MATCH(ROW()-5,geb.Rechnung!$G$4:$G$1000,0),COLUMN()+1)),\"\",INDEX(geb.Rechnung!$A$4:$G$1000,MATCH(ROW()-5,geb.Rechnung!$G$4:$G$1000,0),COLUMN()+1))","v":""}]
[{"$f":"IF(ISNA(INDEX(geb.Rechnung!$A$4:$G$1000,MATCH(ROW()-5,geb.Rechnung!$G$4:$G$1000,0),COLUMN()-1)),\"\",INDEX(geb.Rechnung!$A$4:$G$1000,MATCH(ROW()-5,geb.Rechnung!$G$4:$G$1000,0),COLUMN()-1))","v":""},{"$f":"IF(ISNA(INDEX(geb.Rechnung!$A$4:$G$1000,MATCH(ROW()-5,geb.Rechnung!$G$4:$G$1000,0),COLUMN()-2)),\"\",INDEX(geb.Rechnung!$A$4:$G$1000,MATCH(ROW()-5,geb.Rechnung!$G$4:$G$1000,0),COLUMN()-2))","v":""},{"$f":"IF(ISNA(INDEX(geb.Rechnung!$A$4:$G$1000,MATCH(ROW()-5,geb.Rechnung!$G$4:$G$1000,0),COLUMN()+1)),\"\",INDEX(geb.Rechnung!$A$4:$G$1000,MATCH(ROW()-5,geb.Rechnung!$G$4:$G$1000,0),COLUMN()+1))","v":""},{"$f":"IF(ISNA(INDEX(geb.Rechnung!$A$4:$G$1000,MATCH(ROW()-5,geb.Rechnung!$G$4:$G$1000,0),COLUMN()+1)),\"\",INDEX(geb.Rechnung!$A$4:$G$1000,MATCH(ROW()-5,geb.Rechnung!$G$4:$G$1000,0),COLUMN()+1))","v":""}]
[{"$f":"IF(ISNA(INDEX(geb.Rechnung!$A$4:$G$1000,MATCH(ROW()-5,geb.Rechnung!$G$4:$G$1000,0),COLUMN()-1)),\"\",INDEX(geb.Rechnung!$A$4:$G$1000,MATCH(ROW()-5,geb.Rechnung!$G$4:$G$1000,0),COLUMN()-1))","v":""},{"$f":"IF(ISNA(INDEX(geb.Rechnung!$A$4:$G$1000,MATCH(ROW()-5,geb.Rechnung!$G$4:$G$1000,0),COLUMN()-2)),\"\",INDEX(geb.Rechnung!$A$4:$G$1000,MATCH(ROW()-5,geb.Rechnung!$G$4:$G$1000,0),COLUMN()-2))","v":""},{"$f":"IF(ISNA(INDEX(geb.Rechnung!$A$4:$G$1000,MATCH(ROW()-5,geb.Rechnung!$G$4:$G$1000,0),COLUMN()+1)),\"\",INDEX(geb.Rechnung!$A$4:$G$1000,MATCH(ROW()-5,geb.Rechnung!$G$4:$G$1000,0),COLUMN()+1))","v":""},{"$f":"IF(ISNA(INDEX(geb.Rechnung!$A$4:$G$1000,MATCH(ROW()-5,geb.Rechnung!$G$4:$G$1000,0),COLUMN()+1)),\"\",INDEX(geb.Rechnung!$A$4:$G$1000,MATCH(ROW()-5,geb.Rechnung!$G$4:$G$1000,0),COLUMN()+1))","v":""}]
[{"$f":"IF(ISNA(INDEX(geb.Rechnung!$A$4:$G$1000,MATCH(ROW()-5,geb.Rechnung!$G$4:$G$1000,0),COLUMN()-1)),\"\",INDEX(geb.Rechnung!$A$4:$G$1000,MATCH(ROW()-5,geb.Rechnung!$G$4:$G$1000,0),COLUMN()-1))","v":""},{"$f":"IF(ISNA(INDEX(geb.Rechnung!$A$4:$G$1000,MATCH(ROW()-5,geb.Rechnung!$G$4:$G$1000,0),COLUMN()-2)),\"\",INDEX(geb.Rechnung!$A$4:$G$1000,MATCH(ROW()-5,geb.Rechnung!$G$4:$G$1000,0),COLUMN()-2))","v":""},{"$f":"IF(ISNA(INDEX(geb.Rechnung!$A$4:$G$1000,MATCH(ROW()-5,geb.Rechnung!$G$4:$G$1000,0),COLUMN()+1)),\"\",INDEX(geb.Rechnung!$A$4:$G$1000,MATCH(ROW()-5,geb.Rechnung!$G$4:$G$1000,0),COLUMN()+1))","v":""},{"$f":"IF(ISNA(INDEX(geb.Rechnung!$A$4:$G$1000,MATCH(ROW()-5,geb.Rechnung!$G$4:$G$1000,0),COLUMN()+1)),\"\",INDEX(geb.Rechnung!$A$4:$G$1000,MATCH(ROW()-5,geb.Rechnung!$G$4:$G$1000,0),COLUMN()+1))","v":""}]
[{"$f":"IF(ISNA(INDEX(geb.Rechnung!$A$4:$G$1000,MATCH(ROW()-5,geb.Rechnung!$G$4:$G$1000,0),COLUMN()-1)),\"\",INDEX(geb.Rechnung!$A$4:$G$1000,MATCH(ROW()-5,geb.Rechnung!$G$4:$G$1000,0),COLUMN()-1))","v":""},{"$f":"IF(ISNA(INDEX(geb.Rechnung!$A$4:$G$1000,MATCH(ROW()-5,geb.Rechnung!$G$4:$G$1000,0),COLUMN()-2)),\"\",INDEX(geb.Rechnung!$A$4:$G$1000,MATCH(ROW()-5,geb.Rechnung!$G$4:$G$1000,0),COLUMN()-2))","v":""},{"$f":"IF(ISNA(INDEX(geb.Rechnung!$A$4:$G$1000,MATCH(ROW()-5,geb.Rechnung!$G$4:$G$1000,0),COLUMN()+1)),\"\",INDEX(geb.Rechnung!$A$4:$G$1000,MATCH(ROW()-5,geb.Rechnung!$G$4:$G$1000,0),COLUMN()+1))","v":""},{"$f":"IF(ISNA(INDEX(geb.Rechnung!$A$4:$G$1000,MATCH(ROW()-5,geb.Rechnung!$G$4:$G$1000,0),COLUMN()+1)),\"\",INDEX(geb.Rechnung!$A$4:$G$1000,MATCH(ROW()-5,geb.Rechnung!$G$4:$G$1000,0),COLUMN()+1))","v":""}]
[{"$f":"IF(ISNA(INDEX(geb.Rechnung!$A$4:$G$1000,MATCH(ROW()-5,geb.Rechnung!$G$4:$G$1000,0),COLUMN()-1)),\"\",INDEX(geb.Rechnung!$A$4:$G$1000,MATCH(ROW()-5,geb.Rechnung!$G$4:$G$1000,0),COLUMN()-1))","v":""},{"$f":"IF(ISNA(INDEX(geb.Rechnung!$A$4:$G$1000,MATCH(ROW()-5,geb.Rechnung!$G$4:$G$1000,0),COLUMN()-2)),\"\",INDEX(geb.Rechnung!$A$4:$G$1000,MATCH(ROW()-5,geb.Rechnung!$G$4:$G$1000,0),COLUMN()-2))","v":""},{"$f":"IF(ISNA(INDEX(geb.Rechnung!$A$4:$G$1000,MATCH(ROW()-5,geb.Rechnung!$G$4:$G$1000,0),COLUMN()+1)),\"\",INDEX(geb.Rechnung!$A$4:$G$1000,MATCH(ROW()-5,geb.Rechnung!$G$4:$G$1000,0),COLUMN()+1))","v":""},{"$f":"IF(ISNA(INDEX(geb.Rechnung!$A$4:$G$1000,MATCH(ROW()-5,geb.Rechnung!$G$4:$G$1000,0),COLUMN()+1)),\"\",INDEX(geb.Rechnung!$A$4:$G$1000,MATCH(ROW()-5,geb.Rechnung!$G$4:$G$1000,0),COLUMN()+1))","v":""}]
[{"$f":"IF(ISNA(INDEX(geb.Rechnung!$A$4:$G$1000,MATCH(ROW()-5,geb.Rechnung!$G$4:$G$1000,0),COLUMN()-1)),\"\",INDEX(geb.Rechnung!$A$4:$G$1000,MATCH(ROW()-5,geb.Rechnung!$G$4:$G$1000,0),COLUMN()-1))","v":""},{"$f":"IF(ISNA(INDEX(geb.Rechnung!$A$4:$G$1000,MATCH(ROW()-5,geb.Rechnung!$G$4:$G$1000,0),COLUMN()-2)),\"\",INDEX(geb.Rechnung!$A$4:$G$1000,MATCH(ROW()-5,geb.Rechnung!$G$4:$G$1000,0),COLUMN()-2))","v":""},{"$f":"IF(ISNA(INDEX(geb.Rechnung!$A$4:$G$1000,MATCH(ROW()-5,geb.Rechnung!$G$4:$G$1000,0),COLUMN()+1)),\"\",INDEX(geb.Rechnung!$A$4:$G$1000,MATCH(ROW()-5,geb.Rechnung!$G$4:$G$1000,0),COLUMN()+1))","v":""},{"$f":"IF(ISNA(INDEX(geb.Rechnung!$A$4:$G$1000,MATCH(ROW()-5,geb.Rechnung!$G$4:$G$1000,0),COLUMN()+1)),\"\",INDEX(geb.Rechnung!$A$4:$G$1000,MATCH(ROW()-5,geb.Rechnung!$G$4:$G$1000,0),COLUMN()+1))","v":""}]
[{"$f":"IF(ISNA(INDEX(geb.Rechnung!$A$4:$G$1000,MATCH(ROW()-5,geb.Rechnung!$G$4:$G$1000,0),COLUMN()-1)),\"\",INDEX(geb.Rechnung!$A$4:$G$1000,MATCH(ROW()-5,geb.Rechnung!$G$4:$G$1000,0),COLUMN()-1))","v":""},{"$f":"IF(ISNA(INDEX(geb.Rechnung!$A$4:$G$1000,MATCH(ROW()-5,geb.Rechnung!$G$4:$G$1000,0),COLUMN()-2)),\"\",INDEX(geb.Rechnung!$A$4:$G$1000,MATCH(ROW()-5,geb.Rechnung!$G$4:$G$1000,0),COLUMN()-2))","v":""},{"$f":"IF(ISNA(INDEX(geb.Rechnung!$A$4:$G$1000,MATCH(ROW()-5,geb.Rechnung!$G$4:$G$1000,0),COLUMN()+1)),\"\",INDEX(geb.Rechnung!$A$4:$G$1000,MATCH(ROW()-5,geb.Rechnung!$G$4:$G$1000,0),COLUMN()+1))","v":""},{"$f":"IF(ISNA(INDEX(geb.Rechnung!$A$4:$G$1000,MATCH(ROW()-5,geb.Rechnung!$G$4:$G$1000,0),COLUMN()+1)),\"\",INDEX(geb.Rechnung!$A$4:$G$1000,MATCH(ROW()-5,geb.Rechnung!$G$4:$G$1000,0),COLUMN()+1))","v":""}]
[{"$f":"IF(ISNA(INDEX(geb.Rechnung!$A$4:$G$1000,MATCH(ROW()-5,geb.Rechnung!$G$4:$G$1000,0),COLUMN()-1)),\"\",INDEX(geb.Rechnung!$A$4:$G$1000,MATCH(ROW()-5,geb.Rechnung!$G$4:$G$1000,0),COLUMN()-1))","v":""},{"$f":"IF(ISNA(INDEX(geb.Rechnung!$A$4:$G$1000,MATCH(ROW()-5,geb.Rechnung!$G$4:$G$1000,0),COLUMN()-2)),\"\",INDEX(geb.Rechnung!$A$4:$G$1000,MATCH(ROW()-5,geb.Rechnung!$G$4:$G$1000,0),COLUMN()-2))","v":""},{"$f":"IF(ISNA(INDEX(geb.Rechnung!$A$4:$G$1000,MATCH(ROW()-5,geb.Rechnung!$G$4:$G$1000,0),COLUMN()+1)),\"\",INDEX(geb.Rechnung!$A$4:$G$1000,MATCH(ROW()-5,geb.Rechnung!$G$4:$G$1000,0),COLUMN()+1))","v":""},{"$f":"IF(ISNA(INDEX(geb.Rechnung!$A$4:$G$1000,MATCH(ROW()-5,geb.Rechnung!$G$4:$G$1000,0),COLUMN()+1)),\"\",INDEX(geb.Rechnung!$A$4:$G$1000,MATCH(ROW()-5,geb.Rechnung!$G$4:$G$1000,0),COLUMN()+1))","v":""}]
[{"$f":"IF(ISNA(INDEX(geb.Rechnung!$A$4:$G$1000,MATCH(ROW()-5,geb.Rechnung!$G$4:$G$1000,0),COLUMN()-1)),\"\",INDEX(geb.Rechnung!$A$4:$G$1000,MATCH(ROW()-5,geb.Rechnung!$G$4:$G$1000,0),COLUMN()-1))","v":""},{"$f":"IF(ISNA(INDEX(geb.Rechnung!$A$4:$G$1000,MATCH(ROW()-5,geb.Rechnung!$G$4:$G$1000,0),COLUMN()-2)),\"\",INDEX(geb.Rechnung!$A$4:$G$1000,MATCH(ROW()-5,geb.Rechnung!$G$4:$G$1000,0),COLUMN()-2))","v":""},{"$f":"IF(ISNA(INDEX(geb.Rechnung!$A$4:$G$1000,MATCH(ROW()-5,geb.Rechnung!$G$4:$G$1000,0),COLUMN()+1)),\"\",INDEX(geb.Rechnung!$A$4:$G$1000,MATCH(ROW()-5,geb.Rechnung!$G$4:$G$1000,0),COLUMN()+1))","v":""},{"$f":"IF(ISNA(INDEX(geb.Rechnung!$A$4:$G$1000,MATCH(ROW()-5,geb.Rechnung!$G$4:$G$1000,0),COLUMN()+1)),\"\",INDEX(geb.Rechnung!$A$4:$G$1000,MATCH(ROW()-5,geb.Rechnung!$G$4:$G$1000,0),COLUMN()+1))","v":""}]
[{"$f":"IF(ISNA(INDEX(geb.Rechnung!$A$4:$G$1000,MATCH(ROW()-5,geb.Rechnung!$G$4:$G$1000,0),COLUMN()-1)),\"\",INDEX(geb.Rechnung!$A$4:$G$1000,MATCH(ROW()-5,geb.Rechnung!$G$4:$G$1000,0),COLUMN()-1))","v":""},{"$f":"IF(ISNA(INDEX(geb.Rechnung!$A$4:$G$1000,MATCH(ROW()-5,geb.Rechnung!$G$4:$G$1000,0),COLUMN()-2)),\"\",INDEX(geb.Rechnung!$A$4:$G$1000,MATCH(ROW()-5,geb.Rechnung!$G$4:$G$1000,0),COLUMN()-2))","v":""},{"$f":"IF(ISNA(INDEX(geb.Rechnung!$A$4:$G$1000,MATCH(ROW()-5,geb.Rechnung!$G$4:$G$1000,0),COLUMN()+1)),\"\",INDEX(geb.Rechnung!$A$4:$G$1000,MATCH(ROW()-5,geb.Rechnung!$G$4:$G$1000,0),COLUMN()+1))","v":""},{"$f":"IF(ISNA(INDEX(geb.Rechnung!$A$4:$G$1000,MATCH(ROW()-5,geb.Rechnung!$G$4:$G$1000,0),COLUMN()+1)),\"\",INDEX(geb.Rechnung!$A$4:$G$1000,MATCH(ROW()-5,geb.Rechnung!$G$4:$G$1000,0),COLUMN()+1))","v":""}]
[{"$f":"IF(ISNA(INDEX(geb.Rechnung!$A$4:$G$1000,MATCH(ROW()-5,geb.Rechnung!$G$4:$G$1000,0),COLUMN()-1)),\"\",INDEX(geb.Rechnung!$A$4:$G$1000,MATCH(ROW()-5,geb.Rechnung!$G$4:$G$1000,0),COLUMN()-1))","v":""},{"$f":"IF(ISNA(INDEX(geb.Rechnung!$A$4:$G$1000,MATCH(ROW()-5,geb.Rechnung!$G$4:$G$1000,0),COLUMN()-2)),\"\",INDEX(geb.Rechnung!$A$4:$G$1000,MATCH(ROW()-5,geb.Rechnung!$G$4:$G$1000,0),COLUMN()-2))","v":""},{"$f":"IF(ISNA(INDEX(geb.Rechnung!$A$4:$G$1000,MATCH(ROW()-5,geb.Rechnung!$G$4:$G$1000,0),COLUMN()+1)),\"\",INDEX(geb.Rechnung!$A$4:$G$1000,MATCH(ROW()-5,geb.Rechnung!$G$4:$G$1000,0),COLUMN()+1))","v":""},{"$f":"IF(ISNA(INDEX(geb.Rechnung!$A$4:$G$1000,MATCH(ROW()-5,geb.Rechnung!$G$4:$G$1000,0),COLUMN()+1)),\"\",INDEX(geb.Rechnung!$A$4:$G$1000,MATCH(ROW()-5,geb.Rechnung!$G$4:$G$1000,0),COLUMN()+1))","v":""}]
[{"$f":"IF(ISNA(INDEX(geb.Rechnung!$A$4:$G$1000,MATCH(ROW()-5,geb.Rechnung!$G$4:$G$1000,0),COLUMN()-1)),\"\",INDEX(geb.Rechnung!$A$4:$G$1000,MATCH(ROW()-5,geb.Rechnung!$G$4:$G$1000,0),COLUMN()-1))","v":""},{"$f":"IF(ISNA(INDEX(geb.Rechnung!$A$4:$G$1000,MATCH(ROW()-5,geb.Rechnung!$G$4:$G$1000,0),COLUMN()-2)),\"\",INDEX(geb.Rechnung!$A$4:$G$1000,MATCH(ROW()-5,geb.Rechnung!$G$4:$G$1000,0),COLUMN()-2))","v":""},{"$f":"IF(ISNA(INDEX(geb.Rechnung!$A$4:$G$1000,MATCH(ROW()-5,geb.Rechnung!$G$4:$G$1000,0),COLUMN()+1)),\"\",INDEX(geb.Rechnung!$A$4:$G$1000,MATCH(ROW()-5,geb.Rechnung!$G$4:$G$1000,0),COLUMN()+1))","v":""},{"$f":"IF(ISNA(INDEX(geb.Rechnung!$A$4:$G$1000,MATCH(ROW()-5,geb.Rechnung!$G$4:$G$1000,0),COLUMN()+1)),\"\",INDEX(geb.Rechnung!$A$4:$G$1000,MATCH(ROW()-5,geb.Rechnung!$G$4:$G$1000,0),COLUMN()+1))","v":""}]
[{"$f":"IF(ISNA(INDEX(geb.Rechnung!$A$4:$G$1000,MATCH(ROW()-5,geb.Rechnung!$G$4:$G$1000,0),COLUMN()-1)),\"\",INDEX(geb.Rechnung!$A$4:$G$1000,MATCH(ROW()-5,geb.Rechnung!$G$4:$G$1000,0),COLUMN()-1))","v":""},{"$f":"IF(ISNA(INDEX(geb.Rechnung!$A$4:$G$1000,MATCH(ROW()-5,geb.Rechnung!$G$4:$G$1000,0),COLUMN()-2)),\"\",INDEX(geb.Rechnung!$A$4:$G$1000,MATCH(ROW()-5,geb.Rechnung!$G$4:$G$1000,0),COLUMN()-2))","v":""},{"$f":"IF(ISNA(INDEX(geb.Rechnung!$A$4:$G$1000,MATCH(ROW()-5,geb.Rechnung!$G$4:$G$1000,0),COLUMN()+1)),\"\",INDEX(geb.Rechnung!$A$4:$G$1000,MATCH(ROW()-5,geb.Rechnung!$G$4:$G$1000,0),COLUMN()+1))","v":""},{"$f":"IF(ISNA(INDEX(geb.Rechnung!$A$4:$G$1000,MATCH(ROW()-5,geb.Rechnung!$G$4:$G$1000,0),COLUMN()+1)),\"\",INDEX(geb.Rechnung!$A$4:$G$1000,MATCH(ROW()-5,geb.Rechnung!$G$4:$G$1000,0),COLUMN()+1))","v":""}]
[{"$f":"IF(ISNA(INDEX(geb.Rechnung!$A$4:$G$1000,MATCH(ROW()-5,geb.Rechnung!$G$4:$G$1000,0),COLUMN()-1)),\"\",INDEX(geb.Rechnung!$A$4:$G$1000,MATCH(ROW()-5,geb.Rechnung!$G$4:$G$1000,0),COLUMN()-1))","v":""},{"$f":"IF(ISNA(INDEX(geb.Rechnung!$A$4:$G$1000,MATCH(ROW()-5,geb.Rechnung!$G$4:$G$1000,0),COLUMN()-2)),\"\",INDEX(geb.Rechnung!$A$4:$G$1000,MATCH(ROW()-5,geb.Rechnung!$G$4:$G$1000,0),COLUMN()-2))","v":""},{"$f":"IF(ISNA(INDEX(geb.Rechnung!$A$4:$G$1000,MATCH(ROW()-5,geb.Rechnung!$G$4:$G$1000,0),COLUMN()+1)),\"\",INDEX(geb.Rechnung!$A$4:$G$1000,MATCH(ROW()-5,geb.Rechnung!$G$4:$G$1000,0),COLUMN()+1))","v":""},{"$f":"IF(ISNA(INDEX(geb.Rechnung!$A$4:$G$1000,MATCH(ROW()-5,geb.Rechnung!$G$4:$G$1000,0),COLUMN()+1)),\"\",INDEX(geb.Rechnung!$A$4:$G$1000,MATCH(ROW()-5,geb.Rechnung!$G$4:$G$1000,0),COLUMN()+1))","v":""}]
[{"$f":"IF(ISNA(INDEX(geb.Rechnung!$A$4:$G$1000,MATCH(ROW()-5,geb.Rechnung!$G$4:$G$1000,0),COLUMN()-1)),\"\",INDEX(geb.Rechnung!$A$4:$G$1000,MATCH(ROW()-5,geb.Rechnung!$G$4:$G$1000,0),COLUMN()-1))","v":""},{"$f":"IF(ISNA(INDEX(geb.Rechnung!$A$4:$G$1000,MATCH(ROW()-5,geb.Rechnung!$G$4:$G$1000,0),COLUMN()-2)),\"\",INDEX(geb.Rechnung!$A$4:$G$1000,MATCH(ROW()-5,geb.Rechnung!$G$4:$G$1000,0),COLUMN()-2))","v":""},{"$f":"IF(ISNA(INDEX(geb.Rechnung!$A$4:$G$1000,MATCH(ROW()-5,geb.Rechnung!$G$4:$G$1000,0),COLUMN()+1)),\"\",INDEX(geb.Rechnung!$A$4:$G$1000,MATCH(ROW()-5,geb.Rechnung!$G$4:$G$1000,0),COLUMN()+1))","v":""},{"$f":"IF(ISNA(INDEX(geb.Rechnung!$A$4:$G$1000,MATCH(ROW()-5,geb.Rechnung!$G$4:$G$1000,0),COLUMN()+1)),\"\",INDEX(geb.Rechnung!$A$4:$G$1000,MATCH(ROW()-5,geb.Rechnung!$G$4:$G$1000,0),COLUMN()+1))","v":""}]
[{"$f":"IF(ISNA(INDEX(geb.Rechnung!$A$4:$G$1000,MATCH(ROW()-5,geb.Rechnung!$G$4:$G$1000,0),COLUMN()-1)),\"\",INDEX(geb.Rechnung!$A$4:$G$1000,MATCH(ROW()-5,geb.Rechnung!$G$4:$G$1000,0),COLUMN()-1))","v":""},{"$f":"IF(ISNA(INDEX(geb.Rechnung!$A$4:$G$1000,MATCH(ROW()-5,geb.Rechnung!$G$4:$G$1000,0),COLUMN()-2)),\"\",INDEX(geb.Rechnung!$A$4:$G$1000,MATCH(ROW()-5,geb.Rechnung!$G$4:$G$1000,0),COLUMN()-2))","v":""},{"$f":"IF(ISNA(INDEX(geb.Rechnung!$A$4:$G$1000,MATCH(ROW()-5,geb.Rechnung!$G$4:$G$1000,0),COLUMN()+1)),\"\",INDEX(geb.Rechnung!$A$4:$G$1000,MATCH(ROW()-5,geb.Rechnung!$G$4:$G$1000,0),COLUMN()+1))","v":""},{"$f":"IF(ISNA(INDEX(geb.Rechnung!$A$4:$G$1000,MATCH(ROW()-5,geb.Rechnung!$G$4:$G$1000,0),COLUMN()+1)),\"\",INDEX(geb.Rechnung!$A$4:$G$1000,MATCH(ROW()-5,geb.Rechnung!$G$4:$G$1000,0),COLUMN()+1))","v":""}]
[{"$f":"IF(ISNA(INDEX(geb.Rechnung!$A$4:$G$1000,MATCH(ROW()-5,geb.Rechnung!$G$4:$G$1000,0),COLUMN()-1)),\"\",INDEX(geb.Rechnung!$A$4:$G$1000,MATCH(ROW()-5,geb.Rechnung!$G$4:$G$1000,0),COLUMN()-1))","v":""},{"$f":"IF(ISNA(INDEX(geb.Rechnung!$A$4:$G$1000,MATCH(ROW()-5,geb.Rechnung!$G$4:$G$1000,0),COLUMN()-2)),\"\",INDEX(geb.Rechnung!$A$4:$G$1000,MATCH(ROW()-5,geb.Rechnung!$G$4:$G$1000,0),COLUMN()-2))","v":""},{"$f":"IF(ISNA(INDEX(geb.Rechnung!$A$4:$G$1000,MATCH(ROW()-5,geb.Rechnung!$G$4:$G$1000,0),COLUMN()+1)),\"\",INDEX(geb.Rechnung!$A$4:$G$1000,MATCH(ROW()-5,geb.Rechnung!$G$4:$G$1000,0),COLUMN()+1))","v":""},{"$f":"IF(ISNA(INDEX(geb.Rechnung!$A$4:$G$1000,MATCH(ROW()-5,geb.Rechnung!$G$4:$G$1000,0),COLUMN()+1)),\"\",INDEX(geb.Rechnung!$A$4:$G$1000,MATCH(ROW()-5,geb.Rechnung!$G$4:$G$1000,0),COLUMN()+1))","v":""}]
[{"$f":"IF(ISNA(INDEX(geb.Rechnung!$A$4:$G$1000,MATCH(ROW()-5,geb.Rechnung!$G$4:$G$1000,0),COLUMN()-1)),\"\",INDEX(geb.Rechnung!$A$4:$G$1000,MATCH(ROW()-5,geb.Rechnung!$G$4:$G$1000,0),COLUMN()-1))","v":""},{"$f":"IF(ISNA(INDEX(geb.Rechnung!$A$4:$G$1000,MATCH(ROW()-5,geb.Rechnung!$G$4:$G$1000,0),COLUMN()-2)),\"\",INDEX(geb.Rechnung!$A$4:$G$1000,MATCH(ROW()-5,geb.Rechnung!$G$4:$G$1000,0),COLUMN()-2))","v":""},{"$f":"IF(ISNA(INDEX(geb.Rechnung!$A$4:$G$1000,MATCH(ROW()-5,geb.Rechnung!$G$4:$G$1000,0),COLUMN()+1)),\"\",INDEX(geb.Rechnung!$A$4:$G$1000,MATCH(ROW()-5,geb.Rechnung!$G$4:$G$1000,0),COLUMN()+1))","v":""},{"$f":"IF(ISNA(INDEX(geb.Rechnung!$A$4:$G$1000,MATCH(ROW()-5,geb.Rechnung!$G$4:$G$1000,0),COLUMN()+1)),\"\",INDEX(geb.Rechnung!$A$4:$G$1000,MATCH(ROW()-5,geb.Rechnung!$G$4:$G$1000,0),COLUMN()+1))","v":""}]
[{"$f":"IF(ISNA(INDEX(geb.Rechnung!$A$4:$G$1000,MATCH(ROW()-5,geb.Rechnung!$G$4:$G$1000,0),COLUMN()-1)),\"\",INDEX(geb.Rechnung!$A$4:$G$1000,MATCH(ROW()-5,geb.Rechnung!$G$4:$G$1000,0),COLUMN()-1))","v":""},{"$f":"IF(ISNA(INDEX(geb.Rechnung!$A$4:$G$1000,MATCH(ROW()-5,geb.Rechnung!$G$4:$G$1000,0),COLUMN()-2)),\"\",INDEX(geb.Rechnung!$A$4:$G$1000,MATCH(ROW()-5,geb.Rechnung!$G$4:$G$1000,0),COLUMN()-2))","v":""},{"$f":"IF(ISNA(INDEX(geb.Rechnung!$A$4:$G$1000,MATCH(ROW()-5,geb.Rechnung!$G$4:$G$1000,0),COLUMN()+1)),\"\",INDEX(geb.Rechnung!$A$4:$G$1000,MATCH(ROW()-5,geb.Rechnung!$G$4:$G$1000,0),COLUMN()+1))","v":""},{"$f":"IF(ISNA(INDEX(geb.Rechnung!$A$4:$G$1000,MATCH(ROW()-5,geb.Rechnung!$G$4:$G$1000,0),COLUMN()+1)),\"\",INDEX(geb.Rechnung!$A$4:$G$1000,MATCH(ROW()-5,geb.Rechnung!$G$4:$G$1000,0),COLUMN()+1))","v":""}]
[{"$f":"IF(ISNA(INDEX(geb.Rechnung!$A$4:$G$1000,MATCH(ROW()-5,geb.Rechnung!$G$4:$G$1000,0),COLUMN()-1)),\"\",INDEX(geb.Rechnung!$A$4:$G$1000,MATCH(ROW()-5,geb.Rechnung!$G$4:$G$1000,0),COLUMN()-1))","v":""},{"$f":"IF(ISNA(INDEX(geb.Rechnung!$A$4:$G$1000,MATCH(ROW()-5,geb.Rechnung!$G$4:$G$1000,0),COLUMN()-2)),\"\",INDEX(geb.Rechnung!$A$4:$G$1000,MATCH(ROW()-5,geb.Rechnung!$G$4:$G$1000,0),COLUMN()-2))","v":""},{"$f":"IF(ISNA(INDEX(geb.Rechnung!$A$4:$G$1000,MATCH(ROW()-5,geb.Rechnung!$G$4:$G$1000,0),COLUMN()+1)),\"\",INDEX(geb.Rechnung!$A$4:$G$1000,MATCH(ROW()-5,geb.Rechnung!$G$4:$G$1000,0),COLUMN()+1))","v":""},{"$f":"IF(ISNA(INDEX(geb.Rechnung!$A$4:$G$1000,MATCH(ROW()-5,geb.Rechnung!$G$4:$G$1000,0),COLUMN()+1)),\"\",INDEX(geb.Rechnung!$A$4:$G$1000,MATCH(ROW()-5,geb.Rechnung!$G$4:$G$1000,0),COLUMN()+1))","v":""}]
[{"$f":"IF(ISNA(INDEX(geb.Rechnung!$A$4:$G$1000,MATCH(ROW()-5,geb.Rechnung!$G$4:$G$1000,0),COLUMN()-1)),\"\",INDEX(geb.Rechnung!$A$4:$G$1000,MATCH(ROW()-5,geb.Rechnung!$G$4:$G$1000,0),COLUMN()-1))","v":""},{"$f":"IF(ISNA(INDEX(geb.Rechnung!$A$4:$G$1000,MATCH(ROW()-5,geb.Rechnung!$G$4:$G$1000,0),COLUMN()-2)),\"\",INDEX(geb.Rechnung!$A$4:$G$1000,MATCH(ROW()-5,geb.Rechnung!$G$4:$G$1000,0),COLUMN()-2))","v":""},{"$f":"IF(ISNA(INDEX(geb.Rechnung!$A$4:$G$1000,MATCH(ROW()-5,geb.Rechnung!$G$4:$G$1000,0),COLUMN()+1)),\"\",INDEX(geb.Rechnung!$A$4:$G$1000,MATCH(ROW()-5,geb.Rechnung!$G$4:$G$1000,0),COLUMN()+1))","v":""},{"$f":"IF(ISNA(INDEX(geb.Rechnung!$A$4:$G$1000,MATCH(ROW()-5,geb.Rechnung!$G$4:$G$1000,0),COLUMN()+1)),\"\",INDEX(geb.Rechnung!$A$4:$G$1000,MATCH(ROW()-5,geb.Rechnung!$G$4:$G$1000,0),COLUMN()+1))","v":""}]
[{"$f":"IF(ISNA(INDEX(geb.Rechnung!$A$4:$G$1000,MATCH(ROW()-5,geb.Rechnung!$G$4:$G$1000,0),COLUMN()-1)),\"\",INDEX(geb.Rechnung!$A$4:$G$1000,MATCH(ROW()-5,geb.Rechnung!$G$4:$G$1000,0),COLUMN()-1))","v":""},{"$f":"IF(ISNA(INDEX(geb.Rechnung!$A$4:$G$1000,MATCH(ROW()-5,geb.Rechnung!$G$4:$G$1000,0),COLUMN()-2)),\"\",INDEX(geb.Rechnung!$A$4:$G$1000,MATCH(ROW()-5,geb.Rechnung!$G$4:$G$1000,0),COLUMN()-2))","v":""},{"$f":"IF(ISNA(INDEX(geb.Rechnung!$A$4:$G$1000,MATCH(ROW()-5,geb.Rechnung!$G$4:$G$1000,0),COLUMN()+1)),\"\",INDEX(geb.Rechnung!$A$4:$G$1000,MATCH(ROW()-5,geb.Rechnung!$G$4:$G$1000,0),COLUMN()+1))","v":""},{"$f":"IF(ISNA(INDEX(geb.Rechnung!$A$4:$G$1000,MATCH(ROW()-5,geb.Rechnung!$G$4:$G$1000,0),COLUMN()+1)),\"\",INDEX(geb.Rechnung!$A$4:$G$1000,MATCH(ROW()-5,geb.Rechnung!$G$4:$G$1000,0),COLUMN()+1))","v":""}]
[{"$f":"IF(ISNA(INDEX(geb.Rechnung!$A$4:$G$1000,MATCH(ROW()-5,geb.Rechnung!$G$4:$G$1000,0),COLUMN()-1)),\"\",INDEX(geb.Rechnung!$A$4:$G$1000,MATCH(ROW()-5,geb.Rechnung!$G$4:$G$1000,0),COLUMN()-1))","v":""},{"$f":"IF(ISNA(INDEX(geb.Rechnung!$A$4:$G$1000,MATCH(ROW()-5,geb.Rechnung!$G$4:$G$1000,0),COLUMN()-2)),\"\",INDEX(geb.Rechnung!$A$4:$G$1000,MATCH(ROW()-5,geb.Rechnung!$G$4:$G$1000,0),COLUMN()-2))","v":""},{"$f":"IF(ISNA(INDEX(geb.Rechnung!$A$4:$G$1000,MATCH(ROW()-5,geb.Rechnung!$G$4:$G$1000,0),COLUMN()+1)),\"\",INDEX(geb.Rechnung!$A$4:$G$1000,MATCH(ROW()-5,geb.Rechnung!$G$4:$G$1000,0),COLUMN()+1))","v":""},{"$f":"IF(ISNA(INDEX(geb.Rechnung!$A$4:$G$1000,MATCH(ROW()-5,geb.Rechnung!$G$4:$G$1000,0),COLUMN()+1)),\"\",INDEX(geb.Rechnung!$A$4:$G$1000,MATCH(ROW()-5,geb.Rechnung!$G$4:$G$1000,0),COLUMN()+1))","v":""}]
[{"$f":"IF(ISNA(INDEX(geb.Rechnung!$A$4:$G$1000,MATCH(ROW()-5,geb.Rechnung!$G$4:$G$1000,0),COLUMN()-1)),\"\",INDEX(geb.Rechnung!$A$4:$G$1000,MATCH(ROW()-5,geb.Rechnung!$G$4:$G$1000,0),COLUMN()-1))","v":""},{"$f":"IF(ISNA(INDEX(geb.Rechnung!$A$4:$G$1000,MATCH(ROW()-5,geb.Rechnung!$G$4:$G$1000,0),COLUMN()-2)),\"\",INDEX(geb.Rechnung!$A$4:$G$1000,MATCH(ROW()-5,geb.Rechnung!$G$4:$G$1000,0),COLUMN()-2))","v":""},{"$f":"IF(ISNA(INDEX(geb.Rechnung!$A$4:$G$1000,MATCH(ROW()-5,geb.Rechnung!$G$4:$G$1000,0),COLUMN()+1)),\"\",INDEX(geb.Rechnung!$A$4:$G$1000,MATCH(ROW()-5,geb.Rechnung!$G$4:$G$1000,0),COLUMN()+1))","v":""},{"$f":"IF(ISNA(INDEX(geb.Rechnung!$A$4:$G$1000,MATCH(ROW()-5,geb.Rechnung!$G$4:$G$1000,0),COLUMN()+1)),\"\",INDEX(geb.Rechnung!$A$4:$G$1000,MATCH(ROW()-5,geb.Rechnung!$G$4:$G$1000,0),COLUMN()+1))","v":""}]
[{"$f":"IF(ISNA(INDEX(geb.Rechnung!$A$4:$G$1000,MATCH(ROW()-5,geb.Rechnung!$G$4:$G$1000,0),COLUMN()-1)),\"\",INDEX(geb.Rechnung!$A$4:$G$1000,MATCH(ROW()-5,geb.Rechnung!$G$4:$G$1000,0),COLUMN()-1))","v":""},{"$f":"IF(ISNA(INDEX(geb.Rechnung!$A$4:$G$1000,MATCH(ROW()-5,geb.Rechnung!$G$4:$G$1000,0),COLUMN()-2)),\"\",INDEX(geb.Rechnung!$A$4:$G$1000,MATCH(ROW()-5,geb.Rechnung!$G$4:$G$1000,0),COLUMN()-2))","v":""},{"$f":"IF(ISNA(INDEX(geb.Rechnung!$A$4:$G$1000,MATCH(ROW()-5,geb.Rechnung!$G$4:$G$1000,0),COLUMN()+1)),\"\",INDEX(geb.Rechnung!$A$4:$G$1000,MATCH(ROW()-5,geb.Rechnung!$G$4:$G$1000,0),COLUMN()+1))","v":""},{"$f":"IF(ISNA(INDEX(geb.Rechnung!$A$4:$G$1000,MATCH(ROW()-5,geb.Rechnung!$G$4:$G$1000,0),COLUMN()+1)),\"\",INDEX(geb.Rechnung!$A$4:$G$1000,MATCH(ROW()-5,geb.Rechnung!$G$4:$G$1000,0),COLUMN()+1))","v":""}]
[{"$f":"IF(ISNA(INDEX(geb.Rechnung!$A$4:$G$1000,MATCH(ROW()-5,geb.Rechnung!$G$4:$G$1000,0),COLUMN()-1)),\"\",INDEX(geb.Rechnung!$A$4:$G$1000,MATCH(ROW()-5,geb.Rechnung!$G$4:$G$1000,0),COLUMN()-1))","v":""},{"$f":"IF(ISNA(INDEX(geb.Rechnung!$A$4:$G$1000,MATCH(ROW()-5,geb.Rechnung!$G$4:$G$1000,0),COLUMN()-2)),\"\",INDEX(geb.Rechnung!$A$4:$G$1000,MATCH(ROW()-5,geb.Rechnung!$G$4:$G$1000,0),COLUMN()-2))","v":""},{"$f":"IF(ISNA(INDEX(geb.Rechnung!$A$4:$G$1000,MATCH(ROW()-5,geb.Rechnung!$G$4:$G$1000,0),COLUMN()+1)),\"\",INDEX(geb.Rechnung!$A$4:$G$1000,MATCH(ROW()-5,geb.Rechnung!$G$4:$G$1000,0),COLUMN()+1))","v":""},{"$f":"IF(ISNA(INDEX(geb.Rechnung!$A$4:$G$1000,MATCH(ROW()-5,geb.Rechnung!$G$4:$G$1000,0),COLUMN()+1)),\"\",INDEX(geb.Rechnung!$A$4:$G$1000,MATCH(ROW()-5,geb.Rechnung!$G$4:$G$1000,0),COLUMN()+1))","v":""}]
[{"$f":"IF(ISNA(INDEX(geb.Rechnung!$A$4:$G$1000,MATCH(ROW()-5,geb.Rechnung!$G$4:$G$1000,0),COLUMN()-1)),\"\",INDEX(geb.Rechnung!$A$4:$G$1000,MATCH(ROW()-5,geb.Rechnung!$G$4:$G$1000,0),COLUMN()-1))","v":""},{"$f":"IF(ISNA(INDEX(geb.Rechnung!$A$4:$G$1000,MATCH(ROW()-5,geb.Rechnung!$G$4:$G$1000,0),COLUMN()-2)),\"\",INDEX(geb.Rechnung!$A$4:$G$1000,MATCH(ROW()-5,geb.Rechnung!$G$4:$G$1000,0),COLUMN()-2))","v":""},{"$f":"IF(ISNA(INDEX(geb.Rechnung!$A$4:$G$1000,MATCH(ROW()-5,geb.Rechnung!$G$4:$G$1000,0),COLUMN()+1)),\"\",INDEX(geb.Rechnung!$A$4:$G$1000,MATCH(ROW()-5,geb.Rechnung!$G$4:$G$1000,0),COLUMN()+1))","v":""},{"$f":"IF(ISNA(INDEX(geb.Rechnung!$A$4:$G$1000,MATCH(ROW()-5,geb.Rechnung!$G$4:$G$1000,0),COLUMN()+1)),\"\",INDEX(geb.Rechnung!$A$4:$G$1000,MATCH(ROW()-5,geb.Rechnung!$G$4:$G$1000,0),COLUMN()+1))","v":""}]
[{"$f":"IF(ISNA(INDEX(geb.Rechnung!$A$4:$G$1000,MATCH(ROW()-5,geb.Rechnung!$G$4:$G$1000,0),COLUMN()-1)),\"\",INDEX(geb.Rechnung!$A$4:$G$1000,MATCH(ROW()-5,geb.Rechnung!$G$4:$G$1000,0),COLUMN()-1))","v":""},{"$f":"IF(ISNA(INDEX(geb.Rechnung!$A$4:$G$1000,MATCH(ROW()-5,geb.Rechnung!$G$4:$G$1000,0),COLUMN()-2)),\"\",INDEX(geb.Rechnung!$A$4:$G$1000,MATCH(ROW()-5,geb.Rechnung!$G$4:$G$1000,0),COLUMN()-2))","v":""},{"$f":"IF(ISNA(INDEX(geb.Rechnung!$A$4:$G$1000,MATCH(ROW()-5,geb.Rechnung!$G$4:$G$1000,0),COLUMN()+1)),\"\",INDEX(geb.Rechnung!$A$4:$G$1000,MATCH(ROW()-5,geb.Rechnung!$G$4:$G$1000,0),COLUMN()+1))","v":""},{"$f":"IF(ISNA(INDEX(geb.Rechnung!$A$4:$G$1000,MATCH(ROW()-5,geb.Rechnung!$G$4:$G$1000,0),COLUMN()+1)),\"\",INDEX(geb.Rechnung!$A$4:$G$1000,MATCH(ROW()-5,geb.Rechnung!$G$4:$G$1000,0),COLUMN()+1))","v":""}]
[{"$f":"IF(ISNA(INDEX(geb.Rechnung!$A$4:$G$1000,MATCH(ROW()-5,geb.Rechnung!$G$4:$G$1000,0),COLUMN()-1)),\"\",INDEX(geb.Rechnung!$A$4:$G$1000,MATCH(ROW()-5,geb.Rechnung!$G$4:$G$1000,0),COLUMN()-1))","v":""},{"$f":"IF(ISNA(INDEX(geb.Rechnung!$A$4:$G$1000,MATCH(ROW()-5,geb.Rechnung!$G$4:$G$1000,0),COLUMN()-2)),\"\",INDEX(geb.Rechnung!$A$4:$G$1000,MATCH(ROW()-5,geb.Rechnung!$G$4:$G$1000,0),COLUMN()-2))","v":""},{"$f":"IF(ISNA(INDEX(geb.Rechnung!$A$4:$G$1000,MATCH(ROW()-5,geb.Rechnung!$G$4:$G$1000,0),COLUMN()+1)),\"\",INDEX(geb.Rechnung!$A$4:$G$1000,MATCH(ROW()-5,geb.Rechnung!$G$4:$G$1000,0),COLUMN()+1))","v":""},{"$f":"IF(ISNA(INDEX(geb.Rechnung!$A$4:$G$1000,MATCH(ROW()-5,geb.Rechnung!$G$4:$G$1000,0),COLUMN()+1)),\"\",INDEX(geb.Rechnung!$A$4:$G$1000,MATCH(ROW()-5,geb.Rechnung!$G$4:$G$1000,0),COLUMN()+1))","v":""}]
[{"$f":"IF(ISNA(INDEX(geb.Rechnung!$A$4:$G$1000,MATCH(ROW()-5,geb.Rechnung!$G$4:$G$1000,0),COLUMN()-1)),\"\",INDEX(geb.Rechnung!$A$4:$G$1000,MATCH(ROW()-5,geb.Rechnung!$G$4:$G$1000,0),COLUMN()-1))","v":""},{"$f":"IF(ISNA(INDEX(geb.Rechnung!$A$4:$G$1000,MATCH(ROW()-5,geb.Rechnung!$G$4:$G$1000,0),COLUMN()-2)),\"\",INDEX(geb.Rechnung!$A$4:$G$1000,MATCH(ROW()-5,geb.Rechnung!$G$4:$G$1000,0),COLUMN()-2))","v":""},{"$f":"IF(ISNA(INDEX(geb.Rechnung!$A$4:$G$1000,MATCH(ROW()-5,geb.Rechnung!$G$4:$G$1000,0),COLUMN()+1)),\"\",INDEX(geb.Rechnung!$A$4:$G$1000,MATCH(ROW()-5,geb.Rechnung!$G$4:$G$1000,0),COLUMN()+1))","v":""},{"$f":"IF(ISNA(INDEX(geb.Rechnung!$A$4:$G$1000,MATCH(ROW()-5,geb.Rechnung!$G$4:$G$1000,0),COLUMN()+1)),\"\",INDEX(geb.Rechnung!$A$4:$G$1000,MATCH(ROW()-5,geb.Rechnung!$G$4:$G$1000,0),COLUMN()+1))","v":""}]
[{"$f":"IF(ISNA(INDEX(geb.Rechnung!$A$4:$G$1000,MATCH(ROW()-5,geb.Rechnung!$G$4:$G$1000,0),COLUMN()-1)),\"\",INDEX(geb.Rechnung!$A$4:$G$1000,MATCH(ROW()-5,geb.Rechnung!$G$4:$G$1000,0),COLUMN()-1))","v":""},{"$f":"IF(ISNA(INDEX(geb.Rechnung!$A$4:$G$1000,MATCH(ROW()-5,geb.Rechnung!$G$4:$G$1000,0),COLUMN()-2)),\"\",INDEX(geb.Rechnung!$A$4:$G$1000,MATCH(ROW()-5,geb.Rechnung!$G$4:$G$1000,0),COLUMN()-2))","v":""},{"$f":"IF(ISNA(INDEX(geb.Rechnung!$A$4:$G$1000,MATCH(ROW()-5,geb.Rechnung!$G$4:$G$1000,0),COLUMN()+1)),\"\",INDEX(geb.Rechnung!$A$4:$G$1000,MATCH(ROW()-5,geb.Rechnung!$G$4:$G$1000,0),COLUMN()+1))","v":""},{"$f":"IF(ISNA(INDEX(geb.Rechnung!$A$4:$G$1000,MATCH(ROW()-5,geb.Rechnung!$G$4:$G$1000,0),COLUMN()+1)),\"\",INDEX(geb.Rechnung!$A$4:$G$1000,MATCH(ROW()-5,geb.Rechnung!$G$4:$G$1000,0),COLUMN()+1))","v":""}]
[{"$f":"IF(ISNA(INDEX(geb.Rechnung!$A$4:$G$1000,MATCH(ROW()-5,geb.Rechnung!$G$4:$G$1000,0),COLUMN()-1)),\"\",INDEX(geb.Rechnung!$A$4:$G$1000,MATCH(ROW()-5,geb.Rechnung!$G$4:$G$1000,0),COLUMN()-1))","v":""},{"$f":"IF(ISNA(INDEX(geb.Rechnung!$A$4:$G$1000,MATCH(ROW()-5,geb.Rechnung!$G$4:$G$1000,0),COLUMN()-2)),\"\",INDEX(geb.Rechnung!$A$4:$G$1000,MATCH(ROW()-5,geb.Rechnung!$G$4:$G$1000,0),COLUMN()-2))","v":""},{"$f":"IF(ISNA(INDEX(geb.Rechnung!$A$4:$G$1000,MATCH(ROW()-5,geb.Rechnung!$G$4:$G$1000,0),COLUMN()+1)),\"\",INDEX(geb.Rechnung!$A$4:$G$1000,MATCH(ROW()-5,geb.Rechnung!$G$4:$G$1000,0),COLUMN()+1))","v":""},{"$f":"IF(ISNA(INDEX(geb.Rechnung!$A$4:$G$1000,MATCH(ROW()-5,geb.Rechnung!$G$4:$G$1000,0),COLUMN()+1)),\"\",INDEX(geb.Rechnung!$A$4:$G$1000,MATCH(ROW()-5,geb.Rechnung!$G$4:$G$1000,0),COLUMN()+1))","v":""}]
[{"$f":"IF(ISNA(INDEX(geb.Rechnung!$A$4:$G$1000,MATCH(ROW()-5,geb.Rechnung!$G$4:$G$1000,0),COLUMN()-1)),\"\",INDEX(geb.Rechnung!$A$4:$G$1000,MATCH(ROW()-5,geb.Rechnung!$G$4:$G$1000,0),COLUMN()-1))","v":""},{"$f":"IF(ISNA(INDEX(geb.Rechnung!$A$4:$G$1000,MATCH(ROW()-5,geb.Rechnung!$G$4:$G$1000,0),COLUMN()-2)),\"\",INDEX(geb.Rechnung!$A$4:$G$1000,MATCH(ROW()-5,geb.Rechnung!$G$4:$G$1000,0),COLUMN()-2))","v":""},{"$f":"IF(ISNA(INDEX(geb.Rechnung!$A$4:$G$1000,MATCH(ROW()-5,geb.Rechnung!$G$4:$G$1000,0),COLUMN()+1)),\"\",INDEX(geb.Rechnung!$A$4:$G$1000,MATCH(ROW()-5,geb.Rechnung!$G$4:$G$1000,0),COLUMN()+1))","v":""},{"$f":"IF(ISNA(INDEX(geb.Rechnung!$A$4:$G$1000,MATCH(ROW()-5,geb.Rechnung!$G$4:$G$1000,0),COLUMN()+1)),\"\",INDEX(geb.Rechnung!$A$4:$G$1000,MATCH(ROW()-5,geb.Rechnung!$G$4:$G$1000,0),COLUMN()+1))","v":""}]
[{"$f":"IF(ISNA(INDEX(geb.Rechnung!$A$4:$G$1000,MATCH(ROW()-5,geb.Rechnung!$G$4:$G$1000,0),COLUMN()-1)),\"\",INDEX(geb.Rechnung!$A$4:$G$1000,MATCH(ROW()-5,geb.Rechnung!$G$4:$G$1000,0),COLUMN()-1))","v":""},{"$f":"IF(ISNA(INDEX(geb.Rechnung!$A$4:$G$1000,MATCH(ROW()-5,geb.Rechnung!$G$4:$G$1000,0),COLUMN()-2)),\"\",INDEX(geb.Rechnung!$A$4:$G$1000,MATCH(ROW()-5,geb.Rechnung!$G$4:$G$1000,0),COLUMN()-2))","v":""},{"$f":"IF(ISNA(INDEX(geb.Rechnung!$A$4:$G$1000,MATCH(ROW()-5,geb.Rechnung!$G$4:$G$1000,0),COLUMN()+1)),\"\",INDEX(geb.Rechnung!$A$4:$G$1000,MATCH(ROW()-5,geb.Rechnung!$G$4:$G$1000,0),COLUMN()+1))","v":""},{"$f":"IF(ISNA(INDEX(geb.Rechnung!$A$4:$G$1000,MATCH(ROW()-5,geb.Rechnung!$G$4:$G$1000,0),COLUMN()+1)),\"\",INDEX(geb.Rechnung!$A$4:$G$1000,MATCH(ROW()-5,geb.Rechnung!$G$4:$G$1000,0),COLUMN()+1))","v":""}]
[{"$f":"IF(ISNA(INDEX(geb.Rechnung!$A$4:$G$1000,MATCH(ROW()-5,geb.Rechnung!$G$4:$G$1000,0),COLUMN()-1)),\"\",INDEX(geb.Rechnung!$A$4:$G$1000,MATCH(ROW()-5,geb.Rechnung!$G$4:$G$1000,0),COLUMN()-1))","v":""},{"$f":"IF(ISNA(INDEX(geb.Rechnung!$A$4:$G$1000,MATCH(ROW()-5,geb.Rechnung!$G$4:$G$1000,0),COLUMN()-2)),\"\",INDEX(geb.Rechnung!$A$4:$G$1000,MATCH(ROW()-5,geb.Rechnung!$G$4:$G$1000,0),COLUMN()-2))","v":""},{"$f":"IF(ISNA(INDEX(geb.Rechnung!$A$4:$G$1000,MATCH(ROW()-5,geb.Rechnung!$G$4:$G$1000,0),COLUMN()+1)),\"\",INDEX(geb.Rechnung!$A$4:$G$1000,MATCH(ROW()-5,geb.Rechnung!$G$4:$G$1000,0),COLUMN()+1))","v":""},{"$f":"IF(ISNA(INDEX(geb.Rechnung!$A$4:$G$1000,MATCH(ROW()-5,geb.Rechnung!$G$4:$G$1000,0),COLUMN()+1)),\"\",INDEX(geb.Rechnung!$A$4:$G$1000,MATCH(ROW()-5,geb.Rechnung!$G$4:$G$1000,0),COLUMN()+1))","v":""}]
[{"$f":"IF(ISNA(INDEX(geb.Rechnung!$A$4:$G$1000,MATCH(ROW()-5,geb.Rechnung!$G$4:$G$1000,0),COLUMN()-1)),\"\",INDEX(geb.Rechnung!$A$4:$G$1000,MATCH(ROW()-5,geb.Rechnung!$G$4:$G$1000,0),COLUMN()-1))","v":""},{"$f":"IF(ISNA(INDEX(geb.Rechnung!$A$4:$G$1000,MATCH(ROW()-5,geb.Rechnung!$G$4:$G$1000,0),COLUMN()-2)),\"\",INDEX(geb.Rechnung!$A$4:$G$1000,MATCH(ROW()-5,geb.Rechnung!$G$4:$G$1000,0),COLUMN()-2))","v":""},{"$f":"IF(ISNA(INDEX(geb.Rechnung!$A$4:$G$1000,MATCH(ROW()-5,geb.Rechnung!$G$4:$G$1000,0),COLUMN()+1)),\"\",INDEX(geb.Rechnung!$A$4:$G$1000,MATCH(ROW()-5,geb.Rechnung!$G$4:$G$1000,0),COLUMN()+1))","v":""},{"$f":"IF(ISNA(INDEX(geb.Rechnung!$A$4:$G$1000,MATCH(ROW()-5,geb.Rechnung!$G$4:$G$1000,0),COLUMN()+1)),\"\",INDEX(geb.Rechnung!$A$4:$G$1000,MATCH(ROW()-5,geb.Rechnung!$G$4:$G$1000,0),COLUMN()+1))","v":""}]
[{"$f":"IF(ISNA(INDEX(geb.Rechnung!$A$4:$G$1000,MATCH(ROW()-5,geb.Rechnung!$G$4:$G$1000,0),COLUMN()-1)),\"\",INDEX(geb.Rechnung!$A$4:$G$1000,MATCH(ROW()-5,geb.Rechnung!$G$4:$G$1000,0),COLUMN()-1))","v":""},{"$f":"IF(ISNA(INDEX(geb.Rechnung!$A$4:$G$1000,MATCH(ROW()-5,geb.Rechnung!$G$4:$G$1000,0),COLUMN()-2)),\"\",INDEX(geb.Rechnung!$A$4:$G$1000,MATCH(ROW()-5,geb.Rechnung!$G$4:$G$1000,0),COLUMN()-2))","v":""},{"$f":"IF(ISNA(INDEX(geb.Rechnung!$A$4:$G$1000,MATCH(ROW()-5,geb.Rechnung!$G$4:$G$1000,0),COLUMN()+1)),\"\",INDEX(geb.Rechnung!$A$4:$G$1000,MATCH(ROW()-5,geb.Rechnung!$G$4:$G$1000,0),COLUMN()+1))","v":""},{"$f":"IF(ISNA(INDEX(geb.Rechnung!$A$4:$G$1000,MATCH(ROW()-5,geb.Rechnung!$G$4:$G$1000,0),COLUMN()+1)),\"\",INDEX(geb.Rechnung!$A$4:$G$1000,MATCH(ROW()-5,geb.Rechnung!$G$4:$G$1000,0),COLUMN()+1))","v":""}]
[{"$f":"IF(ISNA(INDEX(geb.Rechnung!$A$4:$G$1000,MATCH(ROW()-5,geb.Rechnung!$G$4:$G$1000,0),COLUMN()-1)),\"\",INDEX(geb.Rechnung!$A$4:$G$1000,MATCH(ROW()-5,geb.Rechnung!$G$4:$G$1000,0),COLUMN()-1))","v":""},{"$f":"IF(ISNA(INDEX(geb.Rechnung!$A$4:$G$1000,MATCH(ROW()-5,geb.Rechnung!$G$4:$G$1000,0),COLUMN()-2)),\"\",INDEX(geb.Rechnung!$A$4:$G$1000,MATCH(ROW()-5,geb.Rechnung!$G$4:$G$1000,0),COLUMN()-2))","v":""},{"$f":"IF(ISNA(INDEX(geb.Rechnung!$A$4:$G$1000,MATCH(ROW()-5,geb.Rechnung!$G$4:$G$1000,0),COLUMN()+1)),\"\",INDEX(geb.Rechnung!$A$4:$G$1000,MATCH(ROW()-5,geb.Rechnung!$G$4:$G$1000,0),COLUMN()+1))","v":""},{"$f":"IF(ISNA(INDEX(geb.Rechnung!$A$4:$G$1000,MATCH(ROW()-5,geb.Rechnung!$G$4:$G$1000,0),COLUMN()+1)),\"\",INDEX(geb.Rechnung!$A$4:$G$1000,MATCH(ROW()-5,geb.Rechnung!$G$4:$G$1000,0),COLUMN()+1))","v":""}]
[{"$f":"IF(ISNA(INDEX(geb.Rechnung!$A$4:$G$1000,MATCH(ROW()-5,geb.Rechnung!$G$4:$G$1000,0),COLUMN()-1)),\"\",INDEX(geb.Rechnung!$A$4:$G$1000,MATCH(ROW()-5,geb.Rechnung!$G$4:$G$1000,0),COLUMN()-1))","v":""},{"$f":"IF(ISNA(INDEX(geb.Rechnung!$A$4:$G$1000,MATCH(ROW()-5,geb.Rechnung!$G$4:$G$1000,0),COLUMN()-2)),\"\",INDEX(geb.Rechnung!$A$4:$G$1000,MATCH(ROW()-5,geb.Rechnung!$G$4:$G$1000,0),COLUMN()-2))","v":""},{"$f":"IF(ISNA(INDEX(geb.Rechnung!$A$4:$G$1000,MATCH(ROW()-5,geb.Rechnung!$G$4:$G$1000,0),COLUMN()+1)),\"\",INDEX(geb.Rechnung!$A$4:$G$1000,MATCH(ROW()-5,geb.Rechnung!$G$4:$G$1000,0),COLUMN()+1))","v":""},{"$f":"IF(ISNA(INDEX(geb.Rechnung!$A$4:$G$1000,MATCH(ROW()-5,geb.Rechnung!$G$4:$G$1000,0),COLUMN()+1)),\"\",INDEX(geb.Rechnung!$A$4:$G$1000,MATCH(ROW()-5,geb.Rechnung!$G$4:$G$1000,0),COLUMN()+1))","v":""}]
[{"$f":"IF(ISNA(INDEX(geb.Rechnung!$A$4:$G$1000,MATCH(ROW()-5,geb.Rechnung!$G$4:$G$1000,0),COLUMN()-1)),\"\",INDEX(geb.Rechnung!$A$4:$G$1000,MATCH(ROW()-5,geb.Rechnung!$G$4:$G$1000,0),COLUMN()-1))","v":""},{"$f":"IF(ISNA(INDEX(geb.Rechnung!$A$4:$G$1000,MATCH(ROW()-5,geb.Rechnung!$G$4:$G$1000,0),COLUMN()-2)),\"\",INDEX(geb.Rechnung!$A$4:$G$1000,MATCH(ROW()-5,geb.Rechnung!$G$4:$G$1000,0),COLUMN()-2))","v":""},{"$f":"IF(ISNA(INDEX(geb.Rechnung!$A$4:$G$1000,MATCH(ROW()-5,geb.Rechnung!$G$4:$G$1000,0),COLUMN()+1)),\"\",INDEX(geb.Rechnung!$A$4:$G$1000,MATCH(ROW()-5,geb.Rechnung!$G$4:$G$1000,0),COLUMN()+1))","v":""},{"$f":"IF(ISNA(INDEX(geb.Rechnung!$A$4:$G$1000,MATCH(ROW()-5,geb.Rechnung!$G$4:$G$1000,0),COLUMN()+1)),\"\",INDEX(geb.Rechnung!$A$4:$G$1000,MATCH(ROW()-5,geb.Rechnung!$G$4:$G$1000,0),COLUMN()+1))","v":""}]
[{"$f":"IF(ISNA(INDEX(geb.Rechnung!$A$4:$G$1000,MATCH(ROW()-5,geb.Rechnung!$G$4:$G$1000,0),COLUMN()-1)),\"\",INDEX(geb.Rechnung!$A$4:$G$1000,MATCH(ROW()-5,geb.Rechnung!$G$4:$G$1000,0),COLUMN()-1))","v":""},{"$f":"IF(ISNA(INDEX(geb.Rechnung!$A$4:$G$1000,MATCH(ROW()-5,geb.Rechnung!$G$4:$G$1000,0),COLUMN()-2)),\"\",INDEX(geb.Rechnung!$A$4:$G$1000,MATCH(ROW()-5,geb.Rechnung!$G$4:$G$1000,0),COLUMN()-2))","v":""},{"$f":"IF(ISNA(INDEX(geb.Rechnung!$A$4:$G$1000,MATCH(ROW()-5,geb.Rechnung!$G$4:$G$1000,0),COLUMN()+1)),\"\",INDEX(geb.Rechnung!$A$4:$G$1000,MATCH(ROW()-5,geb.Rechnung!$G$4:$G$1000,0),COLUMN()+1))","v":""},{"$f":"IF(ISNA(INDEX(geb.Rechnung!$A$4:$G$1000,MATCH(ROW()-5,geb.Rechnung!$G$4:$G$1000,0),COLUMN()+1)),\"\",INDEX(geb.Rechnung!$A$4:$G$1000,MATCH(ROW()-5,geb.Rechnung!$G$4:$G$1000,0),COLUMN()+1))","v":""}]
[{"$f":"IF(ISNA(INDEX(geb.Rechnung!$A$4:$G$1000,MATCH(ROW()-5,geb.Rechnung!$G$4:$G$1000,0),COLUMN()-1)),\"\",INDEX(geb.Rechnung!$A$4:$G$1000,MATCH(ROW()-5,geb.Rechnung!$G$4:$G$1000,0),COLUMN()-1))","v":""},{"$f":"IF(ISNA(INDEX(geb.Rechnung!$A$4:$G$1000,MATCH(ROW()-5,geb.Rechnung!$G$4:$G$1000,0),COLUMN()-2)),\"\",INDEX(geb.Rechnung!$A$4:$G$1000,MATCH(ROW()-5,geb.Rechnung!$G$4:$G$1000,0),COLUMN()-2))","v":""},{"$f":"IF(ISNA(INDEX(geb.Rechnung!$A$4:$G$1000,MATCH(ROW()-5,geb.Rechnung!$G$4:$G$1000,0),COLUMN()+1)),\"\",INDEX(geb.Rechnung!$A$4:$G$1000,MATCH(ROW()-5,geb.Rechnung!$G$4:$G$1000,0),COLUMN()+1))","v":""},{"$f":"IF(ISNA(INDEX(geb.Rechnung!$A$4:$G$1000,MATCH(ROW()-5,geb.Rechnung!$G$4:$G$1000,0),COLUMN()+1)),\"\",INDEX(geb.Rechnung!$A$4:$G$1000,MATCH(ROW()-5,geb.Rechnung!$G$4:$G$1000,0),COLUMN()+1))","v":""}]
[{"$f":"IF(ISNA(INDEX(geb.Rechnung!$A$4:$G$1000,MATCH(ROW()-5,geb.Rechnung!$G$4:$G$1000,0),COLUMN()-1)),\"\",INDEX(geb.Rechnung!$A$4:$G$1000,MATCH(ROW()-5,geb.Rechnung!$G$4:$G$1000,0),COLUMN()-1))","v":""},{"$f":"IF(ISNA(INDEX(geb.Rechnung!$A$4:$G$1000,MATCH(ROW()-5,geb.Rechnung!$G$4:$G$1000,0),COLUMN()-2)),\"\",INDEX(geb.Rechnung!$A$4:$G$1000,MATCH(ROW()-5,geb.Rechnung!$G$4:$G$1000,0),COLUMN()-2))","v":""},{"$f":"IF(ISNA(INDEX(geb.Rechnung!$A$4:$G$1000,MATCH(ROW()-5,geb.Rechnung!$G$4:$G$1000,0),COLUMN()+1)),\"\",INDEX(geb.Rechnung!$A$4:$G$1000,MATCH(ROW()-5,geb.Rechnung!$G$4:$G$1000,0),COLUMN()+1))","v":""},{"$f":"IF(ISNA(INDEX(geb.Rechnung!$A$4:$G$1000,MATCH(ROW()-5,geb.Rechnung!$G$4:$G$1000,0),COLUMN()+1)),\"\",INDEX(geb.Rechnung!$A$4:$G$1000,MATCH(ROW()-5,geb.Rechnung!$G$4:$G$1000,0),COLUMN()+1))","v":""}]
[{"$f":"IF(ISNA(INDEX(geb.Rechnung!$A$4:$G$1000,MATCH(ROW()-5,geb.Rechnung!$G$4:$G$1000,0),COLUMN()-1)),\"\",INDEX(geb.Rechnung!$A$4:$G$1000,MATCH(ROW()-5,geb.Rechnung!$G$4:$G$1000,0),COLUMN()-1))","v":""},{"$f":"IF(ISNA(INDEX(geb.Rechnung!$A$4:$G$1000,MATCH(ROW()-5,geb.Rechnung!$G$4:$G$1000,0),COLUMN()-2)),\"\",INDEX(geb.Rechnung!$A$4:$G$1000,MATCH(ROW()-5,geb.Rechnung!$G$4:$G$1000,0),COLUMN()-2))","v":""},{"$f":"IF(ISNA(INDEX(geb.Rechnung!$A$4:$G$1000,MATCH(ROW()-5,geb.Rechnung!$G$4:$G$1000,0),COLUMN()+1)),\"\",INDEX(geb.Rechnung!$A$4:$G$1000,MATCH(ROW()-5,geb.Rechnung!$G$4:$G$1000,0),COLUMN()+1))","v":""},{"$f":"IF(ISNA(INDEX(geb.Rechnung!$A$4:$G$1000,MATCH(ROW()-5,geb.Rechnung!$G$4:$G$1000,0),COLUMN()+1)),\"\",INDEX(geb.Rechnung!$A$4:$G$1000,MATCH(ROW()-5,geb.Rechnung!$G$4:$G$1000,0),COLUMN()+1))","v":""}]
[{"$f":"IF(ISNA(INDEX(geb.Rechnung!$A$4:$G$1000,MATCH(ROW()-5,geb.Rechnung!$G$4:$G$1000,0),COLUMN()-1)),\"\",INDEX(geb.Rechnung!$A$4:$G$1000,MATCH(ROW()-5,geb.Rechnung!$G$4:$G$1000,0),COLUMN()-1))","v":""},{"$f":"IF(ISNA(INDEX(geb.Rechnung!$A$4:$G$1000,MATCH(ROW()-5,geb.Rechnung!$G$4:$G$1000,0),COLUMN()-2)),\"\",INDEX(geb.Rechnung!$A$4:$G$1000,MATCH(ROW()-5,geb.Rechnung!$G$4:$G$1000,0),COLUMN()-2))","v":""},{"$f":"IF(ISNA(INDEX(geb.Rechnung!$A$4:$G$1000,MATCH(ROW()-5,geb.Rechnung!$G$4:$G$1000,0),COLUMN()+1)),\"\",INDEX(geb.Rechnung!$A$4:$G$1000,MATCH(ROW()-5,geb.Rechnung!$G$4:$G$1000,0),COLUMN()+1))","v":""},{"$f":"IF(ISNA(INDEX(geb.Rechnung!$A$4:$G$1000,MATCH(ROW()-5,geb.Rechnung!$G$4:$G$1000,0),COLUMN()+1)),\"\",INDEX(geb.Rechnung!$A$4:$G$1000,MATCH(ROW()-5,geb.Rechnung!$G$4:$G$1000,0),COLUMN()+1))","v":""}]
[{"$f":"IF(ISNA(INDEX(geb.Rechnung!$A$4:$G$1000,MATCH(ROW()-5,geb.Rechnung!$G$4:$G$1000,0),COLUMN()-1)),\"\",INDEX(geb.Rechnung!$A$4:$G$1000,MATCH(ROW()-5,geb.Rechnung!$G$4:$G$1000,0),COLUMN()-1))","v":""},{"$f":"IF(ISNA(INDEX(geb.Rechnung!$A$4:$G$1000,MATCH(ROW()-5,geb.Rechnung!$G$4:$G$1000,0),COLUMN()-2)),\"\",INDEX(geb.Rechnung!$A$4:$G$1000,MATCH(ROW()-5,geb.Rechnung!$G$4:$G$1000,0),COLUMN()-2))","v":""},{"$f":"IF(ISNA(INDEX(geb.Rechnung!$A$4:$G$1000,MATCH(ROW()-5,geb.Rechnung!$G$4:$G$1000,0),COLUMN()+1)),\"\",INDEX(geb.Rechnung!$A$4:$G$1000,MATCH(ROW()-5,geb.Rechnung!$G$4:$G$1000,0),COLUMN()+1))","v":""},{"$f":"IF(ISNA(INDEX(geb.Rechnung!$A$4:$G$1000,MATCH(ROW()-5,geb.Rechnung!$G$4:$G$1000,0),COLUMN()+1)),\"\",INDEX(geb.Rechnung!$A$4:$G$1000,MATCH(ROW()-5,geb.Rechnung!$G$4:$G$1000,0),COLUMN()+1))","v":""}]
[{"$f":"IF(ISNA(INDEX(geb.Rechnung!$A$4:$G$1000,MATCH(ROW()-5,geb.Rechnung!$G$4:$G$1000,0),COLUMN()-1)),\"\",INDEX(geb.Rechnung!$A$4:$G$1000,MATCH(ROW()-5,geb.Rechnung!$G$4:$G$1000,0),COLUMN()-1))","v":""},{"$f":"IF(ISNA(INDEX(geb.Rechnung!$A$4:$G$1000,MATCH(ROW()-5,geb.Rechnung!$G$4:$G$1000,0),COLUMN()-2)),\"\",INDEX(geb.Rechnung!$A$4:$G$1000,MATCH(ROW()-5,geb.Rechnung!$G$4:$G$1000,0),COLUMN()-2))","v":""},{"$f":"IF(ISNA(INDEX(geb.Rechnung!$A$4:$G$1000,MATCH(ROW()-5,geb.Rechnung!$G$4:$G$1000,0),COLUMN()+1)),\"\",INDEX(geb.Rechnung!$A$4:$G$1000,MATCH(ROW()-5,geb.Rechnung!$G$4:$G$1000,0),COLUMN()+1))","v":""},{"$f":"IF(ISNA(INDEX(geb.Rechnung!$A$4:$G$1000,MATCH(ROW()-5,geb.Rechnung!$G$4:$G$1000,0),COLUMN()+1)),\"\",INDEX(geb.Rechnung!$A$4:$G$1000,MATCH(ROW()-5,geb.Rechnung!$G$4:$G$1000,0),COLUMN()+1))","v":""}]
[{"$f":"IF(ISNA(INDEX(geb.Rechnung!$A$4:$G$1000,MATCH(ROW()-5,geb.Rechnung!$G$4:$G$1000,0),COLUMN()-1)),\"\",INDEX(geb.Rechnung!$A$4:$G$1000,MATCH(ROW()-5,geb.Rechnung!$G$4:$G$1000,0),COLUMN()-1))","v":""},{"$f":"IF(ISNA(INDEX(geb.Rechnung!$A$4:$G$1000,MATCH(ROW()-5,geb.Rechnung!$G$4:$G$1000,0),COLUMN()-2)),\"\",INDEX(geb.Rechnung!$A$4:$G$1000,MATCH(ROW()-5,geb.Rechnung!$G$4:$G$1000,0),COLUMN()-2))","v":""},{"$f":"IF(ISNA(INDEX(geb.Rechnung!$A$4:$G$1000,MATCH(ROW()-5,geb.Rechnung!$G$4:$G$1000,0),COLUMN()+1)),\"\",INDEX(geb.Rechnung!$A$4:$G$1000,MATCH(ROW()-5,geb.Rechnung!$G$4:$G$1000,0),COLUMN()+1))","v":""},{"$f":"IF(ISNA(INDEX(geb.Rechnung!$A$4:$G$1000,MATCH(ROW()-5,geb.Rechnung!$G$4:$G$1000,0),COLUMN()+1)),\"\",INDEX(geb.Rechnung!$A$4:$G$1000,MATCH(ROW()-5,geb.Rechnung!$G$4:$G$1000,0),COLUMN()+1))","v":""}]
[{"$f":"IF(ISNA(INDEX(geb.Rechnung!$A$4:$G$1000,MATCH(ROW()-5,geb.Rechnung!$G$4:$G$1000,0),COLUMN()-1)),\"\",INDEX(geb.Rechnung!$A$4:$G$1000,MATCH(ROW()-5,geb.Rechnung!$G$4:$G$1000,0),COLUMN()-1))","v":""},{"$f":"IF(ISNA(INDEX(geb.Rechnung!$A$4:$G$1000,MATCH(ROW()-5,geb.Rechnung!$G$4:$G$1000,0),COLUMN()-2)),\"\",INDEX(geb.Rechnung!$A$4:$G$1000,MATCH(ROW()-5,geb.Rechnung!$G$4:$G$1000,0),COLUMN()-2))","v":""},{"$f":"IF(ISNA(INDEX(geb.Rechnung!$A$4:$G$1000,MATCH(ROW()-5,geb.Rechnung!$G$4:$G$1000,0),COLUMN()+1)),\"\",INDEX(geb.Rechnung!$A$4:$G$1000,MATCH(ROW()-5,geb.Rechnung!$G$4:$G$1000,0),COLUMN()+1))","v":""},{"$f":"IF(ISNA(INDEX(geb.Rechnung!$A$4:$G$1000,MATCH(ROW()-5,geb.Rechnung!$G$4:$G$1000,0),COLUMN()+1)),\"\",INDEX(geb.Rechnung!$A$4:$G$1000,MATCH(ROW()-5,geb.Rechnung!$G$4:$G$1000,0),COLUMN()+1))","v":""}]
[{"$f":"IF(ISNA(INDEX(geb.Rechnung!$A$4:$G$1000,MATCH(ROW()-5,geb.Rechnung!$G$4:$G$1000,0),COLUMN()-1)),\"\",INDEX(geb.Rechnung!$A$4:$G$1000,MATCH(ROW()-5,geb.Rechnung!$G$4:$G$1000,0),COLUMN()-1))","v":""},{"$f":"IF(ISNA(INDEX(geb.Rechnung!$A$4:$G$1000,MATCH(ROW()-5,geb.Rechnung!$G$4:$G$1000,0),COLUMN()-2)),\"\",INDEX(geb.Rechnung!$A$4:$G$1000,MATCH(ROW()-5,geb.Rechnung!$G$4:$G$1000,0),COLUMN()-2))","v":""},{"$f":"IF(ISNA(INDEX(geb.Rechnung!$A$4:$G$1000,MATCH(ROW()-5,geb.Rechnung!$G$4:$G$1000,0),COLUMN()+1)),\"\",INDEX(geb.Rechnung!$A$4:$G$1000,MATCH(ROW()-5,geb.Rechnung!$G$4:$G$1000,0),COLUMN()+1))","v":""},{"$f":"IF(ISNA(INDEX(geb.Rechnung!$A$4:$G$1000,MATCH(ROW()-5,geb.Rechnung!$G$4:$G$1000,0),COLUMN()+1)),\"\",INDEX(geb.Rechnung!$A$4:$G$1000,MATCH(ROW()-5,geb.Rechnung!$G$4:$G$1000,0),COLUMN()+1))","v":""}]
[{"$f":"IF(ISNA(INDEX(geb.Rechnung!$A$4:$G$1000,MATCH(ROW()-5,geb.Rechnung!$G$4:$G$1000,0),COLUMN()-1)),\"\",INDEX(geb.Rechnung!$A$4:$G$1000,MATCH(ROW()-5,geb.Rechnung!$G$4:$G$1000,0),COLUMN()-1))","v":""},{"$f":"IF(ISNA(INDEX(geb.Rechnung!$A$4:$G$1000,MATCH(ROW()-5,geb.Rechnung!$G$4:$G$1000,0),COLUMN()-2)),\"\",INDEX(geb.Rechnung!$A$4:$G$1000,MATCH(ROW()-5,geb.Rechnung!$G$4:$G$1000,0),COLUMN()-2))","v":""},{"$f":"IF(ISNA(INDEX(geb.Rechnung!$A$4:$G$1000,MATCH(ROW()-5,geb.Rechnung!$G$4:$G$1000,0),COLUMN()+1)),\"\",INDEX(geb.Rechnung!$A$4:$G$1000,MATCH(ROW()-5,geb.Rechnung!$G$4:$G$1000,0),COLUMN()+1))","v":""},{"$f":"IF(ISNA(INDEX(geb.Rechnung!$A$4:$G$1000,MATCH(ROW()-5,geb.Rechnung!$G$4:$G$1000,0),COLUMN()+1)),\"\",INDEX(geb.Rechnung!$A$4:$G$1000,MATCH(ROW()-5,geb.Rechnung!$G$4:$G$1000,0),COLUMN()+1))","v":""}]
[{"$f":"IF(ISNA(INDEX(geb.Rechnung!$A$4:$G$1000,MATCH(ROW()-5,geb.Rechnung!$G$4:$G$1000,0),COLUMN()-1)),\"\",INDEX(geb.Rechnung!$A$4:$G$1000,MATCH(ROW()-5,geb.Rechnung!$G$4:$G$1000,0),COLUMN()-1))","v":""},{"$f":"IF(ISNA(INDEX(geb.Rechnung!$A$4:$G$1000,MATCH(ROW()-5,geb.Rechnung!$G$4:$G$1000,0),COLUMN()-2)),\"\",INDEX(geb.Rechnung!$A$4:$G$1000,MATCH(ROW()-5,geb.Rechnung!$G$4:$G$1000,0),COLUMN()-2))","v":""},{"$f":"IF(ISNA(INDEX(geb.Rechnung!$A$4:$G$1000,MATCH(ROW()-5,geb.Rechnung!$G$4:$G$1000,0),COLUMN()+1)),\"\",INDEX(geb.Rechnung!$A$4:$G$1000,MATCH(ROW()-5,geb.Rechnung!$G$4:$G$1000,0),COLUMN()+1))","v":""},{"$f":"IF(ISNA(INDEX(geb.Rechnung!$A$4:$G$1000,MATCH(ROW()-5,geb.Rechnung!$G$4:$G$1000,0),COLUMN()+1)),\"\",INDEX(geb.Rechnung!$A$4:$G$1000,MATCH(ROW()-5,geb.Rechnung!$G$4:$G$1000,0),COLUMN()+1))","v":""}]
[{"$f":"IF(ISNA(INDEX(geb.Rechnung!$A$4:$G$1000,MATCH(ROW()-5,geb.Rechnung!$G$4:$G$1000,0),COLUMN()-1)),\"\",INDEX(geb.Rechnung!$A$4:$G$1000,MATCH(ROW()-5,geb.Rechnung!$G$4:$G$1000,0),COLUMN()-1))","v":""},{"$f":"IF(ISNA(INDEX(geb.Rechnung!$A$4:$G$1000,MATCH(ROW()-5,geb.Rechnung!$G$4:$G$1000,0),COLUMN()-2)),\"\",INDEX(geb.Rechnung!$A$4:$G$1000,MATCH(ROW()-5,geb.Rechnung!$G$4:$G$1000,0),COLUMN()-2))","v":""},{"$f":"IF(ISNA(INDEX(geb.Rechnung!$A$4:$G$1000,MATCH(ROW()-5,geb.Rechnung!$G$4:$G$1000,0),COLUMN()+1)),\"\",INDEX(geb.Rechnung!$A$4:$G$1000,MATCH(ROW()-5,geb.Rechnung!$G$4:$G$1000,0),COLUMN()+1))","v":""},{"$f":"IF(ISNA(INDEX(geb.Rechnung!$A$4:$G$1000,MATCH(ROW()-5,geb.Rechnung!$G$4:$G$1000,0),COLUMN()+1)),\"\",INDEX(geb.Rechnung!$A$4:$G$1000,MATCH(ROW()-5,geb.Rechnung!$G$4:$G$1000,0),COLUMN()+1))","v":""}]
[{"$f":"IF(ISNA(INDEX(geb.Rechnung!$A$4:$G$1000,MATCH(ROW()-5,geb.Rechnung!$G$4:$G$1000,0),COLUMN()-1)),\"\",INDEX(geb.Rechnung!$A$4:$G$1000,MATCH(ROW()-5,geb.Rechnung!$G$4:$G$1000,0),COLUMN()-1))","v":""},{"$f":"IF(ISNA(INDEX(geb.Rechnung!$A$4:$G$1000,MATCH(ROW()-5,geb.Rechnung!$G$4:$G$1000,0),COLUMN()-2)),\"\",INDEX(geb.Rechnung!$A$4:$G$1000,MATCH(ROW()-5,geb.Rechnung!$G$4:$G$1000,0),COLUMN()-2))","v":""},{"$f":"IF(ISNA(INDEX(geb.Rechnung!$A$4:$G$1000,MATCH(ROW()-5,geb.Rechnung!$G$4:$G$1000,0),COLUMN()+1)),\"\",INDEX(geb.Rechnung!$A$4:$G$1000,MATCH(ROW()-5,geb.Rechnung!$G$4:$G$1000,0),COLUMN()+1))","v":""},{"$f":"IF(ISNA(INDEX(geb.Rechnung!$A$4:$G$1000,MATCH(ROW()-5,geb.Rechnung!$G$4:$G$1000,0),COLUMN()+1)),\"\",INDEX(geb.Rechnung!$A$4:$G$1000,MATCH(ROW()-5,geb.Rechnung!$G$4:$G$1000,0),COLUMN()+1))","v":""}]
[{"$f":"IF(ISNA(INDEX(geb.Rechnung!$A$4:$G$1000,MATCH(ROW()-5,geb.Rechnung!$G$4:$G$1000,0),COLUMN()-1)),\"\",INDEX(geb.Rechnung!$A$4:$G$1000,MATCH(ROW()-5,geb.Rechnung!$G$4:$G$1000,0),COLUMN()-1))","v":""},{"$f":"IF(ISNA(INDEX(geb.Rechnung!$A$4:$G$1000,MATCH(ROW()-5,geb.Rechnung!$G$4:$G$1000,0),COLUMN()-2)),\"\",INDEX(geb.Rechnung!$A$4:$G$1000,MATCH(ROW()-5,geb.Rechnung!$G$4:$G$1000,0),COLUMN()-2))","v":""},{"$f":"IF(ISNA(INDEX(geb.Rechnung!$A$4:$G$1000,MATCH(ROW()-5,geb.Rechnung!$G$4:$G$1000,0),COLUMN()+1)),\"\",INDEX(geb.Rechnung!$A$4:$G$1000,MATCH(ROW()-5,geb.Rechnung!$G$4:$G$1000,0),COLUMN()+1))","v":""},{"$f":"IF(ISNA(INDEX(geb.Rechnung!$A$4:$G$1000,MATCH(ROW()-5,geb.Rechnung!$G$4:$G$1000,0),COLUMN()+1)),\"\",INDEX(geb.Rechnung!$A$4:$G$1000,MATCH(ROW()-5,geb.Rechnung!$G$4:$G$1000,0),COLUMN()+1))","v":""}]
[{"$f":"IF(ISNA(INDEX(geb.Rechnung!$A$4:$G$1000,MATCH(ROW()-5,geb.Rechnung!$G$4:$G$1000,0),COLUMN()-1)),\"\",INDEX(geb.Rechnung!$A$4:$G$1000,MATCH(ROW()-5,geb.Rechnung!$G$4:$G$1000,0),COLUMN()-1))","v":""},{"$f":"IF(ISNA(INDEX(geb.Rechnung!$A$4:$G$1000,MATCH(ROW()-5,geb.Rechnung!$G$4:$G$1000,0),COLUMN()-2)),\"\",INDEX(geb.Rechnung!$A$4:$G$1000,MATCH(ROW()-5,geb.Rechnung!$G$4:$G$1000,0),COLUMN()-2))","v":""},{"$f":"IF(ISNA(INDEX(geb.Rechnung!$A$4:$G$1000,MATCH(ROW()-5,geb.Rechnung!$G$4:$G$1000,0),COLUMN()+1)),\"\",INDEX(geb.Rechnung!$A$4:$G$1000,MATCH(ROW()-5,geb.Rechnung!$G$4:$G$1000,0),COLUMN()+1))","v":""},{"$f":"IF(ISNA(INDEX(geb.Rechnung!$A$4:$G$1000,MATCH(ROW()-5,geb.Rechnung!$G$4:$G$1000,0),COLUMN()+1)),\"\",INDEX(geb.Rechnung!$A$4:$G$1000,MATCH(ROW()-5,geb.Rechnung!$G$4:$G$1000,0),COLUMN()+1))","v":""}]
[{"$f":"IF(ISNA(INDEX(geb.Rechnung!$A$4:$G$1000,MATCH(ROW()-5,geb.Rechnung!$G$4:$G$1000,0),COLUMN()-1)),\"\",INDEX(geb.Rechnung!$A$4:$G$1000,MATCH(ROW()-5,geb.Rechnung!$G$4:$G$1000,0),COLUMN()-1))","v":""},{"$f":"IF(ISNA(INDEX(geb.Rechnung!$A$4:$G$1000,MATCH(ROW()-5,geb.Rechnung!$G$4:$G$1000,0),COLUMN()-2)),\"\",INDEX(geb.Rechnung!$A$4:$G$1000,MATCH(ROW()-5,geb.Rechnung!$G$4:$G$1000,0),COLUMN()-2))","v":""},{"$f":"IF(ISNA(INDEX(geb.Rechnung!$A$4:$G$1000,MATCH(ROW()-5,geb.Rechnung!$G$4:$G$1000,0),COLUMN()+1)),\"\",INDEX(geb.Rechnung!$A$4:$G$1000,MATCH(ROW()-5,geb.Rechnung!$G$4:$G$1000,0),COLUMN()+1))","v":""},{"$f":"IF(ISNA(INDEX(geb.Rechnung!$A$4:$G$1000,MATCH(ROW()-5,geb.Rechnung!$G$4:$G$1000,0),COLUMN()+1)),\"\",INDEX(geb.Rechnung!$A$4:$G$1000,MATCH(ROW()-5,geb.Rechnung!$G$4:$G$1000,0),COLUMN()+1))","v":""}]
[{"$f":"IF(ISNA(INDEX(geb.Rechnung!$A$4:$G$1000,MATCH(ROW()-5,geb.Rechnung!$G$4:$G$1000,0),COLUMN()-1)),\"\",INDEX(geb.Rechnung!$A$4:$G$1000,MATCH(ROW()-5,geb.Rechnung!$G$4:$G$1000,0),COLUMN()-1))","v":""},{"$f":"IF(ISNA(INDEX(geb.Rechnung!$A$4:$G$1000,MATCH(ROW()-5,geb.Rechnung!$G$4:$G$1000,0),COLUMN()-2)),\"\",INDEX(geb.Rechnung!$A$4:$G$1000,MATCH(ROW()-5,geb.Rechnung!$G$4:$G$1000,0),COLUMN()-2))","v":""},{"$f":"IF(ISNA(INDEX(geb.Rechnung!$A$4:$G$1000,MATCH(ROW()-5,geb.Rechnung!$G$4:$G$1000,0),COLUMN()+1)),\"\",INDEX(geb.Rechnung!$A$4:$G$1000,MATCH(ROW()-5,geb.Rechnung!$G$4:$G$1000,0),COLUMN()+1))","v":""},{"$f":"IF(ISNA(INDEX(geb.Rechnung!$A$4:$G$1000,MATCH(ROW()-5,geb.Rechnung!$G$4:$G$1000,0),COLUMN()+1)),\"\",INDEX(geb.Rechnung!$A$4:$G$1000,MATCH(ROW()-5,geb.Rechnung!$G$4:$G$1000,0),COLUMN()+1))","v":""}]
[{"$f":"IF(ISNA(INDEX(geb.Rechnung!$A$4:$G$1000,MATCH(ROW()-5,geb.Rechnung!$G$4:$G$1000,0),COLUMN()-1)),\"\",INDEX(geb.Rechnung!$A$4:$G$1000,MATCH(ROW()-5,geb.Rechnung!$G$4:$G$1000,0),COLUMN()-1))","v":""},{"$f":"IF(ISNA(INDEX(geb.Rechnung!$A$4:$G$1000,MATCH(ROW()-5,geb.Rechnung!$G$4:$G$1000,0),COLUMN()-2)),\"\",INDEX(geb.Rechnung!$A$4:$G$1000,MATCH(ROW()-5,geb.Rechnung!$G$4:$G$1000,0),COLUMN()-2))","v":""},{"$f":"IF(ISNA(INDEX(geb.Rechnung!$A$4:$G$1000,MATCH(ROW()-5,geb.Rechnung!$G$4:$G$1000,0),COLUMN()+1)),\"\",INDEX(geb.Rechnung!$A$4:$G$1000,MATCH(ROW()-5,geb.Rechnung!$G$4:$G$1000,0),COLUMN()+1))","v":""},{"$f":"IF(ISNA(INDEX(geb.Rechnung!$A$4:$G$1000,MATCH(ROW()-5,geb.Rechnung!$G$4:$G$1000,0),COLUMN()+1)),\"\",INDEX(geb.Rechnung!$A$4:$G$1000,MATCH(ROW()-5,geb.Rechnung!$G$4:$G$1000,0),COLUMN()+1))","v":""}]
[{"$f":"IF(ISNA(INDEX(geb.Rechnung!$A$4:$G$1000,MATCH(ROW()-5,geb.Rechnung!$G$4:$G$1000,0),COLUMN()-1)),\"\",INDEX(geb.Rechnung!$A$4:$G$1000,MATCH(ROW()-5,geb.Rechnung!$G$4:$G$1000,0),COLUMN()-1))","v":""},{"$f":"IF(ISNA(INDEX(geb.Rechnung!$A$4:$G$1000,MATCH(ROW()-5,geb.Rechnung!$G$4:$G$1000,0),COLUMN()-2)),\"\",INDEX(geb.Rechnung!$A$4:$G$1000,MATCH(ROW()-5,geb.Rechnung!$G$4:$G$1000,0),COLUMN()-2))","v":""},{"$f":"IF(ISNA(INDEX(geb.Rechnung!$A$4:$G$1000,MATCH(ROW()-5,geb.Rechnung!$G$4:$G$1000,0),COLUMN()+1)),\"\",INDEX(geb.Rechnung!$A$4:$G$1000,MATCH(ROW()-5,geb.Rechnung!$G$4:$G$1000,0),COLUMN()+1))","v":""},{"$f":"IF(ISNA(INDEX(geb.Rechnung!$A$4:$G$1000,MATCH(ROW()-5,geb.Rechnung!$G$4:$G$1000,0),COLUMN()+1)),\"\",INDEX(geb.Rechnung!$A$4:$G$1000,MATCH(ROW()-5,geb.Rechnung!$G$4:$G$1000,0),COLUMN()+1))","v":""}]
[{"$f":"IF(ISNA(INDEX(geb.Rechnung!$A$4:$G$1000,MATCH(ROW()-5,geb.Rechnung!$G$4:$G$1000,0),COLUMN()-1)),\"\",INDEX(geb.Rechnung!$A$4:$G$1000,MATCH(ROW()-5,geb.Rechnung!$G$4:$G$1000,0),COLUMN()-1))","v":""},{"$f":"IF(ISNA(INDEX(geb.Rechnung!$A$4:$G$1000,MATCH(ROW()-5,geb.Rechnung!$G$4:$G$1000,0),COLUMN()-2)),\"\",INDEX(geb.Rechnung!$A$4:$G$1000,MATCH(ROW()-5,geb.Rechnung!$G$4:$G$1000,0),COLUMN()-2))","v":""},{"$f":"IF(ISNA(INDEX(geb.Rechnung!$A$4:$G$1000,MATCH(ROW()-5,geb.Rechnung!$G$4:$G$1000,0),COLUMN()+1)),\"\",INDEX(geb.Rechnung!$A$4:$G$1000,MATCH(ROW()-5,geb.Rechnung!$G$4:$G$1000,0),COLUMN()+1))","v":""},{"$f":"IF(ISNA(INDEX(geb.Rechnung!$A$4:$G$1000,MATCH(ROW()-5,geb.Rechnung!$G$4:$G$1000,0),COLUMN()+1)),\"\",INDEX(geb.Rechnung!$A$4:$G$1000,MATCH(ROW()-5,geb.Rechnung!$G$4:$G$1000,0),COLUMN()+1))","v":""}]
[{"$f":"IF(ISNA(INDEX(geb.Rechnung!$A$4:$G$1000,MATCH(ROW()-5,geb.Rechnung!$G$4:$G$1000,0),COLUMN()-1)),\"\",INDEX(geb.Rechnung!$A$4:$G$1000,MATCH(ROW()-5,geb.Rechnung!$G$4:$G$1000,0),COLUMN()-1))","v":""},{"$f":"IF(ISNA(INDEX(geb.Rechnung!$A$4:$G$1000,MATCH(ROW()-5,geb.Rechnung!$G$4:$G$1000,0),COLUMN()-2)),\"\",INDEX(geb.Rechnung!$A$4:$G$1000,MATCH(ROW()-5,geb.Rechnung!$G$4:$G$1000,0),COLUMN()-2))","v":""},{"$f":"IF(ISNA(INDEX(geb.Rechnung!$A$4:$G$1000,MATCH(ROW()-5,geb.Rechnung!$G$4:$G$1000,0),COLUMN()+1)),\"\",INDEX(geb.Rechnung!$A$4:$G$1000,MATCH(ROW()-5,geb.Rechnung!$G$4:$G$1000,0),COLUMN()+1))","v":""},{"$f":"IF(ISNA(INDEX(geb.Rechnung!$A$4:$G$1000,MATCH(ROW()-5,geb.Rechnung!$G$4:$G$1000,0),COLUMN()+1)),\"\",INDEX(geb.Rechnung!$A$4:$G$1000,MATCH(ROW()-5,geb.Rechnung!$G$4:$G$1000,0),COLUMN()+1))","v":""}]
[{"$f":"IF(ISNA(INDEX(geb.Rechnung!$A$4:$G$1000,MATCH(ROW()-5,geb.Rechnung!$G$4:$G$1000,0),COLUMN()-1)),\"\",INDEX(geb.Rechnung!$A$4:$G$1000,MATCH(ROW()-5,geb.Rechnung!$G$4:$G$1000,0),COLUMN()-1))","v":""},{"$f":"IF(ISNA(INDEX(geb.Rechnung!$A$4:$G$1000,MATCH(ROW()-5,geb.Rechnung!$G$4:$G$1000,0),COLUMN()-2)),\"\",INDEX(geb.Rechnung!$A$4:$G$1000,MATCH(ROW()-5,geb.Rechnung!$G$4:$G$1000,0),COLUMN()-2))","v":""},{"$f":"IF(ISNA(INDEX(geb.Rechnung!$A$4:$G$1000,MATCH(ROW()-5,geb.Rechnung!$G$4:$G$1000,0),COLUMN()+1)),\"\",INDEX(geb.Rechnung!$A$4:$G$1000,MATCH(ROW()-5,geb.Rechnung!$G$4:$G$1000,0),COLUMN()+1))","v":""},{"$f":"IF(ISNA(INDEX(geb.Rechnung!$A$4:$G$1000,MATCH(ROW()-5,geb.Rechnung!$G$4:$G$1000,0),COLUMN()+1)),\"\",INDEX(geb.Rechnung!$A$4:$G$1000,MATCH(ROW()-5,geb.Rechnung!$G$4:$G$1000,0),COLUMN()+1))","v":""}]
[{"$f":"IF(ISNA(INDEX(geb.Rechnung!$A$4:$G$1000,MATCH(ROW()-5,geb.Rechnung!$G$4:$G$1000,0),COLUMN()-1)),\"\",INDEX(geb.Rechnung!$A$4:$G$1000,MATCH(ROW()-5,geb.Rechnung!$G$4:$G$1000,0),COLUMN()-1))","v":""},{"$f":"IF(ISNA(INDEX(geb.Rechnung!$A$4:$G$1000,MATCH(ROW()-5,geb.Rechnung!$G$4:$G$1000,0),COLUMN()-2)),\"\",INDEX(geb.Rechnung!$A$4:$G$1000,MATCH(ROW()-5,geb.Rechnung!$G$4:$G$1000,0),COLUMN()-2))","v":""},{"$f":"IF(ISNA(INDEX(geb.Rechnung!$A$4:$G$1000,MATCH(ROW()-5,geb.Rechnung!$G$4:$G$1000,0),COLUMN()+1)),\"\",INDEX(geb.Rechnung!$A$4:$G$1000,MATCH(ROW()-5,geb.Rechnung!$G$4:$G$1000,0),COLUMN()+1))","v":""},{"$f":"IF(ISNA(INDEX(geb.Rechnung!$A$4:$G$1000,MATCH(ROW()-5,geb.Rechnung!$G$4:$G$1000,0),COLUMN()+1)),\"\",INDEX(geb.Rechnung!$A$4:$G$1000,MATCH(ROW()-5,geb.Rechnung!$G$4:$G$1000,0),COLUMN()+1))","v":""}]
[{"$f":"IF(ISNA(INDEX(geb.Rechnung!$A$4:$G$1000,MATCH(ROW()-5,geb.Rechnung!$G$4:$G$1000,0),COLUMN()-1)),\"\",INDEX(geb.Rechnung!$A$4:$G$1000,MATCH(ROW()-5,geb.Rechnung!$G$4:$G$1000,0),COLUMN()-1))","v":""},{"$f":"IF(ISNA(INDEX(geb.Rechnung!$A$4:$G$1000,MATCH(ROW()-5,geb.Rechnung!$G$4:$G$1000,0),COLUMN()-2)),\"\",INDEX(geb.Rechnung!$A$4:$G$1000,MATCH(ROW()-5,geb.Rechnung!$G$4:$G$1000,0),COLUMN()-2))","v":""},{"$f":"IF(ISNA(INDEX(geb.Rechnung!$A$4:$G$1000,MATCH(ROW()-5,geb.Rechnung!$G$4:$G$1000,0),COLUMN()+1)),\"\",INDEX(geb.Rechnung!$A$4:$G$1000,MATCH(ROW()-5,geb.Rechnung!$G$4:$G$1000,0),COLUMN()+1))","v":""},{"$f":"IF(ISNA(INDEX(geb.Rechnung!$A$4:$G$1000,MATCH(ROW()-5,geb.Rechnung!$G$4:$G$1000,0),COLUMN()+1)),\"\",INDEX(geb.Rechnung!$A$4:$G$1000,MATCH(ROW()-5,geb.Rechnung!$G$4:$G$1000,0),COLUMN()+1))","v":""}]
[{"$f":"IF(ISNA(INDEX(geb.Rechnung!$A$4:$G$1000,MATCH(ROW()-5,geb.Rechnung!$G$4:$G$1000,0),COLUMN()-1)),\"\",INDEX(geb.Rechnung!$A$4:$G$1000,MATCH(ROW()-5,geb.Rechnung!$G$4:$G$1000,0),COLUMN()-1))","v":""},{"$f":"IF(ISNA(INDEX(geb.Rechnung!$A$4:$G$1000,MATCH(ROW()-5,geb.Rechnung!$G$4:$G$1000,0),COLUMN()-2)),\"\",INDEX(geb.Rechnung!$A$4:$G$1000,MATCH(ROW()-5,geb.Rechnung!$G$4:$G$1000,0),COLUMN()-2))","v":""},{"$f":"IF(ISNA(INDEX(geb.Rechnung!$A$4:$G$1000,MATCH(ROW()-5,geb.Rechnung!$G$4:$G$1000,0),COLUMN()+1)),\"\",INDEX(geb.Rechnung!$A$4:$G$1000,MATCH(ROW()-5,geb.Rechnung!$G$4:$G$1000,0),COLUMN()+1))","v":""},{"$f":"IF(ISNA(INDEX(geb.Rechnung!$A$4:$G$1000,MATCH(ROW()-5,geb.Rechnung!$G$4:$G$1000,0),COLUMN()+1)),\"\",INDEX(geb.Rechnung!$A$4:$G$1000,MATCH(ROW()-5,geb.Rechnung!$G$4:$G$1000,0),COLUMN()+1))","v":""}]
[{"$f":"IF(ISNA(INDEX(geb.Rechnung!$A$4:$G$1000,MATCH(ROW()-5,geb.Rechnung!$G$4:$G$1000,0),COLUMN()-1)),\"\",INDEX(geb.Rechnung!$A$4:$G$1000,MATCH(ROW()-5,geb.Rechnung!$G$4:$G$1000,0),COLUMN()-1))","v":""},{"$f":"IF(ISNA(INDEX(geb.Rechnung!$A$4:$G$1000,MATCH(ROW()-5,geb.Rechnung!$G$4:$G$1000,0),COLUMN()-2)),\"\",INDEX(geb.Rechnung!$A$4:$G$1000,MATCH(ROW()-5,geb.Rechnung!$G$4:$G$1000,0),COLUMN()-2))","v":""},{"$f":"IF(ISNA(INDEX(geb.Rechnung!$A$4:$G$1000,MATCH(ROW()-5,geb.Rechnung!$G$4:$G$1000,0),COLUMN()+1)),\"\",INDEX(geb.Rechnung!$A$4:$G$1000,MATCH(ROW()-5,geb.Rechnung!$G$4:$G$1000,0),COLUMN()+1))","v":""},{"$f":"IF(ISNA(INDEX(geb.Rechnung!$A$4:$G$1000,MATCH(ROW()-5,geb.Rechnung!$G$4:$G$1000,0),COLUMN()+1)),\"\",INDEX(geb.Rechnung!$A$4:$G$1000,MATCH(ROW()-5,geb.Rechnung!$G$4:$G$1000,0),COLUMN()+1))","v":""}]
[{"$f":"IF(ISNA(INDEX(geb.Rechnung!$A$4:$G$1000,MATCH(ROW()-5,geb.Rechnung!$G$4:$G$1000,0),COLUMN()-1)),\"\",INDEX(geb.Rechnung!$A$4:$G$1000,MATCH(ROW()-5,geb.Rechnung!$G$4:$G$1000,0),COLUMN()-1))","v":""},{"$f":"IF(ISNA(INDEX(geb.Rechnung!$A$4:$G$1000,MATCH(ROW()-5,geb.Rechnung!$G$4:$G$1000,0),COLUMN()-2)),\"\",INDEX(geb.Rechnung!$A$4:$G$1000,MATCH(ROW()-5,geb.Rechnung!$G$4:$G$1000,0),COLUMN()-2))","v":""},{"$f":"IF(ISNA(INDEX(geb.Rechnung!$A$4:$G$1000,MATCH(ROW()-5,geb.Rechnung!$G$4:$G$1000,0),COLUMN()+1)),\"\",INDEX(geb.Rechnung!$A$4:$G$1000,MATCH(ROW()-5,geb.Rechnung!$G$4:$G$1000,0),COLUMN()+1))","v":""},{"$f":"IF(ISNA(INDEX(geb.Rechnung!$A$4:$G$1000,MATCH(ROW()-5,geb.Rechnung!$G$4:$G$1000,0),COLUMN()+1)),\"\",INDEX(geb.Rechnung!$A$4:$G$1000,MATCH(ROW()-5,geb.Rechnung!$G$4:$G$1000,0),COLUMN()+1))","v":""}]
[{"$f":"IF(ISNA(INDEX(geb.Rechnung!$A$4:$G$1000,MATCH(ROW()-5,geb.Rechnung!$G$4:$G$1000,0),COLUMN()-1)),\"\",INDEX(geb.Rechnung!$A$4:$G$1000,MATCH(ROW()-5,geb.Rechnung!$G$4:$G$1000,0),COLUMN()-1))","v":""},{"$f":"IF(ISNA(INDEX(geb.Rechnung!$A$4:$G$1000,MATCH(ROW()-5,geb.Rechnung!$G$4:$G$1000,0),COLUMN()-2)),\"\",INDEX(geb.Rechnung!$A$4:$G$1000,MATCH(ROW()-5,geb.Rechnung!$G$4:$G$1000,0),COLUMN()-2))","v":""},{"$f":"IF(ISNA(INDEX(geb.Rechnung!$A$4:$G$1000,MATCH(ROW()-5,geb.Rechnung!$G$4:$G$1000,0),COLUMN()+1)),\"\",INDEX(geb.Rechnung!$A$4:$G$1000,MATCH(ROW()-5,geb.Rechnung!$G$4:$G$1000,0),COLUMN()+1))","v":""},{"$f":"IF(ISNA(INDEX(geb.Rechnung!$A$4:$G$1000,MATCH(ROW()-5,geb.Rechnung!$G$4:$G$1000,0),COLUMN()+1)),\"\",INDEX(geb.Rechnung!$A$4:$G$1000,MATCH(ROW()-5,geb.Rechnung!$G$4:$G$1000,0),COLUMN()+1))","v":""}]
[{"$f":"IF(ISNA(INDEX(geb.Rechnung!$A$4:$G$1000,MATCH(ROW()-5,geb.Rechnung!$G$4:$G$1000,0),COLUMN()-1)),\"\",INDEX(geb.Rechnung!$A$4:$G$1000,MATCH(ROW()-5,geb.Rechnung!$G$4:$G$1000,0),COLUMN()-1))","v":""},{"$f":"IF(ISNA(INDEX(geb.Rechnung!$A$4:$G$1000,MATCH(ROW()-5,geb.Rechnung!$G$4:$G$1000,0),COLUMN()-2)),\"\",INDEX(geb.Rechnung!$A$4:$G$1000,MATCH(ROW()-5,geb.Rechnung!$G$4:$G$1000,0),COLUMN()-2))","v":""},{"$f":"IF(ISNA(INDEX(geb.Rechnung!$A$4:$G$1000,MATCH(ROW()-5,geb.Rechnung!$G$4:$G$1000,0),COLUMN()+1)),\"\",INDEX(geb.Rechnung!$A$4:$G$1000,MATCH(ROW()-5,geb.Rechnung!$G$4:$G$1000,0),COLUMN()+1))","v":""},{"$f":"IF(ISNA(INDEX(geb.Rechnung!$A$4:$G$1000,MATCH(ROW()-5,geb.Rechnung!$G$4:$G$1000,0),COLUMN()+1)),\"\",INDEX(geb.Rechnung!$A$4:$G$1000,MATCH(ROW()-5,geb.Rechnung!$G$4:$G$1000,0),COLUMN()+1))","v":""}]
[{"$f":"IF(ISNA(INDEX(geb.Rechnung!$A$4:$G$1000,MATCH(ROW()-5,geb.Rechnung!$G$4:$G$1000,0),COLUMN()-1)),\"\",INDEX(geb.Rechnung!$A$4:$G$1000,MATCH(ROW()-5,geb.Rechnung!$G$4:$G$1000,0),COLUMN()-1))","v":""},{"$f":"IF(ISNA(INDEX(geb.Rechnung!$A$4:$G$1000,MATCH(ROW()-5,geb.Rechnung!$G$4:$G$1000,0),COLUMN()-2)),\"\",INDEX(geb.Rechnung!$A$4:$G$1000,MATCH(ROW()-5,geb.Rechnung!$G$4:$G$1000,0),COLUMN()-2))","v":""},{"$f":"IF(ISNA(INDEX(geb.Rechnung!$A$4:$G$1000,MATCH(ROW()-5,geb.Rechnung!$G$4:$G$1000,0),COLUMN()+1)),\"\",INDEX(geb.Rechnung!$A$4:$G$1000,MATCH(ROW()-5,geb.Rechnung!$G$4:$G$1000,0),COLUMN()+1))","v":""},{"$f":"IF(ISNA(INDEX(geb.Rechnung!$A$4:$G$1000,MATCH(ROW()-5,geb.Rechnung!$G$4:$G$1000,0),COLUMN()+1)),\"\",INDEX(geb.Rechnung!$A$4:$G$1000,MATCH(ROW()-5,geb.Rechnung!$G$4:$G$1000,0),COLUMN()+1))","v":""}]
[{"$f":"IF(ISNA(INDEX(geb.Rechnung!$A$4:$G$1000,MATCH(ROW()-5,geb.Rechnung!$G$4:$G$1000,0),COLUMN()-1)),\"\",INDEX(geb.Rechnung!$A$4:$G$1000,MATCH(ROW()-5,geb.Rechnung!$G$4:$G$1000,0),COLUMN()-1))","v":""},{"$f":"IF(ISNA(INDEX(geb.Rechnung!$A$4:$G$1000,MATCH(ROW()-5,geb.Rechnung!$G$4:$G$1000,0),COLUMN()-2)),\"\",INDEX(geb.Rechnung!$A$4:$G$1000,MATCH(ROW()-5,geb.Rechnung!$G$4:$G$1000,0),COLUMN()-2))","v":""},{"$f":"IF(ISNA(INDEX(geb.Rechnung!$A$4:$G$1000,MATCH(ROW()-5,geb.Rechnung!$G$4:$G$1000,0),COLUMN()+1)),\"\",INDEX(geb.Rechnung!$A$4:$G$1000,MATCH(ROW()-5,geb.Rechnung!$G$4:$G$1000,0),COLUMN()+1))","v":""},{"$f":"IF(ISNA(INDEX(geb.Rechnung!$A$4:$G$1000,MATCH(ROW()-5,geb.Rechnung!$G$4:$G$1000,0),COLUMN()+1)),\"\",INDEX(geb.Rechnung!$A$4:$G$1000,MATCH(ROW()-5,geb.Rechnung!$G$4:$G$1000,0),COLUMN()+1))","v":""}]
[{"$f":"IF(ISNA(INDEX(geb.Rechnung!$A$4:$G$1000,MATCH(ROW()-5,geb.Rechnung!$G$4:$G$1000,0),COLUMN()-1)),\"\",INDEX(geb.Rechnung!$A$4:$G$1000,MATCH(ROW()-5,geb.Rechnung!$G$4:$G$1000,0),COLUMN()-1))","v":""},{"$f":"IF(ISNA(INDEX(geb.Rechnung!$A$4:$G$1000,MATCH(ROW()-5,geb.Rechnung!$G$4:$G$1000,0),COLUMN()-2)),\"\",INDEX(geb.Rechnung!$A$4:$G$1000,MATCH(ROW()-5,geb.Rechnung!$G$4:$G$1000,0),COLUMN()-2))","v":""},{"$f":"IF(ISNA(INDEX(geb.Rechnung!$A$4:$G$1000,MATCH(ROW()-5,geb.Rechnung!$G$4:$G$1000,0),COLUMN()+1)),\"\",INDEX(geb.Rechnung!$A$4:$G$1000,MATCH(ROW()-5,geb.Rechnung!$G$4:$G$1000,0),COLUMN()+1))","v":""},{"$f":"IF(ISNA(INDEX(geb.Rechnung!$A$4:$G$1000,MATCH(ROW()-5,geb.Rechnung!$G$4:$G$1000,0),COLUMN()+1)),\"\",INDEX(geb.Rechnung!$A$4:$G$1000,MATCH(ROW()-5,geb.Rechnung!$G$4:$G$1000,0),COLUMN()+1))","v":""}]
[{"$f":"IF(ISNA(INDEX(geb.Rechnung!$A$4:$G$1000,MATCH(ROW()-5,geb.Rechnung!$G$4:$G$1000,0),COLUMN()-1)),\"\",INDEX(geb.Rechnung!$A$4:$G$1000,MATCH(ROW()-5,geb.Rechnung!$G$4:$G$1000,0),COLUMN()-1))","v":""},{"$f":"IF(ISNA(INDEX(geb.Rechnung!$A$4:$G$1000,MATCH(ROW()-5,geb.Rechnung!$G$4:$G$1000,0),COLUMN()-2)),\"\",INDEX(geb.Rechnung!$A$4:$G$1000,MATCH(ROW()-5,geb.Rechnung!$G$4:$G$1000,0),COLUMN()-2))","v":""},{"$f":"IF(ISNA(INDEX(geb.Rechnung!$A$4:$G$1000,MATCH(ROW()-5,geb.Rechnung!$G$4:$G$1000,0),COLUMN()+1)),\"\",INDEX(geb.Rechnung!$A$4:$G$1000,MATCH(ROW()-5,geb.Rechnung!$G$4:$G$1000,0),COLUMN()+1))","v":""},{"$f":"IF(ISNA(INDEX(geb.Rechnung!$A$4:$G$1000,MATCH(ROW()-5,geb.Rechnung!$G$4:$G$1000,0),COLUMN()+1)),\"\",INDEX(geb.Rechnung!$A$4:$G$1000,MATCH(ROW()-5,geb.Rechnung!$G$4:$G$1000,0),COLUMN()+1))","v":""}]
[{"$f":"IF(ISNA(INDEX(geb.Rechnung!$A$4:$G$1000,MATCH(ROW()-5,geb.Rechnung!$G$4:$G$1000,0),COLUMN()-1)),\"\",INDEX(geb.Rechnung!$A$4:$G$1000,MATCH(ROW()-5,geb.Rechnung!$G$4:$G$1000,0),COLUMN()-1))","v":""},{"$f":"IF(ISNA(INDEX(geb.Rechnung!$A$4:$G$1000,MATCH(ROW()-5,geb.Rechnung!$G$4:$G$1000,0),COLUMN()-2)),\"\",INDEX(geb.Rechnung!$A$4:$G$1000,MATCH(ROW()-5,geb.Rechnung!$G$4:$G$1000,0),COLUMN()-2))","v":""},{"$f":"IF(ISNA(INDEX(geb.Rechnung!$A$4:$G$1000,MATCH(ROW()-5,geb.Rechnung!$G$4:$G$1000,0),COLUMN()+1)),\"\",INDEX(geb.Rechnung!$A$4:$G$1000,MATCH(ROW()-5,geb.Rechnung!$G$4:$G$1000,0),COLUMN()+1))","v":""},{"$f":"IF(ISNA(INDEX(geb.Rechnung!$A$4:$G$1000,MATCH(ROW()-5,geb.Rechnung!$G$4:$G$1000,0),COLUMN()+1)),\"\",INDEX(geb.Rechnung!$A$4:$G$1000,MATCH(ROW()-5,geb.Rechnung!$G$4:$G$1000,0),COLUMN()+1))","v":""}]
[{"$f":"IF(ISNA(INDEX(geb.Rechnung!$A$4:$G$1000,MATCH(ROW()-5,geb.Rechnung!$G$4:$G$1000,0),COLUMN()-1)),\"\",INDEX(geb.Rechnung!$A$4:$G$1000,MATCH(ROW()-5,geb.Rechnung!$G$4:$G$1000,0),COLUMN()-1))","v":""},{"$f":"IF(ISNA(INDEX(geb.Rechnung!$A$4:$G$1000,MATCH(ROW()-5,geb.Rechnung!$G$4:$G$1000,0),COLUMN()-2)),\"\",INDEX(geb.Rechnung!$A$4:$G$1000,MATCH(ROW()-5,geb.Rechnung!$G$4:$G$1000,0),COLUMN()-2))","v":""},{"$f":"IF(ISNA(INDEX(geb.Rechnung!$A$4:$G$1000,MATCH(ROW()-5,geb.Rechnung!$G$4:$G$1000,0),COLUMN()+1)),\"\",INDEX(geb.Rechnung!$A$4:$G$1000,MATCH(ROW()-5,geb.Rechnung!$G$4:$G$1000,0),COLUMN()+1))","v":""},{"$f":"IF(ISNA(INDEX(geb.Rechnung!$A$4:$G$1000,MATCH(ROW()-5,geb.Rechnung!$G$4:$G$1000,0),COLUMN()+1)),\"\",INDEX(geb.Rechnung!$A$4:$G$1000,MATCH(ROW()-5,geb.Rechnung!$G$4:$G$1000,0),COLUMN()+1))","v":""}]
[{"$f":"IF(ISNA(INDEX(geb.Rechnung!$A$4:$G$1000,MATCH(ROW()-5,geb.Rechnung!$G$4:$G$1000,0),COLUMN()-1)),\"\",INDEX(geb.Rechnung!$A$4:$G$1000,MATCH(ROW()-5,geb.Rechnung!$G$4:$G$1000,0),COLUMN()-1))","v":""},{"$f":"IF(ISNA(INDEX(geb.Rechnung!$A$4:$G$1000,MATCH(ROW()-5,geb.Rechnung!$G$4:$G$1000,0),COLUMN()-2)),\"\",INDEX(geb.Rechnung!$A$4:$G$1000,MATCH(ROW()-5,geb.Rechnung!$G$4:$G$1000,0),COLUMN()-2))","v":""},{"$f":"IF(ISNA(INDEX(geb.Rechnung!$A$4:$G$1000,MATCH(ROW()-5,geb.Rechnung!$G$4:$G$1000,0),COLUMN()+1)),\"\",INDEX(geb.Rechnung!$A$4:$G$1000,MATCH(ROW()-5,geb.Rechnung!$G$4:$G$1000,0),COLUMN()+1))","v":""},{"$f":"IF(ISNA(INDEX(geb.Rechnung!$A$4:$G$1000,MATCH(ROW()-5,geb.Rechnung!$G$4:$G$1000,0),COLUMN()+1)),\"\",INDEX(geb.Rechnung!$A$4:$G$1000,MATCH(ROW()-5,geb.Rechnung!$G$4:$G$1000,0),COLUMN()+1))","v":""}]
[{"$f":"IF(ISNA(INDEX(geb.Rechnung!$A$4:$G$1000,MATCH(ROW()-5,geb.Rechnung!$G$4:$G$1000,0),COLUMN()-1)),\"\",INDEX(geb.Rechnung!$A$4:$G$1000,MATCH(ROW()-5,geb.Rechnung!$G$4:$G$1000,0),COLUMN()-1))","v":""},{"$f":"IF(ISNA(INDEX(geb.Rechnung!$A$4:$G$1000,MATCH(ROW()-5,geb.Rechnung!$G$4:$G$1000,0),COLUMN()-2)),\"\",INDEX(geb.Rechnung!$A$4:$G$1000,MATCH(ROW()-5,geb.Rechnung!$G$4:$G$1000,0),COLUMN()-2))","v":""},{"$f":"IF(ISNA(INDEX(geb.Rechnung!$A$4:$G$1000,MATCH(ROW()-5,geb.Rechnung!$G$4:$G$1000,0),COLUMN()+1)),\"\",INDEX(geb.Rechnung!$A$4:$G$1000,MATCH(ROW()-5,geb.Rechnung!$G$4:$G$1000,0),COLUMN()+1))","v":""},{"$f":"IF(ISNA(INDEX(geb.Rechnung!$A$4:$G$1000,MATCH(ROW()-5,geb.Rechnung!$G$4:$G$1000,0),COLUMN()+1)),\"\",INDEX(geb.Rechnung!$A$4:$G$1000,MATCH(ROW()-5,geb.Rechnung!$G$4:$G$1000,0),COLUMN()+1))","v":""}]
[{"$f":"IF(ISNA(INDEX(geb.Rechnung!$A$4:$G$1000,MATCH(ROW()-5,geb.Rechnung!$G$4:$G$1000,0),COLUMN()-1)),\"\",INDEX(geb.Rechnung!$A$4:$G$1000,MATCH(ROW()-5,geb.Rechnung!$G$4:$G$1000,0),COLUMN()-1))","v":""},{"$f":"IF(ISNA(INDEX(geb.Rechnung!$A$4:$G$1000,MATCH(ROW()-5,geb.Rechnung!$G$4:$G$1000,0),COLUMN()-2)),\"\",INDEX(geb.Rechnung!$A$4:$G$1000,MATCH(ROW()-5,geb.Rechnung!$G$4:$G$1000,0),COLUMN()-2))","v":""},{"$f":"IF(ISNA(INDEX(geb.Rechnung!$A$4:$G$1000,MATCH(ROW()-5,geb.Rechnung!$G$4:$G$1000,0),COLUMN()+1)),\"\",INDEX(geb.Rechnung!$A$4:$G$1000,MATCH(ROW()-5,geb.Rechnung!$G$4:$G$1000,0),COLUMN()+1))","v":""},{"$f":"IF(ISNA(INDEX(geb.Rechnung!$A$4:$G$1000,MATCH(ROW()-5,geb.Rechnung!$G$4:$G$1000,0),COLUMN()+1)),\"\",INDEX(geb.Rechnung!$A$4:$G$1000,MATCH(ROW()-5,geb.Rechnung!$G$4:$G$1000,0),COLUMN()+1))","v":""}]
[{"$f":"IF(ISNA(INDEX(geb.Rechnung!$A$4:$G$1000,MATCH(ROW()-5,geb.Rechnung!$G$4:$G$1000,0),COLUMN()-1)),\"\",INDEX(geb.Rechnung!$A$4:$G$1000,MATCH(ROW()-5,geb.Rechnung!$G$4:$G$1000,0),COLUMN()-1))","v":""},{"$f":"IF(ISNA(INDEX(geb.Rechnung!$A$4:$G$1000,MATCH(ROW()-5,geb.Rechnung!$G$4:$G$1000,0),COLUMN()-2)),\"\",INDEX(geb.Rechnung!$A$4:$G$1000,MATCH(ROW()-5,geb.Rechnung!$G$4:$G$1000,0),COLUMN()-2))","v":""},{"$f":"IF(ISNA(INDEX(geb.Rechnung!$A$4:$G$1000,MATCH(ROW()-5,geb.Rechnung!$G$4:$G$1000,0),COLUMN()+1)),\"\",INDEX(geb.Rechnung!$A$4:$G$1000,MATCH(ROW()-5,geb.Rechnung!$G$4:$G$1000,0),COLUMN()+1))","v":""},{"$f":"IF(ISNA(INDEX(geb.Rechnung!$A$4:$G$1000,MATCH(ROW()-5,geb.Rechnung!$G$4:$G$1000,0),COLUMN()+1)),\"\",INDEX(geb.Rechnung!$A$4:$G$1000,MATCH(ROW()-5,geb.Rechnung!$G$4:$G$1000,0),COLUMN()+1))","v":""}]
[{"$f":"IF(ISNA(INDEX(geb.Rechnung!$A$4:$G$1000,MATCH(ROW()-5,geb.Rechnung!$G$4:$G$1000,0),COLUMN()-1)),\"\",INDEX(geb.Rechnung!$A$4:$G$1000,MATCH(ROW()-5,geb.Rechnung!$G$4:$G$1000,0),COLUMN()-1))","v":""},{"$f":"IF(ISNA(INDEX(geb.Rechnung!$A$4:$G$1000,MATCH(ROW()-5,geb.Rechnung!$G$4:$G$1000,0),COLUMN()-2)),\"\",INDEX(geb.Rechnung!$A$4:$G$1000,MATCH(ROW()-5,geb.Rechnung!$G$4:$G$1000,0),COLUMN()-2))","v":""},{"$f":"IF(ISNA(INDEX(geb.Rechnung!$A$4:$G$1000,MATCH(ROW()-5,geb.Rechnung!$G$4:$G$1000,0),COLUMN()+1)),\"\",INDEX(geb.Rechnung!$A$4:$G$1000,MATCH(ROW()-5,geb.Rechnung!$G$4:$G$1000,0),COLUMN()+1))","v":""},{"$f":"IF(ISNA(INDEX(geb.Rechnung!$A$4:$G$1000,MATCH(ROW()-5,geb.Rechnung!$G$4:$G$1000,0),COLUMN()+1)),\"\",INDEX(geb.Rechnung!$A$4:$G$1000,MATCH(ROW()-5,geb.Rechnung!$G$4:$G$1000,0),COLUMN()+1))","v":""}]
[{"$f":"IF(ISNA(INDEX(geb.Rechnung!$A$4:$G$1000,MATCH(ROW()-5,geb.Rechnung!$G$4:$G$1000,0),COLUMN()-1)),\"\",INDEX(geb.Rechnung!$A$4:$G$1000,MATCH(ROW()-5,geb.Rechnung!$G$4:$G$1000,0),COLUMN()-1))","v":""},{"$f":"IF(ISNA(INDEX(geb.Rechnung!$A$4:$G$1000,MATCH(ROW()-5,geb.Rechnung!$G$4:$G$1000,0),COLUMN()-2)),\"\",INDEX(geb.Rechnung!$A$4:$G$1000,MATCH(ROW()-5,geb.Rechnung!$G$4:$G$1000,0),COLUMN()-2))","v":""},{"$f":"IF(ISNA(INDEX(geb.Rechnung!$A$4:$G$1000,MATCH(ROW()-5,geb.Rechnung!$G$4:$G$1000,0),COLUMN()+1)),\"\",INDEX(geb.Rechnung!$A$4:$G$1000,MATCH(ROW()-5,geb.Rechnung!$G$4:$G$1000,0),COLUMN()+1))","v":""},{"$f":"IF(ISNA(INDEX(geb.Rechnung!$A$4:$G$1000,MATCH(ROW()-5,geb.Rechnung!$G$4:$G$1000,0),COLUMN()+1)),\"\",INDEX(geb.Rechnung!$A$4:$G$1000,MATCH(ROW()-5,geb.Rechnung!$G$4:$G$1000,0),COLUMN()+1))","v":""}]
[{"$f":"IF(ISNA(INDEX(geb.Rechnung!$A$4:$G$1000,MATCH(ROW()-5,geb.Rechnung!$G$4:$G$1000,0),COLUMN()-1)),\"\",INDEX(geb.Rechnung!$A$4:$G$1000,MATCH(ROW()-5,geb.Rechnung!$G$4:$G$1000,0),COLUMN()-1))","v":""},{"$f":"IF(ISNA(INDEX(geb.Rechnung!$A$4:$G$1000,MATCH(ROW()-5,geb.Rechnung!$G$4:$G$1000,0),COLUMN()-2)),\"\",INDEX(geb.Rechnung!$A$4:$G$1000,MATCH(ROW()-5,geb.Rechnung!$G$4:$G$1000,0),COLUMN()-2))","v":""},{"$f":"IF(ISNA(INDEX(geb.Rechnung!$A$4:$G$1000,MATCH(ROW()-5,geb.Rechnung!$G$4:$G$1000,0),COLUMN()+1)),\"\",INDEX(geb.Rechnung!$A$4:$G$1000,MATCH(ROW()-5,geb.Rechnung!$G$4:$G$1000,0),COLUMN()+1))","v":""},{"$f":"IF(ISNA(INDEX(geb.Rechnung!$A$4:$G$1000,MATCH(ROW()-5,geb.Rechnung!$G$4:$G$1000,0),COLUMN()+1)),\"\",INDEX(geb.Rechnung!$A$4:$G$1000,MATCH(ROW()-5,geb.Rechnung!$G$4:$G$1000,0),COLUMN()+1))","v":""}]
[{"$f":"IF(ISNA(INDEX(geb.Rechnung!$A$4:$G$1000,MATCH(ROW()-5,geb.Rechnung!$G$4:$G$1000,0),COLUMN()-1)),\"\",INDEX(geb.Rechnung!$A$4:$G$1000,MATCH(ROW()-5,geb.Rechnung!$G$4:$G$1000,0),COLUMN()-1))","v":""},{"$f":"IF(ISNA(INDEX(geb.Rechnung!$A$4:$G$1000,MATCH(ROW()-5,geb.Rechnung!$G$4:$G$1000,0),COLUMN()-2)),\"\",INDEX(geb.Rechnung!$A$4:$G$1000,MATCH(ROW()-5,geb.Rechnung!$G$4:$G$1000,0),COLUMN()-2))","v":""},{"$f":"IF(ISNA(INDEX(geb.Rechnung!$A$4:$G$1000,MATCH(ROW()-5,geb.Rechnung!$G$4:$G$1000,0),COLUMN()+1)),\"\",INDEX(geb.Rechnung!$A$4:$G$1000,MATCH(ROW()-5,geb.Rechnung!$G$4:$G$1000,0),COLUMN()+1))","v":""},{"$f":"IF(ISNA(INDEX(geb.Rechnung!$A$4:$G$1000,MATCH(ROW()-5,geb.Rechnung!$G$4:$G$1000,0),COLUMN()+1)),\"\",INDEX(geb.Rechnung!$A$4:$G$1000,MATCH(ROW()-5,geb.Rechnung!$G$4:$G$1000,0),COLUMN()+1))","v":""}]
[{"$f":"IF(ISNA(INDEX(geb.Rechnung!$A$4:$G$1000,MATCH(ROW()-5,geb.Rechnung!$G$4:$G$1000,0),COLUMN()-1)),\"\",INDEX(geb.Rechnung!$A$4:$G$1000,MATCH(ROW()-5,geb.Rechnung!$G$4:$G$1000,0),COLUMN()-1))","v":""},{"$f":"IF(ISNA(INDEX(geb.Rechnung!$A$4:$G$1000,MATCH(ROW()-5,geb.Rechnung!$G$4:$G$1000,0),COLUMN()-2)),\"\",INDEX(geb.Rechnung!$A$4:$G$1000,MATCH(ROW()-5,geb.Rechnung!$G$4:$G$1000,0),COLUMN()-2))","v":""},{"$f":"IF(ISNA(INDEX(geb.Rechnung!$A$4:$G$1000,MATCH(ROW()-5,geb.Rechnung!$G$4:$G$1000,0),COLUMN()+1)),\"\",INDEX(geb.Rechnung!$A$4:$G$1000,MATCH(ROW()-5,geb.Rechnung!$G$4:$G$1000,0),COLUMN()+1))","v":""},{"$f":"IF(ISNA(INDEX(geb.Rechnung!$A$4:$G$1000,MATCH(ROW()-5,geb.Rechnung!$G$4:$G$1000,0),COLUMN()+1)),\"\",INDEX(geb.Rechnung!$A$4:$G$1000,MATCH(ROW()-5,geb.Rechnung!$G$4:$G$1000,0),COLUMN()+1))","v":""}]
[{"$f":"IF(ISNA(INDEX(geb.Rechnung!$A$4:$G$1000,MATCH(ROW()-5,geb.Rechnung!$G$4:$G$1000,0),COLUMN()-1)),\"\",INDEX(geb.Rechnung!$A$4:$G$1000,MATCH(ROW()-5,geb.Rechnung!$G$4:$G$1000,0),COLUMN()-1))","v":""},{"$f":"IF(ISNA(INDEX(geb.Rechnung!$A$4:$G$1000,MATCH(ROW()-5,geb.Rechnung!$G$4:$G$1000,0),COLUMN()-2)),\"\",INDEX(geb.Rechnung!$A$4:$G$1000,MATCH(ROW()-5,geb.Rechnung!$G$4:$G$1000,0),COLUMN()-2))","v":""},{"$f":"IF(ISNA(INDEX(geb.Rechnung!$A$4:$G$1000,MATCH(ROW()-5,geb.Rechnung!$G$4:$G$1000,0),COLUMN()+1)),\"\",INDEX(geb.Rechnung!$A$4:$G$1000,MATCH(ROW()-5,geb.Rechnung!$G$4:$G$1000,0),COLUMN()+1))","v":""},{"$f":"IF(ISNA(INDEX(geb.Rechnung!$A$4:$G$1000,MATCH(ROW()-5,geb.Rechnung!$G$4:$G$1000,0),COLUMN()+1)),\"\",INDEX(geb.Rechnung!$A$4:$G$1000,MATCH(ROW()-5,geb.Rechnung!$G$4:$G$1000,0),COLUMN()+1))","v":""}]
[{"$f":"IF(ISNA(INDEX(geb.Rechnung!$A$4:$G$1000,MATCH(ROW()-5,geb.Rechnung!$G$4:$G$1000,0),COLUMN()-1)),\"\",INDEX(geb.Rechnung!$A$4:$G$1000,MATCH(ROW()-5,geb.Rechnung!$G$4:$G$1000,0),COLUMN()-1))","v":""},{"$f":"IF(ISNA(INDEX(geb.Rechnung!$A$4:$G$1000,MATCH(ROW()-5,geb.Rechnung!$G$4:$G$1000,0),COLUMN()-2)),\"\",INDEX(geb.Rechnung!$A$4:$G$1000,MATCH(ROW()-5,geb.Rechnung!$G$4:$G$1000,0),COLUMN()-2))","v":""},{"$f":"IF(ISNA(INDEX(geb.Rechnung!$A$4:$G$1000,MATCH(ROW()-5,geb.Rechnung!$G$4:$G$1000,0),COLUMN()+1)),\"\",INDEX(geb.Rechnung!$A$4:$G$1000,MATCH(ROW()-5,geb.Rechnung!$G$4:$G$1000,0),COLUMN()+1))","v":""},{"$f":"IF(ISNA(INDEX(geb.Rechnung!$A$4:$G$1000,MATCH(ROW()-5,geb.Rechnung!$G$4:$G$1000,0),COLUMN()+1)),\"\",INDEX(geb.Rechnung!$A$4:$G$1000,MATCH(ROW()-5,geb.Rechnung!$G$4:$G$1000,0),COLUMN()+1))","v":""}]
[{"$f":"IF(ISNA(INDEX(geb.Rechnung!$A$4:$G$1000,MATCH(ROW()-5,geb.Rechnung!$G$4:$G$1000,0),COLUMN()-1)),\"\",INDEX(geb.Rechnung!$A$4:$G$1000,MATCH(ROW()-5,geb.Rechnung!$G$4:$G$1000,0),COLUMN()-1))","v":""},{"$f":"IF(ISNA(INDEX(geb.Rechnung!$A$4:$G$1000,MATCH(ROW()-5,geb.Rechnung!$G$4:$G$1000,0),COLUMN()-2)),\"\",INDEX(geb.Rechnung!$A$4:$G$1000,MATCH(ROW()-5,geb.Rechnung!$G$4:$G$1000,0),COLUMN()-2))","v":""},{"$f":"IF(ISNA(INDEX(geb.Rechnung!$A$4:$G$1000,MATCH(ROW()-5,geb.Rechnung!$G$4:$G$1000,0),COLUMN()+1)),\"\",INDEX(geb.Rechnung!$A$4:$G$1000,MATCH(ROW()-5,geb.Rechnung!$G$4:$G$1000,0),COLUMN()+1))","v":""},{"$f":"IF(ISNA(INDEX(geb.Rechnung!$A$4:$G$1000,MATCH(ROW()-5,geb.Rechnung!$G$4:$G$1000,0),COLUMN()+1)),\"\",INDEX(geb.Rechnung!$A$4:$G$1000,MATCH(ROW()-5,geb.Rechnung!$G$4:$G$1000,0),COLUMN()+1))","v":""}]
[{"$f":"IF(ISNA(INDEX(geb.Rechnung!$A$4:$G$1000,MATCH(ROW()-5,geb.Rechnung!$G$4:$G$1000,0),COLUMN()-1)),\"\",INDEX(geb.Rechnung!$A$4:$G$1000,MATCH(ROW()-5,geb.Rechnung!$G$4:$G$1000,0),COLUMN()-1))","v":""},{"$f":"IF(ISNA(INDEX(geb.Rechnung!$A$4:$G$1000,MATCH(ROW()-5,geb.Rechnung!$G$4:$G$1000,0),COLUMN()-2)),\"\",INDEX(geb.Rechnung!$A$4:$G$1000,MATCH(ROW()-5,geb.Rechnung!$G$4:$G$1000,0),COLUMN()-2))","v":""},{"$f":"IF(ISNA(INDEX(geb.Rechnung!$A$4:$G$1000,MATCH(ROW()-5,geb.Rechnung!$G$4:$G$1000,0),COLUMN()+1)),\"\",INDEX(geb.Rechnung!$A$4:$G$1000,MATCH(ROW()-5,geb.Rechnung!$G$4:$G$1000,0),COLUMN()+1))","v":""},{"$f":"IF(ISNA(INDEX(geb.Rechnung!$A$4:$G$1000,MATCH(ROW()-5,geb.Rechnung!$G$4:$G$1000,0),COLUMN()+1)),\"\",INDEX(geb.Rechnung!$A$4:$G$1000,MATCH(ROW()-5,geb.Rechnung!$G$4:$G$1000,0),COLUMN()+1))","v":""}]
[{"$f":"IF(ISNA(INDEX(geb.Rechnung!$A$4:$G$1000,MATCH(ROW()-5,geb.Rechnung!$G$4:$G$1000,0),COLUMN()-1)),\"\",INDEX(geb.Rechnung!$A$4:$G$1000,MATCH(ROW()-5,geb.Rechnung!$G$4:$G$1000,0),COLUMN()-1))","v":""},{"$f":"IF(ISNA(INDEX(geb.Rechnung!$A$4:$G$1000,MATCH(ROW()-5,geb.Rechnung!$G$4:$G$1000,0),COLUMN()-2)),\"\",INDEX(geb.Rechnung!$A$4:$G$1000,MATCH(ROW()-5,geb.Rechnung!$G$4:$G$1000,0),COLUMN()-2))","v":""},{"$f":"IF(ISNA(INDEX(geb.Rechnung!$A$4:$G$1000,MATCH(ROW()-5,geb.Rechnung!$G$4:$G$1000,0),COLUMN()+1)),\"\",INDEX(geb.Rechnung!$A$4:$G$1000,MATCH(ROW()-5,geb.Rechnung!$G$4:$G$1000,0),COLUMN()+1))","v":""},{"$f":"IF(ISNA(INDEX(geb.Rechnung!$A$4:$G$1000,MATCH(ROW()-5,geb.Rechnung!$G$4:$G$1000,0),COLUMN()+1)),\"\",INDEX(geb.Rechnung!$A$4:$G$1000,MATCH(ROW()-5,geb.Rechnung!$G$4:$G$1000,0),COLUMN()+1))","v":""}]
[{"$f":"IF(ISNA(INDEX(geb.Rechnung!$A$4:$G$1000,MATCH(ROW()-5,geb.Rechnung!$G$4:$G$1000,0),COLUMN()-1)),\"\",INDEX(geb.Rechnung!$A$4:$G$1000,MATCH(ROW()-5,geb.Rechnung!$G$4:$G$1000,0),COLUMN()-1))","v":""},{"$f":"IF(ISNA(INDEX(geb.Rechnung!$A$4:$G$1000,MATCH(ROW()-5,geb.Rechnung!$G$4:$G$1000,0),COLUMN()-2)),\"\",INDEX(geb.Rechnung!$A$4:$G$1000,MATCH(ROW()-5,geb.Rechnung!$G$4:$G$1000,0),COLUMN()-2))","v":""},{"$f":"IF(ISNA(INDEX(geb.Rechnung!$A$4:$G$1000,MATCH(ROW()-5,geb.Rechnung!$G$4:$G$1000,0),COLUMN()+1)),\"\",INDEX(geb.Rechnung!$A$4:$G$1000,MATCH(ROW()-5,geb.Rechnung!$G$4:$G$1000,0),COLUMN()+1))","v":""},{"$f":"IF(ISNA(INDEX(geb.Rechnung!$A$4:$G$1000,MATCH(ROW()-5,geb.Rechnung!$G$4:$G$1000,0),COLUMN()+1)),\"\",INDEX(geb.Rechnung!$A$4:$G$1000,MATCH(ROW()-5,geb.Rechnung!$G$4:$G$1000,0),COLUMN()+1))","v":""}]
[{"$f":"IF(ISNA(INDEX(geb.Rechnung!$A$4:$G$1000,MATCH(ROW()-5,geb.Rechnung!$G$4:$G$1000,0),COLUMN()-1)),\"\",INDEX(geb.Rechnung!$A$4:$G$1000,MATCH(ROW()-5,geb.Rechnung!$G$4:$G$1000,0),COLUMN()-1))","v":""},{"$f":"IF(ISNA(INDEX(geb.Rechnung!$A$4:$G$1000,MATCH(ROW()-5,geb.Rechnung!$G$4:$G$1000,0),COLUMN()-2)),\"\",INDEX(geb.Rechnung!$A$4:$G$1000,MATCH(ROW()-5,geb.Rechnung!$G$4:$G$1000,0),COLUMN()-2))","v":""},{"$f":"IF(ISNA(INDEX(geb.Rechnung!$A$4:$G$1000,MATCH(ROW()-5,geb.Rechnung!$G$4:$G$1000,0),COLUMN()+1)),\"\",INDEX(geb.Rechnung!$A$4:$G$1000,MATCH(ROW()-5,geb.Rechnung!$G$4:$G$1000,0),COLUMN()+1))","v":""},{"$f":"IF(ISNA(INDEX(geb.Rechnung!$A$4:$G$1000,MATCH(ROW()-5,geb.Rechnung!$G$4:$G$1000,0),COLUMN()+1)),\"\",INDEX(geb.Rechnung!$A$4:$G$1000,MATCH(ROW()-5,geb.Rechnung!$G$4:$G$1000,0),COLUMN()+1))","v":""}]
[{"$f":"IF(ISNA(INDEX(geb.Rechnung!$A$4:$G$1000,MATCH(ROW()-5,geb.Rechnung!$G$4:$G$1000,0),COLUMN()-1)),\"\",INDEX(geb.Rechnung!$A$4:$G$1000,MATCH(ROW()-5,geb.Rechnung!$G$4:$G$1000,0),COLUMN()-1))","v":""},{"$f":"IF(ISNA(INDEX(geb.Rechnung!$A$4:$G$1000,MATCH(ROW()-5,geb.Rechnung!$G$4:$G$1000,0),COLUMN()-2)),\"\",INDEX(geb.Rechnung!$A$4:$G$1000,MATCH(ROW()-5,geb.Rechnung!$G$4:$G$1000,0),COLUMN()-2))","v":""},{"$f":"IF(ISNA(INDEX(geb.Rechnung!$A$4:$G$1000,MATCH(ROW()-5,geb.Rechnung!$G$4:$G$1000,0),COLUMN()+1)),\"\",INDEX(geb.Rechnung!$A$4:$G$1000,MATCH(ROW()-5,geb.Rechnung!$G$4:$G$1000,0),COLUMN()+1))","v":""},{"$f":"IF(ISNA(INDEX(geb.Rechnung!$A$4:$G$1000,MATCH(ROW()-5,geb.Rechnung!$G$4:$G$1000,0),COLUMN()+1)),\"\",INDEX(geb.Rechnung!$A$4:$G$1000,MATCH(ROW()-5,geb.Rechnung!$G$4:$G$1000,0),COLUMN()+1))","v":""}]
[{"$f":"IF(ISNA(INDEX(geb.Rechnung!$A$4:$G$1000,MATCH(ROW()-5,geb.Rechnung!$G$4:$G$1000,0),COLUMN()-1)),\"\",INDEX(geb.Rechnung!$A$4:$G$1000,MATCH(ROW()-5,geb.Rechnung!$G$4:$G$1000,0),COLUMN()-1))","v":""},{"$f":"IF(ISNA(INDEX(geb.Rechnung!$A$4:$G$1000,MATCH(ROW()-5,geb.Rechnung!$G$4:$G$1000,0),COLUMN()-2)),\"\",INDEX(geb.Rechnung!$A$4:$G$1000,MATCH(ROW()-5,geb.Rechnung!$G$4:$G$1000,0),COLUMN()-2))","v":""},{"$f":"IF(ISNA(INDEX(geb.Rechnung!$A$4:$G$1000,MATCH(ROW()-5,geb.Rechnung!$G$4:$G$1000,0),COLUMN()+1)),\"\",INDEX(geb.Rechnung!$A$4:$G$1000,MATCH(ROW()-5,geb.Rechnung!$G$4:$G$1000,0),COLUMN()+1))","v":""},{"$f":"IF(ISNA(INDEX(geb.Rechnung!$A$4:$G$1000,MATCH(ROW()-5,geb.Rechnung!$G$4:$G$1000,0),COLUMN()+1)),\"\",INDEX(geb.Rechnung!$A$4:$G$1000,MATCH(ROW()-5,geb.Rechnung!$G$4:$G$1000,0),COLUMN()+1))","v":""}]
[{"$f":"IF(ISNA(INDEX(geb.Rechnung!$A$4:$G$1000,MATCH(ROW()-5,geb.Rechnung!$G$4:$G$1000,0),COLUMN()-1)),\"\",INDEX(geb.Rechnung!$A$4:$G$1000,MATCH(ROW()-5,geb.Rechnung!$G$4:$G$1000,0),COLUMN()-1))","v":""},{"$f":"IF(ISNA(INDEX(geb.Rechnung!$A$4:$G$1000,MATCH(ROW()-5,geb.Rechnung!$G$4:$G$1000,0),COLUMN()-2)),\"\",INDEX(geb.Rechnung!$A$4:$G$1000,MATCH(ROW()-5,geb.Rechnung!$G$4:$G$1000,0),COLUMN()-2))","v":""},{"$f":"IF(ISNA(INDEX(geb.Rechnung!$A$4:$G$1000,MATCH(ROW()-5,geb.Rechnung!$G$4:$G$1000,0),COLUMN()+1)),\"\",INDEX(geb.Rechnung!$A$4:$G$1000,MATCH(ROW()-5,geb.Rechnung!$G$4:$G$1000,0),COLUMN()+1))","v":""},{"$f":"IF(ISNA(INDEX(geb.Rechnung!$A$4:$G$1000,MATCH(ROW()-5,geb.Rechnung!$G$4:$G$1000,0),COLUMN()+1)),\"\",INDEX(geb.Rechnung!$A$4:$G$1000,MATCH(ROW()-5,geb.Rechnung!$G$4:$G$1000,0),COLUMN()+1))","v":""}]
[{"$f":"IF(ISNA(INDEX(geb.Rechnung!$A$4:$G$1000,MATCH(ROW()-5,geb.Rechnung!$G$4:$G$1000,0),COLUMN()-1)),\"\",INDEX(geb.Rechnung!$A$4:$G$1000,MATCH(ROW()-5,geb.Rechnung!$G$4:$G$1000,0),COLUMN()-1))","v":""},{"$f":"IF(ISNA(INDEX(geb.Rechnung!$A$4:$G$1000,MATCH(ROW()-5,geb.Rechnung!$G$4:$G$1000,0),COLUMN()-2)),\"\",INDEX(geb.Rechnung!$A$4:$G$1000,MATCH(ROW()-5,geb.Rechnung!$G$4:$G$1000,0),COLUMN()-2))","v":""},{"$f":"IF(ISNA(INDEX(geb.Rechnung!$A$4:$G$1000,MATCH(ROW()-5,geb.Rechnung!$G$4:$G$1000,0),COLUMN()+1)),\"\",INDEX(geb.Rechnung!$A$4:$G$1000,MATCH(ROW()-5,geb.Rechnung!$G$4:$G$1000,0),COLUMN()+1))","v":""},{"$f":"IF(ISNA(INDEX(geb.Rechnung!$A$4:$G$1000,MATCH(ROW()-5,geb.Rechnung!$G$4:$G$1000,0),COLUMN()+1)),\"\",INDEX(geb.Rechnung!$A$4:$G$1000,MATCH(ROW()-5,geb.Rechnung!$G$4:$G$1000,0),COLUMN()+1))","v":""}]
[{"$f":"IF(ISNA(INDEX(geb.Rechnung!$A$4:$G$1000,MATCH(ROW()-5,geb.Rechnung!$G$4:$G$1000,0),COLUMN()-1)),\"\",INDEX(geb.Rechnung!$A$4:$G$1000,MATCH(ROW()-5,geb.Rechnung!$G$4:$G$1000,0),COLUMN()-1))","v":""},{"$f":"IF(ISNA(INDEX(geb.Rechnung!$A$4:$G$1000,MATCH(ROW()-5,geb.Rechnung!$G$4:$G$1000,0),COLUMN()-2)),\"\",INDEX(geb.Rechnung!$A$4:$G$1000,MATCH(ROW()-5,geb.Rechnung!$G$4:$G$1000,0),COLUMN()-2))","v":""},{"$f":"IF(ISNA(INDEX(geb.Rechnung!$A$4:$G$1000,MATCH(ROW()-5,geb.Rechnung!$G$4:$G$1000,0),COLUMN()+1)),\"\",INDEX(geb.Rechnung!$A$4:$G$1000,MATCH(ROW()-5,geb.Rechnung!$G$4:$G$1000,0),COLUMN()+1))","v":""},{"$f":"IF(ISNA(INDEX(geb.Rechnung!$A$4:$G$1000,MATCH(ROW()-5,geb.Rechnung!$G$4:$G$1000,0),COLUMN()+1)),\"\",INDEX(geb.Rechnung!$A$4:$G$1000,MATCH(ROW()-5,geb.Rechnung!$G$4:$G$1000,0),COLUMN()+1))","v":""}]
[{"$f":"IF(ISNA(INDEX(geb.Rechnung!$A$4:$G$1000,MATCH(ROW()-5,geb.Rechnung!$G$4:$G$1000,0),COLUMN()-1)),\"\",INDEX(geb.Rechnung!$A$4:$G$1000,MATCH(ROW()-5,geb.Rechnung!$G$4:$G$1000,0),COLUMN()-1))","v":""},{"$f":"IF(ISNA(INDEX(geb.Rechnung!$A$4:$G$1000,MATCH(ROW()-5,geb.Rechnung!$G$4:$G$1000,0),COLUMN()-2)),\"\",INDEX(geb.Rechnung!$A$4:$G$1000,MATCH(ROW()-5,geb.Rechnung!$G$4:$G$1000,0),COLUMN()-2))","v":""},{"$f":"IF(ISNA(INDEX(geb.Rechnung!$A$4:$G$1000,MATCH(ROW()-5,geb.Rechnung!$G$4:$G$1000,0),COLUMN()+1)),\"\",INDEX(geb.Rechnung!$A$4:$G$1000,MATCH(ROW()-5,geb.Rechnung!$G$4:$G$1000,0),COLUMN()+1))","v":""},{"$f":"IF(ISNA(INDEX(geb.Rechnung!$A$4:$G$1000,MATCH(ROW()-5,geb.Rechnung!$G$4:$G$1000,0),COLUMN()+1)),\"\",INDEX(geb.Rechnung!$A$4:$G$1000,MATCH(ROW()-5,geb.Rechnung!$G$4:$G$1000,0),COLUMN()+1))","v":""}]
[{"$f":"IF(ISNA(INDEX(geb.Rechnung!$A$4:$G$1000,MATCH(ROW()-5,geb.Rechnung!$G$4:$G$1000,0),COLUMN()-1)),\"\",INDEX(geb.Rechnung!$A$4:$G$1000,MATCH(ROW()-5,geb.Rechnung!$G$4:$G$1000,0),COLUMN()-1))","v":""},{"$f":"IF(ISNA(INDEX(geb.Rechnung!$A$4:$G$1000,MATCH(ROW()-5,geb.Rechnung!$G$4:$G$1000,0),COLUMN()-2)),\"\",INDEX(geb.Rechnung!$A$4:$G$1000,MATCH(ROW()-5,geb.Rechnung!$G$4:$G$1000,0),COLUMN()-2))","v":""},{"$f":"IF(ISNA(INDEX(geb.Rechnung!$A$4:$G$1000,MATCH(ROW()-5,geb.Rechnung!$G$4:$G$1000,0),COLUMN()+1)),\"\",INDEX(geb.Rechnung!$A$4:$G$1000,MATCH(ROW()-5,geb.Rechnung!$G$4:$G$1000,0),COLUMN()+1))","v":""},{"$f":"IF(ISNA(INDEX(geb.Rechnung!$A$4:$G$1000,MATCH(ROW()-5,geb.Rechnung!$G$4:$G$1000,0),COLUMN()+1)),\"\",INDEX(geb.Rechnung!$A$4:$G$1000,MATCH(ROW()-5,geb.Rechnung!$G$4:$G$1000,0),COLUMN()+1))","v":""}]
[{"$f":"IF(ISNA(INDEX(geb.Rechnung!$A$4:$G$1000,MATCH(ROW()-5,geb.Rechnung!$G$4:$G$1000,0),COLUMN()-1)),\"\",INDEX(geb.Rechnung!$A$4:$G$1000,MATCH(ROW()-5,geb.Rechnung!$G$4:$G$1000,0),COLUMN()-1))","v":""},{"$f":"IF(ISNA(INDEX(geb.Rechnung!$A$4:$G$1000,MATCH(ROW()-5,geb.Rechnung!$G$4:$G$1000,0),COLUMN()-2)),\"\",INDEX(geb.Rechnung!$A$4:$G$1000,MATCH(ROW()-5,geb.Rechnung!$G$4:$G$1000,0),COLUMN()-2))","v":""},{"$f":"IF(ISNA(INDEX(geb.Rechnung!$A$4:$G$1000,MATCH(ROW()-5,geb.Rechnung!$G$4:$G$1000,0),COLUMN()+1)),\"\",INDEX(geb.Rechnung!$A$4:$G$1000,MATCH(ROW()-5,geb.Rechnung!$G$4:$G$1000,0),COLUMN()+1))","v":""},{"$f":"IF(ISNA(INDEX(geb.Rechnung!$A$4:$G$1000,MATCH(ROW()-5,geb.Rechnung!$G$4:$G$1000,0),COLUMN()+1)),\"\",INDEX(geb.Rechnung!$A$4:$G$1000,MATCH(ROW()-5,geb.Rechnung!$G$4:$G$1000,0),COLUMN()+1))","v":""}]
[{"$f":"IF(ISNA(INDEX(geb.Rechnung!$A$4:$G$1000,MATCH(ROW()-5,geb.Rechnung!$G$4:$G$1000,0),COLUMN()-1)),\"\",INDEX(geb.Rechnung!$A$4:$G$1000,MATCH(ROW()-5,geb.Rechnung!$G$4:$G$1000,0),COLUMN()-1))","v":""},{"$f":"IF(ISNA(INDEX(geb.Rechnung!$A$4:$G$1000,MATCH(ROW()-5,geb.Rechnung!$G$4:$G$1000,0),COLUMN()-2)),\"\",INDEX(geb.Rechnung!$A$4:$G$1000,MATCH(ROW()-5,geb.Rechnung!$G$4:$G$1000,0),COLUMN()-2))","v":""},{"$f":"IF(ISNA(INDEX(geb.Rechnung!$A$4:$G$1000,MATCH(ROW()-5,geb.Rechnung!$G$4:$G$1000,0),COLUMN()+1)),\"\",INDEX(geb.Rechnung!$A$4:$G$1000,MATCH(ROW()-5,geb.Rechnung!$G$4:$G$1000,0),COLUMN()+1))","v":""},{"$f":"IF(ISNA(INDEX(geb.Rechnung!$A$4:$G$1000,MATCH(ROW()-5,geb.Rechnung!$G$4:$G$1000,0),COLUMN()+1)),\"\",INDEX(geb.Rechnung!$A$4:$G$1000,MATCH(ROW()-5,geb.Rechnung!$G$4:$G$1000,0),COLUMN()+1))","v":""}]
[{"$f":"IF(ISNA(INDEX(geb.Rechnung!$A$4:$G$1000,MATCH(ROW()-5,geb.Rechnung!$G$4:$G$1000,0),COLUMN()-1)),\"\",INDEX(geb.Rechnung!$A$4:$G$1000,MATCH(ROW()-5,geb.Rechnung!$G$4:$G$1000,0),COLUMN()-1))","v":""},{"$f":"IF(ISNA(INDEX(geb.Rechnung!$A$4:$G$1000,MATCH(ROW()-5,geb.Rechnung!$G$4:$G$1000,0),COLUMN()-2)),\"\",INDEX(geb.Rechnung!$A$4:$G$1000,MATCH(ROW()-5,geb.Rechnung!$G$4:$G$1000,0),COLUMN()-2))","v":""},{"$f":"IF(ISNA(INDEX(geb.Rechnung!$A$4:$G$1000,MATCH(ROW()-5,geb.Rechnung!$G$4:$G$1000,0),COLUMN()+1)),\"\",INDEX(geb.Rechnung!$A$4:$G$1000,MATCH(ROW()-5,geb.Rechnung!$G$4:$G$1000,0),COLUMN()+1))","v":""},{"$f":"IF(ISNA(INDEX(geb.Rechnung!$A$4:$G$1000,MATCH(ROW()-5,geb.Rechnung!$G$4:$G$1000,0),COLUMN()+1)),\"\",INDEX(geb.Rechnung!$A$4:$G$1000,MATCH(ROW()-5,geb.Rechnung!$G$4:$G$1000,0),COLUMN()+1))","v":""}]
[{"$f":"IF(ISNA(INDEX(geb.Rechnung!$A$4:$G$1000,MATCH(ROW()-5,geb.Rechnung!$G$4:$G$1000,0),COLUMN()-1)),\"\",INDEX(geb.Rechnung!$A$4:$G$1000,MATCH(ROW()-5,geb.Rechnung!$G$4:$G$1000,0),COLUMN()-1))","v":""},{"$f":"IF(ISNA(INDEX(geb.Rechnung!$A$4:$G$1000,MATCH(ROW()-5,geb.Rechnung!$G$4:$G$1000,0),COLUMN()-2)),\"\",INDEX(geb.Rechnung!$A$4:$G$1000,MATCH(ROW()-5,geb.Rechnung!$G$4:$G$1000,0),COLUMN()-2))","v":""},{"$f":"IF(ISNA(INDEX(geb.Rechnung!$A$4:$G$1000,MATCH(ROW()-5,geb.Rechnung!$G$4:$G$1000,0),COLUMN()+1)),\"\",INDEX(geb.Rechnung!$A$4:$G$1000,MATCH(ROW()-5,geb.Rechnung!$G$4:$G$1000,0),COLUMN()+1))","v":""},{"$f":"IF(ISNA(INDEX(geb.Rechnung!$A$4:$G$1000,MATCH(ROW()-5,geb.Rechnung!$G$4:$G$1000,0),COLUMN()+1)),\"\",INDEX(geb.Rechnung!$A$4:$G$1000,MATCH(ROW()-5,geb.Rechnung!$G$4:$G$1000,0),COLUMN()+1))","v":""}]
[{"$f":"IF(ISNA(INDEX(geb.Rechnung!$A$4:$G$1000,MATCH(ROW()-5,geb.Rechnung!$G$4:$G$1000,0),COLUMN()-1)),\"\",INDEX(geb.Rechnung!$A$4:$G$1000,MATCH(ROW()-5,geb.Rechnung!$G$4:$G$1000,0),COLUMN()-1))","v":""},{"$f":"IF(ISNA(INDEX(geb.Rechnung!$A$4:$G$1000,MATCH(ROW()-5,geb.Rechnung!$G$4:$G$1000,0),COLUMN()-2)),\"\",INDEX(geb.Rechnung!$A$4:$G$1000,MATCH(ROW()-5,geb.Rechnung!$G$4:$G$1000,0),COLUMN()-2))","v":""},{"$f":"IF(ISNA(INDEX(geb.Rechnung!$A$4:$G$1000,MATCH(ROW()-5,geb.Rechnung!$G$4:$G$1000,0),COLUMN()+1)),\"\",INDEX(geb.Rechnung!$A$4:$G$1000,MATCH(ROW()-5,geb.Rechnung!$G$4:$G$1000,0),COLUMN()+1))","v":""},{"$f":"IF(ISNA(INDEX(geb.Rechnung!$A$4:$G$1000,MATCH(ROW()-5,geb.Rechnung!$G$4:$G$1000,0),COLUMN()+1)),\"\",INDEX(geb.Rechnung!$A$4:$G$1000,MATCH(ROW()-5,geb.Rechnung!$G$4:$G$1000,0),COLUMN()+1))","v":""}]
[{"$f":"IF(ISNA(INDEX(geb.Rechnung!$A$4:$G$12,MATCH(ROW()-5,geb.Rechnung!$G$4:$G$12,0),COLUMN()-1)),\"\",INDEX(geb.Rechnung!$A$4:$G$12,MATCH(ROW()-5,geb.Rechnung!$G$4:$G$12,0),COLUMN()-1))","v":""},{"$f":"IF(ISNA(INDEX(geb.Rechnung!$A$4:$G$12,MATCH(ROW()-5,geb.Rechnung!$G$4:$G$12,0),COLUMN()-2)),\"\",INDEX(geb.Rechnung!$A$4:$G$12,MATCH(ROW()-5,geb.Rechnung!$G$4:$G$12,0),COLUMN()-2))","v":""},null,{"$f":"IF(ISNA(INDEX(geb.Rechnung!$A$4:$G$12,MATCH(ROW()-5,geb.Rechnung!$G$4:$G$12,0),COLUMN()-4)),\"\",INDEX(geb.Rechnung!$A$4:$G$12,MATCH(ROW()-5,geb.Rechnung!$G$4:$G$12,0),COLUMN()-4))","v":""}]